{"text_format":"1","workbook":"xlsx","n_sheets":16,"sheets":["_com.sap.ip.bi.xl.hiddensheet","Cover","MacBook Neo","MacBook Air","MacBook Pro","Mac Mini","Mac Studio","iMac","iPad","Watch","iPhone","AC+, OS, Services","ACE","Accessories","VESA, TP, Keyboards","Sheet2"],"not_rendered":{"charts":0,"images":3,"macros":1,"external_links":0,"defined_names":66,"comments":0,"pivot_tables":0},"unopened":[],"bounds":{"document_bytes":16777216,"sheet_cells":100000,"rows_first":2000,"rows_last":500,"rows_between":2000,"halvings":0,"cell_chars":16384,"cell_head_chars":4096},"cells_cut":0,"cells_raw":0,"read":"whole","date_system":"1900"}

{"sheet":"_com.sap.ip.bi.xl.hiddensheet","index":0,"n_rows":0,"n_cols":0,"rows_kept":0,"cut":false,"hidden":true,"merged":[]}

{"sheet":"Cover","index":1,"n_rows":8,"n_cols":1,"rows_kept":8,"cut":false,"hidden":false,"merged":[[7,0,7,4]]}
[]
[]
[]
[]
[]
[]
[]
["Updated 6/30/26"]

{"sheet":"MacBook Neo","index":2,"n_rows":22,"n_cols":14,"rows_kept":22,"cut":false,"hidden":false,"merged":[[0,0,0,10]]}
["This document and the information in it is proprietary and provided in confidence, and may not be disclosed to any third party or used for any other purpose than was intended by the author."]
[]
[]
[]
[]
[]
[]
[]
[]
[]
[]
[]
["*Red text denotes EOL product"]
["Apple Part ","TDS SKU","MSRP","Description","AppleCare","Stocking Status","Size","Color","Processor","Memory","Storage","ABC Code","Active Status","VPC"]
["MHFA4LL/A","15356966",699,"MBN 13 SLV 8GB 256GB-USA","SD0T3LL/A",{"$f":"IF(OR(P15=\"CTO BO\",P15=\"ZPN BO\"),\"Special Order\",\"Stocked\")","v":"Stocked"},"13 inch","Silver","A18 Pro, 6-core CPU, 5-core GPU","8GB","256GB",{"$f":"_xlfn.XLOOKUP(B15,Sheet2!B:B,Sheet2!C:C)","v":"A"},{"$f":"_xlfn.XLOOKUP(B15,Sheet2!B:B,Sheet2!D:D)","v":"A"},{"$f":"TRIM(Table12[[#This Row],[TDS SKU]])","v":"15356966"}]
["MHFC4LL/A","15356967",799,"MBN 13 SLV 8GB 512GB-USA","SD0T3LL/A","Stocked","13 inch","Silver","A18 Pro, 6-core CPU, 5-core GPU","8GB","512GB",{"$f":"_xlfn.XLOOKUP(B16,Sheet2!B:B,Sheet2!C:C)","v":"A"},{"$f":"_xlfn.XLOOKUP(B16,Sheet2!B:B,Sheet2!D:D)","v":"A"},{"$f":"TRIM(Table12[[#This Row],[TDS SKU]])","v":"15356967"}]
["MHFD4LL/A","15356968",699,"MBN 13 CIT 8GB 256GB-USA","SD0T3LL/A","Stocked","13 inch","Citrus","A18 Pro, 6-core CPU, 5-core GPU","8GB","256GB",{"$f":"_xlfn.XLOOKUP(B17,Sheet2!B:B,Sheet2!C:C)","v":"A"},{"$f":"_xlfn.XLOOKUP(B17,Sheet2!B:B,Sheet2!D:D)","v":"A"},{"$f":"TRIM(Table12[[#This Row],[TDS SKU]])","v":"15356968"}]
["MHFE4LL/A","15356969",799,"MBN 13 CIT 8GB 512GB-USA","SD0T3LL/A","Stocked","13 inch","Citrus","A18 Pro, 6-core CPU, 5-core GPU","8GB","512GB",{"$f":"_xlfn.XLOOKUP(B18,Sheet2!B:B,Sheet2!C:C)","v":"A"},{"$f":"_xlfn.XLOOKUP(B18,Sheet2!B:B,Sheet2!D:D)","v":"A"},{"$f":"TRIM(Table12[[#This Row],[TDS SKU]])","v":"15356969"}]
["MHFF4LL/A","15356970",699,"MBN 13 IND 8GB 256GB-USA","SD0T3LL/A","Stocked","13 inch","Indigo","A18 Pro, 6-core CPU, 5-core GPU","8GB","256GB",{"$f":"_xlfn.XLOOKUP(B19,Sheet2!B:B,Sheet2!C:C)","v":"A"},{"$f":"_xlfn.XLOOKUP(B19,Sheet2!B:B,Sheet2!D:D)","v":"A"},{"$f":"TRIM(Table12[[#This Row],[TDS SKU]])","v":"15356970"}]
["MHFG4LL/A","15356971",799,"MBN 13 IND 8GB 512GB-USA","SD0T3LL/A","Stocked","13 inch","Indigo","A18 Pro, 6-core CPU, 5-core GPU","8GB","512GB",{"$f":"_xlfn.XLOOKUP(B20,Sheet2!B:B,Sheet2!C:C)","v":"A"},{"$f":"_xlfn.XLOOKUP(B20,Sheet2!B:B,Sheet2!D:D)","v":"A"},{"$f":"TRIM(Table12[[#This Row],[TDS SKU]])","v":"15356971"}]
["MHFH4LL/A","15356972",699,"MBN 13 BLS 8GB 256GB-USA","SD0T3LL/A","Stocked","13 inch","Blush","A18 Pro, 6-core CPU, 5-core GPU","8GB","256GB",{"$f":"_xlfn.XLOOKUP(B21,Sheet2!B:B,Sheet2!C:C)","v":"A"},{"$f":"_xlfn.XLOOKUP(B21,Sheet2!B:B,Sheet2!D:D)","v":"A"},{"$f":"TRIM(Table12[[#This Row],[TDS SKU]])","v":"15356972"}]
["MHFJ4LL/A","15356973",799,"MBN 13 BLS 8GB 512GB-USA","SD0T3LL/A","Stocked","13 inch","Blush","A18 Pro, 6-core CPU, 5-core GPU","8GB","512GB",{"$f":"_xlfn.XLOOKUP(B22,Sheet2!B:B,Sheet2!C:C)","v":"A"},{"$f":"_xlfn.XLOOKUP(B22,Sheet2!B:B,Sheet2!D:D)","v":"A"},{"$f":"TRIM(Table12[[#This Row],[TDS SKU]])","v":"15356973"}]

{"sheet":"MacBook Air","index":3,"n_rows":316,"n_cols":17,"rows_kept":316,"cut":false,"hidden":false,"merged":[[0,0,0,11]]}
["This document and the information in it is proprietary and provided in confidence, and may not be disclosed to any third party or used for any other purpose than was intended by the author."]
[]
[]
[]
[]
[]
[]
[]
[]
[]
[]
[]
[]
[]
["*Red text denotes EOL product"]
["Apple Part ","TDS SKU","MSRP","Description","AppleCare","Stocking Status","Size","Color","Processor","Memory","Storage","Power","Column1","ABC Code","Active Status","VPC"]
["MDH74LL/A","15350855",1299,"MBA 13 M5 10 CPU 8 GPU 16GB 512GB SILVER 40W","SCW83LL/A",{"$f":"IF(OR(P17=\"CTO BO\",P17=\"ZPN BO\"),\"Special Order\",\"Stocked\")","v":"Stocked"},"13-inch","Silver","M5 chip with 10‑core CPU, 8‑core GPU","16GB","512GB SSD","40W Dynamic",null,{"$f":"_xlfn.XLOOKUP(Table11[[#This Row],[TDS SKU]],Sheet2!$B:$B,Sheet2!C:C)","v":"A"},{"$f":"_xlfn.XLOOKUP(Table11[[#This Row],[TDS SKU]],Sheet2!$B:$B,Sheet2!D:D)","v":"A"},{"$f":"_xlfn.XLOOKUP(Table11[[#This Row],[TDS SKU]],Sheet2!$B:$B,Sheet2!E:E)","v":"MACBOOK"},{"$f":"LEFT(Table11[[#This Row],[Apple Part ]],4)","v":"MDH7"}]
["MDH84LL/A","15350871",1599,"MBA 13 M5 10 CPU 10 GPU 16GB 1TB SILVER 40W","SCW83LL/A","Stocked","13-inch","Silver","M5 chip with 10‑core CPU, 10‑core GPU","16GB","1TB SSD","40W Dynamic",null,{"$f":"_xlfn.XLOOKUP(Table11[[#This Row],[TDS SKU]],Sheet2!$B:$B,Sheet2!C:C)","v":"A"},{"$f":"_xlfn.XLOOKUP(Table11[[#This Row],[TDS SKU]],Sheet2!$B:$B,Sheet2!D:D)","v":"A"},{"$f":"_xlfn.XLOOKUP(Table11[[#This Row],[TDS SKU]],Sheet2!$B:$B,Sheet2!E:E)","v":"MACBOOK"},{"$f":"LEFT(Table11[[#This Row],[Apple Part ]],4)","v":"MDH8"}]
["MDH94LL/A","15350872",1799,"MBA 13 M5 10 CPU 10 GPU 24GB 1TB SILVER 40W","SCW83LL/A","Stocked","13-inch","Silver","M5 chip with 10‑core CPU, 10‑core GPU","24GB","1TB SSD","40W Dynamic",null,{"$f":"_xlfn.XLOOKUP(Table11[[#This Row],[TDS SKU]],Sheet2!$B:$B,Sheet2!C:C)","v":"A"},{"$f":"_xlfn.XLOOKUP(Table11[[#This Row],[TDS SKU]],Sheet2!$B:$B,Sheet2!D:D)","v":"A"},{"$f":"_xlfn.XLOOKUP(Table11[[#This Row],[TDS SKU]],Sheet2!$B:$B,Sheet2!E:E)","v":"MACBOOK"},{"$f":"LEFT(Table11[[#This Row],[Apple Part ]],4)","v":"MDH9"}]
["MDHA4LL/A","15350873",1299,"MBA 13 M5 10 CPU 8 GPU 16GB 512GB STARLIGHT 40W","SCW83LL/A","Stocked","13-inch","Starlight","M5 chip with 10‑core CPU, 8‑core GPU","16GB","512GB SSD","40W Dynamic",null,{"$f":"_xlfn.XLOOKUP(Table11[[#This Row],[TDS SKU]],Sheet2!$B:$B,Sheet2!C:C)","v":"A"},{"$f":"_xlfn.XLOOKUP(Table11[[#This Row],[TDS SKU]],Sheet2!$B:$B,Sheet2!D:D)","v":"A"},{"$f":"_xlfn.XLOOKUP(Table11[[#This Row],[TDS SKU]],Sheet2!$B:$B,Sheet2!E:E)","v":"MACBOOK"},{"$f":"LEFT(Table11[[#This Row],[Apple Part ]],4)","v":"MDHA"}]
["MDHC4LL/A","15350874",1599,"MBA 13 M5 10 CPU 10 GPU 16GB 1TB STARLIGHT 40W","SCW83LL/A","Stocked","13-inch","Starlight","M5 chip with 10‑core CPU, 10‑core GPU","16GB","1TB SSD","40W Dynamic",null,{"$f":"_xlfn.XLOOKUP(Table11[[#This Row],[TDS SKU]],Sheet2!$B:$B,Sheet2!C:C)","v":"A"},{"$f":"_xlfn.XLOOKUP(Table11[[#This Row],[TDS SKU]],Sheet2!$B:$B,Sheet2!D:D)","v":"A"},{"$f":"_xlfn.XLOOKUP(Table11[[#This Row],[TDS SKU]],Sheet2!$B:$B,Sheet2!E:E)","v":"MACBOOK"},{"$f":"LEFT(Table11[[#This Row],[Apple Part ]],4)","v":"MDHC"}]
["MDHD4LL/A","15350875",1799,"MBA 13 M5 10 CPU 10 GPU 24GB 1TB STARLIGHT 40W","SCW83LL/A","Stocked","13-inch","Starlight","M5 chip with 10‑core CPU, 10‑core GPU","24GB","1TB SSD","40W Dynamic",null,{"$f":"_xlfn.XLOOKUP(Table11[[#This Row],[TDS SKU]],Sheet2!$B:$B,Sheet2!C:C)","v":"A"},{"$f":"_xlfn.XLOOKUP(Table11[[#This Row],[TDS SKU]],Sheet2!$B:$B,Sheet2!D:D)","v":"A"},{"$f":"_xlfn.XLOOKUP(Table11[[#This Row],[TDS SKU]],Sheet2!$B:$B,Sheet2!E:E)","v":"MACBOOK"},{"$f":"LEFT(Table11[[#This Row],[Apple Part ]],4)","v":"MDHD"}]
["MDHE4LL/A","15350876",1299,"MBA 13 M5 10 CPU 8 GPU 16GB 512GB MIDNIGHT 40W","SCW83LL/A","Stocked","13-inch","Midnight","M5 chip with 10‑core CPU, 8‑core GPU","16GB","512GB SSD","40W Dynamic",null,{"$f":"_xlfn.XLOOKUP(Table11[[#This Row],[TDS SKU]],Sheet2!$B:$B,Sheet2!C:C)","v":"A"},{"$f":"_xlfn.XLOOKUP(Table11[[#This Row],[TDS SKU]],Sheet2!$B:$B,Sheet2!D:D)","v":"A"},{"$f":"_xlfn.XLOOKUP(Table11[[#This Row],[TDS SKU]],Sheet2!$B:$B,Sheet2!E:E)","v":"MACBOOK"},{"$f":"LEFT(Table11[[#This Row],[Apple Part ]],4)","v":"MDHE"}]
["MDHF4LL/A","15350877",1599,"MBA 13 M5 10 CPU 10 GPU 16GB 1TB MIDNIGHT 40W","SCW83LL/A","Stocked","13-inch","Midnight","M5 chip with 10‑core CPU, 10‑core GPU","16GB","1TB SSD","40W Dynamic",null,{"$f":"_xlfn.XLOOKUP(Table11[[#This Row],[TDS SKU]],Sheet2!$B:$B,Sheet2!C:C)","v":"A"},{"$f":"_xlfn.XLOOKUP(Table11[[#This Row],[TDS SKU]],Sheet2!$B:$B,Sheet2!D:D)","v":"A"},{"$f":"_xlfn.XLOOKUP(Table11[[#This Row],[TDS SKU]],Sheet2!$B:$B,Sheet2!E:E)","v":"MACBOOK"},{"$f":"LEFT(Table11[[#This Row],[Apple Part ]],4)","v":"MDHF"}]
["MDHG4LL/A","15350878",1799,"MBA 13 M5 10 CPU 10 GPU 24GB 1TB MIDNIGHT 40W","SCW83LL/A","Stocked","13-inch","Midnight","M5 chip with 10‑core CPU, 10‑core GPU","24GB","1TB SSD","40W Dynamic",null,{"$f":"_xlfn.XLOOKUP(Table11[[#This Row],[TDS SKU]],Sheet2!$B:$B,Sheet2!C:C)","v":"A"},{"$f":"_xlfn.XLOOKUP(Table11[[#This Row],[TDS SKU]],Sheet2!$B:$B,Sheet2!D:D)","v":"A"},{"$f":"_xlfn.XLOOKUP(Table11[[#This Row],[TDS SKU]],Sheet2!$B:$B,Sheet2!E:E)","v":"MACBOOK"},{"$f":"LEFT(Table11[[#This Row],[Apple Part ]],4)","v":"MDHG"}]
["MDHH4LL/A","15350879",1299,"MBA 13 M5 10 CPU 8 GPU 16GB 512GB SKY BLUE 40W","SCW83LL/A","Stocked","13-inch","Sky Blue","M5 chip with 10‑core CPU, 8‑core GPU","16GB","512GB SSD","40W Dynamic",null,{"$f":"_xlfn.XLOOKUP(Table11[[#This Row],[TDS SKU]],Sheet2!$B:$B,Sheet2!C:C)","v":"A"},{"$f":"_xlfn.XLOOKUP(Table11[[#This Row],[TDS SKU]],Sheet2!$B:$B,Sheet2!D:D)","v":"A"},{"$f":"_xlfn.XLOOKUP(Table11[[#This Row],[TDS SKU]],Sheet2!$B:$B,Sheet2!E:E)","v":"MACBOOK"},{"$f":"LEFT(Table11[[#This Row],[Apple Part ]],4)","v":"MDHH"}]
["MDHJ4LL/A","15350880",1599,"MBA 13 M5 10 CPU 10 GPU 16GB 1TB SKY BLUE 40W","SCW83LL/A","Stocked","13-inch","Sky Blue","M5 chip with 10‑core CPU, 10‑core GPU","16GB","1TB SSD","40W Dynamic",null,{"$f":"_xlfn.XLOOKUP(Table11[[#This Row],[TDS SKU]],Sheet2!$B:$B,Sheet2!C:C)","v":"A"},{"$f":"_xlfn.XLOOKUP(Table11[[#This Row],[TDS SKU]],Sheet2!$B:$B,Sheet2!D:D)","v":"A"},{"$f":"_xlfn.XLOOKUP(Table11[[#This Row],[TDS SKU]],Sheet2!$B:$B,Sheet2!E:E)","v":"MACBOOK"},{"$f":"LEFT(Table11[[#This Row],[Apple Part ]],4)","v":"MDHJ"}]
["MDHK4LL/A","15350973",1799,"MBA 13 M5 10 CPU 10 GPU 24GB 1TB SKY BLUE 40W","SCW83LL/A","Stocked","13-inch","Sky Blue","M5 chip with 10‑core CPU, 10‑core GPU","24GB","1TB SSD","40W Dynamic",null,{"$f":"_xlfn.XLOOKUP(Table11[[#This Row],[TDS SKU]],Sheet2!$B:$B,Sheet2!C:C)","v":"A"},{"$f":"_xlfn.XLOOKUP(Table11[[#This Row],[TDS SKU]],Sheet2!$B:$B,Sheet2!D:D)","v":"A"},{"$f":"_xlfn.XLOOKUP(Table11[[#This Row],[TDS SKU]],Sheet2!$B:$B,Sheet2!E:E)","v":"MACBOOK"},{"$f":"LEFT(Table11[[#This Row],[Apple Part ]],4)","v":"MDHK"}]
["MDV94LL/A","15350974",1499,"MBA 15 M5 10 CPU 10 GPU 16GB 512GB SILVER 40W","SCW93LL/A","Stocked","15-inch","Silver","M5 chip with 10‑core CPU, 10‑core GPU","16GB","512GB SSD","40W Dynamic",null,{"$f":"_xlfn.XLOOKUP(Table11[[#This Row],[TDS SKU]],Sheet2!$B:$B,Sheet2!C:C)","v":"A"},{"$f":"_xlfn.XLOOKUP(Table11[[#This Row],[TDS SKU]],Sheet2!$B:$B,Sheet2!D:D)","v":"A"},{"$f":"_xlfn.XLOOKUP(Table11[[#This Row],[TDS SKU]],Sheet2!$B:$B,Sheet2!E:E)","v":"MACBOOK"},{"$f":"LEFT(Table11[[#This Row],[Apple Part ]],4)","v":"MDV9"}]
["MDVA4LL/A","15350975",1799,"MBA 15 M5 10 CPU 10 GPU 16GB 1TB SILVER 40W","SCW93LL/A","Stocked","15-inch","Silver","M5 chip with 10‑core CPU, 10‑core GPU","16GB","1TB SSD","40W Dynamic",null,{"$f":"_xlfn.XLOOKUP(Table11[[#This Row],[TDS SKU]],Sheet2!$B:$B,Sheet2!C:C)","v":"A"},{"$f":"_xlfn.XLOOKUP(Table11[[#This Row],[TDS SKU]],Sheet2!$B:$B,Sheet2!D:D)","v":"A"},{"$f":"_xlfn.XLOOKUP(Table11[[#This Row],[TDS SKU]],Sheet2!$B:$B,Sheet2!E:E)","v":"MACBOOK"},{"$f":"LEFT(Table11[[#This Row],[Apple Part ]],4)","v":"MDVA"}]
["MDVC4LL/A","15350884",1999,"MBA 15 M5 10 CPU 10 GPU 24GB 1TB SILVER 40W","SCW93LL/A","Stocked","15-inch","Silver","M5 chip with 10‑core CPU, 10‑core GPU","24GB","1TB SSD","40W Dynamic",null,{"$f":"_xlfn.XLOOKUP(Table11[[#This Row],[TDS SKU]],Sheet2!$B:$B,Sheet2!C:C)","v":"A"},{"$f":"_xlfn.XLOOKUP(Table11[[#This Row],[TDS SKU]],Sheet2!$B:$B,Sheet2!D:D)","v":"A"},{"$f":"_xlfn.XLOOKUP(Table11[[#This Row],[TDS SKU]],Sheet2!$B:$B,Sheet2!E:E)","v":"MACBOOK"},{"$f":"LEFT(Table11[[#This Row],[Apple Part ]],4)","v":"MDVC"}]
["MDVD4LL/A","15350885",1499,"MBA 15 M5 10 CPU 10 GPU 16GB 512GB STARLIGHT 40W","SCW93LL/A","Stocked","15-inch","Starlight","M5 chip with 10‑core CPU, 10‑core GPU","16GB","512GB SSD","40W Dynamic",null,{"$f":"_xlfn.XLOOKUP(Table11[[#This Row],[TDS SKU]],Sheet2!$B:$B,Sheet2!C:C)","v":"A"},{"$f":"_xlfn.XLOOKUP(Table11[[#This Row],[TDS SKU]],Sheet2!$B:$B,Sheet2!D:D)","v":"A"},{"$f":"_xlfn.XLOOKUP(Table11[[#This Row],[TDS SKU]],Sheet2!$B:$B,Sheet2!E:E)","v":"MACBOOK"},{"$f":"LEFT(Table11[[#This Row],[Apple Part ]],4)","v":"MDVD"}]
["MDVE4LL/A","15350886",1799,"MBA 15 M5 10 CPU 10 GPU 16GB 1TB STARLIGHT 40W","SCW93LL/A","Stocked","15-inch","Starlight","M5 chip with 10‑core CPU, 10‑core GPU","16GB","1TB SSD","40W Dynamic",null,{"$f":"_xlfn.XLOOKUP(Table11[[#This Row],[TDS SKU]],Sheet2!$B:$B,Sheet2!C:C)","v":"A"},{"$f":"_xlfn.XLOOKUP(Table11[[#This Row],[TDS SKU]],Sheet2!$B:$B,Sheet2!D:D)","v":"A"},{"$f":"_xlfn.XLOOKUP(Table11[[#This Row],[TDS SKU]],Sheet2!$B:$B,Sheet2!E:E)","v":"MACBOOK"},{"$f":"LEFT(Table11[[#This Row],[Apple Part ]],4)","v":"MDVE"}]
["MDVF4LL/A","15350887",1999,"MBA 15 M5 10 CPU 10 GPU 24GB 1TB STARLIGHT 40W","SCW93LL/A","Stocked","15-inch","Starlight","M5 chip with 10‑core CPU, 10‑core GPU","24GB","1TB SSD","40W Dynamic",null,{"$f":"_xlfn.XLOOKUP(Table11[[#This Row],[TDS SKU]],Sheet2!$B:$B,Sheet2!C:C)","v":"A"},{"$f":"_xlfn.XLOOKUP(Table11[[#This Row],[TDS SKU]],Sheet2!$B:$B,Sheet2!D:D)","v":"A"},{"$f":"_xlfn.XLOOKUP(Table11[[#This Row],[TDS SKU]],Sheet2!$B:$B,Sheet2!E:E)","v":"MACBOOK"},{"$f":"LEFT(Table11[[#This Row],[Apple Part ]],4)","v":"MDVF"}]
["MDVH4LL/A","15350888",1499,"MBA 15 M5 10 CPU 10 GPU 16GB 512GB MIDNIGHT 40W","SCW93LL/A","Stocked","15-inch","Midnight","M5 chip with 10‑core CPU, 10‑core GPU","16GB","512GB SSD","40W Dynamic",null,{"$f":"_xlfn.XLOOKUP(Table11[[#This Row],[TDS SKU]],Sheet2!$B:$B,Sheet2!C:C)","v":"A"},{"$f":"_xlfn.XLOOKUP(Table11[[#This Row],[TDS SKU]],Sheet2!$B:$B,Sheet2!D:D)","v":"A"},{"$f":"_xlfn.XLOOKUP(Table11[[#This Row],[TDS SKU]],Sheet2!$B:$B,Sheet2!E:E)","v":"MACBOOK"},{"$f":"LEFT(Table11[[#This Row],[Apple Part ]],4)","v":"MDVH"}]
["MDVK4LL/A","15350889",1799,"MBA 15 M5 10 CPU 10 GPU 16GB 1TB MIDNIGHT 40W","SCW93LL/A","Stocked","15-inch","Midnight","M5 chip with 10‑core CPU, 10‑core GPU","16GB","1TB SSD","40W Dynamic",null,{"$f":"_xlfn.XLOOKUP(Table11[[#This Row],[TDS SKU]],Sheet2!$B:$B,Sheet2!C:C)","v":"A"},{"$f":"_xlfn.XLOOKUP(Table11[[#This Row],[TDS SKU]],Sheet2!$B:$B,Sheet2!D:D)","v":"A"},{"$f":"_xlfn.XLOOKUP(Table11[[#This Row],[TDS SKU]],Sheet2!$B:$B,Sheet2!E:E)","v":"MACBOOK"},{"$f":"LEFT(Table11[[#This Row],[Apple Part ]],4)","v":"MDVK"}]
["MDVN4LL/A","15350976",1999,"MBA 15 M5 10 CPU 10 GPU 24GB 1TB MIDNIGHT 40W","SCW93LL/A","Stocked","15-inch","Midnight","M5 chip with 10‑core CPU, 10‑core GPU","24GB","1TB SSD","40W Dynamic",null,{"$f":"_xlfn.XLOOKUP(Table11[[#This Row],[TDS SKU]],Sheet2!$B:$B,Sheet2!C:C)","v":"A"},{"$f":"_xlfn.XLOOKUP(Table11[[#This Row],[TDS SKU]],Sheet2!$B:$B,Sheet2!D:D)","v":"A"},{"$f":"_xlfn.XLOOKUP(Table11[[#This Row],[TDS SKU]],Sheet2!$B:$B,Sheet2!E:E)","v":"MACBOOK"},{"$f":"LEFT(Table11[[#This Row],[Apple Part ]],4)","v":"MDVN"}]
["MDVQ4LL/A","15350977",1499,"MBA 15 M5 10 CPU 10 GPU 16GB 512GB SKY BLUE 40W","SCW93LL/A","Stocked","15-inch","Sky Blue","M5 chip with 10‑core CPU, 10‑core GPU","16GB","512GB SSD","40W Dynamic",null,{"$f":"_xlfn.XLOOKUP(Table11[[#This Row],[TDS SKU]],Sheet2!$B:$B,Sheet2!C:C)","v":"A"},{"$f":"_xlfn.XLOOKUP(Table11[[#This Row],[TDS SKU]],Sheet2!$B:$B,Sheet2!D:D)","v":"A"},{"$f":"_xlfn.XLOOKUP(Table11[[#This Row],[TDS SKU]],Sheet2!$B:$B,Sheet2!E:E)","v":"MACBOOK"},{"$f":"LEFT(Table11[[#This Row],[Apple Part ]],4)","v":"MDVQ"}]
["MDVT4LL/A","15350978",1799,"MBA 15 M5 10 CPU 10 GPU 16GB 1TB SKY BLUE 40W","SCW93LL/A","Stocked","15-inch","Sky Blue","M5 chip with 10‑core CPU, 10‑core GPU","16GB","1TB SSD","40W Dynamic",null,{"$f":"_xlfn.XLOOKUP(Table11[[#This Row],[TDS SKU]],Sheet2!$B:$B,Sheet2!C:C)","v":"A"},{"$f":"_xlfn.XLOOKUP(Table11[[#This Row],[TDS SKU]],Sheet2!$B:$B,Sheet2!D:D)","v":"A"},{"$f":"_xlfn.XLOOKUP(Table11[[#This Row],[TDS SKU]],Sheet2!$B:$B,Sheet2!E:E)","v":"MACBOOK"},{"$f":"LEFT(Table11[[#This Row],[Apple Part ]],4)","v":"MDVT"}]
["MDVU4LL/A","15350979",1999,"MBA 15 M5 10 CPU 10 GPU 24GB 1TB SKY BLUE 40W","SCW93LL/A","Stocked","15-inch","Sky Blue","M5 chip with 10‑core CPU, 10‑core GPU","24GB","1TB SSD","40W Dynamic",null,{"$f":"_xlfn.XLOOKUP(Table11[[#This Row],[TDS SKU]],Sheet2!$B:$B,Sheet2!C:C)","v":"A"},{"$f":"_xlfn.XLOOKUP(Table11[[#This Row],[TDS SKU]],Sheet2!$B:$B,Sheet2!D:D)","v":"A"},{"$f":"_xlfn.XLOOKUP(Table11[[#This Row],[TDS SKU]],Sheet2!$B:$B,Sheet2!E:E)","v":"MACBOOK"},{"$f":"LEFT(Table11[[#This Row],[Apple Part ]],4)","v":"MDVU"}]
["Z1L0","15358367",1319,"CTO MBA 13 M5 10 CPU 8 GPU 16GB 512GB SILVER 35W","SCW83LL/A","Special Order","13-inch","Silver","M5 chip with 10‑core CPU, 8‑core GPU","16GB","512GB SSD","35W Dual USB-C",null,{"$f":"_xlfn.XLOOKUP(Table11[[#This Row],[TDS SKU]],Sheet2!$B:$B,Sheet2!C:C)","v":"B"},{"$f":"_xlfn.XLOOKUP(Table11[[#This Row],[TDS SKU]],Sheet2!$B:$B,Sheet2!D:D)","v":"A"},{"$f":"_xlfn.XLOOKUP(Table11[[#This Row],[TDS SKU]],Sheet2!$B:$B,Sheet2!E:E)","v":"CTO BO"},{"$f":"LEFT(Table11[[#This Row],[Apple Part ]],4)","v":"Z1L0"}]
["Z1L0","15358368",1319,"CTO MBA 13 M5 10 CPU 8 GPU 16GB 512GB SILVER 70W","SCW83LL/A","Special Order","13-inch","Silver","M5 chip with 10‑core CPU, 8‑core GPU","16GB","512GB SSD","70W USB-C",null,{"$f":"_xlfn.XLOOKUP(Table11[[#This Row],[TDS SKU]],Sheet2!$B:$B,Sheet2!C:C)","v":"B"},{"$f":"_xlfn.XLOOKUP(Table11[[#This Row],[TDS SKU]],Sheet2!$B:$B,Sheet2!D:D)","v":"A"},{"$f":"_xlfn.XLOOKUP(Table11[[#This Row],[TDS SKU]],Sheet2!$B:$B,Sheet2!E:E)","v":"CTO BO"},{"$f":"LEFT(Table11[[#This Row],[Apple Part ]],4)","v":"Z1L0"}]
["Z1L0","15358369",1399,"CTO MBA 13 M5 10 CPU 10 GPU 16GB 512GB SILVER 40W","SCW83LL/A","Stocked","13-inch","Silver","M5 chip with 10‑core CPU, 10‑core GPU","16GB","512GB SSD","40W Dynamic",null,{"$f":"_xlfn.XLOOKUP(Table11[[#This Row],[TDS SKU]],Sheet2!$B:$B,Sheet2!C:C)","v":"B"},{"$f":"_xlfn.XLOOKUP(Table11[[#This Row],[TDS SKU]],Sheet2!$B:$B,Sheet2!D:D)","v":"A"},{"$f":"_xlfn.XLOOKUP(Table11[[#This Row],[TDS SKU]],Sheet2!$B:$B,Sheet2!E:E)","v":"STOCKED CTO"},{"$f":"LEFT(Table11[[#This Row],[Apple Part ]],4)","v":"Z1L0"}]
["Z1L0","15355953",1499,"CTO MBA 13 M5 10 CPU 10 GPU 24GB 512GB SILVER 40W","SCW83LL/A","Stocked","13-inch","Silver","M5 chip with 10‑core CPU, 10‑core GPU","24GB","512GB SSD","40W Dynamic",null,{"$f":"_xlfn.XLOOKUP(Table11[[#This Row],[TDS SKU]],Sheet2!$B:$B,Sheet2!C:C)","v":"B"},{"$f":"_xlfn.XLOOKUP(Table11[[#This Row],[TDS SKU]],Sheet2!$B:$B,Sheet2!D:D)","v":"A"},{"$f":"_xlfn.XLOOKUP(Table11[[#This Row],[TDS SKU]],Sheet2!$B:$B,Sheet2!E:E)","v":"STOCKED CTO"},{"$f":"LEFT(Table11[[#This Row],[Apple Part ]],4)","v":"Z1L0"}]
["Z1L0","15358374",1699,"CTO MBA 13 M5 10 CPU 10 GPU 32GB 512GB SILVER 40W","SCW83LL/A","Special Order","13-inch","Silver","M5 chip with 10‑core CPU, 10‑core GPU","32GB","512GB SSD","40W Dynamic",null,{"$f":"_xlfn.XLOOKUP(Table11[[#This Row],[TDS SKU]],Sheet2!$B:$B,Sheet2!C:C)","v":"B"},{"$f":"_xlfn.XLOOKUP(Table11[[#This Row],[TDS SKU]],Sheet2!$B:$B,Sheet2!D:D)","v":"A"},{"$f":"_xlfn.XLOOKUP(Table11[[#This Row],[TDS SKU]],Sheet2!$B:$B,Sheet2!E:E)","v":"CTO BO"},{"$f":"LEFT(Table11[[#This Row],[Apple Part ]],4)","v":"Z1L0"}]
["Z1L0","15358371",1419,"CTO MBA 13 M5 10 CPU 10 GPU 16GB 512GB SILVER 70W","SCW83LL/A","Special Order","13-inch","Silver","M5 chip with 10‑core CPU, 10‑core GPU","16GB","512GB SSD","70W USB-C",null,{"$f":"_xlfn.XLOOKUP(Table11[[#This Row],[TDS SKU]],Sheet2!$B:$B,Sheet2!C:C)","v":"B"},{"$f":"_xlfn.XLOOKUP(Table11[[#This Row],[TDS SKU]],Sheet2!$B:$B,Sheet2!D:D)","v":"A"},{"$f":"_xlfn.XLOOKUP(Table11[[#This Row],[TDS SKU]],Sheet2!$B:$B,Sheet2!E:E)","v":"CTO BO"},{"$f":"LEFT(Table11[[#This Row],[Apple Part ]],4)","v":"Z1L0"}]
["Z1L0","15358356",1719,"CTO MBA 13 M5 10 CPU 10 GPU 32GB 512GB SILVER 70W","SCW83LL/A","Special Order","13-inch","Silver","M5 chip with 10‑core CPU, 10‑core GPU","32GB","512GB SSD","70W USB-C",null,{"$f":"_xlfn.XLOOKUP(Table11[[#This Row],[TDS SKU]],Sheet2!$B:$B,Sheet2!C:C)","v":"B"},{"$f":"_xlfn.XLOOKUP(Table11[[#This Row],[TDS SKU]],Sheet2!$B:$B,Sheet2!D:D)","v":"A"},{"$f":"_xlfn.XLOOKUP(Table11[[#This Row],[TDS SKU]],Sheet2!$B:$B,Sheet2!E:E)","v":"CTO BO"},{"$f":"LEFT(Table11[[#This Row],[Apple Part ]],4)","v":"Z1L0"}]
["Z1L0","15358373",1519,"CTO MBA 13 M5 10 CPU 10 GPU 24GB 512GB SILVER 70W","SCW83LL/A","Special Order","13-inch","Silver","M5 chip with 10‑core CPU, 10‑core GPU","24GB","512GB SSD","70W USB-C",null,{"$f":"_xlfn.XLOOKUP(Table11[[#This Row],[TDS SKU]],Sheet2!$B:$B,Sheet2!C:C)","v":"B"},{"$f":"_xlfn.XLOOKUP(Table11[[#This Row],[TDS SKU]],Sheet2!$B:$B,Sheet2!D:D)","v":"A"},{"$f":"_xlfn.XLOOKUP(Table11[[#This Row],[TDS SKU]],Sheet2!$B:$B,Sheet2!E:E)","v":"CTO BO"},{"$f":"LEFT(Table11[[#This Row],[Apple Part ]],4)","v":"Z1L0"}]
["Z1L0","15358370",1419,"CTO MBA 13 M5 10 CPU 10 GPU 16GB 512GB SILVER 35W","SCW83LL/A","Stocked","13-inch","Silver","M5 chip with 10‑core CPU, 10‑core GPU","16GB","512GB SSD","35W Dual USB-C",null,{"$f":"_xlfn.XLOOKUP(Table11[[#This Row],[TDS SKU]],Sheet2!$B:$B,Sheet2!C:C)","v":"B"},{"$f":"_xlfn.XLOOKUP(Table11[[#This Row],[TDS SKU]],Sheet2!$B:$B,Sheet2!D:D)","v":"A"},{"$f":"_xlfn.XLOOKUP(Table11[[#This Row],[TDS SKU]],Sheet2!$B:$B,Sheet2!E:E)","v":"STOCKED CTO"},{"$f":"LEFT(Table11[[#This Row],[Apple Part ]],4)","v":"Z1L0"}]
["Z1L0","15358372",1519,"CTO MBA 13 M5 10 CPU 10 GPU 24GB 512GB SILVER 35W","SCW83LL/A","Special Order","13-inch","Silver","M5 chip with 10‑core CPU, 10‑core GPU","24GB","512GB SSD","35W Dual USB-C",null,{"$f":"_xlfn.XLOOKUP(Table11[[#This Row],[TDS SKU]],Sheet2!$B:$B,Sheet2!C:C)","v":"B"},{"$f":"_xlfn.XLOOKUP(Table11[[#This Row],[TDS SKU]],Sheet2!$B:$B,Sheet2!D:D)","v":"A"},{"$f":"_xlfn.XLOOKUP(Table11[[#This Row],[TDS SKU]],Sheet2!$B:$B,Sheet2!E:E)","v":"CTO BO"},{"$f":"LEFT(Table11[[#This Row],[Apple Part ]],4)","v":"Z1L0"}]
["Z1L0","15358355",1719,"CTO MBA 13 M5 10 CPU 10 GPU 32GB 512GB SILVER 35W","SCW83LL/A","Special Order","13-inch","Silver","M5 chip with 10‑core CPU, 10‑core GPU","32GB","512GB SSD","35W Dual USB-C",null,{"$f":"_xlfn.XLOOKUP(Table11[[#This Row],[TDS SKU]],Sheet2!$B:$B,Sheet2!C:C)","v":"B"},{"$f":"_xlfn.XLOOKUP(Table11[[#This Row],[TDS SKU]],Sheet2!$B:$B,Sheet2!D:D)","v":"A"},{"$f":"_xlfn.XLOOKUP(Table11[[#This Row],[TDS SKU]],Sheet2!$B:$B,Sheet2!E:E)","v":"CTO BO"},{"$f":"LEFT(Table11[[#This Row],[Apple Part ]],4)","v":"Z1L0"}]
["Z1L1","15358364",2099,"CTO MBA 13 M5 10 CPU 10 GPU 16GB 2TB SILVER 40W","SCW83LL/A","Special Order","13-inch","Silver","M5 chip with 10‑core CPU, 10‑core GPU","16GB","2TB SSD","40W Dynamic",null,{"$f":"_xlfn.XLOOKUP(Table11[[#This Row],[TDS SKU]],Sheet2!$B:$B,Sheet2!C:C)","v":"B"},{"$f":"_xlfn.XLOOKUP(Table11[[#This Row],[TDS SKU]],Sheet2!$B:$B,Sheet2!D:D)","v":"A"},{"$f":"_xlfn.XLOOKUP(Table11[[#This Row],[TDS SKU]],Sheet2!$B:$B,Sheet2!E:E)","v":"CTO BO"},{"$f":"LEFT(Table11[[#This Row],[Apple Part ]],4)","v":"Z1L1"}]
["Z1L1","15358383",3099,"CTO MBA 13 M5 10 CPU 10 GPU 16GB 4TB SILVER 40W","SCW83LL/A","Special Order","13-inch","Silver","M5 chip with 10‑core CPU, 10‑core GPU","16GB","4TB SSD","40W Dynamic",null,{"$f":"_xlfn.XLOOKUP(Table11[[#This Row],[TDS SKU]],Sheet2!$B:$B,Sheet2!C:C)","v":"B"},{"$f":"_xlfn.XLOOKUP(Table11[[#This Row],[TDS SKU]],Sheet2!$B:$B,Sheet2!D:D)","v":"A"},{"$f":"_xlfn.XLOOKUP(Table11[[#This Row],[TDS SKU]],Sheet2!$B:$B,Sheet2!E:E)","v":"CTO BO"},{"$f":"LEFT(Table11[[#This Row],[Apple Part ]],4)","v":"Z1L1"}]
["Z1L1","15358357",1619,"CTO MBA 13 M5 10 CPU 10 GPU 16GB 1TB SILVER 35W","SCW83LL/A","Special Order","13-inch","Silver","M5 chip with 10‑core CPU, 10‑core GPU","16GB","1TB SSD","35W Dual USB-C",null,{"$f":"_xlfn.XLOOKUP(Table11[[#This Row],[TDS SKU]],Sheet2!$B:$B,Sheet2!C:C)","v":"B"},{"$f":"_xlfn.XLOOKUP(Table11[[#This Row],[TDS SKU]],Sheet2!$B:$B,Sheet2!D:D)","v":"A"},{"$f":"_xlfn.XLOOKUP(Table11[[#This Row],[TDS SKU]],Sheet2!$B:$B,Sheet2!E:E)","v":"CTO BO"},{"$f":"LEFT(Table11[[#This Row],[Apple Part ]],4)","v":"Z1L1"}]
["Z1L1","15358358",1619,"CTO MBA 13 M5 10 CPU 10 GPU 16GB 1TB SILVER 70W","SCW83LL/A","Special Order","13-inch","Silver","M5 chip with 10‑core CPU, 10‑core GPU","16GB","1TB SSD","70W USB-C",null,{"$f":"_xlfn.XLOOKUP(Table11[[#This Row],[TDS SKU]],Sheet2!$B:$B,Sheet2!C:C)","v":"B"},{"$f":"_xlfn.XLOOKUP(Table11[[#This Row],[TDS SKU]],Sheet2!$B:$B,Sheet2!D:D)","v":"A"},{"$f":"_xlfn.XLOOKUP(Table11[[#This Row],[TDS SKU]],Sheet2!$B:$B,Sheet2!E:E)","v":"CTO BO"},{"$f":"LEFT(Table11[[#This Row],[Apple Part ]],4)","v":"Z1L1"}]
["Z1L1","15358376",2119,"CTO MBA 13 M5 10 CPU 10 GPU 16GB 2TB SILVER 70W","SCW83LL/A","Special Order","13-inch","Silver","M5 chip with 10‑core CPU, 10‑core GPU","16GB","2TB SSD","70W USB-C",null,{"$f":"_xlfn.XLOOKUP(Table11[[#This Row],[TDS SKU]],Sheet2!$B:$B,Sheet2!C:C)","v":"B"},{"$f":"_xlfn.XLOOKUP(Table11[[#This Row],[TDS SKU]],Sheet2!$B:$B,Sheet2!D:D)","v":"A"},{"$f":"_xlfn.XLOOKUP(Table11[[#This Row],[TDS SKU]],Sheet2!$B:$B,Sheet2!E:E)","v":"CTO BO"},{"$f":"LEFT(Table11[[#This Row],[Apple Part ]],4)","v":"Z1L1"}]
["Z1L1","15358384",3119,"CTO MBA 13 M5 10 CPU 10 GPU 16GB 4TB SILVER 35W","SCW83LL/A","Special Order","13-inch","Silver","M5 chip with 10‑core CPU, 10‑core GPU","16GB","4TB SSD","35W Dual USB-C",null,{"$f":"_xlfn.XLOOKUP(Table11[[#This Row],[TDS SKU]],Sheet2!$B:$B,Sheet2!C:C)","v":"B"},{"$f":"_xlfn.XLOOKUP(Table11[[#This Row],[TDS SKU]],Sheet2!$B:$B,Sheet2!D:D)","v":"A"},{"$f":"_xlfn.XLOOKUP(Table11[[#This Row],[TDS SKU]],Sheet2!$B:$B,Sheet2!E:E)","v":"CTO BO"},{"$f":"LEFT(Table11[[#This Row],[Apple Part ]],4)","v":"Z1L1"}]
["Z1L1","15358395",3119,"CTO MBA 13 M5 10 CPU 10 GPU 16GB 4TB SILVER 70W","SCW83LL/A","Special Order","13-inch","Silver","M5 chip with 10‑core CPU, 10‑core GPU","16GB","4TB SSD","70W USB-C",null,{"$f":"_xlfn.XLOOKUP(Table11[[#This Row],[TDS SKU]],Sheet2!$B:$B,Sheet2!C:C)","v":"B"},{"$f":"_xlfn.XLOOKUP(Table11[[#This Row],[TDS SKU]],Sheet2!$B:$B,Sheet2!D:D)","v":"A"},{"$f":"_xlfn.XLOOKUP(Table11[[#This Row],[TDS SKU]],Sheet2!$B:$B,Sheet2!E:E)","v":"CTO BO"},{"$f":"LEFT(Table11[[#This Row],[Apple Part ]],4)","v":"Z1L1"}]
["Z1L1","15358375",2119,"CTO MBA 13 M5 10 CPU 10 GPU 16GB 2TB SILVER 35W","SCW83LL/A","Special Order","13-inch","Silver","M5 chip with 10‑core CPU, 10‑core GPU","16GB","2TB SSD","35W Dual USB-C",null,{"$f":"_xlfn.XLOOKUP(Table11[[#This Row],[TDS SKU]],Sheet2!$B:$B,Sheet2!C:C)","v":"B"},{"$f":"_xlfn.XLOOKUP(Table11[[#This Row],[TDS SKU]],Sheet2!$B:$B,Sheet2!D:D)","v":"A"},{"$f":"_xlfn.XLOOKUP(Table11[[#This Row],[TDS SKU]],Sheet2!$B:$B,Sheet2!E:E)","v":"CTO BO"},{"$f":"LEFT(Table11[[#This Row],[Apple Part ]],4)","v":"Z1L1"}]
["Z1L2","15358361",1999,"CTO MBA 13 M5 10 CPU 10 GPU 32GB 1TB SILVER 40W","SCW83LL/A","Special Order","13-inch","Silver","M5 chip with 10‑core CPU, 10‑core GPU","32GB","1TB SSD","40W Dynamic",null,{"$f":"_xlfn.XLOOKUP(Table11[[#This Row],[TDS SKU]],Sheet2!$B:$B,Sheet2!C:C)","v":"B"},{"$f":"_xlfn.XLOOKUP(Table11[[#This Row],[TDS SKU]],Sheet2!$B:$B,Sheet2!D:D)","v":"A"},{"$f":"_xlfn.XLOOKUP(Table11[[#This Row],[TDS SKU]],Sheet2!$B:$B,Sheet2!E:E)","v":"CTO BO"},{"$f":"LEFT(Table11[[#This Row],[Apple Part ]],4)","v":"Z1L2"}]
["Z1L2","15358377",2299,"CTO MBA 13 M5 10 CPU 10 GPU 24GB 2TB SILVER 40W","SCW83LL/A","Special Order","13-inch","Silver","M5 chip with 10‑core CPU, 10‑core GPU","24GB","2TB SSD","40W Dynamic",null,{"$f":"_xlfn.XLOOKUP(Table11[[#This Row],[TDS SKU]],Sheet2!$B:$B,Sheet2!C:C)","v":"B"},{"$f":"_xlfn.XLOOKUP(Table11[[#This Row],[TDS SKU]],Sheet2!$B:$B,Sheet2!D:D)","v":"A"},{"$f":"_xlfn.XLOOKUP(Table11[[#This Row],[TDS SKU]],Sheet2!$B:$B,Sheet2!E:E)","v":"CTO BO"},{"$f":"LEFT(Table11[[#This Row],[Apple Part ]],4)","v":"Z1L2"}]
["Z1L2","15358396",3299,"CTO MBA 13 M5 10 CPU 10 GPU 24GB 4TB SILVER 40W","SCW83LL/A","Special Order","13-inch","Silver","M5 chip with 10‑core CPU, 10‑core GPU","24GB","4TB SSD","40W Dynamic",null,{"$f":"_xlfn.XLOOKUP(Table11[[#This Row],[TDS SKU]],Sheet2!$B:$B,Sheet2!C:C)","v":"B"},{"$f":"_xlfn.XLOOKUP(Table11[[#This Row],[TDS SKU]],Sheet2!$B:$B,Sheet2!D:D)","v":"A"},{"$f":"_xlfn.XLOOKUP(Table11[[#This Row],[TDS SKU]],Sheet2!$B:$B,Sheet2!E:E)","v":"CTO BO"},{"$f":"LEFT(Table11[[#This Row],[Apple Part ]],4)","v":"Z1L2"}]
["Z1L2","15358380",2499,"CTO MBA 13 M5 10 CPU 10 GPU 32GB 2TB SILVER 40W","SCW83LL/A","Special Order","13-inch","Silver","M5 chip with 10‑core CPU, 10‑core GPU","32GB","2TB SSD","40W Dynamic",null,{"$f":"_xlfn.XLOOKUP(Table11[[#This Row],[TDS SKU]],Sheet2!$B:$B,Sheet2!C:C)","v":"B"},{"$f":"_xlfn.XLOOKUP(Table11[[#This Row],[TDS SKU]],Sheet2!$B:$B,Sheet2!D:D)","v":"A"},{"$f":"_xlfn.XLOOKUP(Table11[[#This Row],[TDS SKU]],Sheet2!$B:$B,Sheet2!E:E)","v":"CTO BO"},{"$f":"LEFT(Table11[[#This Row],[Apple Part ]],4)","v":"Z1L2"}]
["Z1L2","15358399",3499,"CTO MBA 13 M5 10 CPU 10 GPU 32GB 4TB SILVER 40W","SCW83LL/A","Special Order","13-inch","Silver","M5 chip with 10‑core CPU, 10‑core GPU","32GB","4TB SSD","40W Dynamic",null,{"$f":"_xlfn.XLOOKUP(Table11[[#This Row],[TDS SKU]],Sheet2!$B:$B,Sheet2!C:C)","v":"B"},{"$f":"_xlfn.XLOOKUP(Table11[[#This Row],[TDS SKU]],Sheet2!$B:$B,Sheet2!D:D)","v":"A"},{"$f":"_xlfn.XLOOKUP(Table11[[#This Row],[TDS SKU]],Sheet2!$B:$B,Sheet2!E:E)","v":"CTO BO"},{"$f":"LEFT(Table11[[#This Row],[Apple Part ]],4)","v":"Z1L2"}]
["Z1L2","15358359",1819,"CTO MBA 13 M5 10 CPU 10 GPU 24GB 1TB SILVER 35W","SCW83LL/A","Special Order","13-inch","Silver","M5 chip with 10‑core CPU, 10‑core GPU","24GB","1TB SSD","35W Dual USB-C",null,{"$f":"_xlfn.XLOOKUP(Table11[[#This Row],[TDS SKU]],Sheet2!$B:$B,Sheet2!C:C)","v":"B"},{"$f":"_xlfn.XLOOKUP(Table11[[#This Row],[TDS SKU]],Sheet2!$B:$B,Sheet2!D:D)","v":"A"},{"$f":"_xlfn.XLOOKUP(Table11[[#This Row],[TDS SKU]],Sheet2!$B:$B,Sheet2!E:E)","v":"CTO BO"},{"$f":"LEFT(Table11[[#This Row],[Apple Part ]],4)","v":"Z1L2"}]
["Z1L2","15358360",1819,"CTO MBA 13 M5 10 CPU 10 GPU 24GB 1TB SILVER 70W","SCW83LL/A","Special Order","13-inch","Silver","M5 chip with 10‑core CPU, 10‑core GPU","24GB","1TB SSD","70W USB-C",null,{"$f":"_xlfn.XLOOKUP(Table11[[#This Row],[TDS SKU]],Sheet2!$B:$B,Sheet2!C:C)","v":"B"},{"$f":"_xlfn.XLOOKUP(Table11[[#This Row],[TDS SKU]],Sheet2!$B:$B,Sheet2!D:D)","v":"A"},{"$f":"_xlfn.XLOOKUP(Table11[[#This Row],[TDS SKU]],Sheet2!$B:$B,Sheet2!E:E)","v":"CTO BO"},{"$f":"LEFT(Table11[[#This Row],[Apple Part ]],4)","v":"Z1L2"}]
["Z1L2","15358363",2019,"CTO MBA 13 M5 10 CPU 10 GPU 32GB 1TB SILVER 70W","SCW83LL/A","Special Order","13-inch","Silver","M5 chip with 10‑core CPU, 10‑core GPU","32GB","1TB SSD","70W USB-C",null,{"$f":"_xlfn.XLOOKUP(Table11[[#This Row],[TDS SKU]],Sheet2!$B:$B,Sheet2!C:C)","v":"B"},{"$f":"_xlfn.XLOOKUP(Table11[[#This Row],[TDS SKU]],Sheet2!$B:$B,Sheet2!D:D)","v":"A"},{"$f":"_xlfn.XLOOKUP(Table11[[#This Row],[TDS SKU]],Sheet2!$B:$B,Sheet2!E:E)","v":"CTO BO"},{"$f":"LEFT(Table11[[#This Row],[Apple Part ]],4)","v":"Z1L2"}]
["Z1L2","15358382",2519,"CTO MBA 13 M5 10 CPU 10 GPU 32GB 2TB SILVER 70W","SCW83LL/A","Special Order","13-inch","Silver","M5 chip with 10‑core CPU, 10‑core GPU","32GB","2TB SSD","70W USB-C",null,{"$f":"_xlfn.XLOOKUP(Table11[[#This Row],[TDS SKU]],Sheet2!$B:$B,Sheet2!C:C)","v":"B"},{"$f":"_xlfn.XLOOKUP(Table11[[#This Row],[TDS SKU]],Sheet2!$B:$B,Sheet2!D:D)","v":"A"},{"$f":"_xlfn.XLOOKUP(Table11[[#This Row],[TDS SKU]],Sheet2!$B:$B,Sheet2!E:E)","v":"CTO BO"},{"$f":"LEFT(Table11[[#This Row],[Apple Part ]],4)","v":"Z1L2"}]
["Z1L2","15358379",2319,"CTO MBA 13 M5 10 CPU 10 GPU 24GB 2TB SILVER 70W","SCW83LL/A","Special Order","13-inch","Silver","M5 chip with 10‑core CPU, 10‑core GPU","24GB","2TB SSD","70W USB-C",null,{"$f":"_xlfn.XLOOKUP(Table11[[#This Row],[TDS SKU]],Sheet2!$B:$B,Sheet2!C:C)","v":"B"},{"$f":"_xlfn.XLOOKUP(Table11[[#This Row],[TDS SKU]],Sheet2!$B:$B,Sheet2!D:D)","v":"A"},{"$f":"_xlfn.XLOOKUP(Table11[[#This Row],[TDS SKU]],Sheet2!$B:$B,Sheet2!E:E)","v":"CTO BO"},{"$f":"LEFT(Table11[[#This Row],[Apple Part ]],4)","v":"Z1L2"}]
["Z1L2","15358400",3519,"CTO MBA 13 M5 10 CPU 10 GPU 32GB 4TB SILVER 35W","SCW83LL/A","Special Order","13-inch","Silver","M5 chip with 10‑core CPU, 10‑core GPU","32GB","4TB SSD","35W Dual USB-C",null,{"$f":"_xlfn.XLOOKUP(Table11[[#This Row],[TDS SKU]],Sheet2!$B:$B,Sheet2!C:C)","v":"B"},{"$f":"_xlfn.XLOOKUP(Table11[[#This Row],[TDS SKU]],Sheet2!$B:$B,Sheet2!D:D)","v":"A"},{"$f":"_xlfn.XLOOKUP(Table11[[#This Row],[TDS SKU]],Sheet2!$B:$B,Sheet2!E:E)","v":"CTO BO"},{"$f":"LEFT(Table11[[#This Row],[Apple Part ]],4)","v":"Z1L2"}]
["Z1L2","15358378",2319,"CTO MBA 13 M5 10 CPU 10 GPU 24GB 2TB SILVER 35W","SCW83LL/A","Special Order","13-inch","Silver","M5 chip with 10‑core CPU, 10‑core GPU","24GB","2TB SSD","35W Dual USB-C",null,{"$f":"_xlfn.XLOOKUP(Table11[[#This Row],[TDS SKU]],Sheet2!$B:$B,Sheet2!C:C)","v":"B"},{"$f":"_xlfn.XLOOKUP(Table11[[#This Row],[TDS SKU]],Sheet2!$B:$B,Sheet2!D:D)","v":"A"},{"$f":"_xlfn.XLOOKUP(Table11[[#This Row],[TDS SKU]],Sheet2!$B:$B,Sheet2!E:E)","v":"CTO BO"},{"$f":"LEFT(Table11[[#This Row],[Apple Part ]],4)","v":"Z1L2"}]
["Z1L2","15358362",2019,"CTO MBA 13 M5 10 CPU 10 GPU 32GB 1TB SILVER 35W","SCW83LL/A","Special Order","13-inch","Silver","M5 chip with 10‑core CPU, 10‑core GPU","32GB","1TB SSD","35W Dual USB-C",null,{"$f":"_xlfn.XLOOKUP(Table11[[#This Row],[TDS SKU]],Sheet2!$B:$B,Sheet2!C:C)","v":"B"},{"$f":"_xlfn.XLOOKUP(Table11[[#This Row],[TDS SKU]],Sheet2!$B:$B,Sheet2!D:D)","v":"A"},{"$f":"_xlfn.XLOOKUP(Table11[[#This Row],[TDS SKU]],Sheet2!$B:$B,Sheet2!E:E)","v":"CTO BO"},{"$f":"LEFT(Table11[[#This Row],[Apple Part ]],4)","v":"Z1L2"}]
["Z1L2","15358381",2519,"CTO MBA 13 M5 10 CPU 10 GPU 32GB 2TB SILVER 35W","SCW83LL/A","Special Order","13-inch","Silver","M5 chip with 10‑core CPU, 10‑core GPU","32GB","2TB SSD","35W Dual USB-C",null,{"$f":"_xlfn.XLOOKUP(Table11[[#This Row],[TDS SKU]],Sheet2!$B:$B,Sheet2!C:C)","v":"B"},{"$f":"_xlfn.XLOOKUP(Table11[[#This Row],[TDS SKU]],Sheet2!$B:$B,Sheet2!D:D)","v":"A"},{"$f":"_xlfn.XLOOKUP(Table11[[#This Row],[TDS SKU]],Sheet2!$B:$B,Sheet2!E:E)","v":"CTO BO"},{"$f":"LEFT(Table11[[#This Row],[Apple Part ]],4)","v":"Z1L2"}]
["Z1L2","15358401",3519,"CTO MBA 13 M5 10 CPU 10 GPU 32GB 4TB SILVER 70W","SCW83LL/A","Special Order","13-inch","Silver","M5 chip with 10‑core CPU, 10‑core GPU","32GB","4TB SSD","70W USB-C",null,{"$f":"_xlfn.XLOOKUP(Table11[[#This Row],[TDS SKU]],Sheet2!$B:$B,Sheet2!C:C)","v":"B"},{"$f":"_xlfn.XLOOKUP(Table11[[#This Row],[TDS SKU]],Sheet2!$B:$B,Sheet2!D:D)","v":"A"},{"$f":"_xlfn.XLOOKUP(Table11[[#This Row],[TDS SKU]],Sheet2!$B:$B,Sheet2!E:E)","v":"CTO BO"},{"$f":"LEFT(Table11[[#This Row],[Apple Part ]],4)","v":"Z1L2"}]
["Z1L2","15358398",3319,"CTO MBA 13 M5 10 CPU 10 GPU 24GB 4TB SILVER 70W","SCW83LL/A","Special Order","13-inch","Silver","M5 chip with 10‑core CPU, 10‑core GPU","24GB","4TB SSD","70W USB-C",null,{"$f":"_xlfn.XLOOKUP(Table11[[#This Row],[TDS SKU]],Sheet2!$B:$B,Sheet2!C:C)","v":"B"},{"$f":"_xlfn.XLOOKUP(Table11[[#This Row],[TDS SKU]],Sheet2!$B:$B,Sheet2!D:D)","v":"A"},{"$f":"_xlfn.XLOOKUP(Table11[[#This Row],[TDS SKU]],Sheet2!$B:$B,Sheet2!E:E)","v":"CTO BO"},{"$f":"LEFT(Table11[[#This Row],[Apple Part ]],4)","v":"Z1L2"}]
["Z1L2","15358397",3319,"CTO MBA 13 M5 10 CPU 10 GPU 24GB 4TB SILVER 35W","SCW83LL/A","Special Order","13-inch","Silver","M5 chip with 10‑core CPU, 10‑core GPU","24GB","4TB SSD","35W Dual USB-C",null,{"$f":"_xlfn.XLOOKUP(Table11[[#This Row],[TDS SKU]],Sheet2!$B:$B,Sheet2!C:C)","v":"B"},{"$f":"_xlfn.XLOOKUP(Table11[[#This Row],[TDS SKU]],Sheet2!$B:$B,Sheet2!D:D)","v":"A"},{"$f":"_xlfn.XLOOKUP(Table11[[#This Row],[TDS SKU]],Sheet2!$B:$B,Sheet2!E:E)","v":"CTO BO"},{"$f":"LEFT(Table11[[#This Row],[Apple Part ]],4)","v":"Z1L2"}]
["Z1L3","15358404",1319,"CTO MBA 13 M5 10 CPU 10 GPU 16GB 512GB STARLIGHT 40W","SCW83LL/A","Special Order","13-inch","Starlight","M5 chip with 10‑core CPU, 10‑core GPU","16GB","512GB SSD","40W Dynamic",null,{"$f":"_xlfn.XLOOKUP(Table11[[#This Row],[TDS SKU]],Sheet2!$B:$B,Sheet2!C:C)","v":"B"},{"$f":"_xlfn.XLOOKUP(Table11[[#This Row],[TDS SKU]],Sheet2!$B:$B,Sheet2!D:D)","v":"A"},{"$f":"_xlfn.XLOOKUP(Table11[[#This Row],[TDS SKU]],Sheet2!$B:$B,Sheet2!E:E)","v":"CTO BO"},{"$f":"LEFT(Table11[[#This Row],[Apple Part ]],4)","v":"Z1L3"}]
["Z1L3","15358387",1499,"CTO MBA 13 M5 10 CPU 10 GPU 24GB 512GB STARLIGHT 40W","SCW83LL/A","Special Order","13-inch","Starlight","M5 chip with 10‑core CPU, 10‑core GPU","24GB","512GB SSD","40W Dynamic",null,{"$f":"_xlfn.XLOOKUP(Table11[[#This Row],[TDS SKU]],Sheet2!$B:$B,Sheet2!C:C)","v":"B"},{"$f":"_xlfn.XLOOKUP(Table11[[#This Row],[TDS SKU]],Sheet2!$B:$B,Sheet2!D:D)","v":"A"},{"$f":"_xlfn.XLOOKUP(Table11[[#This Row],[TDS SKU]],Sheet2!$B:$B,Sheet2!E:E)","v":"CTO BO"},{"$f":"LEFT(Table11[[#This Row],[Apple Part ]],4)","v":"Z1L3"}]
["Z1L3","15358390",1699,"CTO MBA 13 M5 10 CPU 10 GPU 32GB 512GB STARLIGHT 40W","SCW83LL/A","Special Order","13-inch","Starlight","M5 chip with 10‑core CPU, 10‑core GPU","32GB","512GB SSD","40W Dynamic",null,{"$f":"_xlfn.XLOOKUP(Table11[[#This Row],[TDS SKU]],Sheet2!$B:$B,Sheet2!C:C)","v":"B"},{"$f":"_xlfn.XLOOKUP(Table11[[#This Row],[TDS SKU]],Sheet2!$B:$B,Sheet2!D:D)","v":"A"},{"$f":"_xlfn.XLOOKUP(Table11[[#This Row],[TDS SKU]],Sheet2!$B:$B,Sheet2!E:E)","v":"CTO BO"},{"$f":"LEFT(Table11[[#This Row],[Apple Part ]],4)","v":"Z1L3"}]
["Z1L3","15358402",1299,"CTO MBA 13 M5 10 CPU 8 GPU 16GB 512GB STARLIGHT 35W","SCW83LL/A","Special Order","13-inch","Starlight","M5 chip with 10‑core CPU, 8‑core GPU","16GB","512GB SSD","35W Dual USB-C",null,{"$f":"_xlfn.XLOOKUP(Table11[[#This Row],[TDS SKU]],Sheet2!$B:$B,Sheet2!C:C)","v":"B"},{"$f":"_xlfn.XLOOKUP(Table11[[#This Row],[TDS SKU]],Sheet2!$B:$B,Sheet2!D:D)","v":"A"},{"$f":"_xlfn.XLOOKUP(Table11[[#This Row],[TDS SKU]],Sheet2!$B:$B,Sheet2!E:E)","v":"CTO BO"},{"$f":"LEFT(Table11[[#This Row],[Apple Part ]],4)","v":"Z1L3"}]
["Z1L3","15358403",1319,"CTO MBA 13 M5 10 CPU 8 GPU 16GB 512GB STARLIGHT 70W","SCW83LL/A",{"$f":"IF(OR(P81=\"CTO BO\",P81=\"ZPN BO\"),\"Special Order\",\"Stocked\")","v":"Special Order"},"13-inch","Starlight","M5 chip with 10‑core CPU, 8‑core GPU","16GB","512GB SSD","70W USB-C",null,{"$f":"_xlfn.XLOOKUP(Table11[[#This Row],[TDS SKU]],Sheet2!$B:$B,Sheet2!C:C)","v":"B"},{"$f":"_xlfn.XLOOKUP(Table11[[#This Row],[TDS SKU]],Sheet2!$B:$B,Sheet2!D:D)","v":"A"},{"$f":"_xlfn.XLOOKUP(Table11[[#This Row],[TDS SKU]],Sheet2!$B:$B,Sheet2!E:E)","v":"CTO BO"},{"$f":"LEFT(Table11[[#This Row],[Apple Part ]],4)","v":"Z1L3"}]
["Z1L3","15358386",1419,"CTO MBA 13 M5 10 CPU 10 GPU 16GB 512GB STARLIGHT 70W","SCW83LL/A","Special Order","13-inch","Starlight","M5 chip with 10‑core CPU, 10‑core GPU","16GB","512GB SSD","70W USB-C",null,{"$f":"_xlfn.XLOOKUP(Table11[[#This Row],[TDS SKU]],Sheet2!$B:$B,Sheet2!C:C)","v":"B"},{"$f":"_xlfn.XLOOKUP(Table11[[#This Row],[TDS SKU]],Sheet2!$B:$B,Sheet2!D:D)","v":"A"},{"$f":"_xlfn.XLOOKUP(Table11[[#This Row],[TDS SKU]],Sheet2!$B:$B,Sheet2!E:E)","v":"CTO BO"},{"$f":"LEFT(Table11[[#This Row],[Apple Part ]],4)","v":"Z1L3"}]
["Z1L3","15358389",1519,"CTO MBA 13 M5 10 CPU 10 GPU 24GB 512GB STARLIGHT 70W","SCW83LL/A","Special Order","13-inch","Starlight","M5 chip with 10‑core CPU, 10‑core GPU","24GB","512GB SSD","70W USB-C",null,{"$f":"_xlfn.XLOOKUP(Table11[[#This Row],[TDS SKU]],Sheet2!$B:$B,Sheet2!C:C)","v":"B"},{"$f":"_xlfn.XLOOKUP(Table11[[#This Row],[TDS SKU]],Sheet2!$B:$B,Sheet2!D:D)","v":"A"},{"$f":"_xlfn.XLOOKUP(Table11[[#This Row],[TDS SKU]],Sheet2!$B:$B,Sheet2!E:E)","v":"CTO BO"},{"$f":"LEFT(Table11[[#This Row],[Apple Part ]],4)","v":"Z1L3"}]
["Z1L3","15358385",1419,"CTO MBA 13 M5 10 CPU 10 GPU 16GB 512GB STARLIGHT 35W","SCW83LL/A","Special Order","13-inch","Starlight","M5 chip with 10‑core CPU, 10‑core GPU","16GB","512GB SSD","35W Dual USB-C",null,{"$f":"_xlfn.XLOOKUP(Table11[[#This Row],[TDS SKU]],Sheet2!$B:$B,Sheet2!C:C)","v":"B"},{"$f":"_xlfn.XLOOKUP(Table11[[#This Row],[TDS SKU]],Sheet2!$B:$B,Sheet2!D:D)","v":"A"},{"$f":"_xlfn.XLOOKUP(Table11[[#This Row],[TDS SKU]],Sheet2!$B:$B,Sheet2!E:E)","v":"CTO BO"},{"$f":"LEFT(Table11[[#This Row],[Apple Part ]],4)","v":"Z1L3"}]
["Z1L3","15358392",1719,"CTO MBA 13 M5 10 CPU 10 GPU 32GB 512GB STARLIGHT 70W","SCW83LL/A","Special Order","13-inch","Starlight","M5 chip with 10‑core CPU, 10‑core GPU","32GB","512GB SSD","70W USB-C",null,{"$f":"_xlfn.XLOOKUP(Table11[[#This Row],[TDS SKU]],Sheet2!$B:$B,Sheet2!C:C)","v":"B"},{"$f":"_xlfn.XLOOKUP(Table11[[#This Row],[TDS SKU]],Sheet2!$B:$B,Sheet2!D:D)","v":"A"},{"$f":"_xlfn.XLOOKUP(Table11[[#This Row],[TDS SKU]],Sheet2!$B:$B,Sheet2!E:E)","v":"CTO BO"},{"$f":"LEFT(Table11[[#This Row],[Apple Part ]],4)","v":"Z1L3"}]
["Z1L3","15358388",1519,"CTO MBA 13 M5 10 CPU 10 GPU 24GB 512GB STARLIGHT 35W","SCW83LL/A","Special Order","13-inch","Starlight","M5 chip with 10‑core CPU, 10‑core GPU","24GB","512GB SSD","35W Dual USB-C",null,{"$f":"_xlfn.XLOOKUP(Table11[[#This Row],[TDS SKU]],Sheet2!$B:$B,Sheet2!C:C)","v":"B"},{"$f":"_xlfn.XLOOKUP(Table11[[#This Row],[TDS SKU]],Sheet2!$B:$B,Sheet2!D:D)","v":"A"},{"$f":"_xlfn.XLOOKUP(Table11[[#This Row],[TDS SKU]],Sheet2!$B:$B,Sheet2!E:E)","v":"CTO BO"},{"$f":"LEFT(Table11[[#This Row],[Apple Part ]],4)","v":"Z1L3"}]
["Z1L3","15358391",1719,"CTO MBA 13 M5 10 CPU 10 GPU 32GB 512GB STARLIGHT 35W","SCW83LL/A","Special Order","13-inch","Starlight","M5 chip with 10‑core CPU, 10‑core GPU","32GB","512GB SSD","35W Dual USB-C",null,{"$f":"_xlfn.XLOOKUP(Table11[[#This Row],[TDS SKU]],Sheet2!$B:$B,Sheet2!C:C)","v":"B"},{"$f":"_xlfn.XLOOKUP(Table11[[#This Row],[TDS SKU]],Sheet2!$B:$B,Sheet2!D:D)","v":"A"},{"$f":"_xlfn.XLOOKUP(Table11[[#This Row],[TDS SKU]],Sheet2!$B:$B,Sheet2!E:E)","v":"CTO BO"},{"$f":"LEFT(Table11[[#This Row],[Apple Part ]],4)","v":"Z1L3"}]
["Z1L4","15358410",2099,"CTO MBA 13 M5 10 CPU 10 GPU 16GB 2TB STARLIGHT 40W","SCW83LL/A","Special Order","13-inch","Starlight","M5 chip with 10‑core CPU, 10‑core GPU","16GB","2TB SSD","40W Dynamic",null,{"$f":"_xlfn.XLOOKUP(Table11[[#This Row],[TDS SKU]],Sheet2!$B:$B,Sheet2!C:C)","v":"B"},{"$f":"_xlfn.XLOOKUP(Table11[[#This Row],[TDS SKU]],Sheet2!$B:$B,Sheet2!D:D)","v":"A"},{"$f":"_xlfn.XLOOKUP(Table11[[#This Row],[TDS SKU]],Sheet2!$B:$B,Sheet2!E:E)","v":"CTO BO"},{"$f":"LEFT(Table11[[#This Row],[Apple Part ]],4)","v":"Z1L4"}]
["Z1L4","15358429",3099,"CTO MBA 13 M5 10 CPU 10 GPU 16GB 4TB STARLIGHT 40W","SCW83LL/A","Special Order","13-inch","Starlight","M5 chip with 10‑core CPU, 10‑core GPU","16GB","4TB SSD","40W Dynamic",null,{"$f":"_xlfn.XLOOKUP(Table11[[#This Row],[TDS SKU]],Sheet2!$B:$B,Sheet2!C:C)","v":"B"},{"$f":"_xlfn.XLOOKUP(Table11[[#This Row],[TDS SKU]],Sheet2!$B:$B,Sheet2!D:D)","v":"A"},{"$f":"_xlfn.XLOOKUP(Table11[[#This Row],[TDS SKU]],Sheet2!$B:$B,Sheet2!E:E)","v":"CTO BO"},{"$f":"LEFT(Table11[[#This Row],[Apple Part ]],4)","v":"Z1L4"}]
["Z1L4","15358393",1619,"CTO MBA 13 M5 10 CPU 10 GPU 16GB 1TB STARLIGHT 35W","SCW83LL/A","Special Order","13-inch","Starlight","M5 chip with 10‑core CPU, 10‑core GPU","16GB","1TB SSD","35W Dual USB-C",null,{"$f":"_xlfn.XLOOKUP(Table11[[#This Row],[TDS SKU]],Sheet2!$B:$B,Sheet2!C:C)","v":"B"},{"$f":"_xlfn.XLOOKUP(Table11[[#This Row],[TDS SKU]],Sheet2!$B:$B,Sheet2!D:D)","v":"A"},{"$f":"_xlfn.XLOOKUP(Table11[[#This Row],[TDS SKU]],Sheet2!$B:$B,Sheet2!E:E)","v":"CTO BO"},{"$f":"LEFT(Table11[[#This Row],[Apple Part ]],4)","v":"Z1L4"}]
["Z1L4","15358394",1619,"CTO MBA 13 M5 10 CPU 10 GPU 16GB 1TB STARLIGHT 70W","SCW83LL/A","Special Order","13-inch","Starlight","M5 chip with 10‑core CPU, 10‑core GPU","16GB","1TB SSD","70W USB-C",null,{"$f":"_xlfn.XLOOKUP(Table11[[#This Row],[TDS SKU]],Sheet2!$B:$B,Sheet2!C:C)","v":"B"},{"$f":"_xlfn.XLOOKUP(Table11[[#This Row],[TDS SKU]],Sheet2!$B:$B,Sheet2!D:D)","v":"A"},{"$f":"_xlfn.XLOOKUP(Table11[[#This Row],[TDS SKU]],Sheet2!$B:$B,Sheet2!E:E)","v":"CTO BO"},{"$f":"LEFT(Table11[[#This Row],[Apple Part ]],4)","v":"Z1L4"}]
["Z1L4","15358411",2119,"CTO MBA 13 M5 10 CPU 10 GPU 16GB 2TB STARLIGHT 35W","SCW83LL/A","Special Order","13-inch","Starlight","M5 chip with 10‑core CPU, 10‑core GPU","16GB","2TB SSD","35W Dual USB-C",null,{"$f":"_xlfn.XLOOKUP(Table11[[#This Row],[TDS SKU]],Sheet2!$B:$B,Sheet2!C:C)","v":"B"},{"$f":"_xlfn.XLOOKUP(Table11[[#This Row],[TDS SKU]],Sheet2!$B:$B,Sheet2!D:D)","v":"A"},{"$f":"_xlfn.XLOOKUP(Table11[[#This Row],[TDS SKU]],Sheet2!$B:$B,Sheet2!E:E)","v":"CTO BO"},{"$f":"LEFT(Table11[[#This Row],[Apple Part ]],4)","v":"Z1L4"}]
["Z1L4","15358412",2119,"CTO MBA 13 M5 10 CPU 10 GPU 16GB 2TB STARLIGHT 70W","SCW83LL/A","Special Order","13-inch","Starlight","M5 chip with 10‑core CPU, 10‑core GPU","16GB","2TB SSD","70W USB-C",null,{"$f":"_xlfn.XLOOKUP(Table11[[#This Row],[TDS SKU]],Sheet2!$B:$B,Sheet2!C:C)","v":"B"},{"$f":"_xlfn.XLOOKUP(Table11[[#This Row],[TDS SKU]],Sheet2!$B:$B,Sheet2!D:D)","v":"A"},{"$f":"_xlfn.XLOOKUP(Table11[[#This Row],[TDS SKU]],Sheet2!$B:$B,Sheet2!E:E)","v":"CTO BO"},{"$f":"LEFT(Table11[[#This Row],[Apple Part ]],4)","v":"Z1L4"}]
["Z1L4","15358430",3119,"CTO MBA 13 M5 10 CPU 10 GPU 16GB 4TB STARLIGHT 35W","SCW83LL/A","Special Order","13-inch","Starlight","M5 chip with 10‑core CPU, 10‑core GPU","16GB","4TB SSD","35W Dual USB-C",null,{"$f":"_xlfn.XLOOKUP(Table11[[#This Row],[TDS SKU]],Sheet2!$B:$B,Sheet2!C:C)","v":"B"},{"$f":"_xlfn.XLOOKUP(Table11[[#This Row],[TDS SKU]],Sheet2!$B:$B,Sheet2!D:D)","v":"A"},{"$f":"_xlfn.XLOOKUP(Table11[[#This Row],[TDS SKU]],Sheet2!$B:$B,Sheet2!E:E)","v":"CTO BO"},{"$f":"LEFT(Table11[[#This Row],[Apple Part ]],4)","v":"Z1L4"}]
["Z1L4","15358431",3119,"CTO MBA 13 M5 10 CPU 10 GPU 16GB 4TB STARLIGHT 70W","SCW83LL/A","Special Order","13-inch","Starlight","M5 chip with 10‑core CPU, 10‑core GPU","16GB","4TB SSD","70W USB-C",null,{"$f":"_xlfn.XLOOKUP(Table11[[#This Row],[TDS SKU]],Sheet2!$B:$B,Sheet2!C:C)","v":"B"},{"$f":"_xlfn.XLOOKUP(Table11[[#This Row],[TDS SKU]],Sheet2!$B:$B,Sheet2!D:D)","v":"A"},{"$f":"_xlfn.XLOOKUP(Table11[[#This Row],[TDS SKU]],Sheet2!$B:$B,Sheet2!E:E)","v":"CTO BO"},{"$f":"LEFT(Table11[[#This Row],[Apple Part ]],4)","v":"Z1L4"}]
["Z1L5","15358407",1999,"CTO MBA 13 M5 10 CPU 10 GPU 32GB 1TB STARLIGHT 40W","SCW83LL/A","Special Order","13-inch","Starlight","M5 chip with 10‑core CPU, 10‑core GPU","32GB","1TB SSD","40W Dynamic",null,{"$f":"_xlfn.XLOOKUP(Table11[[#This Row],[TDS SKU]],Sheet2!$B:$B,Sheet2!C:C)","v":"B"},{"$f":"_xlfn.XLOOKUP(Table11[[#This Row],[TDS SKU]],Sheet2!$B:$B,Sheet2!D:D)","v":"A"},{"$f":"_xlfn.XLOOKUP(Table11[[#This Row],[TDS SKU]],Sheet2!$B:$B,Sheet2!E:E)","v":"CTO BO"},{"$f":"LEFT(Table11[[#This Row],[Apple Part ]],4)","v":"Z1L5"}]
["Z1L5","15358413",2299,"CTO MBA 13 M5 10 CPU 10 GPU 24GB 2TB STARLIGHT 40W","SCW83LL/A","Special Order","13-inch","Starlight","M5 chip with 10‑core CPU, 10‑core GPU","24GB","2TB SSD","40W Dynamic",null,{"$f":"_xlfn.XLOOKUP(Table11[[#This Row],[TDS SKU]],Sheet2!$B:$B,Sheet2!C:C)","v":"B"},{"$f":"_xlfn.XLOOKUP(Table11[[#This Row],[TDS SKU]],Sheet2!$B:$B,Sheet2!D:D)","v":"A"},{"$f":"_xlfn.XLOOKUP(Table11[[#This Row],[TDS SKU]],Sheet2!$B:$B,Sheet2!E:E)","v":"CTO BO"},{"$f":"LEFT(Table11[[#This Row],[Apple Part ]],4)","v":"Z1L5"}]
["Z1L5","15358432",3299,"CTO MBA 13 M5 10 CPU 10 GPU 24GB 4TB STARLIGHT 40W","SCW83LL/A","Special Order","13-inch","Starlight","M5 chip with 10‑core CPU, 10‑core GPU","24GB","4TB SSD","40W Dynamic",null,{"$f":"_xlfn.XLOOKUP(Table11[[#This Row],[TDS SKU]],Sheet2!$B:$B,Sheet2!C:C)","v":"B"},{"$f":"_xlfn.XLOOKUP(Table11[[#This Row],[TDS SKU]],Sheet2!$B:$B,Sheet2!D:D)","v":"A"},{"$f":"_xlfn.XLOOKUP(Table11[[#This Row],[TDS SKU]],Sheet2!$B:$B,Sheet2!E:E)","v":"CTO BO"},{"$f":"LEFT(Table11[[#This Row],[Apple Part ]],4)","v":"Z1L5"}]
["Z1L5","15358426",2499,"CTO MBA 13 M5 10 CPU 10 GPU 32GB 2TB STARLIGHT 40W","SCW83LL/A","Special Order","13-inch","Starlight","M5 chip with 10‑core CPU, 10‑core GPU","32GB","2TB SSD","40W Dynamic",null,{"$f":"_xlfn.XLOOKUP(Table11[[#This Row],[TDS SKU]],Sheet2!$B:$B,Sheet2!C:C)","v":"B"},{"$f":"_xlfn.XLOOKUP(Table11[[#This Row],[TDS SKU]],Sheet2!$B:$B,Sheet2!D:D)","v":"A"},{"$f":"_xlfn.XLOOKUP(Table11[[#This Row],[TDS SKU]],Sheet2!$B:$B,Sheet2!E:E)","v":"CTO BO"},{"$f":"LEFT(Table11[[#This Row],[Apple Part ]],4)","v":"Z1L5"}]
["Z1L5","15358415",3499,"CTO MBA 13 M5 10 CPU 10 GPU 32GB 4TB STARLIGHT 40W","SCW83LL/A","Special Order","13-inch","Starlight","M5 chip with 10‑core CPU, 10‑core GPU","32GB","4TB SSD","40W Dynamic",null,{"$f":"_xlfn.XLOOKUP(Table11[[#This Row],[TDS SKU]],Sheet2!$B:$B,Sheet2!C:C)","v":"B"},{"$f":"_xlfn.XLOOKUP(Table11[[#This Row],[TDS SKU]],Sheet2!$B:$B,Sheet2!D:D)","v":"A"},{"$f":"_xlfn.XLOOKUP(Table11[[#This Row],[TDS SKU]],Sheet2!$B:$B,Sheet2!E:E)","v":"CTO BO"},{"$f":"LEFT(Table11[[#This Row],[Apple Part ]],4)","v":"Z1L5"}]
["Z1L5","15358405",1819,"CTO MBA 13 M5 10 CPU 10 GPU 24GB 1TB STARLIGHT 35W","SCW83LL/A","Special Order","13-inch","Starlight","M5 chip with 10‑core CPU, 10‑core GPU","24GB","1TB SSD","35W Dual USB-C",null,{"$f":"_xlfn.XLOOKUP(Table11[[#This Row],[TDS SKU]],Sheet2!$B:$B,Sheet2!C:C)","v":"B"},{"$f":"_xlfn.XLOOKUP(Table11[[#This Row],[TDS SKU]],Sheet2!$B:$B,Sheet2!D:D)","v":"A"},{"$f":"_xlfn.XLOOKUP(Table11[[#This Row],[TDS SKU]],Sheet2!$B:$B,Sheet2!E:E)","v":"CTO BO"},{"$f":"LEFT(Table11[[#This Row],[Apple Part ]],4)","v":"Z1L5"}]
["Z1L5","15358406",1819,"CTO MBA 13 M5 10 CPU 10 GPU 24GB 1TB STARLIGHT 70W","SCW83LL/A","Special Order","13-inch","Starlight","M5 chip with 10‑core CPU, 10‑core GPU","24GB","1TB SSD","70W USB-C",null,{"$f":"_xlfn.XLOOKUP(Table11[[#This Row],[TDS SKU]],Sheet2!$B:$B,Sheet2!C:C)","v":"B"},{"$f":"_xlfn.XLOOKUP(Table11[[#This Row],[TDS SKU]],Sheet2!$B:$B,Sheet2!D:D)","v":"A"},{"$f":"_xlfn.XLOOKUP(Table11[[#This Row],[TDS SKU]],Sheet2!$B:$B,Sheet2!E:E)","v":"CTO BO"},{"$f":"LEFT(Table11[[#This Row],[Apple Part ]],4)","v":"Z1L5"}]
["Z1L5","15358409",2019,"CTO MBA 13 M5 10 CPU 10 GPU 32GB 1TB STARLIGHT 70W","SCW83LL/A","Special Order","13-inch","Starlight","M5 chip with 10‑core CPU, 10‑core GPU","32GB","1TB SSD","70W USB-C",null,{"$f":"_xlfn.XLOOKUP(Table11[[#This Row],[TDS SKU]],Sheet2!$B:$B,Sheet2!C:C)","v":"B"},{"$f":"_xlfn.XLOOKUP(Table11[[#This Row],[TDS SKU]],Sheet2!$B:$B,Sheet2!D:D)","v":"A"},{"$f":"_xlfn.XLOOKUP(Table11[[#This Row],[TDS SKU]],Sheet2!$B:$B,Sheet2!E:E)","v":"CTO BO"},{"$f":"LEFT(Table11[[#This Row],[Apple Part ]],4)","v":"Z1L5"}]
["Z1L5","15358428",2519,"CTO MBA 13 M5 10 CPU 10 GPU 32GB 2TB STARLIGHT 70W","SCW83LL/A","Special Order","13-inch","Starlight","M5 chip with 10‑core CPU, 10‑core GPU","32GB","2TB SSD","70W USB-C",null,{"$f":"_xlfn.XLOOKUP(Table11[[#This Row],[TDS SKU]],Sheet2!$B:$B,Sheet2!C:C)","v":"B"},{"$f":"_xlfn.XLOOKUP(Table11[[#This Row],[TDS SKU]],Sheet2!$B:$B,Sheet2!D:D)","v":"A"},{"$f":"_xlfn.XLOOKUP(Table11[[#This Row],[TDS SKU]],Sheet2!$B:$B,Sheet2!E:E)","v":"CTO BO"},{"$f":"LEFT(Table11[[#This Row],[Apple Part ]],4)","v":"Z1L5"}]
["Z1L5","15358425",2319,"CTO MBA 13 M5 10 CPU 10 GPU 24GB 2TB STARLIGHT 70W","SCW83LL/A","Special Order","13-inch","Starlight","M5 chip with 10‑core CPU, 10‑core GPU","24GB","2TB SSD","70W USB-C",null,{"$f":"_xlfn.XLOOKUP(Table11[[#This Row],[TDS SKU]],Sheet2!$B:$B,Sheet2!C:C)","v":"B"},{"$f":"_xlfn.XLOOKUP(Table11[[#This Row],[TDS SKU]],Sheet2!$B:$B,Sheet2!D:D)","v":"A"},{"$f":"_xlfn.XLOOKUP(Table11[[#This Row],[TDS SKU]],Sheet2!$B:$B,Sheet2!E:E)","v":"CTO BO"},{"$f":"LEFT(Table11[[#This Row],[Apple Part ]],4)","v":"Z1L5"}]
["Z1L5","15358416",3519,"CTO MBA 13 M5 10 CPU 10 GPU 32GB 4TB STARLIGHT 35W","SCW83LL/A","Special Order","13-inch","Starlight","M5 chip with 10‑core CPU, 10‑core GPU","32GB","4TB SSD","35W Dual USB-C",null,{"$f":"_xlfn.XLOOKUP(Table11[[#This Row],[TDS SKU]],Sheet2!$B:$B,Sheet2!C:C)","v":"B"},{"$f":"_xlfn.XLOOKUP(Table11[[#This Row],[TDS SKU]],Sheet2!$B:$B,Sheet2!D:D)","v":"A"},{"$f":"_xlfn.XLOOKUP(Table11[[#This Row],[TDS SKU]],Sheet2!$B:$B,Sheet2!E:E)","v":"CTO BO"},{"$f":"LEFT(Table11[[#This Row],[Apple Part ]],4)","v":"Z1L5"}]
["Z1L5","15358408",2019,"CTO MBA 13 M5 10 CPU 10 GPU 32GB 1TB STARLIGHT 35W","SCW83LL/A","Special Order","13-inch","Starlight","M5 chip with 10‑core CPU, 10‑core GPU","32GB","1TB SSD","35W Dual USB-C",null,{"$f":"_xlfn.XLOOKUP(Table11[[#This Row],[TDS SKU]],Sheet2!$B:$B,Sheet2!C:C)","v":"B"},{"$f":"_xlfn.XLOOKUP(Table11[[#This Row],[TDS SKU]],Sheet2!$B:$B,Sheet2!D:D)","v":"A"},{"$f":"_xlfn.XLOOKUP(Table11[[#This Row],[TDS SKU]],Sheet2!$B:$B,Sheet2!E:E)","v":"CTO BO"},{"$f":"LEFT(Table11[[#This Row],[Apple Part ]],4)","v":"Z1L5"}]
["Z1L5","15358427",2519,"CTO MBA 13 M5 10 CPU 10 GPU 32GB 2TB STARLIGHT 35W","SCW83LL/A","Special Order","13-inch","Starlight","M5 chip with 10‑core CPU, 10‑core GPU","32GB","2TB SSD","35W Dual USB-C",null,{"$f":"_xlfn.XLOOKUP(Table11[[#This Row],[TDS SKU]],Sheet2!$B:$B,Sheet2!C:C)","v":"B"},{"$f":"_xlfn.XLOOKUP(Table11[[#This Row],[TDS SKU]],Sheet2!$B:$B,Sheet2!D:D)","v":"A"},{"$f":"_xlfn.XLOOKUP(Table11[[#This Row],[TDS SKU]],Sheet2!$B:$B,Sheet2!E:E)","v":"CTO BO"},{"$f":"LEFT(Table11[[#This Row],[Apple Part ]],4)","v":"Z1L5"}]
["Z1L5","15358417",3519,"CTO MBA 13 M5 10 CPU 10 GPU 32GB 4TB STARLIGHT 70W","SCW83LL/A","Special Order","13-inch","Starlight","M5 chip with 10‑core CPU, 10‑core GPU","32GB","4TB SSD","70W USB-C",null,{"$f":"_xlfn.XLOOKUP(Table11[[#This Row],[TDS SKU]],Sheet2!$B:$B,Sheet2!C:C)","v":"B"},{"$f":"_xlfn.XLOOKUP(Table11[[#This Row],[TDS SKU]],Sheet2!$B:$B,Sheet2!D:D)","v":"A"},{"$f":"_xlfn.XLOOKUP(Table11[[#This Row],[TDS SKU]],Sheet2!$B:$B,Sheet2!E:E)","v":"CTO BO"},{"$f":"LEFT(Table11[[#This Row],[Apple Part ]],4)","v":"Z1L5"}]
["Z1L5","15358414",2319,"CTO MBA 13 M5 10 CPU 10 GPU 24GB 2TB STARLIGHT 35W","SCW83LL/A","Special Order","13-inch","Starlight","M5 chip with 10‑core CPU, 10‑core GPU","24GB","2TB SSD","35W Dual USB-C",null,{"$f":"_xlfn.XLOOKUP(Table11[[#This Row],[TDS SKU]],Sheet2!$B:$B,Sheet2!C:C)","v":"B"},{"$f":"_xlfn.XLOOKUP(Table11[[#This Row],[TDS SKU]],Sheet2!$B:$B,Sheet2!D:D)","v":"A"},{"$f":"_xlfn.XLOOKUP(Table11[[#This Row],[TDS SKU]],Sheet2!$B:$B,Sheet2!E:E)","v":"CTO BO"},{"$f":"LEFT(Table11[[#This Row],[Apple Part ]],4)","v":"Z1L5"}]
["Z1L5","15358433",3319,"CTO MBA 13 M5 10 CPU 10 GPU 24GB 4TB STARLIGHT 35W","SCW83LL/A","Special Order","13-inch","Starlight","M5 chip with 10‑core CPU, 10‑core GPU","24GB","4TB SSD","35W Dual USB-C",null,{"$f":"_xlfn.XLOOKUP(Table11[[#This Row],[TDS SKU]],Sheet2!$B:$B,Sheet2!C:C)","v":"B"},{"$f":"_xlfn.XLOOKUP(Table11[[#This Row],[TDS SKU]],Sheet2!$B:$B,Sheet2!D:D)","v":"A"},{"$f":"_xlfn.XLOOKUP(Table11[[#This Row],[TDS SKU]],Sheet2!$B:$B,Sheet2!E:E)","v":"CTO BO"},{"$f":"LEFT(Table11[[#This Row],[Apple Part ]],4)","v":"Z1L5"}]
["Z1L5","15358434",3319,"CTO MBA 13 M5 10 CPU 10 GPU 24GB 4TB STARLIGHT 70W","SCW83LL/A","Special Order","13-inch","Starlight","M5 chip with 10‑core CPU, 10‑core GPU","24GB","4TB SSD","70W USB-C",null,{"$f":"_xlfn.XLOOKUP(Table11[[#This Row],[TDS SKU]],Sheet2!$B:$B,Sheet2!C:C)","v":"B"},{"$f":"_xlfn.XLOOKUP(Table11[[#This Row],[TDS SKU]],Sheet2!$B:$B,Sheet2!D:D)","v":"A"},{"$f":"_xlfn.XLOOKUP(Table11[[#This Row],[TDS SKU]],Sheet2!$B:$B,Sheet2!E:E)","v":"CTO BO"},{"$f":"LEFT(Table11[[#This Row],[Apple Part ]],4)","v":"Z1L5"}]
["Z1L6","15358297",1399,"CTO MBA 13 M5 10 CPU 10 GPU 16GB 512GB MIDNIGHT 40W","SCW83LL/A","Stocked","13-inch","Midnight","M5 chip with 10‑core CPU, 10‑core GPU","16GB","512GB SSD","40W Dynamic",null,{"$f":"_xlfn.XLOOKUP(Table11[[#This Row],[TDS SKU]],Sheet2!$B:$B,Sheet2!C:C)","v":"B"},{"$f":"_xlfn.XLOOKUP(Table11[[#This Row],[TDS SKU]],Sheet2!$B:$B,Sheet2!D:D)","v":"A"},{"$f":"_xlfn.XLOOKUP(Table11[[#This Row],[TDS SKU]],Sheet2!$B:$B,Sheet2!E:E)","v":"STOCKED CTO"},{"$f":"LEFT(Table11[[#This Row],[Apple Part ]],4)","v":"Z1L6"}]
["Z1L6","15358300",1499,"CTO MBA 13 M5 10 CPU 10 GPU 24GB 512GB MIDNIGHT 40W","SCW83LL/A","Stocked","13-inch","Midnight","M5 chip with 10‑core CPU, 10‑core GPU","24GB","512GB SSD","40W Dynamic",null,{"$f":"_xlfn.XLOOKUP(Table11[[#This Row],[TDS SKU]],Sheet2!$B:$B,Sheet2!C:C)","v":"B"},{"$f":"_xlfn.XLOOKUP(Table11[[#This Row],[TDS SKU]],Sheet2!$B:$B,Sheet2!D:D)","v":"A"},{"$f":"_xlfn.XLOOKUP(Table11[[#This Row],[TDS SKU]],Sheet2!$B:$B,Sheet2!E:E)","v":"STOCKED CTO"},{"$f":"LEFT(Table11[[#This Row],[Apple Part ]],4)","v":"Z1L6"}]
["Z1L6","15358303",1699,"CTO MBA 13 M5 10 CPU 10 GPU 32GB 512GB MIDNIGHT 40W","SCW83LL/A","Stocked","13-inch","Midnight","M5 chip with 10‑core CPU, 10‑core GPU","32GB","512GB SSD","40W Dynamic",null,{"$f":"_xlfn.XLOOKUP(Table11[[#This Row],[TDS SKU]],Sheet2!$B:$B,Sheet2!C:C)","v":"B"},{"$f":"_xlfn.XLOOKUP(Table11[[#This Row],[TDS SKU]],Sheet2!$B:$B,Sheet2!D:D)","v":"A"},{"$f":"_xlfn.XLOOKUP(Table11[[#This Row],[TDS SKU]],Sheet2!$B:$B,Sheet2!E:E)","v":"STOCKED CTO"},{"$f":"LEFT(Table11[[#This Row],[Apple Part ]],4)","v":"Z1L6"}]
["Z1L6","15358295",1319,"CTO MBA 13 M5 10 CPU 8 GPU 16GB 512GB MIDNIGHT 35W","SCW83LL/A","Special Order","13-inch","Midnight","M5 chip with 10‑core CPU, 8‑core GPU","16GB","512GB SSD","35W Dual USB-C",null,{"$f":"_xlfn.XLOOKUP(Table11[[#This Row],[TDS SKU]],Sheet2!$B:$B,Sheet2!C:C)","v":"B"},{"$f":"_xlfn.XLOOKUP(Table11[[#This Row],[TDS SKU]],Sheet2!$B:$B,Sheet2!D:D)","v":"A"},{"$f":"_xlfn.XLOOKUP(Table11[[#This Row],[TDS SKU]],Sheet2!$B:$B,Sheet2!E:E)","v":"CTO BO"},{"$f":"LEFT(Table11[[#This Row],[Apple Part ]],4)","v":"Z1L6"}]
["Z1L6","15358296",1319,"CTO MBA 13 M5 10 CPU 8 GPU 16GB 512GB MIDNIGHT 70W","SCW83LL/A","Special Order","13-inch","Midnight","M5 chip with 10‑core CPU, 8‑core GPU","16GB","512GB SSD","70W USB-C",null,{"$f":"_xlfn.XLOOKUP(Table11[[#This Row],[TDS SKU]],Sheet2!$B:$B,Sheet2!C:C)","v":"B"},{"$f":"_xlfn.XLOOKUP(Table11[[#This Row],[TDS SKU]],Sheet2!$B:$B,Sheet2!D:D)","v":"A"},{"$f":"_xlfn.XLOOKUP(Table11[[#This Row],[TDS SKU]],Sheet2!$B:$B,Sheet2!E:E)","v":"CTO BO"},{"$f":"LEFT(Table11[[#This Row],[Apple Part ]],4)","v":"Z1L6"}]
["Z1L6","15358301",1519,"CTO MBA 13 M5 10 CPU 10 GPU 24GB 512GB MIDNIGHT 35W","SCW83LL/A","Special Order","13-inch","Midnight","M5 chip with 10‑core CPU, 10‑core GPU","24GB","512GB SSD","35W Dual USB-C",null,{"$f":"_xlfn.XLOOKUP(Table11[[#This Row],[TDS SKU]],Sheet2!$B:$B,Sheet2!C:C)","v":"B"},{"$f":"_xlfn.XLOOKUP(Table11[[#This Row],[TDS SKU]],Sheet2!$B:$B,Sheet2!D:D)","v":"A"},{"$f":"_xlfn.XLOOKUP(Table11[[#This Row],[TDS SKU]],Sheet2!$B:$B,Sheet2!E:E)","v":"CTO BO"},{"$f":"LEFT(Table11[[#This Row],[Apple Part ]],4)","v":"Z1L6"}]
["Z1L6","15358285",1719,"CTO MBA 13 M5 10 CPU 10 GPU 32GB 512GB MIDNIGHT 70W","SCW83LL/A","Special Order","13-inch","Midnight","M5 chip with 10‑core CPU, 10‑core GPU","32GB","512GB SSD","70W USB-C",null,{"$f":"_xlfn.XLOOKUP(Table11[[#This Row],[TDS SKU]],Sheet2!$B:$B,Sheet2!C:C)","v":"B"},{"$f":"_xlfn.XLOOKUP(Table11[[#This Row],[TDS SKU]],Sheet2!$B:$B,Sheet2!D:D)","v":"A"},{"$f":"_xlfn.XLOOKUP(Table11[[#This Row],[TDS SKU]],Sheet2!$B:$B,Sheet2!E:E)","v":"CTO BO"},{"$f":"LEFT(Table11[[#This Row],[Apple Part ]],4)","v":"Z1L6"}]
["Z1L6","15358298",1419,"CTO MBA 13 M5 10 CPU 10 GPU 16GB 512GB MIDNIGHT 35W","SCW83LL/A","Special Order","13-inch","Midnight","M5 chip with 10‑core CPU, 10‑core GPU","16GB","512GB SSD","35W Dual USB-C",null,{"$f":"_xlfn.XLOOKUP(Table11[[#This Row],[TDS SKU]],Sheet2!$B:$B,Sheet2!C:C)","v":"B"},{"$f":"_xlfn.XLOOKUP(Table11[[#This Row],[TDS SKU]],Sheet2!$B:$B,Sheet2!D:D)","v":"A"},{"$f":"_xlfn.XLOOKUP(Table11[[#This Row],[TDS SKU]],Sheet2!$B:$B,Sheet2!E:E)","v":"CTO BO"},{"$f":"LEFT(Table11[[#This Row],[Apple Part ]],4)","v":"Z1L6"}]
["Z1L6","15358304",1719,"CTO MBA 13 M5 10 CPU 10 GPU 32GB 512GB MIDNIGHT 35W","SCW83LL/A","Special Order","13-inch","Midnight","M5 chip with 10‑core CPU, 10‑core GPU","32GB","512GB SSD","35W Dual USB-C",null,{"$f":"_xlfn.XLOOKUP(Table11[[#This Row],[TDS SKU]],Sheet2!$B:$B,Sheet2!C:C)","v":"B"},{"$f":"_xlfn.XLOOKUP(Table11[[#This Row],[TDS SKU]],Sheet2!$B:$B,Sheet2!D:D)","v":"A"},{"$f":"_xlfn.XLOOKUP(Table11[[#This Row],[TDS SKU]],Sheet2!$B:$B,Sheet2!E:E)","v":"CTO BO"},{"$f":"LEFT(Table11[[#This Row],[Apple Part ]],4)","v":"Z1L6"}]
["Z1L6","15358299",1419,"CTO MBA 13 M5 10 CPU 10 GPU 16GB 512GB MIDNIGHT 70W","SCW83LL/A","Special Order","13-inch","Midnight","M5 chip with 10‑core CPU, 10‑core GPU","16GB","512GB SSD","70W USB-C",null,{"$f":"_xlfn.XLOOKUP(Table11[[#This Row],[TDS SKU]],Sheet2!$B:$B,Sheet2!C:C)","v":"B"},{"$f":"_xlfn.XLOOKUP(Table11[[#This Row],[TDS SKU]],Sheet2!$B:$B,Sheet2!D:D)","v":"A"},{"$f":"_xlfn.XLOOKUP(Table11[[#This Row],[TDS SKU]],Sheet2!$B:$B,Sheet2!E:E)","v":"CTO BO"},{"$f":"LEFT(Table11[[#This Row],[Apple Part ]],4)","v":"Z1L6"}]
["Z1L6","15358302",1519,"CTO MBA 13 M5 10 CPU 10 GPU 24GB 512GB MIDNIGHT 70W","SCW83LL/A","Special Order","13-inch","Midnight","M5 chip with 10‑core CPU, 10‑core GPU","24GB","512GB SSD","70W USB-C",null,{"$f":"_xlfn.XLOOKUP(Table11[[#This Row],[TDS SKU]],Sheet2!$B:$B,Sheet2!C:C)","v":"B"},{"$f":"_xlfn.XLOOKUP(Table11[[#This Row],[TDS SKU]],Sheet2!$B:$B,Sheet2!D:D)","v":"A"},{"$f":"_xlfn.XLOOKUP(Table11[[#This Row],[TDS SKU]],Sheet2!$B:$B,Sheet2!E:E)","v":"CTO BO"},{"$f":"LEFT(Table11[[#This Row],[Apple Part ]],4)","v":"Z1L6"}]
["Z1L7","15358293",2099,"CTO MBA 13 M5 10 CPU 10 GPU 16GB 2TB MIDNIGHT 40W","SCW83LL/A","Special Order","13-inch","Midnight","M5 chip with 10‑core CPU, 10‑core GPU","16GB","2TB SSD","40W Dynamic",null,{"$f":"_xlfn.XLOOKUP(Table11[[#This Row],[TDS SKU]],Sheet2!$B:$B,Sheet2!C:C)","v":"B"},{"$f":"_xlfn.XLOOKUP(Table11[[#This Row],[TDS SKU]],Sheet2!$B:$B,Sheet2!D:D)","v":"A"},{"$f":"_xlfn.XLOOKUP(Table11[[#This Row],[TDS SKU]],Sheet2!$B:$B,Sheet2!E:E)","v":"CTO BO"},{"$f":"LEFT(Table11[[#This Row],[Apple Part ]],4)","v":"Z1L7"}]
["Z1L7","15358322",3099,"CTO MBA 13 M5 10 CPU 10 GPU 16GB 4TB MIDNIGHT 40W","SCW83LL/A","Special Order","13-inch","Midnight","M5 chip with 10‑core CPU, 10‑core GPU","16GB","4TB SSD","40W Dynamic",null,{"$f":"_xlfn.XLOOKUP(Table11[[#This Row],[TDS SKU]],Sheet2!$B:$B,Sheet2!C:C)","v":"B"},{"$f":"_xlfn.XLOOKUP(Table11[[#This Row],[TDS SKU]],Sheet2!$B:$B,Sheet2!D:D)","v":"A"},{"$f":"_xlfn.XLOOKUP(Table11[[#This Row],[TDS SKU]],Sheet2!$B:$B,Sheet2!E:E)","v":"CTO BO"},{"$f":"LEFT(Table11[[#This Row],[Apple Part ]],4)","v":"Z1L7"}]
["Z1L7","15358286",1619,"CTO MBA 13 M5 10 CPU 10 GPU 16GB 1TB MIDNIGHT 35W","SCW83LL/A","Special Order","13-inch","Midnight","M5 chip with 10‑core CPU, 10‑core GPU","16GB","1TB SSD","35W Dual USB-C",null,{"$f":"_xlfn.XLOOKUP(Table11[[#This Row],[TDS SKU]],Sheet2!$B:$B,Sheet2!C:C)","v":"B"},{"$f":"_xlfn.XLOOKUP(Table11[[#This Row],[TDS SKU]],Sheet2!$B:$B,Sheet2!D:D)","v":"A"},{"$f":"_xlfn.XLOOKUP(Table11[[#This Row],[TDS SKU]],Sheet2!$B:$B,Sheet2!E:E)","v":"CTO BO"},{"$f":"LEFT(Table11[[#This Row],[Apple Part ]],4)","v":"Z1L7"}]
["Z1L7","15358287",1619,"CTO MBA 13 M5 10 CPU 10 GPU 16GB 1TB MIDNIGHT 70W","SCW83LL/A","Special Order","13-inch","Midnight","M5 chip with 10‑core CPU, 10‑core GPU","16GB","1TB SSD","70W USB-C",null,{"$f":"_xlfn.XLOOKUP(Table11[[#This Row],[TDS SKU]],Sheet2!$B:$B,Sheet2!C:C)","v":"B"},{"$f":"_xlfn.XLOOKUP(Table11[[#This Row],[TDS SKU]],Sheet2!$B:$B,Sheet2!D:D)","v":"A"},{"$f":"_xlfn.XLOOKUP(Table11[[#This Row],[TDS SKU]],Sheet2!$B:$B,Sheet2!E:E)","v":"CTO BO"},{"$f":"LEFT(Table11[[#This Row],[Apple Part ]],4)","v":"Z1L7"}]
["Z1L7","15358294",2119,"CTO MBA 13 M5 10 CPU 10 GPU 16GB 2TB MIDNIGHT 35W","SCW83LL/A","Special Order","13-inch","Midnight","M5 chip with 10‑core CPU, 10‑core GPU","16GB","2TB SSD","35W Dual USB-C",null,{"$f":"_xlfn.XLOOKUP(Table11[[#This Row],[TDS SKU]],Sheet2!$B:$B,Sheet2!C:C)","v":"B"},{"$f":"_xlfn.XLOOKUP(Table11[[#This Row],[TDS SKU]],Sheet2!$B:$B,Sheet2!D:D)","v":"A"},{"$f":"_xlfn.XLOOKUP(Table11[[#This Row],[TDS SKU]],Sheet2!$B:$B,Sheet2!E:E)","v":"CTO BO"},{"$f":"LEFT(Table11[[#This Row],[Apple Part ]],4)","v":"Z1L7"}]
["Z1L7","15358315",2119,"CTO MBA 13 M5 10 CPU 10 GPU 16GB 2TB MIDNIGHT 70W","SCW83LL/A","Special Order","13-inch","Midnight","M5 chip with 10‑core CPU, 10‑core GPU","16GB","2TB SSD","70W USB-C",null,{"$f":"_xlfn.XLOOKUP(Table11[[#This Row],[TDS SKU]],Sheet2!$B:$B,Sheet2!C:C)","v":"B"},{"$f":"_xlfn.XLOOKUP(Table11[[#This Row],[TDS SKU]],Sheet2!$B:$B,Sheet2!D:D)","v":"A"},{"$f":"_xlfn.XLOOKUP(Table11[[#This Row],[TDS SKU]],Sheet2!$B:$B,Sheet2!E:E)","v":"CTO BO"},{"$f":"LEFT(Table11[[#This Row],[Apple Part ]],4)","v":"Z1L7"}]
["Z1L7","15358323",3119,"CTO MBA 13 M5 10 CPU 10 GPU 16GB 4TB MIDNIGHT 35W","SCW83LL/A","Special Order","13-inch","Midnight","M5 chip with 10‑core CPU, 10‑core GPU","16GB","4TB SSD","35W Dual USB-C",null,{"$f":"_xlfn.XLOOKUP(Table11[[#This Row],[TDS SKU]],Sheet2!$B:$B,Sheet2!C:C)","v":"B"},{"$f":"_xlfn.XLOOKUP(Table11[[#This Row],[TDS SKU]],Sheet2!$B:$B,Sheet2!D:D)","v":"A"},{"$f":"_xlfn.XLOOKUP(Table11[[#This Row],[TDS SKU]],Sheet2!$B:$B,Sheet2!E:E)","v":"CTO BO"},{"$f":"LEFT(Table11[[#This Row],[Apple Part ]],4)","v":"Z1L7"}]
["Z1L7","15358324",3119,"CTO MBA 13 M5 10 CPU 10 GPU 16GB 4TB MIDNIGHT 70W","SCW83LL/A","Special Order","13-inch","Midnight","M5 chip with 10‑core CPU, 10‑core GPU","16GB","4TB SSD","70W USB-C",null,{"$f":"_xlfn.XLOOKUP(Table11[[#This Row],[TDS SKU]],Sheet2!$B:$B,Sheet2!C:C)","v":"B"},{"$f":"_xlfn.XLOOKUP(Table11[[#This Row],[TDS SKU]],Sheet2!$B:$B,Sheet2!D:D)","v":"A"},{"$f":"_xlfn.XLOOKUP(Table11[[#This Row],[TDS SKU]],Sheet2!$B:$B,Sheet2!E:E)","v":"CTO BO"},{"$f":"LEFT(Table11[[#This Row],[Apple Part ]],4)","v":"Z1L7"}]
["Z1L8","15358290",1999,"CTO MBA 13 M5 10 CPU 10 GPU 32GB 1TB MIDNIGHT 40W","SCW83LL/A","Stocked","13-inch","Midnight","M5 chip with 10‑core CPU, 10‑core GPU","32GB","1TB SSD","40W Dynamic",null,{"$f":"_xlfn.XLOOKUP(Table11[[#This Row],[TDS SKU]],Sheet2!$B:$B,Sheet2!C:C)","v":"B"},{"$f":"_xlfn.XLOOKUP(Table11[[#This Row],[TDS SKU]],Sheet2!$B:$B,Sheet2!D:D)","v":"A"},{"$f":"_xlfn.XLOOKUP(Table11[[#This Row],[TDS SKU]],Sheet2!$B:$B,Sheet2!E:E)","v":"STOCKED CTO"},{"$f":"LEFT(Table11[[#This Row],[Apple Part ]],4)","v":"Z1L8"}]
["Z1L8","15358316",2299,"CTO MBA 13 M5 10 CPU 10 GPU 24GB 2TB MIDNIGHT 40W","SCW83LL/A","Special Order","13-inch","Midnight","M5 chip with 10‑core CPU, 10‑core GPU","24GB","2TB SSD","40W Dynamic",null,{"$f":"_xlfn.XLOOKUP(Table11[[#This Row],[TDS SKU]],Sheet2!$B:$B,Sheet2!C:C)","v":"B"},{"$f":"_xlfn.XLOOKUP(Table11[[#This Row],[TDS SKU]],Sheet2!$B:$B,Sheet2!D:D)","v":"A"},{"$f":"_xlfn.XLOOKUP(Table11[[#This Row],[TDS SKU]],Sheet2!$B:$B,Sheet2!E:E)","v":"CTO BO"},{"$f":"LEFT(Table11[[#This Row],[Apple Part ]],4)","v":"Z1L8"}]
["Z1L8","15358325",3299,"CTO MBA 13 M5 10 CPU 10 GPU 24GB 4TB MIDNIGHT 40W","SCW83LL/A","Special Order","13-inch","Midnight","M5 chip with 10‑core CPU, 10‑core GPU","24GB","4TB SSD","40W Dynamic",null,{"$f":"_xlfn.XLOOKUP(Table11[[#This Row],[TDS SKU]],Sheet2!$B:$B,Sheet2!C:C)","v":"B"},{"$f":"_xlfn.XLOOKUP(Table11[[#This Row],[TDS SKU]],Sheet2!$B:$B,Sheet2!D:D)","v":"A"},{"$f":"_xlfn.XLOOKUP(Table11[[#This Row],[TDS SKU]],Sheet2!$B:$B,Sheet2!E:E)","v":"CTO BO"},{"$f":"LEFT(Table11[[#This Row],[Apple Part ]],4)","v":"Z1L8"}]
["Z1L8","15358319",2499,"CTO MBA 13 M5 10 CPU 10 GPU 32GB 2TB MIDNIGHT 40W","SCW83LL/A","Stocked","13-inch","Midnight","M5 chip with 10‑core CPU, 10‑core GPU","32GB","2TB SSD","40W Dynamic",null,{"$f":"_xlfn.XLOOKUP(Table11[[#This Row],[TDS SKU]],Sheet2!$B:$B,Sheet2!C:C)","v":"B"},{"$f":"_xlfn.XLOOKUP(Table11[[#This Row],[TDS SKU]],Sheet2!$B:$B,Sheet2!D:D)","v":"A"},{"$f":"_xlfn.XLOOKUP(Table11[[#This Row],[TDS SKU]],Sheet2!$B:$B,Sheet2!E:E)","v":"STOCKED CTO"},{"$f":"LEFT(Table11[[#This Row],[Apple Part ]],4)","v":"Z1L8"}]
["Z1L8","15358328",3499,"CTO MBA 13 M5 10 CPU 10 GPU 32GB 4TB MIDNIGHT 40W","SCW83LL/A","Special Order","13-inch","Midnight","M5 chip with 10‑core CPU, 10‑core GPU","32GB","4TB SSD","40W Dynamic",null,{"$f":"_xlfn.XLOOKUP(Table11[[#This Row],[TDS SKU]],Sheet2!$B:$B,Sheet2!C:C)","v":"B"},{"$f":"_xlfn.XLOOKUP(Table11[[#This Row],[TDS SKU]],Sheet2!$B:$B,Sheet2!D:D)","v":"A"},{"$f":"_xlfn.XLOOKUP(Table11[[#This Row],[TDS SKU]],Sheet2!$B:$B,Sheet2!E:E)","v":"CTO BO"},{"$f":"LEFT(Table11[[#This Row],[Apple Part ]],4)","v":"Z1L8"}]
["Z1L8","15358288",1819,"CTO MBA 13 M5 10 CPU 10 GPU 24GB 1TB MIDNIGHT 35W","SCW83LL/A","Special Order","13-inch","Midnight","M5 chip with 10‑core CPU, 10‑core GPU","24GB","1TB SSD","35W Dual USB-C",null,{"$f":"_xlfn.XLOOKUP(Table11[[#This Row],[TDS SKU]],Sheet2!$B:$B,Sheet2!C:C)","v":"B"},{"$f":"_xlfn.XLOOKUP(Table11[[#This Row],[TDS SKU]],Sheet2!$B:$B,Sheet2!D:D)","v":"A"},{"$f":"_xlfn.XLOOKUP(Table11[[#This Row],[TDS SKU]],Sheet2!$B:$B,Sheet2!E:E)","v":"CTO BO"},{"$f":"LEFT(Table11[[#This Row],[Apple Part ]],4)","v":"Z1L8"}]
["Z1L8","15358289",1819,"CTO MBA 13 M5 10 CPU 10 GPU 24GB 1TB MIDNIGHT 70W","SCW83LL/A","Special Order","13-inch","Midnight","M5 chip with 10‑core CPU, 10‑core GPU","24GB","1TB SSD","70W USB-C",null,{"$f":"_xlfn.XLOOKUP(Table11[[#This Row],[TDS SKU]],Sheet2!$B:$B,Sheet2!C:C)","v":"B"},{"$f":"_xlfn.XLOOKUP(Table11[[#This Row],[TDS SKU]],Sheet2!$B:$B,Sheet2!D:D)","v":"A"},{"$f":"_xlfn.XLOOKUP(Table11[[#This Row],[TDS SKU]],Sheet2!$B:$B,Sheet2!E:E)","v":"CTO BO"},{"$f":"LEFT(Table11[[#This Row],[Apple Part ]],4)","v":"Z1L8"}]
["Z1L8","15358321",2519,"CTO MBA 13 M5 10 CPU 10 GPU 32GB 2TB MIDNIGHT 70W","SCW83LL/A","Special Order","13-inch","Midnight","M5 chip with 10‑core CPU, 10‑core GPU","32GB","2TB SSD","70W USB-C",null,{"$f":"_xlfn.XLOOKUP(Table11[[#This Row],[TDS SKU]],Sheet2!$B:$B,Sheet2!C:C)","v":"B"},{"$f":"_xlfn.XLOOKUP(Table11[[#This Row],[TDS SKU]],Sheet2!$B:$B,Sheet2!D:D)","v":"A"},{"$f":"_xlfn.XLOOKUP(Table11[[#This Row],[TDS SKU]],Sheet2!$B:$B,Sheet2!E:E)","v":"CTO BO"},{"$f":"LEFT(Table11[[#This Row],[Apple Part ]],4)","v":"Z1L8"}]
["Z1L8","15358292",2019,"CTO MBA 13 M5 10 CPU 10 GPU 32GB 1TB MIDNIGHT 70W","SCW83LL/A","Special Order","13-inch","Midnight","M5 chip with 10‑core CPU, 10‑core GPU","32GB","1TB SSD","70W USB-C",null,{"$f":"_xlfn.XLOOKUP(Table11[[#This Row],[TDS SKU]],Sheet2!$B:$B,Sheet2!C:C)","v":"B"},{"$f":"_xlfn.XLOOKUP(Table11[[#This Row],[TDS SKU]],Sheet2!$B:$B,Sheet2!D:D)","v":"A"},{"$f":"_xlfn.XLOOKUP(Table11[[#This Row],[TDS SKU]],Sheet2!$B:$B,Sheet2!E:E)","v":"CTO BO"},{"$f":"LEFT(Table11[[#This Row],[Apple Part ]],4)","v":"Z1L8"}]
["Z1L8","15358318",2319,"CTO MBA 13 M5 10 CPU 10 GPU 24GB 2TB MIDNIGHT 70W","SCW83LL/A","Special Order","13-inch","Midnight","M5 chip with 10‑core CPU, 10‑core GPU","24GB","2TB SSD","70W USB-C",null,{"$f":"_xlfn.XLOOKUP(Table11[[#This Row],[TDS SKU]],Sheet2!$B:$B,Sheet2!C:C)","v":"B"},{"$f":"_xlfn.XLOOKUP(Table11[[#This Row],[TDS SKU]],Sheet2!$B:$B,Sheet2!D:D)","v":"A"},{"$f":"_xlfn.XLOOKUP(Table11[[#This Row],[TDS SKU]],Sheet2!$B:$B,Sheet2!E:E)","v":"CTO BO"},{"$f":"LEFT(Table11[[#This Row],[Apple Part ]],4)","v":"Z1L8"}]
["Z1L8","15358329",3519,"CTO MBA 13 M5 10 CPU 10 GPU 32GB 4TB MIDNIGHT 35W","SCW83LL/A","Special Order","13-inch","Midnight","M5 chip with 10‑core CPU, 10‑core GPU","32GB","4TB SSD","35W Dual USB-C",null,{"$f":"_xlfn.XLOOKUP(Table11[[#This Row],[TDS SKU]],Sheet2!$B:$B,Sheet2!C:C)","v":"B"},{"$f":"_xlfn.XLOOKUP(Table11[[#This Row],[TDS SKU]],Sheet2!$B:$B,Sheet2!D:D)","v":"A"},{"$f":"_xlfn.XLOOKUP(Table11[[#This Row],[TDS SKU]],Sheet2!$B:$B,Sheet2!E:E)","v":"CTO BO"},{"$f":"LEFT(Table11[[#This Row],[Apple Part ]],4)","v":"Z1L8"}]
["Z1L8","15358330",3519,"CTO MBA 13 M5 10 CPU 10 GPU 32GB 4TB MIDNIGHT 70W","SCW83LL/A","Special Order","13-inch","Midnight","M5 chip with 10‑core CPU, 10‑core GPU","32GB","4TB SSD","70W USB-C",null,{"$f":"_xlfn.XLOOKUP(Table11[[#This Row],[TDS SKU]],Sheet2!$B:$B,Sheet2!C:C)","v":"B"},{"$f":"_xlfn.XLOOKUP(Table11[[#This Row],[TDS SKU]],Sheet2!$B:$B,Sheet2!D:D)","v":"A"},{"$f":"_xlfn.XLOOKUP(Table11[[#This Row],[TDS SKU]],Sheet2!$B:$B,Sheet2!E:E)","v":"CTO BO"},{"$f":"LEFT(Table11[[#This Row],[Apple Part ]],4)","v":"Z1L8"}]
["Z1L8","15358291",2019,"CTO MBA 13 M5 10 CPU 10 GPU 32GB 1TB MIDNIGHT 35W","SCW83LL/A","Special Order","13-inch","Midnight","M5 chip with 10‑core CPU, 10‑core GPU","32GB","1TB SSD","35W Dual USB-C",null,{"$f":"_xlfn.XLOOKUP(Table11[[#This Row],[TDS SKU]],Sheet2!$B:$B,Sheet2!C:C)","v":"B"},{"$f":"_xlfn.XLOOKUP(Table11[[#This Row],[TDS SKU]],Sheet2!$B:$B,Sheet2!D:D)","v":"A"},{"$f":"_xlfn.XLOOKUP(Table11[[#This Row],[TDS SKU]],Sheet2!$B:$B,Sheet2!E:E)","v":"CTO BO"},{"$f":"LEFT(Table11[[#This Row],[Apple Part ]],4)","v":"Z1L8"}]
["Z1L8","15358320",2519,"CTO MBA 13 M5 10 CPU 10 GPU 32GB 2TB MIDNIGHT 35W","SCW83LL/A",{"$f":"IF(OR(P145=\"CTO BO\",P145=\"ZPN BO\"),\"Special Order\",\"Stocked\")","v":"Special Order"},"13-inch","Midnight","M5 chip with 10‑core CPU, 10‑core GPU","32GB","2TB SSD","35W Dual USB-C",null,{"$f":"_xlfn.XLOOKUP(Table11[[#This Row],[TDS SKU]],Sheet2!$B:$B,Sheet2!C:C)","v":"B"},{"$f":"_xlfn.XLOOKUP(Table11[[#This Row],[TDS SKU]],Sheet2!$B:$B,Sheet2!D:D)","v":"A"},{"$f":"_xlfn.XLOOKUP(Table11[[#This Row],[TDS SKU]],Sheet2!$B:$B,Sheet2!E:E)","v":"CTO BO"},{"$f":"LEFT(Table11[[#This Row],[Apple Part ]],4)","v":"Z1L8"}]
["Z1L8","15358317",2319,"CTO MBA 13 M5 10 CPU 10 GPU 24GB 2TB MIDNIGHT 35W","SCW83LL/A","Special Order","13-inch","Midnight","M5 chip with 10‑core CPU, 10‑core GPU","24GB","2TB SSD","35W Dual USB-C",null,{"$f":"_xlfn.XLOOKUP(Table11[[#This Row],[TDS SKU]],Sheet2!$B:$B,Sheet2!C:C)","v":"B"},{"$f":"_xlfn.XLOOKUP(Table11[[#This Row],[TDS SKU]],Sheet2!$B:$B,Sheet2!D:D)","v":"A"},{"$f":"_xlfn.XLOOKUP(Table11[[#This Row],[TDS SKU]],Sheet2!$B:$B,Sheet2!E:E)","v":"CTO BO"},{"$f":"LEFT(Table11[[#This Row],[Apple Part ]],4)","v":"Z1L8"}]
["Z1L8","15358326",3319,"CTO MBA 13 M5 10 CPU 10 GPU 24GB 4TB MIDNIGHT 35W","SCW83LL/A","Special Order","13-inch","Midnight","M5 chip with 10‑core CPU, 10‑core GPU","24GB","4TB SSD","35W Dual USB-C",null,{"$f":"_xlfn.XLOOKUP(Table11[[#This Row],[TDS SKU]],Sheet2!$B:$B,Sheet2!C:C)","v":"B"},{"$f":"_xlfn.XLOOKUP(Table11[[#This Row],[TDS SKU]],Sheet2!$B:$B,Sheet2!D:D)","v":"A"},{"$f":"_xlfn.XLOOKUP(Table11[[#This Row],[TDS SKU]],Sheet2!$B:$B,Sheet2!E:E)","v":"CTO BO"},{"$f":"LEFT(Table11[[#This Row],[Apple Part ]],4)","v":"Z1L8"}]
["Z1L8","15358327",3319,"CTO MBA 13 M5 10 CPU 10 GPU 24GB 4TB MIDNIGHT 70W","SCW83LL/A","Special Order","13-inch","Midnight","M5 chip with 10‑core CPU, 10‑core GPU","24GB","4TB SSD","70W USB-C",null,{"$f":"_xlfn.XLOOKUP(Table11[[#This Row],[TDS SKU]],Sheet2!$B:$B,Sheet2!C:C)","v":"B"},{"$f":"_xlfn.XLOOKUP(Table11[[#This Row],[TDS SKU]],Sheet2!$B:$B,Sheet2!D:D)","v":"A"},{"$f":"_xlfn.XLOOKUP(Table11[[#This Row],[TDS SKU]],Sheet2!$B:$B,Sheet2!E:E)","v":"CTO BO"},{"$f":"LEFT(Table11[[#This Row],[Apple Part ]],4)","v":"Z1L8"}]
["Z1L9","15358331",1319,"CTO MBA 13 M5 10 CPU 8 GPU 16GB 512GB SKY BLUE 35W","SCW83LL/A","Special Order","13-inch","Sky Blue","M5 chip with 10‑core CPU, 8‑core GPU","16GB","512GB SSD","35W Dual USB-C",null,{"$f":"_xlfn.XLOOKUP(Table11[[#This Row],[TDS SKU]],Sheet2!$B:$B,Sheet2!C:C)","v":"B"},{"$f":"_xlfn.XLOOKUP(Table11[[#This Row],[TDS SKU]],Sheet2!$B:$B,Sheet2!D:D)","v":"A"},{"$f":"_xlfn.XLOOKUP(Table11[[#This Row],[TDS SKU]],Sheet2!$B:$B,Sheet2!E:E)","v":"CTO BO"},{"$f":"LEFT(Table11[[#This Row],[Apple Part ]],4)","v":"Z1L9"}]
["Z1L9","15358332",1319,"CTO MBA 13 M5 10 CPU 8 GPU 16GB 512GB SKY BLUE 70W","SCW83LL/A","Special Order","13-inch","Sky Blue","M5 chip with 10‑core CPU, 8‑core GPU","16GB","512GB SSD","70W USB-C",null,{"$f":"_xlfn.XLOOKUP(Table11[[#This Row],[TDS SKU]],Sheet2!$B:$B,Sheet2!C:C)","v":"B"},{"$f":"_xlfn.XLOOKUP(Table11[[#This Row],[TDS SKU]],Sheet2!$B:$B,Sheet2!D:D)","v":"A"},{"$f":"_xlfn.XLOOKUP(Table11[[#This Row],[TDS SKU]],Sheet2!$B:$B,Sheet2!E:E)","v":"CTO BO"},{"$f":"LEFT(Table11[[#This Row],[Apple Part ]],4)","v":"Z1L9"}]
["Z1L9","15358333",1399,"CTO MBA 13 M5 10 CPU 10 GPU 16GB 512GB SKY BLUE 40W","SCW83LL/A","Special Order","13-inch","Sky Blue","M5 chip with 10‑core CPU, 10‑core GPU","16GB","512GB SSD","40W Dynamic",null,{"$f":"_xlfn.XLOOKUP(Table11[[#This Row],[TDS SKU]],Sheet2!$B:$B,Sheet2!C:C)","v":"B"},{"$f":"_xlfn.XLOOKUP(Table11[[#This Row],[TDS SKU]],Sheet2!$B:$B,Sheet2!D:D)","v":"A"},{"$f":"_xlfn.XLOOKUP(Table11[[#This Row],[TDS SKU]],Sheet2!$B:$B,Sheet2!E:E)","v":"CTO BO"},{"$f":"LEFT(Table11[[#This Row],[Apple Part ]],4)","v":"Z1L9"}]
["Z1L9","15358306",1499,"CTO MBA 13 M5 10 CPU 10 GPU 24GB 512GB SKY BLUE 40W","SCW83LL/A","Special Order","13-inch","Sky Blue","M5 chip with 10‑core CPU, 10‑core GPU","24GB","512GB SSD","40W Dynamic",null,{"$f":"_xlfn.XLOOKUP(Table11[[#This Row],[TDS SKU]],Sheet2!$B:$B,Sheet2!C:C)","v":"B"},{"$f":"_xlfn.XLOOKUP(Table11[[#This Row],[TDS SKU]],Sheet2!$B:$B,Sheet2!D:D)","v":"A"},{"$f":"_xlfn.XLOOKUP(Table11[[#This Row],[TDS SKU]],Sheet2!$B:$B,Sheet2!E:E)","v":"CTO BO"},{"$f":"LEFT(Table11[[#This Row],[Apple Part ]],4)","v":"Z1L9"}]
["Z1L9","15358309",1699,"CTO MBA 13 M5 10 CPU 10 GPU 32GB 512GB SKY BLUE 40W","SCW83LL/A","Special Order","13-inch","Sky Blue","M5 chip with 10‑core CPU, 10‑core GPU","32GB","512GB SSD","40W Dynamic",null,{"$f":"_xlfn.XLOOKUP(Table11[[#This Row],[TDS SKU]],Sheet2!$B:$B,Sheet2!C:C)","v":"B"},{"$f":"_xlfn.XLOOKUP(Table11[[#This Row],[TDS SKU]],Sheet2!$B:$B,Sheet2!D:D)","v":"A"},{"$f":"_xlfn.XLOOKUP(Table11[[#This Row],[TDS SKU]],Sheet2!$B:$B,Sheet2!E:E)","v":"CTO BO"},{"$f":"LEFT(Table11[[#This Row],[Apple Part ]],4)","v":"Z1L9"}]
["Z1L9","15358305",1419,"CTO MBA 13 M5 10 CPU 10 GPU 16GB 512GB SKY BLUE 70W","SCW83LL/A","Special Order","13-inch","Sky Blue","M5 chip with 10‑core CPU, 10‑core GPU","16GB","512GB SSD","70W USB-C",null,{"$f":"_xlfn.XLOOKUP(Table11[[#This Row],[TDS SKU]],Sheet2!$B:$B,Sheet2!C:C)","v":"B"},{"$f":"_xlfn.XLOOKUP(Table11[[#This Row],[TDS SKU]],Sheet2!$B:$B,Sheet2!D:D)","v":"A"},{"$f":"_xlfn.XLOOKUP(Table11[[#This Row],[TDS SKU]],Sheet2!$B:$B,Sheet2!E:E)","v":"CTO BO"},{"$f":"LEFT(Table11[[#This Row],[Apple Part ]],4)","v":"Z1L9"}]
["Z1L9","15358334",1419,"CTO MBA 13 M5 10 CPU 10 GPU 16GB 512GB SKY BLUE 35W","SCW83LL/A","Special Order","13-inch","Sky Blue","M5 chip with 10‑core CPU, 10‑core GPU","16GB","512GB SSD","35W Dual USB-C",null,{"$f":"_xlfn.XLOOKUP(Table11[[#This Row],[TDS SKU]],Sheet2!$B:$B,Sheet2!C:C)","v":"B"},{"$f":"_xlfn.XLOOKUP(Table11[[#This Row],[TDS SKU]],Sheet2!$B:$B,Sheet2!D:D)","v":"A"},{"$f":"_xlfn.XLOOKUP(Table11[[#This Row],[TDS SKU]],Sheet2!$B:$B,Sheet2!E:E)","v":"CTO BO"},{"$f":"LEFT(Table11[[#This Row],[Apple Part ]],4)","v":"Z1L9"}]
["Z1L9","15358307",1519,"CTO MBA 13 M5 10 CPU 10 GPU 24GB 512GB SKY BLUE 35W","SCW83LL/A","Special Order","13-inch","Sky Blue","M5 chip with 10‑core CPU, 10‑core GPU","24GB","512GB SSD","35W Dual USB-C",null,{"$f":"_xlfn.XLOOKUP(Table11[[#This Row],[TDS SKU]],Sheet2!$B:$B,Sheet2!C:C)","v":"B"},{"$f":"_xlfn.XLOOKUP(Table11[[#This Row],[TDS SKU]],Sheet2!$B:$B,Sheet2!D:D)","v":"A"},{"$f":"_xlfn.XLOOKUP(Table11[[#This Row],[TDS SKU]],Sheet2!$B:$B,Sheet2!E:E)","v":"CTO BO"},{"$f":"LEFT(Table11[[#This Row],[Apple Part ]],4)","v":"Z1L9"}]
["Z1L9","15358308",1519,"CTO MBA 13 M5 10 CPU 10 GPU 24GB 512GB SKY BLUE 70W","SCW83LL/A","Special Order","13-inch","Sky Blue","M5 chip with 10‑core CPU, 10‑core GPU","24GB","512GB SSD","70W USB-C",null,{"$f":"_xlfn.XLOOKUP(Table11[[#This Row],[TDS SKU]],Sheet2!$B:$B,Sheet2!C:C)","v":"B"},{"$f":"_xlfn.XLOOKUP(Table11[[#This Row],[TDS SKU]],Sheet2!$B:$B,Sheet2!D:D)","v":"A"},{"$f":"_xlfn.XLOOKUP(Table11[[#This Row],[TDS SKU]],Sheet2!$B:$B,Sheet2!E:E)","v":"CTO BO"},{"$f":"LEFT(Table11[[#This Row],[Apple Part ]],4)","v":"Z1L9"}]
["Z1L9","15358310",1719,"CTO MBA 13 M5 10 CPU 10 GPU 32GB 512GB SKY BLUE 35W","SCW83LL/A","Special Order","13-inch","Sky Blue","M5 chip with 10‑core CPU, 10‑core GPU","32GB","512GB SSD","35W Dual USB-C",null,{"$f":"_xlfn.XLOOKUP(Table11[[#This Row],[TDS SKU]],Sheet2!$B:$B,Sheet2!C:C)","v":"B"},{"$f":"_xlfn.XLOOKUP(Table11[[#This Row],[TDS SKU]],Sheet2!$B:$B,Sheet2!D:D)","v":"A"},{"$f":"_xlfn.XLOOKUP(Table11[[#This Row],[TDS SKU]],Sheet2!$B:$B,Sheet2!E:E)","v":"CTO BO"},{"$f":"LEFT(Table11[[#This Row],[Apple Part ]],4)","v":"Z1L9"}]
["Z1L9","15358311",1719,"CTO MBA 13 M5 10 CPU 10 GPU 32GB 512GB SKY BLUE 70W","SCW83LL/A","Special Order","13-inch","Sky Blue","M5 chip with 10‑core CPU, 10‑core GPU","32GB","512GB SSD","70W USB-C",null,{"$f":"_xlfn.XLOOKUP(Table11[[#This Row],[TDS SKU]],Sheet2!$B:$B,Sheet2!C:C)","v":"B"},{"$f":"_xlfn.XLOOKUP(Table11[[#This Row],[TDS SKU]],Sheet2!$B:$B,Sheet2!D:D)","v":"A"},{"$f":"_xlfn.XLOOKUP(Table11[[#This Row],[TDS SKU]],Sheet2!$B:$B,Sheet2!E:E)","v":"CTO BO"},{"$f":"LEFT(Table11[[#This Row],[Apple Part ]],4)","v":"Z1L9"}]
["Z1LA","15358339",2099,"CTO MBA 13 M5 10 CPU 10 GPU 16GB 2TB SKY BLUE 40W","SCW83LL/A","Special Order","13-inch","Sky Blue","M5 chip with 10‑core CPU, 10‑core GPU","16GB","2TB SSD","40W Dynamic",null,{"$f":"_xlfn.XLOOKUP(Table11[[#This Row],[TDS SKU]],Sheet2!$B:$B,Sheet2!C:C)","v":"B"},{"$f":"_xlfn.XLOOKUP(Table11[[#This Row],[TDS SKU]],Sheet2!$B:$B,Sheet2!D:D)","v":"A"},{"$f":"_xlfn.XLOOKUP(Table11[[#This Row],[TDS SKU]],Sheet2!$B:$B,Sheet2!E:E)","v":"CTO BO"},{"$f":"LEFT(Table11[[#This Row],[Apple Part ]],4)","v":"Z1LA"}]
["Z1LA","15358348",3099,"CTO MBA 13 M5 10 CPU 10 GPU 16GB 4TB SKY BLUE 40W","SCW83LL/A","Special Order","13-inch","Sky Blue","M5 chip with 10‑core CPU, 10‑core GPU","16GB","4TB SSD","40W Dynamic",null,{"$f":"_xlfn.XLOOKUP(Table11[[#This Row],[TDS SKU]],Sheet2!$B:$B,Sheet2!C:C)","v":"B"},{"$f":"_xlfn.XLOOKUP(Table11[[#This Row],[TDS SKU]],Sheet2!$B:$B,Sheet2!D:D)","v":"A"},{"$f":"_xlfn.XLOOKUP(Table11[[#This Row],[TDS SKU]],Sheet2!$B:$B,Sheet2!E:E)","v":"CTO BO"},{"$f":"LEFT(Table11[[#This Row],[Apple Part ]],4)","v":"Z1LA"}]
["Z1LA","15358312",1619,"CTO MBA 13 M5 10 CPU 10 GPU 16GB 1TB SKY BLUE 35W","SCW83LL/A","Special Order","13-inch","Sky Blue","M5 chip with 10‑core CPU, 10‑core GPU","16GB","1TB SSD","35W Dual USB-C",null,{"$f":"_xlfn.XLOOKUP(Table11[[#This Row],[TDS SKU]],Sheet2!$B:$B,Sheet2!C:C)","v":"B"},{"$f":"_xlfn.XLOOKUP(Table11[[#This Row],[TDS SKU]],Sheet2!$B:$B,Sheet2!D:D)","v":"A"},{"$f":"_xlfn.XLOOKUP(Table11[[#This Row],[TDS SKU]],Sheet2!$B:$B,Sheet2!E:E)","v":"CTO BO"},{"$f":"LEFT(Table11[[#This Row],[Apple Part ]],4)","v":"Z1LA"}]
["Z1LA","15358313",1619,"CTO MBA 13 M5 10 CPU 10 GPU 16GB 1TB SKY BLUE 70W","SCW83LL/A","Special Order","13-inch","Sky Blue","M5 chip with 10‑core CPU, 10‑core GPU","16GB","1TB SSD","70W USB-C",null,{"$f":"_xlfn.XLOOKUP(Table11[[#This Row],[TDS SKU]],Sheet2!$B:$B,Sheet2!C:C)","v":"B"},{"$f":"_xlfn.XLOOKUP(Table11[[#This Row],[TDS SKU]],Sheet2!$B:$B,Sheet2!D:D)","v":"A"},{"$f":"_xlfn.XLOOKUP(Table11[[#This Row],[TDS SKU]],Sheet2!$B:$B,Sheet2!E:E)","v":"CTO BO"},{"$f":"LEFT(Table11[[#This Row],[Apple Part ]],4)","v":"Z1LA"}]
["Z1LA","15358341",2119,"CTO MBA 13 M5 10 CPU 10 GPU 16GB 2TB SKY BLUE 70W","SCW83LL/A","Special Order","13-inch","Sky Blue","M5 chip with 10‑core CPU, 10‑core GPU","16GB","2TB SSD","70W USB-C",null,{"$f":"_xlfn.XLOOKUP(Table11[[#This Row],[TDS SKU]],Sheet2!$B:$B,Sheet2!C:C)","v":"B"},{"$f":"_xlfn.XLOOKUP(Table11[[#This Row],[TDS SKU]],Sheet2!$B:$B,Sheet2!D:D)","v":"A"},{"$f":"_xlfn.XLOOKUP(Table11[[#This Row],[TDS SKU]],Sheet2!$B:$B,Sheet2!E:E)","v":"CTO BO"},{"$f":"LEFT(Table11[[#This Row],[Apple Part ]],4)","v":"Z1LA"}]
["Z1LA","15358340",2119,"CTO MBA 13 M5 10 CPU 10 GPU 16GB 2TB SKY BLUE 35W","SCW83LL/A","Special Order","13-inch","Sky Blue","M5 chip with 10‑core CPU, 10‑core GPU","16GB","2TB SSD","35W Dual USB-C",null,{"$f":"_xlfn.XLOOKUP(Table11[[#This Row],[TDS SKU]],Sheet2!$B:$B,Sheet2!C:C)","v":"B"},{"$f":"_xlfn.XLOOKUP(Table11[[#This Row],[TDS SKU]],Sheet2!$B:$B,Sheet2!D:D)","v":"A"},{"$f":"_xlfn.XLOOKUP(Table11[[#This Row],[TDS SKU]],Sheet2!$B:$B,Sheet2!E:E)","v":"CTO BO"},{"$f":"LEFT(Table11[[#This Row],[Apple Part ]],4)","v":"Z1LA"}]
["Z1LA","15358349",3119,"CTO MBA 13 M5 10 CPU 10 GPU 16GB 4TB SKY BLUE 35W","SCW83LL/A","Special Order","13-inch","Sky Blue","M5 chip with 10‑core CPU, 10‑core GPU","16GB","4TB SSD","35W Dual USB-C",null,{"$f":"_xlfn.XLOOKUP(Table11[[#This Row],[TDS SKU]],Sheet2!$B:$B,Sheet2!C:C)","v":"B"},{"$f":"_xlfn.XLOOKUP(Table11[[#This Row],[TDS SKU]],Sheet2!$B:$B,Sheet2!D:D)","v":"A"},{"$f":"_xlfn.XLOOKUP(Table11[[#This Row],[TDS SKU]],Sheet2!$B:$B,Sheet2!E:E)","v":"CTO BO"},{"$f":"LEFT(Table11[[#This Row],[Apple Part ]],4)","v":"Z1LA"}]
["Z1LA","15358350",3119,"CTO MBA 13 M5 10 CPU 10 GPU 16GB 4TB SKY BLUE 70W","SCW83LL/A","Special Order","13-inch","Sky Blue","M5 chip with 10‑core CPU, 10‑core GPU","16GB","4TB SSD","70W USB-C",null,{"$f":"_xlfn.XLOOKUP(Table11[[#This Row],[TDS SKU]],Sheet2!$B:$B,Sheet2!C:C)","v":"B"},{"$f":"_xlfn.XLOOKUP(Table11[[#This Row],[TDS SKU]],Sheet2!$B:$B,Sheet2!D:D)","v":"A"},{"$f":"_xlfn.XLOOKUP(Table11[[#This Row],[TDS SKU]],Sheet2!$B:$B,Sheet2!E:E)","v":"CTO BO"},{"$f":"LEFT(Table11[[#This Row],[Apple Part ]],4)","v":"Z1LA"}]
["Z1LB","15358336",1999,"CTO MBA 13 M5 10 CPU 10 GPU 32GB 1TB SKY BLUE 40W","SCW83LL/A","Special Order","13-inch","Sky Blue","M5 chip with 10‑core CPU, 10‑core GPU","32GB","1TB SSD","40W Dynamic",null,{"$f":"_xlfn.XLOOKUP(Table11[[#This Row],[TDS SKU]],Sheet2!$B:$B,Sheet2!C:C)","v":"B"},{"$f":"_xlfn.XLOOKUP(Table11[[#This Row],[TDS SKU]],Sheet2!$B:$B,Sheet2!D:D)","v":"A"},{"$f":"_xlfn.XLOOKUP(Table11[[#This Row],[TDS SKU]],Sheet2!$B:$B,Sheet2!E:E)","v":"CTO BO"},{"$f":"LEFT(Table11[[#This Row],[Apple Part ]],4)","v":"Z1LB"}]
["Z1LB","15358342",2299,"CTO MBA 13 M5 10 CPU 10 GPU 24GB 2TB SKY BLUE 40W","SCW83LL/A","Special Order","13-inch","Sky Blue","M5 chip with 10‑core CPU, 10‑core GPU","24GB","2TB SSD","40W Dynamic",null,{"$f":"_xlfn.XLOOKUP(Table11[[#This Row],[TDS SKU]],Sheet2!$B:$B,Sheet2!C:C)","v":"B"},{"$f":"_xlfn.XLOOKUP(Table11[[#This Row],[TDS SKU]],Sheet2!$B:$B,Sheet2!D:D)","v":"A"},{"$f":"_xlfn.XLOOKUP(Table11[[#This Row],[TDS SKU]],Sheet2!$B:$B,Sheet2!E:E)","v":"CTO BO"},{"$f":"LEFT(Table11[[#This Row],[Apple Part ]],4)","v":"Z1LB"}]
["Z1LB","15358351",3299,"CTO MBA 13 M5 10 CPU 10 GPU 24GB 4TB SKY BLUE 40W","SCW83LL/A","Special Order","13-inch","Sky Blue","M5 chip with 10‑core CPU, 10‑core GPU","24GB","4TB SSD","40W Dynamic",null,{"$f":"_xlfn.XLOOKUP(Table11[[#This Row],[TDS SKU]],Sheet2!$B:$B,Sheet2!C:C)","v":"B"},{"$f":"_xlfn.XLOOKUP(Table11[[#This Row],[TDS SKU]],Sheet2!$B:$B,Sheet2!D:D)","v":"A"},{"$f":"_xlfn.XLOOKUP(Table11[[#This Row],[TDS SKU]],Sheet2!$B:$B,Sheet2!E:E)","v":"CTO BO"},{"$f":"LEFT(Table11[[#This Row],[Apple Part ]],4)","v":"Z1LB"}]
["Z1LB","15358345",2499,"CTO MBA 13 M5 10 CPU 10 GPU 32GB 2TB SKY BLUE 40W","SCW83LL/A","Special Order","13-inch","Sky Blue","M5 chip with 10‑core CPU, 10‑core GPU","32GB","2TB SSD","40W Dynamic",null,{"$f":"_xlfn.XLOOKUP(Table11[[#This Row],[TDS SKU]],Sheet2!$B:$B,Sheet2!C:C)","v":"B"},{"$f":"_xlfn.XLOOKUP(Table11[[#This Row],[TDS SKU]],Sheet2!$B:$B,Sheet2!D:D)","v":"A"},{"$f":"_xlfn.XLOOKUP(Table11[[#This Row],[TDS SKU]],Sheet2!$B:$B,Sheet2!E:E)","v":"CTO BO"},{"$f":"LEFT(Table11[[#This Row],[Apple Part ]],4)","v":"Z1LB"}]
["Z1LB","15358354",3499,"CTO MBA 13 M5 10 CPU 10 GPU 32GB 4TB SKY BLUE 40W","SCW83LL/A","Special Order","13-inch","Sky Blue","M5 chip with 10‑core CPU, 10‑core GPU","32GB","4TB SSD","40W Dynamic",null,{"$f":"_xlfn.XLOOKUP(Table11[[#This Row],[TDS SKU]],Sheet2!$B:$B,Sheet2!C:C)","v":"B"},{"$f":"_xlfn.XLOOKUP(Table11[[#This Row],[TDS SKU]],Sheet2!$B:$B,Sheet2!D:D)","v":"A"},{"$f":"_xlfn.XLOOKUP(Table11[[#This Row],[TDS SKU]],Sheet2!$B:$B,Sheet2!E:E)","v":"CTO BO"},{"$f":"LEFT(Table11[[#This Row],[Apple Part ]],4)","v":"Z1LB"}]
["Z1LB","15358314",1819,"CTO MBA 13 M5 10 CPU 10 GPU 24GB 1TB SKY BLUE 35W","SCW83LL/A","Special Order","13-inch","Sky Blue","M5 chip with 10‑core CPU, 10‑core GPU","24GB","1TB SSD","35W Dual USB-C",null,{"$f":"_xlfn.XLOOKUP(Table11[[#This Row],[TDS SKU]],Sheet2!$B:$B,Sheet2!C:C)","v":"B"},{"$f":"_xlfn.XLOOKUP(Table11[[#This Row],[TDS SKU]],Sheet2!$B:$B,Sheet2!D:D)","v":"A"},{"$f":"_xlfn.XLOOKUP(Table11[[#This Row],[TDS SKU]],Sheet2!$B:$B,Sheet2!E:E)","v":"CTO BO"},{"$f":"LEFT(Table11[[#This Row],[Apple Part ]],4)","v":"Z1LB"}]
["Z1LB","15358335",1819,"CTO MBA 13 M5 10 CPU 10 GPU 24GB 1TB SKY BLUE 70W","SCW83LL/A","Special Order","13-inch","Sky Blue","M5 chip with 10‑core CPU, 10‑core GPU","24GB","1TB SSD","70W USB-C",null,{"$f":"_xlfn.XLOOKUP(Table11[[#This Row],[TDS SKU]],Sheet2!$B:$B,Sheet2!C:C)","v":"B"},{"$f":"_xlfn.XLOOKUP(Table11[[#This Row],[TDS SKU]],Sheet2!$B:$B,Sheet2!D:D)","v":"A"},{"$f":"_xlfn.XLOOKUP(Table11[[#This Row],[TDS SKU]],Sheet2!$B:$B,Sheet2!E:E)","v":"CTO BO"},{"$f":"LEFT(Table11[[#This Row],[Apple Part ]],4)","v":"Z1LB"}]
["Z1LB","15358347",2519,"CTO MBA 13 M5 10 CPU 10 GPU 32GB 2TB SKY BLUE 70W","SCW83LL/A","Special Order","13-inch","Sky Blue","M5 chip with 10‑core CPU, 10‑core GPU","32GB","2TB SSD","70W USB-C",null,{"$f":"_xlfn.XLOOKUP(Table11[[#This Row],[TDS SKU]],Sheet2!$B:$B,Sheet2!C:C)","v":"B"},{"$f":"_xlfn.XLOOKUP(Table11[[#This Row],[TDS SKU]],Sheet2!$B:$B,Sheet2!D:D)","v":"A"},{"$f":"_xlfn.XLOOKUP(Table11[[#This Row],[TDS SKU]],Sheet2!$B:$B,Sheet2!E:E)","v":"CTO BO"},{"$f":"LEFT(Table11[[#This Row],[Apple Part ]],4)","v":"Z1LB"}]
["Z1LB","15358338",2019,"CTO MBA 13 M5 10 CPU 10 GPU 32GB 1TB SKY BLUE 70W","SCW83LL/A","Special Order","13-inch","Sky Blue","M5 chip with 10‑core CPU, 10‑core GPU","32GB","1TB SSD","70W USB-C",null,{"$f":"_xlfn.XLOOKUP(Table11[[#This Row],[TDS SKU]],Sheet2!$B:$B,Sheet2!C:C)","v":"B"},{"$f":"_xlfn.XLOOKUP(Table11[[#This Row],[TDS SKU]],Sheet2!$B:$B,Sheet2!D:D)","v":"A"},{"$f":"_xlfn.XLOOKUP(Table11[[#This Row],[TDS SKU]],Sheet2!$B:$B,Sheet2!E:E)","v":"CTO BO"},{"$f":"LEFT(Table11[[#This Row],[Apple Part ]],4)","v":"Z1LB"}]
["Z1LB","15358344",2319,"CTO MBA 13 M5 10 CPU 10 GPU 24GB 2TB SKY BLUE 70W","SCW83LL/A","Special Order","13-inch","Sky Blue","M5 chip with 10‑core CPU, 10‑core GPU","24GB","2TB SSD","70W USB-C",null,{"$f":"_xlfn.XLOOKUP(Table11[[#This Row],[TDS SKU]],Sheet2!$B:$B,Sheet2!C:C)","v":"B"},{"$f":"_xlfn.XLOOKUP(Table11[[#This Row],[TDS SKU]],Sheet2!$B:$B,Sheet2!D:D)","v":"A"},{"$f":"_xlfn.XLOOKUP(Table11[[#This Row],[TDS SKU]],Sheet2!$B:$B,Sheet2!E:E)","v":"CTO BO"},{"$f":"LEFT(Table11[[#This Row],[Apple Part ]],4)","v":"Z1LB"}]
["Z1LB","15358365",3519,"CTO MBA 13 M5 10 CPU 10 GPU 32GB 4TB SKY BLUE 35W","SCW83LL/A","Special Order","13-inch","Sky Blue","M5 chip with 10‑core CPU, 10‑core GPU","32GB","4TB SSD","35W Dual USB-C",null,{"$f":"_xlfn.XLOOKUP(Table11[[#This Row],[TDS SKU]],Sheet2!$B:$B,Sheet2!C:C)","v":"B"},{"$f":"_xlfn.XLOOKUP(Table11[[#This Row],[TDS SKU]],Sheet2!$B:$B,Sheet2!D:D)","v":"A"},{"$f":"_xlfn.XLOOKUP(Table11[[#This Row],[TDS SKU]],Sheet2!$B:$B,Sheet2!E:E)","v":"CTO BO"},{"$f":"LEFT(Table11[[#This Row],[Apple Part ]],4)","v":"Z1LB"}]
["Z1LB","15358346",2519,"CTO MBA 13 M5 10 CPU 10 GPU 32GB 2TB SKY BLUE 35W","SCW83LL/A","Special Order","13-inch","Sky Blue","M5 chip with 10‑core CPU, 10‑core GPU","32GB","2TB SSD","35W Dual USB-C",null,{"$f":"_xlfn.XLOOKUP(Table11[[#This Row],[TDS SKU]],Sheet2!$B:$B,Sheet2!C:C)","v":"B"},{"$f":"_xlfn.XLOOKUP(Table11[[#This Row],[TDS SKU]],Sheet2!$B:$B,Sheet2!D:D)","v":"A"},{"$f":"_xlfn.XLOOKUP(Table11[[#This Row],[TDS SKU]],Sheet2!$B:$B,Sheet2!E:E)","v":"CTO BO"},{"$f":"LEFT(Table11[[#This Row],[Apple Part ]],4)","v":"Z1LB"}]
["Z1LB","15358337",2019,"CTO MBA 13 M5 10 CPU 10 GPU 32GB 1TB SKY BLUE 35W","SCW83LL/A","Special Order","13-inch","Sky Blue","M5 chip with 10‑core CPU, 10‑core GPU","32GB","1TB SSD","35W Dual USB-C",null,{"$f":"_xlfn.XLOOKUP(Table11[[#This Row],[TDS SKU]],Sheet2!$B:$B,Sheet2!C:C)","v":"B"},{"$f":"_xlfn.XLOOKUP(Table11[[#This Row],[TDS SKU]],Sheet2!$B:$B,Sheet2!D:D)","v":"A"},{"$f":"_xlfn.XLOOKUP(Table11[[#This Row],[TDS SKU]],Sheet2!$B:$B,Sheet2!E:E)","v":"CTO BO"},{"$f":"LEFT(Table11[[#This Row],[Apple Part ]],4)","v":"Z1LB"}]
["Z1LB","15358366",3519,"CTO MBA 13 M5 10 CPU 10 GPU 32GB 4TB SKY BLUE 70W","SCW83LL/A","Special Order","13-inch","Sky Blue","M5 chip with 10‑core CPU, 10‑core GPU","32GB","4TB SSD","70W USB-C",null,{"$f":"_xlfn.XLOOKUP(Table11[[#This Row],[TDS SKU]],Sheet2!$B:$B,Sheet2!C:C)","v":"B"},{"$f":"_xlfn.XLOOKUP(Table11[[#This Row],[TDS SKU]],Sheet2!$B:$B,Sheet2!D:D)","v":"A"},{"$f":"_xlfn.XLOOKUP(Table11[[#This Row],[TDS SKU]],Sheet2!$B:$B,Sheet2!E:E)","v":"CTO BO"},{"$f":"LEFT(Table11[[#This Row],[Apple Part ]],4)","v":"Z1LB"}]
["Z1LB","15358343",2319,"CTO MBA 13 M5 10 CPU 10 GPU 24GB 2TB SKY BLUE 35W","SCW83LL/A","Special Order","13-inch","Sky Blue","M5 chip with 10‑core CPU, 10‑core GPU","24GB","2TB SSD","35W Dual USB-C",null,{"$f":"_xlfn.XLOOKUP(Table11[[#This Row],[TDS SKU]],Sheet2!$B:$B,Sheet2!C:C)","v":"B"},{"$f":"_xlfn.XLOOKUP(Table11[[#This Row],[TDS SKU]],Sheet2!$B:$B,Sheet2!D:D)","v":"A"},{"$f":"_xlfn.XLOOKUP(Table11[[#This Row],[TDS SKU]],Sheet2!$B:$B,Sheet2!E:E)","v":"CTO BO"},{"$f":"LEFT(Table11[[#This Row],[Apple Part ]],4)","v":"Z1LB"}]
["Z1LB","15358352",3319,"CTO MBA 13 M5 10 CPU 10 GPU 24GB 4TB SKY BLUE 35W","SCW83LL/A","Special Order","13-inch","Sky Blue","M5 chip with 10‑core CPU, 10‑core GPU","24GB","4TB SSD","35W Dual USB-C",null,{"$f":"_xlfn.XLOOKUP(Table11[[#This Row],[TDS SKU]],Sheet2!$B:$B,Sheet2!C:C)","v":"B"},{"$f":"_xlfn.XLOOKUP(Table11[[#This Row],[TDS SKU]],Sheet2!$B:$B,Sheet2!D:D)","v":"A"},{"$f":"_xlfn.XLOOKUP(Table11[[#This Row],[TDS SKU]],Sheet2!$B:$B,Sheet2!E:E)","v":"CTO BO"},{"$f":"LEFT(Table11[[#This Row],[Apple Part ]],4)","v":"Z1LB"}]
["Z1LB","15358353",3319,"CTO MBA 13 M5 10 CPU 10 GPU 24GB 4TB SKY BLUE 70W","SCW83LL/A","Special Order","13-inch","Sky Blue","M5 chip with 10‑core CPU, 10‑core GPU","24GB","4TB SSD","70W USB-C",null,{"$f":"_xlfn.XLOOKUP(Table11[[#This Row],[TDS SKU]],Sheet2!$B:$B,Sheet2!C:C)","v":"B"},{"$f":"_xlfn.XLOOKUP(Table11[[#This Row],[TDS SKU]],Sheet2!$B:$B,Sheet2!D:D)","v":"A"},{"$f":"_xlfn.XLOOKUP(Table11[[#This Row],[TDS SKU]],Sheet2!$B:$B,Sheet2!E:E)","v":"CTO BO"},{"$f":"LEFT(Table11[[#This Row],[Apple Part ]],4)","v":"Z1LB"}]
["Z1LQ","15358492",1699,"CTO MBA 15 M5 10 CPU 10 GPU 24GB 512GB SILVER 40W","SCW93LL/A","Special Order","15-inch","Silver","M5 chip with 10‑core CPU, 10‑core GPU","24GB","512GB SSD","40W Dynamic",null,{"$f":"_xlfn.XLOOKUP(Table11[[#This Row],[TDS SKU]],Sheet2!$B:$B,Sheet2!C:C)","v":"B"},{"$f":"_xlfn.XLOOKUP(Table11[[#This Row],[TDS SKU]],Sheet2!$B:$B,Sheet2!D:D)","v":"A"},{"$f":"_xlfn.XLOOKUP(Table11[[#This Row],[TDS SKU]],Sheet2!$B:$B,Sheet2!E:E)","v":"CTO BO"},{"$f":"LEFT(Table11[[#This Row],[Apple Part ]],4)","v":"Z1LQ"}]
["Z1LQ","15358505",1899,"CTO MBA 15 M5 10 CPU 10 GPU 32GB 512GB SILVER 40W","SCW93LL/A","Special Order","15-inch","Silver","M5 chip with 10‑core CPU, 10‑core GPU","32GB","512GB SSD","40W Dynamic",null,{"$f":"_xlfn.XLOOKUP(Table11[[#This Row],[TDS SKU]],Sheet2!$B:$B,Sheet2!C:C)","v":"B"},{"$f":"_xlfn.XLOOKUP(Table11[[#This Row],[TDS SKU]],Sheet2!$B:$B,Sheet2!D:D)","v":"A"},{"$f":"_xlfn.XLOOKUP(Table11[[#This Row],[TDS SKU]],Sheet2!$B:$B,Sheet2!E:E)","v":"CTO BO"},{"$f":"LEFT(Table11[[#This Row],[Apple Part ]],4)","v":"Z1LQ"}]
["Z1LQ","15358490",1519,"CTO MBA 15 M5 10 CPU 10 GPU 16GB 512GB SILVER 35W","SCW93LL/A","Special Order","15-inch","Silver","M5 chip with 10‑core CPU, 10‑core GPU","16GB","512GB SSD","35W Dual USB-C",null,{"$f":"_xlfn.XLOOKUP(Table11[[#This Row],[TDS SKU]],Sheet2!$B:$B,Sheet2!C:C)","v":"B"},{"$f":"_xlfn.XLOOKUP(Table11[[#This Row],[TDS SKU]],Sheet2!$B:$B,Sheet2!D:D)","v":"A"},{"$f":"_xlfn.XLOOKUP(Table11[[#This Row],[TDS SKU]],Sheet2!$B:$B,Sheet2!E:E)","v":"CTO BO"},{"$f":"LEFT(Table11[[#This Row],[Apple Part ]],4)","v":"Z1LQ"}]
["Z1LQ","15358491",1519,"CTO MBA 15 M5 10 CPU 10 GPU 16GB 512GB SILVER 70W","SCW93LL/A","Special Order","15-inch","Silver","M5 chip with 10‑core CPU, 10‑core GPU","16GB","512GB SSD","70W USB-C",null,{"$f":"_xlfn.XLOOKUP(Table11[[#This Row],[TDS SKU]],Sheet2!$B:$B,Sheet2!C:C)","v":"B"},{"$f":"_xlfn.XLOOKUP(Table11[[#This Row],[TDS SKU]],Sheet2!$B:$B,Sheet2!D:D)","v":"A"},{"$f":"_xlfn.XLOOKUP(Table11[[#This Row],[TDS SKU]],Sheet2!$B:$B,Sheet2!E:E)","v":"CTO BO"},{"$f":"LEFT(Table11[[#This Row],[Apple Part ]],4)","v":"Z1LQ"}]
["Z1LQ","15358512",2199,"CTO MBA 15 M5 10 CPU 10 GPU 32GB 1TB SILVER 40W","SCW93LL/A","Special Order","15-inch","Silver","M5 chip with 10‑core CPU, 10‑core GPU","32GB","1TB SSD","40W Dynamic",null,{"$f":"_xlfn.XLOOKUP(Table11[[#This Row],[TDS SKU]],Sheet2!$B:$B,Sheet2!C:C)","v":"B"},{"$f":"_xlfn.XLOOKUP(Table11[[#This Row],[TDS SKU]],Sheet2!$B:$B,Sheet2!D:D)","v":"A"},{"$f":"_xlfn.XLOOKUP(Table11[[#This Row],[TDS SKU]],Sheet2!$B:$B,Sheet2!E:E)","v":"CTO BO"},{"$f":"LEFT(Table11[[#This Row],[Apple Part ]],4)","v":"Z1LQ"}]
["Z1LQ","15358495",2299,"CTO MBA 15 M5 10 CPU 10 GPU 16GB 2TB SILVER 40W","SCW93LL/A","Special Order","15-inch","Silver","M5 chip with 10‑core CPU, 10‑core GPU","16GB","2TB SSD","40W Dynamic",null,{"$f":"_xlfn.XLOOKUP(Table11[[#This Row],[TDS SKU]],Sheet2!$B:$B,Sheet2!C:C)","v":"B"},{"$f":"_xlfn.XLOOKUP(Table11[[#This Row],[TDS SKU]],Sheet2!$B:$B,Sheet2!D:D)","v":"A"},{"$f":"_xlfn.XLOOKUP(Table11[[#This Row],[TDS SKU]],Sheet2!$B:$B,Sheet2!E:E)","v":"CTO BO"},{"$f":"LEFT(Table11[[#This Row],[Apple Part ]],4)","v":"Z1LQ"}]
["Z1LQ","15358498",2499,"CTO MBA 15 M5 10 CPU 10 GPU 24GB 2TB SILVER 40W","SCW93LL/A","Special Order","15-inch","Silver","M5 chip with 10‑core CPU, 10‑core GPU","24GB","2TB SSD","40W Dynamic",null,{"$f":"_xlfn.XLOOKUP(Table11[[#This Row],[TDS SKU]],Sheet2!$B:$B,Sheet2!C:C)","v":"B"},{"$f":"_xlfn.XLOOKUP(Table11[[#This Row],[TDS SKU]],Sheet2!$B:$B,Sheet2!D:D)","v":"A"},{"$f":"_xlfn.XLOOKUP(Table11[[#This Row],[TDS SKU]],Sheet2!$B:$B,Sheet2!E:E)","v":"CTO BO"},{"$f":"LEFT(Table11[[#This Row],[Apple Part ]],4)","v":"Z1LQ"}]
["Z1LQ","15358501",2699,"CTO MBA 15 M5 10 CPU 10 GPU 32GB 2TB SILVER 40W","SCW93LL/A","Special Order","15-inch","Silver","M5 chip with 10‑core CPU, 10‑core GPU","32GB","2TB SSD","40W Dynamic",null,{"$f":"_xlfn.XLOOKUP(Table11[[#This Row],[TDS SKU]],Sheet2!$B:$B,Sheet2!C:C)","v":"B"},{"$f":"_xlfn.XLOOKUP(Table11[[#This Row],[TDS SKU]],Sheet2!$B:$B,Sheet2!D:D)","v":"A"},{"$f":"_xlfn.XLOOKUP(Table11[[#This Row],[TDS SKU]],Sheet2!$B:$B,Sheet2!E:E)","v":"CTO BO"},{"$f":"LEFT(Table11[[#This Row],[Apple Part ]],4)","v":"Z1LQ"}]
["Z1LQ","15358504",3299,"CTO MBA 15 M5 10 CPU 10 GPU 16GB 4TB SILVER 40W","SCW93LL/A","Special Order","15-inch","Silver","M5 chip with 10‑core CPU, 10‑core GPU","16GB","4TB SSD","40W Dynamic",null,{"$f":"_xlfn.XLOOKUP(Table11[[#This Row],[TDS SKU]],Sheet2!$B:$B,Sheet2!C:C)","v":"B"},{"$f":"_xlfn.XLOOKUP(Table11[[#This Row],[TDS SKU]],Sheet2!$B:$B,Sheet2!D:D)","v":"A"},{"$f":"_xlfn.XLOOKUP(Table11[[#This Row],[TDS SKU]],Sheet2!$B:$B,Sheet2!E:E)","v":"CTO BO"},{"$f":"LEFT(Table11[[#This Row],[Apple Part ]],4)","v":"Z1LQ"}]
["Z1LQ","15358517",3499,"CTO MBA 15 M5 10 CPU 10 GPU 24GB 4TB SILVER 40W","SCW93LL/A","Special Order","15-inch","Silver","M5 chip with 10‑core CPU, 10‑core GPU","24GB","4TB SSD","40W Dynamic",null,{"$f":"_xlfn.XLOOKUP(Table11[[#This Row],[TDS SKU]],Sheet2!$B:$B,Sheet2!C:C)","v":"B"},{"$f":"_xlfn.XLOOKUP(Table11[[#This Row],[TDS SKU]],Sheet2!$B:$B,Sheet2!D:D)","v":"A"},{"$f":"_xlfn.XLOOKUP(Table11[[#This Row],[TDS SKU]],Sheet2!$B:$B,Sheet2!E:E)","v":"CTO BO"},{"$f":"LEFT(Table11[[#This Row],[Apple Part ]],4)","v":"Z1LQ"}]
["Z1LQ","15358520",3699,"CTO MBA 15 M5 10 CPU 10 GPU 32GB 4TB SILVER 40W","SCW93LL/A","Special Order","15-inch","Silver","M5 chip with 10‑core CPU, 10‑core GPU","32GB","4TB SSD","40W Dynamic",null,{"$f":"_xlfn.XLOOKUP(Table11[[#This Row],[TDS SKU]],Sheet2!$B:$B,Sheet2!C:C)","v":"B"},{"$f":"_xlfn.XLOOKUP(Table11[[#This Row],[TDS SKU]],Sheet2!$B:$B,Sheet2!D:D)","v":"A"},{"$f":"_xlfn.XLOOKUP(Table11[[#This Row],[TDS SKU]],Sheet2!$B:$B,Sheet2!E:E)","v":"CTO BO"},{"$f":"LEFT(Table11[[#This Row],[Apple Part ]],4)","v":"Z1LQ"}]
["Z1LQ","15358514",2219,"CTO MBA 15 M5 10 CPU 10 GPU 32GB 1TB SILVER 70W","SCW93LL/A","Special Order","15-inch","Silver","M5 chip with 10‑core CPU, 10‑core GPU","32GB","1TB SSD","70W USB-C",null,{"$f":"_xlfn.XLOOKUP(Table11[[#This Row],[TDS SKU]],Sheet2!$B:$B,Sheet2!C:C)","v":"B"},{"$f":"_xlfn.XLOOKUP(Table11[[#This Row],[TDS SKU]],Sheet2!$B:$B,Sheet2!D:D)","v":"A"},{"$f":"_xlfn.XLOOKUP(Table11[[#This Row],[TDS SKU]],Sheet2!$B:$B,Sheet2!E:E)","v":"CTO BO"},{"$f":"LEFT(Table11[[#This Row],[Apple Part ]],4)","v":"Z1LQ"}]
["Z1LQ","15358494",1719,"CTO MBA 15 M5 10 CPU 10 GPU 24GB 512GB SILVER 70W","SCW93LL/A","Special Order","15-inch","Silver","M5 chip with 10‑core CPU, 10‑core GPU","24GB","512GB SSD","70W USB-C",null,{"$f":"_xlfn.XLOOKUP(Table11[[#This Row],[TDS SKU]],Sheet2!$B:$B,Sheet2!C:C)","v":"B"},{"$f":"_xlfn.XLOOKUP(Table11[[#This Row],[TDS SKU]],Sheet2!$B:$B,Sheet2!D:D)","v":"A"},{"$f":"_xlfn.XLOOKUP(Table11[[#This Row],[TDS SKU]],Sheet2!$B:$B,Sheet2!E:E)","v":"CTO BO"},{"$f":"LEFT(Table11[[#This Row],[Apple Part ]],4)","v":"Z1LQ"}]
["Z1LQ","15358509",1819,"CTO MBA 15 M5 10 CPU 10 GPU 16GB 1TB SILVER 70W","SCW93LL/A","Special Order","15-inch","Silver","M5 chip with 10‑core CPU, 10‑core GPU","16GB","1TB SSD","70W USB-C",null,{"$f":"_xlfn.XLOOKUP(Table11[[#This Row],[TDS SKU]],Sheet2!$B:$B,Sheet2!C:C)","v":"B"},{"$f":"_xlfn.XLOOKUP(Table11[[#This Row],[TDS SKU]],Sheet2!$B:$B,Sheet2!D:D)","v":"A"},{"$f":"_xlfn.XLOOKUP(Table11[[#This Row],[TDS SKU]],Sheet2!$B:$B,Sheet2!E:E)","v":"CTO BO"},{"$f":"LEFT(Table11[[#This Row],[Apple Part ]],4)","v":"Z1LQ"}]
["Z1LQ","15358507",1919,"CTO MBA 15 M5 10 CPU 10 GPU 32GB 512GB SILVER 70W","SCW93LL/A","Special Order","15-inch","Silver","M5 chip with 10‑core CPU, 10‑core GPU","32GB","512GB SSD","70W USB-C",null,{"$f":"_xlfn.XLOOKUP(Table11[[#This Row],[TDS SKU]],Sheet2!$B:$B,Sheet2!C:C)","v":"B"},{"$f":"_xlfn.XLOOKUP(Table11[[#This Row],[TDS SKU]],Sheet2!$B:$B,Sheet2!D:D)","v":"A"},{"$f":"_xlfn.XLOOKUP(Table11[[#This Row],[TDS SKU]],Sheet2!$B:$B,Sheet2!E:E)","v":"CTO BO"},{"$f":"LEFT(Table11[[#This Row],[Apple Part ]],4)","v":"Z1LQ"}]
["Z1LQ","15358511",2019,"CTO MBA 15 M5 10 CPU 10 GPU 24GB 1TB SILVER 70W","SCW93LL/A","Special Order","15-inch","Silver","M5 chip with 10‑core CPU, 10‑core GPU","24GB","1TB SSD","70W USB-C",null,{"$f":"_xlfn.XLOOKUP(Table11[[#This Row],[TDS SKU]],Sheet2!$B:$B,Sheet2!C:C)","v":"B"},{"$f":"_xlfn.XLOOKUP(Table11[[#This Row],[TDS SKU]],Sheet2!$B:$B,Sheet2!D:D)","v":"A"},{"$f":"_xlfn.XLOOKUP(Table11[[#This Row],[TDS SKU]],Sheet2!$B:$B,Sheet2!E:E)","v":"CTO BO"},{"$f":"LEFT(Table11[[#This Row],[Apple Part ]],4)","v":"Z1LQ"}]
["Z1LQ","15358493",1719,"CTO MBA 15 M5 10 CPU 10 GPU 24GB 512GB SILVER 35W","SCW93LL/A","Special Order","15-inch","Silver","M5 chip with 10‑core CPU, 10‑core GPU","24GB","512GB SSD","35W Dual USB-C",null,{"$f":"_xlfn.XLOOKUP(Table11[[#This Row],[TDS SKU]],Sheet2!$B:$B,Sheet2!C:C)","v":"B"},{"$f":"_xlfn.XLOOKUP(Table11[[#This Row],[TDS SKU]],Sheet2!$B:$B,Sheet2!D:D)","v":"A"},{"$f":"_xlfn.XLOOKUP(Table11[[#This Row],[TDS SKU]],Sheet2!$B:$B,Sheet2!E:E)","v":"CTO BO"},{"$f":"LEFT(Table11[[#This Row],[Apple Part ]],4)","v":"Z1LQ"}]
["Z1LQ","15358506",1919,"CTO MBA 15 M5 10 CPU 10 GPU 32GB 512GB SILVER 35W","SCW93LL/A","Special Order","15-inch","Silver","M5 chip with 10‑core CPU, 10‑core GPU","32GB","512GB SSD","35W Dual USB-C",null,{"$f":"_xlfn.XLOOKUP(Table11[[#This Row],[TDS SKU]],Sheet2!$B:$B,Sheet2!C:C)","v":"B"},{"$f":"_xlfn.XLOOKUP(Table11[[#This Row],[TDS SKU]],Sheet2!$B:$B,Sheet2!D:D)","v":"A"},{"$f":"_xlfn.XLOOKUP(Table11[[#This Row],[TDS SKU]],Sheet2!$B:$B,Sheet2!E:E)","v":"CTO BO"},{"$f":"LEFT(Table11[[#This Row],[Apple Part ]],4)","v":"Z1LQ"}]
["Z1LQ","15358508",1819,"CTO MBA 15 M5 10 CPU 10 GPU 16GB 1TB SILVER 35W","SCW93LL/A","Special Order","15-inch","Silver","M5 chip with 10‑core CPU, 10‑core GPU","16GB","1TB SSD","35W Dual USB-C",null,{"$f":"_xlfn.XLOOKUP(Table11[[#This Row],[TDS SKU]],Sheet2!$B:$B,Sheet2!C:C)","v":"B"},{"$f":"_xlfn.XLOOKUP(Table11[[#This Row],[TDS SKU]],Sheet2!$B:$B,Sheet2!D:D)","v":"A"},{"$f":"_xlfn.XLOOKUP(Table11[[#This Row],[TDS SKU]],Sheet2!$B:$B,Sheet2!E:E)","v":"CTO BO"},{"$f":"LEFT(Table11[[#This Row],[Apple Part ]],4)","v":"Z1LQ"}]
["Z1LQ","15358510",2019,"CTO MBA 15 M5 10 CPU 10 GPU 24GB 1TB SILVER 35W","SCW93LL/A","Special Order","15-inch","Silver","M5 chip with 10‑core CPU, 10‑core GPU","24GB","1TB SSD","35W Dual USB-C",null,{"$f":"_xlfn.XLOOKUP(Table11[[#This Row],[TDS SKU]],Sheet2!$B:$B,Sheet2!C:C)","v":"B"},{"$f":"_xlfn.XLOOKUP(Table11[[#This Row],[TDS SKU]],Sheet2!$B:$B,Sheet2!D:D)","v":"A"},{"$f":"_xlfn.XLOOKUP(Table11[[#This Row],[TDS SKU]],Sheet2!$B:$B,Sheet2!E:E)","v":"CTO BO"},{"$f":"LEFT(Table11[[#This Row],[Apple Part ]],4)","v":"Z1LQ"}]
["Z1LQ","15358513",2219,"CTO MBA 15 M5 10 CPU 10 GPU 32GB 1TB SILVER 35W","SCW93LL/A","Special Order","15-inch","Silver","M5 chip with 10‑core CPU, 10‑core GPU","32GB","1TB SSD","35W Dual USB-C",null,{"$f":"_xlfn.XLOOKUP(Table11[[#This Row],[TDS SKU]],Sheet2!$B:$B,Sheet2!C:C)","v":"B"},{"$f":"_xlfn.XLOOKUP(Table11[[#This Row],[TDS SKU]],Sheet2!$B:$B,Sheet2!D:D)","v":"A"},{"$f":"_xlfn.XLOOKUP(Table11[[#This Row],[TDS SKU]],Sheet2!$B:$B,Sheet2!E:E)","v":"CTO BO"},{"$f":"LEFT(Table11[[#This Row],[Apple Part ]],4)","v":"Z1LQ"}]
["Z1LQ","15358496",2319,"CTO MBA 15 M5 10 CPU 10 GPU 16GB 2TB SILVER 35W","SCW93LL/A","Special Order","15-inch","Silver","M5 chip with 10‑core CPU, 10‑core GPU","16GB","2TB SSD","35W Dual USB-C",null,{"$f":"_xlfn.XLOOKUP(Table11[[#This Row],[TDS SKU]],Sheet2!$B:$B,Sheet2!C:C)","v":"B"},{"$f":"_xlfn.XLOOKUP(Table11[[#This Row],[TDS SKU]],Sheet2!$B:$B,Sheet2!D:D)","v":"A"},{"$f":"_xlfn.XLOOKUP(Table11[[#This Row],[TDS SKU]],Sheet2!$B:$B,Sheet2!E:E)","v":"CTO BO"},{"$f":"LEFT(Table11[[#This Row],[Apple Part ]],4)","v":"Z1LQ"}]
["Z1LQ","15358497",2319,"CTO MBA 15 M5 10 CPU 10 GPU 16GB 2TB SILVER 70W","SCW93LL/A","Special Order","15-inch","Silver","M5 chip with 10‑core CPU, 10‑core GPU","16GB","2TB SSD","70W USB-C",null,{"$f":"_xlfn.XLOOKUP(Table11[[#This Row],[TDS SKU]],Sheet2!$B:$B,Sheet2!C:C)","v":"B"},{"$f":"_xlfn.XLOOKUP(Table11[[#This Row],[TDS SKU]],Sheet2!$B:$B,Sheet2!D:D)","v":"A"},{"$f":"_xlfn.XLOOKUP(Table11[[#This Row],[TDS SKU]],Sheet2!$B:$B,Sheet2!E:E)","v":"CTO BO"},{"$f":"LEFT(Table11[[#This Row],[Apple Part ]],4)","v":"Z1LQ"}]
["Z1LQ","15358499",2519,"CTO MBA 15 M5 10 CPU 10 GPU 24GB 2TB SILVER 35W","SCW93LL/A","Special Order","15-inch","Silver","M5 chip with 10‑core CPU, 10‑core GPU","24GB","2TB SSD","35W Dual USB-C",null,{"$f":"_xlfn.XLOOKUP(Table11[[#This Row],[TDS SKU]],Sheet2!$B:$B,Sheet2!C:C)","v":"B"},{"$f":"_xlfn.XLOOKUP(Table11[[#This Row],[TDS SKU]],Sheet2!$B:$B,Sheet2!D:D)","v":"A"},{"$f":"_xlfn.XLOOKUP(Table11[[#This Row],[TDS SKU]],Sheet2!$B:$B,Sheet2!E:E)","v":"CTO BO"},{"$f":"LEFT(Table11[[#This Row],[Apple Part ]],4)","v":"Z1LQ"}]
["Z1LQ","15358500",2519,"CTO MBA 15 M5 10 CPU 10 GPU 24GB 2TB SILVER 70W","SCW93LL/A",{"$f":"IF(OR(P209=\"CTO BO\",P209=\"ZPN BO\"),\"Special Order\",\"Stocked\")","v":"Special Order"},"15-inch","Silver","M5 chip with 10‑core CPU, 10‑core GPU","24GB","2TB SSD","70W USB-C",null,{"$f":"_xlfn.XLOOKUP(Table11[[#This Row],[TDS SKU]],Sheet2!$B:$B,Sheet2!C:C)","v":"B"},{"$f":"_xlfn.XLOOKUP(Table11[[#This Row],[TDS SKU]],Sheet2!$B:$B,Sheet2!D:D)","v":"A"},{"$f":"_xlfn.XLOOKUP(Table11[[#This Row],[TDS SKU]],Sheet2!$B:$B,Sheet2!E:E)","v":"CTO BO"},{"$f":"LEFT(Table11[[#This Row],[Apple Part ]],4)","v":"Z1LQ"}]
["Z1LQ","15358502",2719,"CTO MBA 15 M5 10 CPU 10 GPU 32GB 2TB SILVER 35W","SCW93LL/A","Special Order","15-inch","Silver","M5 chip with 10‑core CPU, 10‑core GPU","32GB","2TB SSD","35W Dual USB-C",null,{"$f":"_xlfn.XLOOKUP(Table11[[#This Row],[TDS SKU]],Sheet2!$B:$B,Sheet2!C:C)","v":"B"},{"$f":"_xlfn.XLOOKUP(Table11[[#This Row],[TDS SKU]],Sheet2!$B:$B,Sheet2!D:D)","v":"A"},{"$f":"_xlfn.XLOOKUP(Table11[[#This Row],[TDS SKU]],Sheet2!$B:$B,Sheet2!E:E)","v":"CTO BO"},{"$f":"LEFT(Table11[[#This Row],[Apple Part ]],4)","v":"Z1LQ"}]
["Z1LQ","15358503",2719,"CTO MBA 15 M5 10 CPU 10 GPU 32GB 2TB SILVER 70W","SCW93LL/A","Special Order","15-inch","Silver","M5 chip with 10‑core CPU, 10‑core GPU","32GB","2TB SSD","70W USB-C",null,{"$f":"_xlfn.XLOOKUP(Table11[[#This Row],[TDS SKU]],Sheet2!$B:$B,Sheet2!C:C)","v":"B"},{"$f":"_xlfn.XLOOKUP(Table11[[#This Row],[TDS SKU]],Sheet2!$B:$B,Sheet2!D:D)","v":"A"},{"$f":"_xlfn.XLOOKUP(Table11[[#This Row],[TDS SKU]],Sheet2!$B:$B,Sheet2!E:E)","v":"CTO BO"},{"$f":"LEFT(Table11[[#This Row],[Apple Part ]],4)","v":"Z1LQ"}]
["Z1LQ","15358515",3319,"CTO MBA 15 M5 10 CPU 10 GPU 16GB 4TB SILVER 35W","SCW93LL/A","Special Order","15-inch","Silver","M5 chip with 10‑core CPU, 10‑core GPU","16GB","4TB SSD","35W Dual USB-C",null,{"$f":"_xlfn.XLOOKUP(Table11[[#This Row],[TDS SKU]],Sheet2!$B:$B,Sheet2!C:C)","v":"B"},{"$f":"_xlfn.XLOOKUP(Table11[[#This Row],[TDS SKU]],Sheet2!$B:$B,Sheet2!D:D)","v":"A"},{"$f":"_xlfn.XLOOKUP(Table11[[#This Row],[TDS SKU]],Sheet2!$B:$B,Sheet2!E:E)","v":"CTO BO"},{"$f":"LEFT(Table11[[#This Row],[Apple Part ]],4)","v":"Z1LQ"}]
["Z1LQ","15358516",3319,"CTO MBA 15 M5 10 CPU 10 GPU 16GB 4TB SILVER 70W","SCW93LL/A","Special Order","15-inch","Silver","M5 chip with 10‑core CPU, 10‑core GPU","16GB","4TB SSD","70W USB-C",null,{"$f":"_xlfn.XLOOKUP(Table11[[#This Row],[TDS SKU]],Sheet2!$B:$B,Sheet2!C:C)","v":"B"},{"$f":"_xlfn.XLOOKUP(Table11[[#This Row],[TDS SKU]],Sheet2!$B:$B,Sheet2!D:D)","v":"A"},{"$f":"_xlfn.XLOOKUP(Table11[[#This Row],[TDS SKU]],Sheet2!$B:$B,Sheet2!E:E)","v":"CTO BO"},{"$f":"LEFT(Table11[[#This Row],[Apple Part ]],4)","v":"Z1LQ"}]
["Z1LQ","15358518",3519,"CTO MBA 15 M5 10 CPU 10 GPU 24GB 4TB SILVER 35W","SCW93LL/A","Special Order","15-inch","Silver","M5 chip with 10‑core CPU, 10‑core GPU","24GB","4TB SSD","35W Dual USB-C",null,{"$f":"_xlfn.XLOOKUP(Table11[[#This Row],[TDS SKU]],Sheet2!$B:$B,Sheet2!C:C)","v":"B"},{"$f":"_xlfn.XLOOKUP(Table11[[#This Row],[TDS SKU]],Sheet2!$B:$B,Sheet2!D:D)","v":"A"},{"$f":"_xlfn.XLOOKUP(Table11[[#This Row],[TDS SKU]],Sheet2!$B:$B,Sheet2!E:E)","v":"CTO BO"},{"$f":"LEFT(Table11[[#This Row],[Apple Part ]],4)","v":"Z1LQ"}]
["Z1LQ","15358519",3519,"CTO MBA 15 M5 10 CPU 10 GPU 24GB 4TB SILVER 70W","SCW93LL/A","Special Order","15-inch","Silver","M5 chip with 10‑core CPU, 10‑core GPU","24GB","4TB SSD","70W USB-C",null,{"$f":"_xlfn.XLOOKUP(Table11[[#This Row],[TDS SKU]],Sheet2!$B:$B,Sheet2!C:C)","v":"B"},{"$f":"_xlfn.XLOOKUP(Table11[[#This Row],[TDS SKU]],Sheet2!$B:$B,Sheet2!D:D)","v":"A"},{"$f":"_xlfn.XLOOKUP(Table11[[#This Row],[TDS SKU]],Sheet2!$B:$B,Sheet2!E:E)","v":"CTO BO"},{"$f":"LEFT(Table11[[#This Row],[Apple Part ]],4)","v":"Z1LQ"}]
["Z1LQ","15358521",3719,"CTO MBA 15 M5 10 CPU 10 GPU 32GB 4TB SILVER 35W","SCW93LL/A","Special Order","15-inch","Silver","M5 chip with 10‑core CPU, 10‑core GPU","32GB","4TB SSD","35W Dual USB-C",null,{"$f":"_xlfn.XLOOKUP(Table11[[#This Row],[TDS SKU]],Sheet2!$B:$B,Sheet2!C:C)","v":"B"},{"$f":"_xlfn.XLOOKUP(Table11[[#This Row],[TDS SKU]],Sheet2!$B:$B,Sheet2!D:D)","v":"A"},{"$f":"_xlfn.XLOOKUP(Table11[[#This Row],[TDS SKU]],Sheet2!$B:$B,Sheet2!E:E)","v":"CTO BO"},{"$f":"LEFT(Table11[[#This Row],[Apple Part ]],4)","v":"Z1LQ"}]
["Z1LQ","15358522",3719,"CTO MBA 15 M5 10 CPU 10 GPU 32GB 4TB SILVER 70W","SCW93LL/A","Special Order","15-inch","Silver","M5 chip with 10‑core CPU, 10‑core GPU","32GB","4TB SSD","70W USB-C",null,{"$f":"_xlfn.XLOOKUP(Table11[[#This Row],[TDS SKU]],Sheet2!$B:$B,Sheet2!C:C)","v":"B"},{"$f":"_xlfn.XLOOKUP(Table11[[#This Row],[TDS SKU]],Sheet2!$B:$B,Sheet2!D:D)","v":"A"},{"$f":"_xlfn.XLOOKUP(Table11[[#This Row],[TDS SKU]],Sheet2!$B:$B,Sheet2!E:E)","v":"CTO BO"},{"$f":"LEFT(Table11[[#This Row],[Apple Part ]],4)","v":"Z1LQ"}]
["Z1LT","15358525",1699,"CTO MBA 15 M5 10 CPU 10 GPU 24GB 512GB STARLIGHT 40W","SCW93LL/A","Special Order","15-inch","Starlight","M5 chip with 10‑core CPU, 10‑core GPU","24GB","512GB SSD","40W Dynamic",null,{"$f":"_xlfn.XLOOKUP(Table11[[#This Row],[TDS SKU]],Sheet2!$B:$B,Sheet2!C:C)","v":"B"},{"$f":"_xlfn.XLOOKUP(Table11[[#This Row],[TDS SKU]],Sheet2!$B:$B,Sheet2!D:D)","v":"A"},{"$f":"_xlfn.XLOOKUP(Table11[[#This Row],[TDS SKU]],Sheet2!$B:$B,Sheet2!E:E)","v":"CTO BO"},{"$f":"LEFT(Table11[[#This Row],[Apple Part ]],4)","v":"Z1LT"}]
["Z1LT","15358528",1899,"CTO MBA 15 M5 10 CPU 10 GPU 32GB 512GB STARLIGHT 40W","SCW93LL/A","Special Order","15-inch","Starlight","M5 chip with 10‑core CPU, 10‑core GPU","32GB","512GB SSD","40W Dynamic",null,{"$f":"_xlfn.XLOOKUP(Table11[[#This Row],[TDS SKU]],Sheet2!$B:$B,Sheet2!C:C)","v":"B"},{"$f":"_xlfn.XLOOKUP(Table11[[#This Row],[TDS SKU]],Sheet2!$B:$B,Sheet2!D:D)","v":"A"},{"$f":"_xlfn.XLOOKUP(Table11[[#This Row],[TDS SKU]],Sheet2!$B:$B,Sheet2!E:E)","v":"CTO BO"},{"$f":"LEFT(Table11[[#This Row],[Apple Part ]],4)","v":"Z1LT"}]
["Z1LT","15358538",2299,"CTO MBA 15 M5 10 CPU 10 GPU 16GB 2TB STARLIGHT 40W","SCW93LL/A","Special Order","15-inch","Starlight","M5 chip with 10‑core CPU, 10‑core GPU","16GB","2TB SSD","40W Dynamic",null,{"$f":"_xlfn.XLOOKUP(Table11[[#This Row],[TDS SKU]],Sheet2!$B:$B,Sheet2!C:C)","v":"B"},{"$f":"_xlfn.XLOOKUP(Table11[[#This Row],[TDS SKU]],Sheet2!$B:$B,Sheet2!D:D)","v":"A"},{"$f":"_xlfn.XLOOKUP(Table11[[#This Row],[TDS SKU]],Sheet2!$B:$B,Sheet2!E:E)","v":"CTO BO"},{"$f":"LEFT(Table11[[#This Row],[Apple Part ]],4)","v":"Z1LT"}]
["Z1LT","15358547",3299,"CTO MBA 15 M5 10 CPU 10 GPU 16GB 4TB STARLIGHT 40W","SCW93LL/A","Special Order","15-inch","Starlight","M5 chip with 10‑core CPU, 10‑core GPU","16GB","4TB SSD","40W Dynamic",null,{"$f":"_xlfn.XLOOKUP(Table11[[#This Row],[TDS SKU]],Sheet2!$B:$B,Sheet2!C:C)","v":"B"},{"$f":"_xlfn.XLOOKUP(Table11[[#This Row],[TDS SKU]],Sheet2!$B:$B,Sheet2!D:D)","v":"A"},{"$f":"_xlfn.XLOOKUP(Table11[[#This Row],[TDS SKU]],Sheet2!$B:$B,Sheet2!E:E)","v":"CTO BO"},{"$f":"LEFT(Table11[[#This Row],[Apple Part ]],4)","v":"Z1LT"}]
["Z1LT","15358541",2499,"CTO MBA 15 M5 10 CPU 10 GPU 24GB 2TB STARLIGHT 40W","SCW93LL/A","Special Order","15-inch","Starlight","M5 chip with 10‑core CPU, 10‑core GPU","24GB","2TB SSD","40W Dynamic",null,{"$f":"_xlfn.XLOOKUP(Table11[[#This Row],[TDS SKU]],Sheet2!$B:$B,Sheet2!C:C)","v":"B"},{"$f":"_xlfn.XLOOKUP(Table11[[#This Row],[TDS SKU]],Sheet2!$B:$B,Sheet2!D:D)","v":"A"},{"$f":"_xlfn.XLOOKUP(Table11[[#This Row],[TDS SKU]],Sheet2!$B:$B,Sheet2!E:E)","v":"CTO BO"},{"$f":"LEFT(Table11[[#This Row],[Apple Part ]],4)","v":"Z1LT"}]
["Z1LT","15358550",3499,"CTO MBA 15 M5 10 CPU 10 GPU 24GB 4TB STARLIGHT 40W","SCW93LL/A","Special Order","15-inch","Starlight","M5 chip with 10‑core CPU, 10‑core GPU","24GB","4TB SSD","40W Dynamic",null,{"$f":"_xlfn.XLOOKUP(Table11[[#This Row],[TDS SKU]],Sheet2!$B:$B,Sheet2!C:C)","v":"B"},{"$f":"_xlfn.XLOOKUP(Table11[[#This Row],[TDS SKU]],Sheet2!$B:$B,Sheet2!D:D)","v":"A"},{"$f":"_xlfn.XLOOKUP(Table11[[#This Row],[TDS SKU]],Sheet2!$B:$B,Sheet2!E:E)","v":"CTO BO"},{"$f":"LEFT(Table11[[#This Row],[Apple Part ]],4)","v":"Z1LT"}]
["Z1LT","15358535",2199,"CTO MBA 15 M5 10 CPU 10 GPU 32GB 1TB STARLIGHT 40W","SCW93LL/A","Special Order","15-inch","Starlight","M5 chip with 10‑core CPU, 10‑core GPU","32GB","1TB SSD","40W Dynamic",null,{"$f":"_xlfn.XLOOKUP(Table11[[#This Row],[TDS SKU]],Sheet2!$B:$B,Sheet2!C:C)","v":"B"},{"$f":"_xlfn.XLOOKUP(Table11[[#This Row],[TDS SKU]],Sheet2!$B:$B,Sheet2!D:D)","v":"A"},{"$f":"_xlfn.XLOOKUP(Table11[[#This Row],[TDS SKU]],Sheet2!$B:$B,Sheet2!E:E)","v":"CTO BO"},{"$f":"LEFT(Table11[[#This Row],[Apple Part ]],4)","v":"Z1LT"}]
["Z1LT","15358544",2699,"CTO MBA 15 M5 10 CPU 10 GPU 32GB 2TB STARLIGHT 40W","SCW93LL/A","Special Order","15-inch","Starlight","M5 chip with 10‑core CPU, 10‑core GPU","32GB","2TB SSD","40W Dynamic",null,{"$f":"_xlfn.XLOOKUP(Table11[[#This Row],[TDS SKU]],Sheet2!$B:$B,Sheet2!C:C)","v":"B"},{"$f":"_xlfn.XLOOKUP(Table11[[#This Row],[TDS SKU]],Sheet2!$B:$B,Sheet2!D:D)","v":"A"},{"$f":"_xlfn.XLOOKUP(Table11[[#This Row],[TDS SKU]],Sheet2!$B:$B,Sheet2!E:E)","v":"CTO BO"},{"$f":"LEFT(Table11[[#This Row],[Apple Part ]],4)","v":"Z1LT"}]
["Z1LT","15358553",3699,"CTO MBA 15 M5 10 CPU 10 GPU 32GB 4TB STARLIGHT 40W","SCW93LL/A","Special Order","15-inch","Starlight","M5 chip with 10‑core CPU, 10‑core GPU","32GB","4TB SSD","40W Dynamic",null,{"$f":"_xlfn.XLOOKUP(Table11[[#This Row],[TDS SKU]],Sheet2!$B:$B,Sheet2!C:C)","v":"B"},{"$f":"_xlfn.XLOOKUP(Table11[[#This Row],[TDS SKU]],Sheet2!$B:$B,Sheet2!D:D)","v":"A"},{"$f":"_xlfn.XLOOKUP(Table11[[#This Row],[TDS SKU]],Sheet2!$B:$B,Sheet2!E:E)","v":"CTO BO"},{"$f":"LEFT(Table11[[#This Row],[Apple Part ]],4)","v":"Z1LT"}]
["Z1LT","15358523",1519,"CTO MBA 15 M5 10 CPU 10 GPU 16GB 512GB STARLIGHT 35W","SCW93LL/A","Special Order","15-inch","Starlight","M5 chip with 10‑core CPU, 10‑core GPU","16GB","512GB SSD","35W Dual USB-C",null,{"$f":"_xlfn.XLOOKUP(Table11[[#This Row],[TDS SKU]],Sheet2!$B:$B,Sheet2!C:C)","v":"B"},{"$f":"_xlfn.XLOOKUP(Table11[[#This Row],[TDS SKU]],Sheet2!$B:$B,Sheet2!D:D)","v":"A"},{"$f":"_xlfn.XLOOKUP(Table11[[#This Row],[TDS SKU]],Sheet2!$B:$B,Sheet2!E:E)","v":"CTO BO"},{"$f":"LEFT(Table11[[#This Row],[Apple Part ]],4)","v":"Z1LT"}]
["Z1LT","15358524",1519,"CTO MBA 15 M5 10 CPU 10 GPU 16GB 512GB STARLIGHT 70W","SCW93LL/A","Special Order","15-inch","Starlight","M5 chip with 10‑core CPU, 10‑core GPU","16GB","512GB SSD","70W USB-C",null,{"$f":"_xlfn.XLOOKUP(Table11[[#This Row],[TDS SKU]],Sheet2!$B:$B,Sheet2!C:C)","v":"B"},{"$f":"_xlfn.XLOOKUP(Table11[[#This Row],[TDS SKU]],Sheet2!$B:$B,Sheet2!D:D)","v":"A"},{"$f":"_xlfn.XLOOKUP(Table11[[#This Row],[TDS SKU]],Sheet2!$B:$B,Sheet2!E:E)","v":"CTO BO"},{"$f":"LEFT(Table11[[#This Row],[Apple Part ]],4)","v":"Z1LT"}]
["Z1LT","15358527",1719,"CTO MBA 15 M5 10 CPU 10 GPU 24GB 512GB STARLIGHT 70W","SCW93LL/A","Special Order","15-inch","Starlight","M5 chip with 10‑core CPU, 10‑core GPU","24GB","512GB SSD","70W USB-C",null,{"$f":"_xlfn.XLOOKUP(Table11[[#This Row],[TDS SKU]],Sheet2!$B:$B,Sheet2!C:C)","v":"B"},{"$f":"_xlfn.XLOOKUP(Table11[[#This Row],[TDS SKU]],Sheet2!$B:$B,Sheet2!D:D)","v":"A"},{"$f":"_xlfn.XLOOKUP(Table11[[#This Row],[TDS SKU]],Sheet2!$B:$B,Sheet2!E:E)","v":"CTO BO"},{"$f":"LEFT(Table11[[#This Row],[Apple Part ]],4)","v":"Z1LT"}]
["Z1LT","15358530",1919,"CTO MBA 15 M5 10 CPU 10 GPU 32GB 512GB STARLIGHT 70W","SCW93LL/A","Special Order","15-inch","Starlight","M5 chip with 10‑core CPU, 10‑core GPU","32GB","512GB SSD","70W USB-C",null,{"$f":"_xlfn.XLOOKUP(Table11[[#This Row],[TDS SKU]],Sheet2!$B:$B,Sheet2!C:C)","v":"B"},{"$f":"_xlfn.XLOOKUP(Table11[[#This Row],[TDS SKU]],Sheet2!$B:$B,Sheet2!D:D)","v":"A"},{"$f":"_xlfn.XLOOKUP(Table11[[#This Row],[TDS SKU]],Sheet2!$B:$B,Sheet2!E:E)","v":"CTO BO"},{"$f":"LEFT(Table11[[#This Row],[Apple Part ]],4)","v":"Z1LT"}]
["Z1LT","15358529",1919,"CTO MBA 15 M5 10 CPU 10 GPU 32GB 512GB STARLIGHT 35W","SCW93LL/A","Special Order","15-inch","Starlight","M5 chip with 10‑core CPU, 10‑core GPU","32GB","512GB SSD","35W Dual USB-C",null,{"$f":"_xlfn.XLOOKUP(Table11[[#This Row],[TDS SKU]],Sheet2!$B:$B,Sheet2!C:C)","v":"B"},{"$f":"_xlfn.XLOOKUP(Table11[[#This Row],[TDS SKU]],Sheet2!$B:$B,Sheet2!D:D)","v":"A"},{"$f":"_xlfn.XLOOKUP(Table11[[#This Row],[TDS SKU]],Sheet2!$B:$B,Sheet2!E:E)","v":"CTO BO"},{"$f":"LEFT(Table11[[#This Row],[Apple Part ]],4)","v":"Z1LT"}]
["Z1LT","15358551",3519,"CTO MBA 15 M5 10 CPU 10 GPU 24GB 4TB STARLIGHT 35W","SCW93LL/A","Special Order","15-inch","Starlight","M5 chip with 10‑core CPU, 10‑core GPU","24GB","4TB SSD","35W Dual USB-C",null,{"$f":"_xlfn.XLOOKUP(Table11[[#This Row],[TDS SKU]],Sheet2!$B:$B,Sheet2!C:C)","v":"B"},{"$f":"_xlfn.XLOOKUP(Table11[[#This Row],[TDS SKU]],Sheet2!$B:$B,Sheet2!D:D)","v":"A"},{"$f":"_xlfn.XLOOKUP(Table11[[#This Row],[TDS SKU]],Sheet2!$B:$B,Sheet2!E:E)","v":"CTO BO"},{"$f":"LEFT(Table11[[#This Row],[Apple Part ]],4)","v":"Z1LT"}]
["Z1LT","15358552",3519,"CTO MBA 15 M5 10 CPU 10 GPU 24GB 4TB STARLIGHT 70W","SCW93LL/A","Special Order","15-inch","Starlight","M5 chip with 10‑core CPU, 10‑core GPU","24GB","4TB SSD","70W USB-C",null,{"$f":"_xlfn.XLOOKUP(Table11[[#This Row],[TDS SKU]],Sheet2!$B:$B,Sheet2!C:C)","v":"B"},{"$f":"_xlfn.XLOOKUP(Table11[[#This Row],[TDS SKU]],Sheet2!$B:$B,Sheet2!D:D)","v":"A"},{"$f":"_xlfn.XLOOKUP(Table11[[#This Row],[TDS SKU]],Sheet2!$B:$B,Sheet2!E:E)","v":"CTO BO"},{"$f":"LEFT(Table11[[#This Row],[Apple Part ]],4)","v":"Z1LT"}]
["Z1LT","15358554",3719,"CTO MBA 15 M5 10 CPU 10 GPU 32GB 4TB STARLIGHT 35W","SCW93LL/A","Special Order","15-inch","Starlight","M5 chip with 10‑core CPU, 10‑core GPU","32GB","4TB SSD","35W Dual USB-C",null,{"$f":"_xlfn.XLOOKUP(Table11[[#This Row],[TDS SKU]],Sheet2!$B:$B,Sheet2!C:C)","v":"B"},{"$f":"_xlfn.XLOOKUP(Table11[[#This Row],[TDS SKU]],Sheet2!$B:$B,Sheet2!D:D)","v":"A"},{"$f":"_xlfn.XLOOKUP(Table11[[#This Row],[TDS SKU]],Sheet2!$B:$B,Sheet2!E:E)","v":"CTO BO"},{"$f":"LEFT(Table11[[#This Row],[Apple Part ]],4)","v":"Z1LT"}]
["Z1LT","15358575",3719,"CTO MBA 15 M5 10 CPU 10 GPU 32GB 4TB STARLIGHT 70W","SCW93LL/A","Special Order","15-inch","Starlight","M5 chip with 10‑core CPU, 10‑core GPU","32GB","4TB SSD","70W USB-C",null,{"$f":"_xlfn.XLOOKUP(Table11[[#This Row],[TDS SKU]],Sheet2!$B:$B,Sheet2!C:C)","v":"B"},{"$f":"_xlfn.XLOOKUP(Table11[[#This Row],[TDS SKU]],Sheet2!$B:$B,Sheet2!D:D)","v":"A"},{"$f":"_xlfn.XLOOKUP(Table11[[#This Row],[TDS SKU]],Sheet2!$B:$B,Sheet2!E:E)","v":"CTO BO"},{"$f":"LEFT(Table11[[#This Row],[Apple Part ]],4)","v":"Z1LT"}]
["Z1LT","15358526",1719,"CTO MBA 15 M5 10 CPU 10 GPU 24GB 512GB STARLIGHT 35W","SCW93LL/A","Special Order","15-inch","Starlight","M5 chip with 10‑core CPU, 10‑core GPU","24GB","512GB SSD","35W Dual USB-C",null,{"$f":"_xlfn.XLOOKUP(Table11[[#This Row],[TDS SKU]],Sheet2!$B:$B,Sheet2!C:C)","v":"B"},{"$f":"_xlfn.XLOOKUP(Table11[[#This Row],[TDS SKU]],Sheet2!$B:$B,Sheet2!D:D)","v":"A"},{"$f":"_xlfn.XLOOKUP(Table11[[#This Row],[TDS SKU]],Sheet2!$B:$B,Sheet2!E:E)","v":"CTO BO"},{"$f":"LEFT(Table11[[#This Row],[Apple Part ]],4)","v":"Z1LT"}]
["Z1LT","15358531",1819,"CTO MBA 15 M5 10 CPU 10 GPU 16GB 1TB STARLIGHT 35W","SCW93LL/A","Special Order","15-inch","Starlight","M5 chip with 10‑core CPU, 10‑core GPU","16GB","1TB SSD","35W Dual USB-C",null,{"$f":"_xlfn.XLOOKUP(Table11[[#This Row],[TDS SKU]],Sheet2!$B:$B,Sheet2!C:C)","v":"B"},{"$f":"_xlfn.XLOOKUP(Table11[[#This Row],[TDS SKU]],Sheet2!$B:$B,Sheet2!D:D)","v":"A"},{"$f":"_xlfn.XLOOKUP(Table11[[#This Row],[TDS SKU]],Sheet2!$B:$B,Sheet2!E:E)","v":"CTO BO"},{"$f":"LEFT(Table11[[#This Row],[Apple Part ]],4)","v":"Z1LT"}]
["Z1LT","15358532",1819,"CTO MBA 15 M5 10 CPU 10 GPU 16GB 1TB STARLIGHT 70W","SCW93LL/A","Special Order","15-inch","Starlight","M5 chip with 10‑core CPU, 10‑core GPU","16GB","1TB SSD","70W USB-C",null,{"$f":"_xlfn.XLOOKUP(Table11[[#This Row],[TDS SKU]],Sheet2!$B:$B,Sheet2!C:C)","v":"B"},{"$f":"_xlfn.XLOOKUP(Table11[[#This Row],[TDS SKU]],Sheet2!$B:$B,Sheet2!D:D)","v":"A"},{"$f":"_xlfn.XLOOKUP(Table11[[#This Row],[TDS SKU]],Sheet2!$B:$B,Sheet2!E:E)","v":"CTO BO"},{"$f":"LEFT(Table11[[#This Row],[Apple Part ]],4)","v":"Z1LT"}]
["Z1LT","15358533",2019,"CTO MBA 15 M5 10 CPU 10 GPU 24GB 1TB STARLIGHT 35W","SCW93LL/A","Special Order","15-inch","Starlight","M5 chip with 10‑core CPU, 10‑core GPU","24GB","1TB SSD","35W Dual USB-C",null,{"$f":"_xlfn.XLOOKUP(Table11[[#This Row],[TDS SKU]],Sheet2!$B:$B,Sheet2!C:C)","v":"B"},{"$f":"_xlfn.XLOOKUP(Table11[[#This Row],[TDS SKU]],Sheet2!$B:$B,Sheet2!D:D)","v":"A"},{"$f":"_xlfn.XLOOKUP(Table11[[#This Row],[TDS SKU]],Sheet2!$B:$B,Sheet2!E:E)","v":"CTO BO"},{"$f":"LEFT(Table11[[#This Row],[Apple Part ]],4)","v":"Z1LT"}]
["Z1LT","15358534",2019,"CTO MBA 15 M5 10 CPU 10 GPU 24GB 1TB STARLIGHT 70W","SCW93LL/A","Special Order","15-inch","Starlight","M5 chip with 10‑core CPU, 10‑core GPU","24GB","1TB SSD","70W USB-C",null,{"$f":"_xlfn.XLOOKUP(Table11[[#This Row],[TDS SKU]],Sheet2!$B:$B,Sheet2!C:C)","v":"B"},{"$f":"_xlfn.XLOOKUP(Table11[[#This Row],[TDS SKU]],Sheet2!$B:$B,Sheet2!D:D)","v":"A"},{"$f":"_xlfn.XLOOKUP(Table11[[#This Row],[TDS SKU]],Sheet2!$B:$B,Sheet2!E:E)","v":"CTO BO"},{"$f":"LEFT(Table11[[#This Row],[Apple Part ]],4)","v":"Z1LT"}]
["Z1LT","15358536",2219,"CTO MBA 15 M5 10 CPU 10 GPU 32GB 1TB STARLIGHT 35W","SCW93LL/A","Special Order","15-inch","Starlight","M5 chip with 10‑core CPU, 10‑core GPU","32GB","1TB SSD","35W Dual USB-C",null,{"$f":"_xlfn.XLOOKUP(Table11[[#This Row],[TDS SKU]],Sheet2!$B:$B,Sheet2!C:C)","v":"B"},{"$f":"_xlfn.XLOOKUP(Table11[[#This Row],[TDS SKU]],Sheet2!$B:$B,Sheet2!D:D)","v":"A"},{"$f":"_xlfn.XLOOKUP(Table11[[#This Row],[TDS SKU]],Sheet2!$B:$B,Sheet2!E:E)","v":"CTO BO"},{"$f":"LEFT(Table11[[#This Row],[Apple Part ]],4)","v":"Z1LT"}]
["Z1LT","15358537",2219,"CTO MBA 15 M5 10 CPU 10 GPU 32GB 1TB STARLIGHT 70W","SCW93LL/A","Special Order","15-inch","Starlight","M5 chip with 10‑core CPU, 10‑core GPU","32GB","1TB SSD","70W USB-C",null,{"$f":"_xlfn.XLOOKUP(Table11[[#This Row],[TDS SKU]],Sheet2!$B:$B,Sheet2!C:C)","v":"B"},{"$f":"_xlfn.XLOOKUP(Table11[[#This Row],[TDS SKU]],Sheet2!$B:$B,Sheet2!D:D)","v":"A"},{"$f":"_xlfn.XLOOKUP(Table11[[#This Row],[TDS SKU]],Sheet2!$B:$B,Sheet2!E:E)","v":"CTO BO"},{"$f":"LEFT(Table11[[#This Row],[Apple Part ]],4)","v":"Z1LT"}]
["Z1LT","15358539",2319,"CTO MBA 15 M5 10 CPU 10 GPU 16GB 2TB STARLIGHT 35W","SCW93LL/A","Special Order","15-inch","Starlight","M5 chip with 10‑core CPU, 10‑core GPU","16GB","2TB SSD","35W Dual USB-C",null,{"$f":"_xlfn.XLOOKUP(Table11[[#This Row],[TDS SKU]],Sheet2!$B:$B,Sheet2!C:C)","v":"B"},{"$f":"_xlfn.XLOOKUP(Table11[[#This Row],[TDS SKU]],Sheet2!$B:$B,Sheet2!D:D)","v":"A"},{"$f":"_xlfn.XLOOKUP(Table11[[#This Row],[TDS SKU]],Sheet2!$B:$B,Sheet2!E:E)","v":"CTO BO"},{"$f":"LEFT(Table11[[#This Row],[Apple Part ]],4)","v":"Z1LT"}]
["Z1LT","15358540",2319,"CTO MBA 15 M5 10 CPU 10 GPU 16GB 2TB STARLIGHT 70W","SCW93LL/A","Special Order","15-inch","Starlight","M5 chip with 10‑core CPU, 10‑core GPU","16GB","2TB SSD","70W USB-C",null,{"$f":"_xlfn.XLOOKUP(Table11[[#This Row],[TDS SKU]],Sheet2!$B:$B,Sheet2!C:C)","v":"B"},{"$f":"_xlfn.XLOOKUP(Table11[[#This Row],[TDS SKU]],Sheet2!$B:$B,Sheet2!D:D)","v":"A"},{"$f":"_xlfn.XLOOKUP(Table11[[#This Row],[TDS SKU]],Sheet2!$B:$B,Sheet2!E:E)","v":"CTO BO"},{"$f":"LEFT(Table11[[#This Row],[Apple Part ]],4)","v":"Z1LT"}]
["Z1LT","15358542",2519,"CTO MBA 15 M5 10 CPU 10 GPU 24GB 2TB STARLIGHT 35W","SCW93LL/A","Special Order","15-inch","Starlight","M5 chip with 10‑core CPU, 10‑core GPU","24GB","2TB SSD","35W Dual USB-C",null,{"$f":"_xlfn.XLOOKUP(Table11[[#This Row],[TDS SKU]],Sheet2!$B:$B,Sheet2!C:C)","v":"B"},{"$f":"_xlfn.XLOOKUP(Table11[[#This Row],[TDS SKU]],Sheet2!$B:$B,Sheet2!D:D)","v":"A"},{"$f":"_xlfn.XLOOKUP(Table11[[#This Row],[TDS SKU]],Sheet2!$B:$B,Sheet2!E:E)","v":"CTO BO"},{"$f":"LEFT(Table11[[#This Row],[Apple Part ]],4)","v":"Z1LT"}]
["Z1LT","15358543",2519,"CTO MBA 15 M5 10 CPU 10 GPU 24GB 2TB STARLIGHT 70W","SCW93LL/A","Special Order","15-inch","Starlight","M5 chip with 10‑core CPU, 10‑core GPU","24GB","2TB SSD","70W USB-C",null,{"$f":"_xlfn.XLOOKUP(Table11[[#This Row],[TDS SKU]],Sheet2!$B:$B,Sheet2!C:C)","v":"B"},{"$f":"_xlfn.XLOOKUP(Table11[[#This Row],[TDS SKU]],Sheet2!$B:$B,Sheet2!D:D)","v":"A"},{"$f":"_xlfn.XLOOKUP(Table11[[#This Row],[TDS SKU]],Sheet2!$B:$B,Sheet2!E:E)","v":"CTO BO"},{"$f":"LEFT(Table11[[#This Row],[Apple Part ]],4)","v":"Z1LT"}]
["Z1LT","15358545",2719,"CTO MBA 15 M5 10 CPU 10 GPU 32GB 2TB STARLIGHT 35W","SCW93LL/A","Special Order","15-inch","Starlight","M5 chip with 10‑core CPU, 10‑core GPU","32GB","2TB SSD","35W Dual USB-C",null,{"$f":"_xlfn.XLOOKUP(Table11[[#This Row],[TDS SKU]],Sheet2!$B:$B,Sheet2!C:C)","v":"B"},{"$f":"_xlfn.XLOOKUP(Table11[[#This Row],[TDS SKU]],Sheet2!$B:$B,Sheet2!D:D)","v":"A"},{"$f":"_xlfn.XLOOKUP(Table11[[#This Row],[TDS SKU]],Sheet2!$B:$B,Sheet2!E:E)","v":"CTO BO"},{"$f":"LEFT(Table11[[#This Row],[Apple Part ]],4)","v":"Z1LT"}]
["Z1LT","15358546",2719,"CTO MBA 15 M5 10 CPU 10 GPU 32GB 2TB STARLIGHT 70W","SCW93LL/A","Special Order","15-inch","Starlight","M5 chip with 10‑core CPU, 10‑core GPU","32GB","2TB SSD","70W USB-C",null,{"$f":"_xlfn.XLOOKUP(Table11[[#This Row],[TDS SKU]],Sheet2!$B:$B,Sheet2!C:C)","v":"B"},{"$f":"_xlfn.XLOOKUP(Table11[[#This Row],[TDS SKU]],Sheet2!$B:$B,Sheet2!D:D)","v":"A"},{"$f":"_xlfn.XLOOKUP(Table11[[#This Row],[TDS SKU]],Sheet2!$B:$B,Sheet2!E:E)","v":"CTO BO"},{"$f":"LEFT(Table11[[#This Row],[Apple Part ]],4)","v":"Z1LT"}]
["Z1LT","15358548",3319,"CTO MBA 15 M5 10 CPU 10 GPU 16GB 4TB STARLIGHT 35W","SCW93LL/A","Special Order","15-inch","Starlight","M5 chip with 10‑core CPU, 10‑core GPU","16GB","4TB SSD","35W Dual USB-C",null,{"$f":"_xlfn.XLOOKUP(Table11[[#This Row],[TDS SKU]],Sheet2!$B:$B,Sheet2!C:C)","v":"B"},{"$f":"_xlfn.XLOOKUP(Table11[[#This Row],[TDS SKU]],Sheet2!$B:$B,Sheet2!D:D)","v":"A"},{"$f":"_xlfn.XLOOKUP(Table11[[#This Row],[TDS SKU]],Sheet2!$B:$B,Sheet2!E:E)","v":"CTO BO"},{"$f":"LEFT(Table11[[#This Row],[Apple Part ]],4)","v":"Z1LT"}]
["Z1LT","15358549",3319,"CTO MBA 15 M5 10 CPU 10 GPU 16GB 4TB STARLIGHT 70W","SCW93LL/A","Special Order","15-inch","Starlight","M5 chip with 10‑core CPU, 10‑core GPU","16GB","4TB SSD","70W USB-C",null,{"$f":"_xlfn.XLOOKUP(Table11[[#This Row],[TDS SKU]],Sheet2!$B:$B,Sheet2!C:C)","v":"B"},{"$f":"_xlfn.XLOOKUP(Table11[[#This Row],[TDS SKU]],Sheet2!$B:$B,Sheet2!D:D)","v":"A"},{"$f":"_xlfn.XLOOKUP(Table11[[#This Row],[TDS SKU]],Sheet2!$B:$B,Sheet2!E:E)","v":"CTO BO"},{"$f":"LEFT(Table11[[#This Row],[Apple Part ]],4)","v":"Z1LT"}]
["Z1LW","15358420",1699,"CTO MBA 15 M5 10 CPU 10 GPU 24GB 512GB MIDNIGHT 40W","SCW93LL/A","Stocked","15-inch","Midnight","M5 chip with 10‑core CPU, 10‑core GPU","24GB","512GB SSD","40W Dynamic",null,{"$f":"_xlfn.XLOOKUP(Table11[[#This Row],[TDS SKU]],Sheet2!$B:$B,Sheet2!C:C)","v":"B"},{"$f":"_xlfn.XLOOKUP(Table11[[#This Row],[TDS SKU]],Sheet2!$B:$B,Sheet2!D:D)","v":"A"},{"$f":"_xlfn.XLOOKUP(Table11[[#This Row],[TDS SKU]],Sheet2!$B:$B,Sheet2!E:E)","v":"STOCKED CTO"},{"$f":"LEFT(Table11[[#This Row],[Apple Part ]],4)","v":"Z1LW"}]
["Z1LW","15358422",1899,"CTO MBA 15 M5 10 CPU 10 GPU 32GB 512GB MIDNIGHT 40W","SCW93LL/A","Stocked","15-inch","Midnight","M5 chip with 10‑core CPU, 10‑core GPU","32GB","512GB SSD","40W Dynamic",null,{"$f":"_xlfn.XLOOKUP(Table11[[#This Row],[TDS SKU]],Sheet2!$B:$B,Sheet2!C:C)","v":"B"},{"$f":"_xlfn.XLOOKUP(Table11[[#This Row],[TDS SKU]],Sheet2!$B:$B,Sheet2!D:D)","v":"A"},{"$f":"_xlfn.XLOOKUP(Table11[[#This Row],[TDS SKU]],Sheet2!$B:$B,Sheet2!E:E)","v":"STOCKED CTO"},{"$f":"LEFT(Table11[[#This Row],[Apple Part ]],4)","v":"Z1LW"}]
["Z1LW","15358418",1519,"CTO MBA 15 M5 10 CPU 10 GPU 16GB 512GB MIDNIGHT 35W","SCW93LL/A","Special Order","15-inch","Midnight","M5 chip with 10‑core CPU, 10‑core GPU","16GB","512GB SSD","35W Dual USB-C",null,{"$f":"_xlfn.XLOOKUP(Table11[[#This Row],[TDS SKU]],Sheet2!$B:$B,Sheet2!C:C)","v":"B"},{"$f":"_xlfn.XLOOKUP(Table11[[#This Row],[TDS SKU]],Sheet2!$B:$B,Sheet2!D:D)","v":"A"},{"$f":"_xlfn.XLOOKUP(Table11[[#This Row],[TDS SKU]],Sheet2!$B:$B,Sheet2!E:E)","v":"CTO BO"},{"$f":"LEFT(Table11[[#This Row],[Apple Part ]],4)","v":"Z1LW"}]
["Z1LW","15358419",1519,"CTO MBA 15 M5 10 CPU 10 GPU 16GB 512GB MIDNIGHT 70W","SCW93LL/A","Special Order","15-inch","Midnight","M5 chip with 10‑core CPU, 10‑core GPU","16GB","512GB SSD","70W USB-C",null,{"$f":"_xlfn.XLOOKUP(Table11[[#This Row],[TDS SKU]],Sheet2!$B:$B,Sheet2!C:C)","v":"B"},{"$f":"_xlfn.XLOOKUP(Table11[[#This Row],[TDS SKU]],Sheet2!$B:$B,Sheet2!D:D)","v":"A"},{"$f":"_xlfn.XLOOKUP(Table11[[#This Row],[TDS SKU]],Sheet2!$B:$B,Sheet2!E:E)","v":"CTO BO"},{"$f":"LEFT(Table11[[#This Row],[Apple Part ]],4)","v":"Z1LW"}]
["Z1LW","15358424",1919,"CTO MBA 15 M5 10 CPU 10 GPU 32GB 512GB MIDNIGHT 70W","SCW93LL/A","Special Order","15-inch","Midnight","M5 chip with 10‑core CPU, 10‑core GPU","32GB","512GB SSD","70W USB-C",null,{"$f":"_xlfn.XLOOKUP(Table11[[#This Row],[TDS SKU]],Sheet2!$B:$B,Sheet2!C:C)","v":"B"},{"$f":"_xlfn.XLOOKUP(Table11[[#This Row],[TDS SKU]],Sheet2!$B:$B,Sheet2!D:D)","v":"A"},{"$f":"_xlfn.XLOOKUP(Table11[[#This Row],[TDS SKU]],Sheet2!$B:$B,Sheet2!E:E)","v":"CTO BO"},{"$f":"LEFT(Table11[[#This Row],[Apple Part ]],4)","v":"Z1LW"}]
["Z1LW","15358421",1719,"CTO MBA 15 M5 10 CPU 10 GPU 24GB 512GB MIDNIGHT 70W","SCW93LL/A","Special Order","15-inch","Midnight","M5 chip with 10‑core CPU, 10‑core GPU","24GB","512GB SSD","70W USB-C",null,{"$f":"_xlfn.XLOOKUP(Table11[[#This Row],[TDS SKU]],Sheet2!$B:$B,Sheet2!C:C)","v":"B"},{"$f":"_xlfn.XLOOKUP(Table11[[#This Row],[TDS SKU]],Sheet2!$B:$B,Sheet2!D:D)","v":"A"},{"$f":"_xlfn.XLOOKUP(Table11[[#This Row],[TDS SKU]],Sheet2!$B:$B,Sheet2!E:E)","v":"CTO BO"},{"$f":"LEFT(Table11[[#This Row],[Apple Part ]],4)","v":"Z1LW"}]
["Z1LW","15355954",1719,"CTO MBA 15 M5 10 CPU 10 GPU 24GB 512GB MIDNIGHT 35W","SCW93LL/A","Stocked","15-inch","Midnight","M5 chip with 10‑core CPU, 10‑core GPU","24GB","512GB SSD","35W Dual USB-C",null,{"$f":"_xlfn.XLOOKUP(Table11[[#This Row],[TDS SKU]],Sheet2!$B:$B,Sheet2!C:C)","v":"B"},{"$f":"_xlfn.XLOOKUP(Table11[[#This Row],[TDS SKU]],Sheet2!$B:$B,Sheet2!D:D)","v":"A"},{"$f":"_xlfn.XLOOKUP(Table11[[#This Row],[TDS SKU]],Sheet2!$B:$B,Sheet2!E:E)","v":"STOCKED CTO"},{"$f":"LEFT(Table11[[#This Row],[Apple Part ]],4)","v":"Z1LW"}]
["Z1LW","15355955",1819,"CTO MBA 15 M5 10 CPU 10 GPU 16GB 1TB MIDNIGHT 35W","SCW93LL/A","Stocked","15-inch","Midnight","M5 chip with 10‑core CPU, 10‑core GPU","16GB","1TB SSD","35W Dual USB-C",null,{"$f":"_xlfn.XLOOKUP(Table11[[#This Row],[TDS SKU]],Sheet2!$B:$B,Sheet2!C:C)","v":"B"},{"$f":"_xlfn.XLOOKUP(Table11[[#This Row],[TDS SKU]],Sheet2!$B:$B,Sheet2!D:D)","v":"A"},{"$f":"_xlfn.XLOOKUP(Table11[[#This Row],[TDS SKU]],Sheet2!$B:$B,Sheet2!E:E)","v":"STOCKED CTO"},{"$f":"LEFT(Table11[[#This Row],[Apple Part ]],4)","v":"Z1LW"}]
["Z1LW","15355956",2019,"CTO MBA 15 M5 10 CPU 10 GPU 24GB 1TB MIDNIGHT 35W","SCW93LL/A","Stocked","15-inch","Midnight","M5 chip with 10‑core CPU, 10‑core GPU","24GB","1TB SSD","35W Dual USB-C",null,{"$f":"_xlfn.XLOOKUP(Table11[[#This Row],[TDS SKU]],Sheet2!$B:$B,Sheet2!C:C)","v":"B"},{"$f":"_xlfn.XLOOKUP(Table11[[#This Row],[TDS SKU]],Sheet2!$B:$B,Sheet2!D:D)","v":"A"},{"$f":"_xlfn.XLOOKUP(Table11[[#This Row],[TDS SKU]],Sheet2!$B:$B,Sheet2!E:E)","v":"STOCKED CTO"},{"$f":"LEFT(Table11[[#This Row],[Apple Part ]],4)","v":"Z1LW"}]
["Z1LW","15355957",2019,"CTO MBA 15 M5 10 CPU 10 GPU 24GB 1TB MIDNIGHT 70W","SCW93LL/A","Stocked","15-inch","Midnight","M5 chip with 10‑core CPU, 10‑core GPU","24GB","1TB SSD","70W USB-C",null,{"$f":"_xlfn.XLOOKUP(Table11[[#This Row],[TDS SKU]],Sheet2!$B:$B,Sheet2!C:C)","v":"B"},{"$f":"_xlfn.XLOOKUP(Table11[[#This Row],[TDS SKU]],Sheet2!$B:$B,Sheet2!D:D)","v":"A"},{"$f":"_xlfn.XLOOKUP(Table11[[#This Row],[TDS SKU]],Sheet2!$B:$B,Sheet2!E:E)","v":"STOCKED CTO"},{"$f":"LEFT(Table11[[#This Row],[Apple Part ]],4)","v":"Z1LW"}]
["Z1LW","15358423",1919,"CTO MBA 15 M5 10 CPU 10 GPU 32GB 512GB MIDNIGHT 35W","SCW93LL/A","Special Order","15-inch","Midnight","M5 chip with 10‑core CPU, 10‑core GPU","32GB","512GB SSD","35W Dual USB-C",null,{"$f":"_xlfn.XLOOKUP(Table11[[#This Row],[TDS SKU]],Sheet2!$B:$B,Sheet2!C:C)","v":"B"},{"$f":"_xlfn.XLOOKUP(Table11[[#This Row],[TDS SKU]],Sheet2!$B:$B,Sheet2!D:D)","v":"A"},{"$f":"_xlfn.XLOOKUP(Table11[[#This Row],[TDS SKU]],Sheet2!$B:$B,Sheet2!E:E)","v":"CTO BO"},{"$f":"LEFT(Table11[[#This Row],[Apple Part ]],4)","v":"Z1LW"}]
["Z1LX","15358439",2299,"CTO MBA 15 M5 10 CPU 10 GPU 16GB 2TB MIDNIGHT 40W","SCW93LL/A","Special Order","15-inch","Midnight","M5 chip with 10‑core CPU, 10‑core GPU","16GB","2TB SSD","40W Dynamic",null,{"$f":"_xlfn.XLOOKUP(Table11[[#This Row],[TDS SKU]],Sheet2!$B:$B,Sheet2!C:C)","v":"B"},{"$f":"_xlfn.XLOOKUP(Table11[[#This Row],[TDS SKU]],Sheet2!$B:$B,Sheet2!D:D)","v":"A"},{"$f":"_xlfn.XLOOKUP(Table11[[#This Row],[TDS SKU]],Sheet2!$B:$B,Sheet2!E:E)","v":"CTO BO"},{"$f":"LEFT(Table11[[#This Row],[Apple Part ]],4)","v":"Z1LX"}]
["Z1LX","15358448",3299,"CTO MBA 15 M5 10 CPU 10 GPU 16GB 4TB MIDNIGHT 40W","SCW93LL/A","Special Order","15-inch","Midnight","M5 chip with 10‑core CPU, 10‑core GPU","16GB","4TB SSD","40W Dynamic",null,{"$f":"_xlfn.XLOOKUP(Table11[[#This Row],[TDS SKU]],Sheet2!$B:$B,Sheet2!C:C)","v":"B"},{"$f":"_xlfn.XLOOKUP(Table11[[#This Row],[TDS SKU]],Sheet2!$B:$B,Sheet2!D:D)","v":"A"},{"$f":"_xlfn.XLOOKUP(Table11[[#This Row],[TDS SKU]],Sheet2!$B:$B,Sheet2!E:E)","v":"CTO BO"},{"$f":"LEFT(Table11[[#This Row],[Apple Part ]],4)","v":"Z1LX"}]
["Z1LX","15358435",1819,"CTO MBA 15 M5 10 CPU 10 GPU 16GB 1TB MIDNIGHT 70W","SCW93LL/A","Special Order","15-inch","Midnight","M5 chip with 10‑core CPU, 10‑core GPU","16GB","1TB SSD","70W USB-C",null,{"$f":"_xlfn.XLOOKUP(Table11[[#This Row],[TDS SKU]],Sheet2!$B:$B,Sheet2!C:C)","v":"B"},{"$f":"_xlfn.XLOOKUP(Table11[[#This Row],[TDS SKU]],Sheet2!$B:$B,Sheet2!D:D)","v":"A"},{"$f":"_xlfn.XLOOKUP(Table11[[#This Row],[TDS SKU]],Sheet2!$B:$B,Sheet2!E:E)","v":"CTO BO"},{"$f":"LEFT(Table11[[#This Row],[Apple Part ]],4)","v":"Z1LX"}]
["Z1LX","15358441",2319,"CTO MBA 15 M5 10 CPU 10 GPU 16GB 2TB MIDNIGHT 70W","SCW93LL/A","Special Order","15-inch","Midnight","M5 chip with 10‑core CPU, 10‑core GPU","16GB","2TB SSD","70W USB-C",null,{"$f":"_xlfn.XLOOKUP(Table11[[#This Row],[TDS SKU]],Sheet2!$B:$B,Sheet2!C:C)","v":"B"},{"$f":"_xlfn.XLOOKUP(Table11[[#This Row],[TDS SKU]],Sheet2!$B:$B,Sheet2!D:D)","v":"A"},{"$f":"_xlfn.XLOOKUP(Table11[[#This Row],[TDS SKU]],Sheet2!$B:$B,Sheet2!E:E)","v":"CTO BO"},{"$f":"LEFT(Table11[[#This Row],[Apple Part ]],4)","v":"Z1LX"}]
["Z1LX","15358440",2319,"CTO MBA 15 M5 10 CPU 10 GPU 16GB 2TB MIDNIGHT 35W","SCW93LL/A","Special Order","15-inch","Midnight","M5 chip with 10‑core CPU, 10‑core GPU","16GB","2TB SSD","35W Dual USB-C",null,{"$f":"_xlfn.XLOOKUP(Table11[[#This Row],[TDS SKU]],Sheet2!$B:$B,Sheet2!C:C)","v":"B"},{"$f":"_xlfn.XLOOKUP(Table11[[#This Row],[TDS SKU]],Sheet2!$B:$B,Sheet2!D:D)","v":"A"},{"$f":"_xlfn.XLOOKUP(Table11[[#This Row],[TDS SKU]],Sheet2!$B:$B,Sheet2!E:E)","v":"CTO BO"},{"$f":"LEFT(Table11[[#This Row],[Apple Part ]],4)","v":"Z1LX"}]
["Z1LX","15358449",3319,"CTO MBA 15 M5 10 CPU 10 GPU 16GB 4TB MIDNIGHT 35W","SCW93LL/A","Special Order","15-inch","Midnight","M5 chip with 10‑core CPU, 10‑core GPU","16GB","4TB SSD","35W Dual USB-C",null,{"$f":"_xlfn.XLOOKUP(Table11[[#This Row],[TDS SKU]],Sheet2!$B:$B,Sheet2!C:C)","v":"B"},{"$f":"_xlfn.XLOOKUP(Table11[[#This Row],[TDS SKU]],Sheet2!$B:$B,Sheet2!D:D)","v":"A"},{"$f":"_xlfn.XLOOKUP(Table11[[#This Row],[TDS SKU]],Sheet2!$B:$B,Sheet2!E:E)","v":"CTO BO"},{"$f":"LEFT(Table11[[#This Row],[Apple Part ]],4)","v":"Z1LX"}]
["Z1LX","15358450",3319,"CTO MBA 15 M5 10 CPU 10 GPU 16GB 4TB MIDNIGHT 70W","SCW93LL/A","Special Order","15-inch","Midnight","M5 chip with 10‑core CPU, 10‑core GPU","16GB","4TB SSD","70W USB-C",null,{"$f":"_xlfn.XLOOKUP(Table11[[#This Row],[TDS SKU]],Sheet2!$B:$B,Sheet2!C:C)","v":"B"},{"$f":"_xlfn.XLOOKUP(Table11[[#This Row],[TDS SKU]],Sheet2!$B:$B,Sheet2!D:D)","v":"A"},{"$f":"_xlfn.XLOOKUP(Table11[[#This Row],[TDS SKU]],Sheet2!$B:$B,Sheet2!E:E)","v":"CTO BO"},{"$f":"LEFT(Table11[[#This Row],[Apple Part ]],4)","v":"Z1LX"}]
["Z1LY","15358436",2199,"CTO MBA 15 M5 10 CPU 10 GPU 32GB 1TB MIDNIGHT 40W","SCW93LL/A","Stocked","15-inch","Midnight","M5 chip with 10‑core CPU, 10‑core GPU","32GB","1TB SSD","40W Dynamic",null,{"$f":"_xlfn.XLOOKUP(Table11[[#This Row],[TDS SKU]],Sheet2!$B:$B,Sheet2!C:C)","v":"B"},{"$f":"_xlfn.XLOOKUP(Table11[[#This Row],[TDS SKU]],Sheet2!$B:$B,Sheet2!D:D)","v":"A"},{"$f":"_xlfn.XLOOKUP(Table11[[#This Row],[TDS SKU]],Sheet2!$B:$B,Sheet2!E:E)","v":"STOCKED CTO"},{"$f":"LEFT(Table11[[#This Row],[Apple Part ]],4)","v":"Z1LY"}]
["Z1LY","15358442",2499,"CTO MBA 15 M5 10 CPU 10 GPU 24GB 2TB MIDNIGHT 40W","SCW93LL/A","Special Order","15-inch","Midnight","M5 chip with 10‑core CPU, 10‑core GPU","24GB","2TB SSD","40W Dynamic",null,{"$f":"_xlfn.XLOOKUP(Table11[[#This Row],[TDS SKU]],Sheet2!$B:$B,Sheet2!C:C)","v":"B"},{"$f":"_xlfn.XLOOKUP(Table11[[#This Row],[TDS SKU]],Sheet2!$B:$B,Sheet2!D:D)","v":"A"},{"$f":"_xlfn.XLOOKUP(Table11[[#This Row],[TDS SKU]],Sheet2!$B:$B,Sheet2!E:E)","v":"CTO BO"},{"$f":"LEFT(Table11[[#This Row],[Apple Part ]],4)","v":"Z1LY"}]
["Z1LY","15358451",3499,"CTO MBA 15 M5 10 CPU 10 GPU 24GB 4TB MIDNIGHT 40W","SCW93LL/A","Special Order","15-inch","Midnight","M5 chip with 10‑core CPU, 10‑core GPU","24GB","4TB SSD","40W Dynamic",null,{"$f":"_xlfn.XLOOKUP(Table11[[#This Row],[TDS SKU]],Sheet2!$B:$B,Sheet2!C:C)","v":"B"},{"$f":"_xlfn.XLOOKUP(Table11[[#This Row],[TDS SKU]],Sheet2!$B:$B,Sheet2!D:D)","v":"A"},{"$f":"_xlfn.XLOOKUP(Table11[[#This Row],[TDS SKU]],Sheet2!$B:$B,Sheet2!E:E)","v":"CTO BO"},{"$f":"LEFT(Table11[[#This Row],[Apple Part ]],4)","v":"Z1LY"}]
["Z1LY","15358445",2699,"CTO MBA 15 M5 10 CPU 10 GPU 32GB 2TB MIDNIGHT 40W","SCW93LL/A","Special Order","15-inch","Midnight","M5 chip with 10‑core CPU, 10‑core GPU","32GB","2TB SSD","40W Dynamic",null,{"$f":"_xlfn.XLOOKUP(Table11[[#This Row],[TDS SKU]],Sheet2!$B:$B,Sheet2!C:C)","v":"B"},{"$f":"_xlfn.XLOOKUP(Table11[[#This Row],[TDS SKU]],Sheet2!$B:$B,Sheet2!D:D)","v":"A"},{"$f":"_xlfn.XLOOKUP(Table11[[#This Row],[TDS SKU]],Sheet2!$B:$B,Sheet2!E:E)","v":"CTO BO"},{"$f":"LEFT(Table11[[#This Row],[Apple Part ]],4)","v":"Z1LY"}]
["Z1LY","15358454",3699,"CTO MBA 15 M5 10 CPU 10 GPU 32GB 4TB MIDNIGHT 40W","SCW93LL/A",{"$f":"IF(OR(P273=\"CTO BO\",P273=\"ZPN BO\"),\"Special Order\",\"Stocked\")","v":"Special Order"},"15-inch","Midnight","M5 chip with 10‑core CPU, 10‑core GPU","32GB","4TB SSD","40W Dynamic",null,{"$f":"_xlfn.XLOOKUP(Table11[[#This Row],[TDS SKU]],Sheet2!$B:$B,Sheet2!C:C)","v":"B"},{"$f":"_xlfn.XLOOKUP(Table11[[#This Row],[TDS SKU]],Sheet2!$B:$B,Sheet2!D:D)","v":"A"},{"$f":"_xlfn.XLOOKUP(Table11[[#This Row],[TDS SKU]],Sheet2!$B:$B,Sheet2!E:E)","v":"CTO BO"},{"$f":"LEFT(Table11[[#This Row],[Apple Part ]],4)","v":"Z1LY"}]
["Z1LY","15358438",2219,"CTO MBA 15 M5 10 CPU 10 GPU 32GB 1TB MIDNIGHT 70W","SCW93LL/A","Special Order","15-inch","Midnight","M5 chip with 10‑core CPU, 10‑core GPU","32GB","1TB SSD","70W USB-C",null,{"$f":"_xlfn.XLOOKUP(Table11[[#This Row],[TDS SKU]],Sheet2!$B:$B,Sheet2!C:C)","v":"B"},{"$f":"_xlfn.XLOOKUP(Table11[[#This Row],[TDS SKU]],Sheet2!$B:$B,Sheet2!D:D)","v":"A"},{"$f":"_xlfn.XLOOKUP(Table11[[#This Row],[TDS SKU]],Sheet2!$B:$B,Sheet2!E:E)","v":"CTO BO"},{"$f":"LEFT(Table11[[#This Row],[Apple Part ]],4)","v":"Z1LY"}]
["Z1LY","15358447",2719,"CTO MBA 15 M5 10 CPU 10 GPU 32GB 2TB MIDNIGHT 70W","SCW93LL/A","Special Order","15-inch","Midnight","M5 chip with 10‑core CPU, 10‑core GPU","32GB","2TB SSD","70W USB-C",null,{"$f":"_xlfn.XLOOKUP(Table11[[#This Row],[TDS SKU]],Sheet2!$B:$B,Sheet2!C:C)","v":"B"},{"$f":"_xlfn.XLOOKUP(Table11[[#This Row],[TDS SKU]],Sheet2!$B:$B,Sheet2!D:D)","v":"A"},{"$f":"_xlfn.XLOOKUP(Table11[[#This Row],[TDS SKU]],Sheet2!$B:$B,Sheet2!E:E)","v":"CTO BO"},{"$f":"LEFT(Table11[[#This Row],[Apple Part ]],4)","v":"Z1LY"}]
["Z1LY","15358444",2519,"CTO MBA 15 M5 10 CPU 10 GPU 24GB 2TB MIDNIGHT 70W","SCW93LL/A","Special Order","15-inch","Midnight","M5 chip with 10‑core CPU, 10‑core GPU","24GB","2TB SSD","70W USB-C",null,{"$f":"_xlfn.XLOOKUP(Table11[[#This Row],[TDS SKU]],Sheet2!$B:$B,Sheet2!C:C)","v":"B"},{"$f":"_xlfn.XLOOKUP(Table11[[#This Row],[TDS SKU]],Sheet2!$B:$B,Sheet2!D:D)","v":"A"},{"$f":"_xlfn.XLOOKUP(Table11[[#This Row],[TDS SKU]],Sheet2!$B:$B,Sheet2!E:E)","v":"CTO BO"},{"$f":"LEFT(Table11[[#This Row],[Apple Part ]],4)","v":"Z1LY"}]
["Z1LY","15358446",2719,"CTO MBA 15 M5 10 CPU 10 GPU 32GB 2TB MIDNIGHT 35W","SCW93LL/A","Special Order","15-inch","Midnight","M5 chip with 10‑core CPU, 10‑core GPU","32GB","2TB SSD","35W Dual USB-C",null,{"$f":"_xlfn.XLOOKUP(Table11[[#This Row],[TDS SKU]],Sheet2!$B:$B,Sheet2!C:C)","v":"B"},{"$f":"_xlfn.XLOOKUP(Table11[[#This Row],[TDS SKU]],Sheet2!$B:$B,Sheet2!D:D)","v":"A"},{"$f":"_xlfn.XLOOKUP(Table11[[#This Row],[TDS SKU]],Sheet2!$B:$B,Sheet2!E:E)","v":"CTO BO"},{"$f":"LEFT(Table11[[#This Row],[Apple Part ]],4)","v":"Z1LY"}]
["Z1LY","15358456",3719,"CTO MBA 15 M5 10 CPU 10 GPU 32GB 4TB MIDNIGHT 70W","SCW93LL/A","Special Order","15-inch","Midnight","M5 chip with 10‑core CPU, 10‑core GPU","32GB","4TB SSD","70W USB-C",null,{"$f":"_xlfn.XLOOKUP(Table11[[#This Row],[TDS SKU]],Sheet2!$B:$B,Sheet2!C:C)","v":"B"},{"$f":"_xlfn.XLOOKUP(Table11[[#This Row],[TDS SKU]],Sheet2!$B:$B,Sheet2!D:D)","v":"A"},{"$f":"_xlfn.XLOOKUP(Table11[[#This Row],[TDS SKU]],Sheet2!$B:$B,Sheet2!E:E)","v":"CTO BO"},{"$f":"LEFT(Table11[[#This Row],[Apple Part ]],4)","v":"Z1LY"}]
["Z1LY","15358437",2219,"CTO MBA 15 M5 10 CPU 10 GPU 32GB 1TB MIDNIGHT 35W","SCW93LL/A","Special Order","15-inch","Midnight","M5 chip with 10‑core CPU, 10‑core GPU","32GB","1TB SSD","35W Dual USB-C",null,{"$f":"_xlfn.XLOOKUP(Table11[[#This Row],[TDS SKU]],Sheet2!$B:$B,Sheet2!C:C)","v":"B"},{"$f":"_xlfn.XLOOKUP(Table11[[#This Row],[TDS SKU]],Sheet2!$B:$B,Sheet2!D:D)","v":"A"},{"$f":"_xlfn.XLOOKUP(Table11[[#This Row],[TDS SKU]],Sheet2!$B:$B,Sheet2!E:E)","v":"CTO BO"},{"$f":"LEFT(Table11[[#This Row],[Apple Part ]],4)","v":"Z1LY"}]
["Z1LY","15358443",2519,"CTO MBA 15 M5 10 CPU 10 GPU 24GB 2TB MIDNIGHT 35W","SCW93LL/A","Special Order","15-inch","Midnight","M5 chip with 10‑core CPU, 10‑core GPU","24GB","2TB SSD","35W Dual USB-C",null,{"$f":"_xlfn.XLOOKUP(Table11[[#This Row],[TDS SKU]],Sheet2!$B:$B,Sheet2!C:C)","v":"B"},{"$f":"_xlfn.XLOOKUP(Table11[[#This Row],[TDS SKU]],Sheet2!$B:$B,Sheet2!D:D)","v":"A"},{"$f":"_xlfn.XLOOKUP(Table11[[#This Row],[TDS SKU]],Sheet2!$B:$B,Sheet2!E:E)","v":"CTO BO"},{"$f":"LEFT(Table11[[#This Row],[Apple Part ]],4)","v":"Z1LY"}]
["Z1LY","15358452",3519,"CTO MBA 15 M5 10 CPU 10 GPU 24GB 4TB MIDNIGHT 35W","SCW93LL/A","Special Order","15-inch","Midnight","M5 chip with 10‑core CPU, 10‑core GPU","24GB","4TB SSD","35W Dual USB-C",null,{"$f":"_xlfn.XLOOKUP(Table11[[#This Row],[TDS SKU]],Sheet2!$B:$B,Sheet2!C:C)","v":"B"},{"$f":"_xlfn.XLOOKUP(Table11[[#This Row],[TDS SKU]],Sheet2!$B:$B,Sheet2!D:D)","v":"A"},{"$f":"_xlfn.XLOOKUP(Table11[[#This Row],[TDS SKU]],Sheet2!$B:$B,Sheet2!E:E)","v":"CTO BO"},{"$f":"LEFT(Table11[[#This Row],[Apple Part ]],4)","v":"Z1LY"}]
["Z1LY","15358453",3519,"CTO MBA 15 M5 10 CPU 10 GPU 24GB 4TB MIDNIGHT 70W","SCW93LL/A","Special Order","15-inch","Midnight","M5 chip with 10‑core CPU, 10‑core GPU","24GB","4TB SSD","70W USB-C",null,{"$f":"_xlfn.XLOOKUP(Table11[[#This Row],[TDS SKU]],Sheet2!$B:$B,Sheet2!C:C)","v":"B"},{"$f":"_xlfn.XLOOKUP(Table11[[#This Row],[TDS SKU]],Sheet2!$B:$B,Sheet2!D:D)","v":"A"},{"$f":"_xlfn.XLOOKUP(Table11[[#This Row],[TDS SKU]],Sheet2!$B:$B,Sheet2!E:E)","v":"CTO BO"},{"$f":"LEFT(Table11[[#This Row],[Apple Part ]],4)","v":"Z1LY"}]
["Z1LY","15358455",3719,"CTO MBA 15 M5 10 CPU 10 GPU 32GB 4TB MIDNIGHT 35W","SCW93LL/A","Special Order","15-inch","Midnight","M5 chip with 10‑core CPU, 10‑core GPU","32GB","4TB SSD","35W Dual USB-C",null,{"$f":"_xlfn.XLOOKUP(Table11[[#This Row],[TDS SKU]],Sheet2!$B:$B,Sheet2!C:C)","v":"B"},{"$f":"_xlfn.XLOOKUP(Table11[[#This Row],[TDS SKU]],Sheet2!$B:$B,Sheet2!D:D)","v":"A"},{"$f":"_xlfn.XLOOKUP(Table11[[#This Row],[TDS SKU]],Sheet2!$B:$B,Sheet2!E:E)","v":"CTO BO"},{"$f":"LEFT(Table11[[#This Row],[Apple Part ]],4)","v":"Z1LY"}]
["Z1LZ","15358479",2199,"CTO MBA 15 M5 10 CPU 10 GPU 32GB 1TB SKY BLUE 40W","SCW93LL/A","Special Order","15-inch","Sky Blue","M5 chip with 10‑core CPU, 10‑core GPU","32GB","1TB SSD","40W Dynamic",null,{"$f":"_xlfn.XLOOKUP(Table11[[#This Row],[TDS SKU]],Sheet2!$B:$B,Sheet2!C:C)","v":"B"},{"$f":"_xlfn.XLOOKUP(Table11[[#This Row],[TDS SKU]],Sheet2!$B:$B,Sheet2!D:D)","v":"A"},{"$f":"_xlfn.XLOOKUP(Table11[[#This Row],[TDS SKU]],Sheet2!$B:$B,Sheet2!E:E)","v":"CTO BO"},{"$f":"LEFT(Table11[[#This Row],[Apple Part ]],4)","v":"Z1LZ"}]
["Z1LZ","15358459",1699,"CTO MBA 15 M5 10 CPU 10 GPU 24GB 512GB SKY BLUE 40W","SCW93LL/A","Special Order","15-inch","Sky Blue","M5 chip with 10‑core CPU, 10‑core GPU","24GB","512GB SSD","40W Dynamic",null,{"$f":"_xlfn.XLOOKUP(Table11[[#This Row],[TDS SKU]],Sheet2!$B:$B,Sheet2!C:C)","v":"B"},{"$f":"_xlfn.XLOOKUP(Table11[[#This Row],[TDS SKU]],Sheet2!$B:$B,Sheet2!D:D)","v":"A"},{"$f":"_xlfn.XLOOKUP(Table11[[#This Row],[TDS SKU]],Sheet2!$B:$B,Sheet2!E:E)","v":"CTO BO"},{"$f":"LEFT(Table11[[#This Row],[Apple Part ]],4)","v":"Z1LZ"}]
["Z1LZ","15358462",1899,"CTO MBA 15 M5 10 CPU 10 GPU 32GB 512GB SKY BLUE 40W","SCW93LL/A","Special Order","15-inch","Sky Blue","M5 chip with 10‑core CPU, 10‑core GPU","32GB","512GB SSD","40W Dynamic",null,{"$f":"_xlfn.XLOOKUP(Table11[[#This Row],[TDS SKU]],Sheet2!$B:$B,Sheet2!C:C)","v":"B"},{"$f":"_xlfn.XLOOKUP(Table11[[#This Row],[TDS SKU]],Sheet2!$B:$B,Sheet2!D:D)","v":"A"},{"$f":"_xlfn.XLOOKUP(Table11[[#This Row],[TDS SKU]],Sheet2!$B:$B,Sheet2!E:E)","v":"CTO BO"},{"$f":"LEFT(Table11[[#This Row],[Apple Part ]],4)","v":"Z1LZ"}]
["Z1LZ","15358482",2299,"CTO MBA 15 M5 10 CPU 10 GPU 16GB 2TB SKY BLUE 40W","SCW93LL/A","Special Order","15-inch","Sky Blue","M5 chip with 10‑core CPU, 10‑core GPU","16GB","2TB SSD","40W Dynamic",null,{"$f":"_xlfn.XLOOKUP(Table11[[#This Row],[TDS SKU]],Sheet2!$B:$B,Sheet2!C:C)","v":"B"},{"$f":"_xlfn.XLOOKUP(Table11[[#This Row],[TDS SKU]],Sheet2!$B:$B,Sheet2!D:D)","v":"A"},{"$f":"_xlfn.XLOOKUP(Table11[[#This Row],[TDS SKU]],Sheet2!$B:$B,Sheet2!E:E)","v":"CTO BO"},{"$f":"LEFT(Table11[[#This Row],[Apple Part ]],4)","v":"Z1LZ"}]
["Z1LZ","15358465",2499,"CTO MBA 15 M5 10 CPU 10 GPU 24GB 2TB SKY BLUE 40W","SCW93LL/A","Special Order","15-inch","Sky Blue","M5 chip with 10‑core CPU, 10‑core GPU","24GB","2TB SSD","40W Dynamic",null,{"$f":"_xlfn.XLOOKUP(Table11[[#This Row],[TDS SKU]],Sheet2!$B:$B,Sheet2!C:C)","v":"B"},{"$f":"_xlfn.XLOOKUP(Table11[[#This Row],[TDS SKU]],Sheet2!$B:$B,Sheet2!D:D)","v":"A"},{"$f":"_xlfn.XLOOKUP(Table11[[#This Row],[TDS SKU]],Sheet2!$B:$B,Sheet2!E:E)","v":"CTO BO"},{"$f":"LEFT(Table11[[#This Row],[Apple Part ]],4)","v":"Z1LZ"}]
["Z1LZ","15358468",2699,"CTO MBA 15 M5 10 CPU 10 GPU 32GB 2TB SKY BLUE 40W","SCW93LL/A","Special Order","15-inch","Sky Blue","M5 chip with 10‑core CPU, 10‑core GPU","32GB","2TB SSD","40W Dynamic",null,{"$f":"_xlfn.XLOOKUP(Table11[[#This Row],[TDS SKU]],Sheet2!$B:$B,Sheet2!C:C)","v":"B"},{"$f":"_xlfn.XLOOKUP(Table11[[#This Row],[TDS SKU]],Sheet2!$B:$B,Sheet2!D:D)","v":"A"},{"$f":"_xlfn.XLOOKUP(Table11[[#This Row],[TDS SKU]],Sheet2!$B:$B,Sheet2!E:E)","v":"CTO BO"},{"$f":"LEFT(Table11[[#This Row],[Apple Part ]],4)","v":"Z1LZ"}]
["Z1LZ","15358471",3299,"CTO MBA 15 M5 10 CPU 10 GPU 16GB 4TB SKY BLUE 40W","SCW93LL/A","Special Order","15-inch","Sky Blue","M5 chip with 10‑core CPU, 10‑core GPU","16GB","4TB SSD","40W Dynamic",null,{"$f":"_xlfn.XLOOKUP(Table11[[#This Row],[TDS SKU]],Sheet2!$B:$B,Sheet2!C:C)","v":"B"},{"$f":"_xlfn.XLOOKUP(Table11[[#This Row],[TDS SKU]],Sheet2!$B:$B,Sheet2!D:D)","v":"A"},{"$f":"_xlfn.XLOOKUP(Table11[[#This Row],[TDS SKU]],Sheet2!$B:$B,Sheet2!E:E)","v":"CTO BO"},{"$f":"LEFT(Table11[[#This Row],[Apple Part ]],4)","v":"Z1LZ"}]
["Z1LZ","15358474",3499,"CTO MBA 15 M5 10 CPU 10 GPU 24GB 4TB SKY BLUE 40W","SCW93LL/A","Special Order","15-inch","Sky Blue","M5 chip with 10‑core CPU, 10‑core GPU","24GB","4TB SSD","40W Dynamic",null,{"$f":"_xlfn.XLOOKUP(Table11[[#This Row],[TDS SKU]],Sheet2!$B:$B,Sheet2!C:C)","v":"B"},{"$f":"_xlfn.XLOOKUP(Table11[[#This Row],[TDS SKU]],Sheet2!$B:$B,Sheet2!D:D)","v":"A"},{"$f":"_xlfn.XLOOKUP(Table11[[#This Row],[TDS SKU]],Sheet2!$B:$B,Sheet2!E:E)","v":"CTO BO"},{"$f":"LEFT(Table11[[#This Row],[Apple Part ]],4)","v":"Z1LZ"}]
["Z1LZ","15358487",3699,"CTO MBA 15 M5 10 CPU 10 GPU 32GB 4TB SKY BLUE 40W","SCW93LL/A","Special Order","15-inch","Sky Blue","M5 chip with 10‑core CPU, 10‑core GPU","32GB","4TB SSD","40W Dynamic",null,{"$f":"_xlfn.XLOOKUP(Table11[[#This Row],[TDS SKU]],Sheet2!$B:$B,Sheet2!C:C)","v":"B"},{"$f":"_xlfn.XLOOKUP(Table11[[#This Row],[TDS SKU]],Sheet2!$B:$B,Sheet2!D:D)","v":"A"},{"$f":"_xlfn.XLOOKUP(Table11[[#This Row],[TDS SKU]],Sheet2!$B:$B,Sheet2!E:E)","v":"CTO BO"},{"$f":"LEFT(Table11[[#This Row],[Apple Part ]],4)","v":"Z1LZ"}]
["Z1LZ","15358457",1519,"CTO MBA 15 M5 10 CPU 10 GPU 16GB 512GB SKY BLUE 35W","SCW93LL/A","Special Order","15-inch","Sky Blue","M5 chip with 10‑core CPU, 10‑core GPU","16GB","512GB SSD","35W Dual USB-C",null,{"$f":"_xlfn.XLOOKUP(Table11[[#This Row],[TDS SKU]],Sheet2!$B:$B,Sheet2!C:C)","v":"B"},{"$f":"_xlfn.XLOOKUP(Table11[[#This Row],[TDS SKU]],Sheet2!$B:$B,Sheet2!D:D)","v":"A"},{"$f":"_xlfn.XLOOKUP(Table11[[#This Row],[TDS SKU]],Sheet2!$B:$B,Sheet2!E:E)","v":"CTO BO"},{"$f":"LEFT(Table11[[#This Row],[Apple Part ]],4)","v":"Z1LZ"}]
["Z1LZ","15358458",1519,"CTO MBA 15 M5 10 CPU 10 GPU 16GB 512GB SKY BLUE 70W","SCW93LL/A","Special Order","15-inch","Sky Blue","M5 chip with 10‑core CPU, 10‑core GPU","16GB","512GB SSD","70W USB-C",null,{"$f":"_xlfn.XLOOKUP(Table11[[#This Row],[TDS SKU]],Sheet2!$B:$B,Sheet2!C:C)","v":"B"},{"$f":"_xlfn.XLOOKUP(Table11[[#This Row],[TDS SKU]],Sheet2!$B:$B,Sheet2!D:D)","v":"A"},{"$f":"_xlfn.XLOOKUP(Table11[[#This Row],[TDS SKU]],Sheet2!$B:$B,Sheet2!E:E)","v":"CTO BO"},{"$f":"LEFT(Table11[[#This Row],[Apple Part ]],4)","v":"Z1LZ"}]
["Z1LZ","15358467",2519,"CTO MBA 15 M5 10 CPU 10 GPU 24GB 2TB SKY BLUE 70W","SCW93LL/A","Special Order","15-inch","Sky Blue","M5 chip with 10‑core CPU, 10‑core GPU","24GB","2TB SSD","70W USB-C",null,{"$f":"_xlfn.XLOOKUP(Table11[[#This Row],[TDS SKU]],Sheet2!$B:$B,Sheet2!C:C)","v":"B"},{"$f":"_xlfn.XLOOKUP(Table11[[#This Row],[TDS SKU]],Sheet2!$B:$B,Sheet2!D:D)","v":"A"},{"$f":"_xlfn.XLOOKUP(Table11[[#This Row],[TDS SKU]],Sheet2!$B:$B,Sheet2!E:E)","v":"CTO BO"},{"$f":"LEFT(Table11[[#This Row],[Apple Part ]],4)","v":"Z1LZ"}]
["Z1LZ","15358461",1719,"CTO MBA 15 M5 10 CPU 10 GPU 24GB 512GB SKY BLUE 70W","SCW93LL/A","Special Order","15-inch","Sky Blue","M5 chip with 10‑core CPU, 10‑core GPU","24GB","512GB SSD","70W USB-C",null,{"$f":"_xlfn.XLOOKUP(Table11[[#This Row],[TDS SKU]],Sheet2!$B:$B,Sheet2!C:C)","v":"B"},{"$f":"_xlfn.XLOOKUP(Table11[[#This Row],[TDS SKU]],Sheet2!$B:$B,Sheet2!D:D)","v":"A"},{"$f":"_xlfn.XLOOKUP(Table11[[#This Row],[TDS SKU]],Sheet2!$B:$B,Sheet2!E:E)","v":"CTO BO"},{"$f":"LEFT(Table11[[#This Row],[Apple Part ]],4)","v":"Z1LZ"}]
["Z1LZ","15358464",1919,"CTO MBA 15 M5 10 CPU 10 GPU 32GB 512GB SKY BLUE 70W","SCW93LL/A","Special Order","15-inch","Sky Blue","M5 chip with 10‑core CPU, 10‑core GPU","32GB","512GB SSD","70W USB-C",null,{"$f":"_xlfn.XLOOKUP(Table11[[#This Row],[TDS SKU]],Sheet2!$B:$B,Sheet2!C:C)","v":"B"},{"$f":"_xlfn.XLOOKUP(Table11[[#This Row],[TDS SKU]],Sheet2!$B:$B,Sheet2!D:D)","v":"A"},{"$f":"_xlfn.XLOOKUP(Table11[[#This Row],[TDS SKU]],Sheet2!$B:$B,Sheet2!E:E)","v":"CTO BO"},{"$f":"LEFT(Table11[[#This Row],[Apple Part ]],4)","v":"Z1LZ"}]
["Z1LZ","15358460",1719,"CTO MBA 15 M5 10 CPU 10 GPU 24GB 512GB SKY BLUE 35W","SCW93LL/A","Special Order","15-inch","Sky Blue","M5 chip with 10‑core CPU, 10‑core GPU","24GB","512GB SSD","35W Dual USB-C",null,{"$f":"_xlfn.XLOOKUP(Table11[[#This Row],[TDS SKU]],Sheet2!$B:$B,Sheet2!C:C)","v":"B"},{"$f":"_xlfn.XLOOKUP(Table11[[#This Row],[TDS SKU]],Sheet2!$B:$B,Sheet2!D:D)","v":"A"},{"$f":"_xlfn.XLOOKUP(Table11[[#This Row],[TDS SKU]],Sheet2!$B:$B,Sheet2!E:E)","v":"CTO BO"},{"$f":"LEFT(Table11[[#This Row],[Apple Part ]],4)","v":"Z1LZ"}]
["Z1LZ","15358463",1919,"CTO MBA 15 M5 10 CPU 10 GPU 32GB 512GB SKY BLUE 35W","SCW93LL/A","Special Order","15-inch","Sky Blue","M5 chip with 10‑core CPU, 10‑core GPU","32GB","512GB SSD","35W Dual USB-C",null,{"$f":"_xlfn.XLOOKUP(Table11[[#This Row],[TDS SKU]],Sheet2!$B:$B,Sheet2!C:C)","v":"B"},{"$f":"_xlfn.XLOOKUP(Table11[[#This Row],[TDS SKU]],Sheet2!$B:$B,Sheet2!D:D)","v":"A"},{"$f":"_xlfn.XLOOKUP(Table11[[#This Row],[TDS SKU]],Sheet2!$B:$B,Sheet2!E:E)","v":"CTO BO"},{"$f":"LEFT(Table11[[#This Row],[Apple Part ]],4)","v":"Z1LZ"}]
["Z1LZ","15358481",2219,"CTO MBA 15 M5 10 CPU 10 GPU 32GB 1TB SKY BLUE 70W","SCW93LL/A","Special Order","15-inch","Sky Blue","M5 chip with 10‑core CPU, 10‑core GPU","32GB","1TB SSD","70W USB-C",null,{"$f":"_xlfn.XLOOKUP(Table11[[#This Row],[TDS SKU]],Sheet2!$B:$B,Sheet2!C:C)","v":"B"},{"$f":"_xlfn.XLOOKUP(Table11[[#This Row],[TDS SKU]],Sheet2!$B:$B,Sheet2!D:D)","v":"A"},{"$f":"_xlfn.XLOOKUP(Table11[[#This Row],[TDS SKU]],Sheet2!$B:$B,Sheet2!E:E)","v":"CTO BO"},{"$f":"LEFT(Table11[[#This Row],[Apple Part ]],4)","v":"Z1LZ"}]
["Z1LZ","15358483",2319,"CTO MBA 15 M5 10 CPU 10 GPU 16GB 2TB SKY BLUE 35W","SCW93LL/A","Special Order","15-inch","Sky Blue","M5 chip with 10‑core CPU, 10‑core GPU","16GB","2TB SSD","35W Dual USB-C",null,{"$f":"_xlfn.XLOOKUP(Table11[[#This Row],[TDS SKU]],Sheet2!$B:$B,Sheet2!C:C)","v":"B"},{"$f":"_xlfn.XLOOKUP(Table11[[#This Row],[TDS SKU]],Sheet2!$B:$B,Sheet2!D:D)","v":"A"},{"$f":"_xlfn.XLOOKUP(Table11[[#This Row],[TDS SKU]],Sheet2!$B:$B,Sheet2!E:E)","v":"CTO BO"},{"$f":"LEFT(Table11[[#This Row],[Apple Part ]],4)","v":"Z1LZ"}]
["Z1LZ","15358484",2319,"CTO MBA 15 M5 10 CPU 10 GPU 16GB 2TB SKY BLUE 70W","SCW93LL/A","Special Order","15-inch","Sky Blue","M5 chip with 10‑core CPU, 10‑core GPU","16GB","2TB SSD","70W USB-C",null,{"$f":"_xlfn.XLOOKUP(Table11[[#This Row],[TDS SKU]],Sheet2!$B:$B,Sheet2!C:C)","v":"B"},{"$f":"_xlfn.XLOOKUP(Table11[[#This Row],[TDS SKU]],Sheet2!$B:$B,Sheet2!D:D)","v":"A"},{"$f":"_xlfn.XLOOKUP(Table11[[#This Row],[TDS SKU]],Sheet2!$B:$B,Sheet2!E:E)","v":"CTO BO"},{"$f":"LEFT(Table11[[#This Row],[Apple Part ]],4)","v":"Z1LZ"}]
["Z1LZ","15358466",2519,"CTO MBA 15 M5 10 CPU 10 GPU 24GB 2TB SKY BLUE 35W","SCW93LL/A","Special Order","15-inch","Sky Blue","M5 chip with 10‑core CPU, 10‑core GPU","24GB","2TB SSD","35W Dual USB-C",null,{"$f":"_xlfn.XLOOKUP(Table11[[#This Row],[TDS SKU]],Sheet2!$B:$B,Sheet2!C:C)","v":"B"},{"$f":"_xlfn.XLOOKUP(Table11[[#This Row],[TDS SKU]],Sheet2!$B:$B,Sheet2!D:D)","v":"A"},{"$f":"_xlfn.XLOOKUP(Table11[[#This Row],[TDS SKU]],Sheet2!$B:$B,Sheet2!E:E)","v":"CTO BO"},{"$f":"LEFT(Table11[[#This Row],[Apple Part ]],4)","v":"Z1LZ"}]
["Z1LZ","15358469",2719,"CTO MBA 15 M5 10 CPU 10 GPU 32GB 2TB SKY BLUE 35W","SCW93LL/A","Special Order","15-inch","Sky Blue","M5 chip with 10‑core CPU, 10‑core GPU","32GB","2TB SSD","35W Dual USB-C",null,{"$f":"_xlfn.XLOOKUP(Table11[[#This Row],[TDS SKU]],Sheet2!$B:$B,Sheet2!C:C)","v":"B"},{"$f":"_xlfn.XLOOKUP(Table11[[#This Row],[TDS SKU]],Sheet2!$B:$B,Sheet2!D:D)","v":"A"},{"$f":"_xlfn.XLOOKUP(Table11[[#This Row],[TDS SKU]],Sheet2!$B:$B,Sheet2!E:E)","v":"CTO BO"},{"$f":"LEFT(Table11[[#This Row],[Apple Part ]],4)","v":"Z1LZ"}]
["Z1LZ","15358470",2719,"CTO MBA 15 M5 10 CPU 10 GPU 32GB 2TB SKY BLUE 70W","SCW93LL/A","Special Order","15-inch","Sky Blue","M5 chip with 10‑core CPU, 10‑core GPU","32GB","2TB SSD","70W USB-C",null,{"$f":"_xlfn.XLOOKUP(Table11[[#This Row],[TDS SKU]],Sheet2!$B:$B,Sheet2!C:C)","v":"B"},{"$f":"_xlfn.XLOOKUP(Table11[[#This Row],[TDS SKU]],Sheet2!$B:$B,Sheet2!D:D)","v":"A"},{"$f":"_xlfn.XLOOKUP(Table11[[#This Row],[TDS SKU]],Sheet2!$B:$B,Sheet2!E:E)","v":"CTO BO"},{"$f":"LEFT(Table11[[#This Row],[Apple Part ]],4)","v":"Z1LZ"}]
["Z1LZ","15358472",3319,"CTO MBA 15 M5 10 CPU 10 GPU 16GB 4TB SKY BLUE 35W","SCW93LL/A","Special Order","15-inch","Sky Blue","M5 chip with 10‑core CPU, 10‑core GPU","16GB","4TB SSD","35W Dual USB-C",null,{"$f":"_xlfn.XLOOKUP(Table11[[#This Row],[TDS SKU]],Sheet2!$B:$B,Sheet2!C:C)","v":"B"},{"$f":"_xlfn.XLOOKUP(Table11[[#This Row],[TDS SKU]],Sheet2!$B:$B,Sheet2!D:D)","v":"A"},{"$f":"_xlfn.XLOOKUP(Table11[[#This Row],[TDS SKU]],Sheet2!$B:$B,Sheet2!E:E)","v":"CTO BO"},{"$f":"LEFT(Table11[[#This Row],[Apple Part ]],4)","v":"Z1LZ"}]
["Z1LZ","15358473",3319,"CTO MBA 15 M5 10 CPU 10 GPU 16GB 4TB SKY BLUE 70W","SCW93LL/A","Special Order","15-inch","Sky Blue","M5 chip with 10‑core CPU, 10‑core GPU","16GB","4TB SSD","70W USB-C",null,{"$f":"_xlfn.XLOOKUP(Table11[[#This Row],[TDS SKU]],Sheet2!$B:$B,Sheet2!C:C)","v":"B"},{"$f":"_xlfn.XLOOKUP(Table11[[#This Row],[TDS SKU]],Sheet2!$B:$B,Sheet2!D:D)","v":"A"},{"$f":"_xlfn.XLOOKUP(Table11[[#This Row],[TDS SKU]],Sheet2!$B:$B,Sheet2!E:E)","v":"CTO BO"},{"$f":"LEFT(Table11[[#This Row],[Apple Part ]],4)","v":"Z1LZ"}]
["Z1LZ","15358485",3519,"CTO MBA 15 M5 10 CPU 10 GPU 24GB 4TB SKY BLUE 35W","SCW93LL/A","Special Order","15-inch","Sky Blue","M5 chip with 10‑core CPU, 10‑core GPU","24GB","4TB SSD","35W Dual USB-C",null,{"$f":"_xlfn.XLOOKUP(Table11[[#This Row],[TDS SKU]],Sheet2!$B:$B,Sheet2!C:C)","v":"B"},{"$f":"_xlfn.XLOOKUP(Table11[[#This Row],[TDS SKU]],Sheet2!$B:$B,Sheet2!D:D)","v":"A"},{"$f":"_xlfn.XLOOKUP(Table11[[#This Row],[TDS SKU]],Sheet2!$B:$B,Sheet2!E:E)","v":"CTO BO"},{"$f":"LEFT(Table11[[#This Row],[Apple Part ]],4)","v":"Z1LZ"}]
["Z1LZ","15358486",3519,"CTO MBA 15 M5 10 CPU 10 GPU 24GB 4TB SKY BLUE 70W","SCW93LL/A","Special Order","15-inch","Sky Blue","M5 chip with 10‑core CPU, 10‑core GPU","24GB","4TB SSD","70W USB-C",null,{"$f":"_xlfn.XLOOKUP(Table11[[#This Row],[TDS SKU]],Sheet2!$B:$B,Sheet2!C:C)","v":"B"},{"$f":"_xlfn.XLOOKUP(Table11[[#This Row],[TDS SKU]],Sheet2!$B:$B,Sheet2!D:D)","v":"A"},{"$f":"_xlfn.XLOOKUP(Table11[[#This Row],[TDS SKU]],Sheet2!$B:$B,Sheet2!E:E)","v":"CTO BO"},{"$f":"LEFT(Table11[[#This Row],[Apple Part ]],4)","v":"Z1LZ"}]
["Z1LZ","15358488",3719,"CTO MBA 15 M5 10 CPU 10 GPU 32GB 4TB SKY BLUE 35W","SCW93LL/A","Special Order","15-inch","Sky Blue","M5 chip with 10‑core CPU, 10‑core GPU","32GB","4TB SSD","35W Dual USB-C",null,{"$f":"_xlfn.XLOOKUP(Table11[[#This Row],[TDS SKU]],Sheet2!$B:$B,Sheet2!C:C)","v":"B"},{"$f":"_xlfn.XLOOKUP(Table11[[#This Row],[TDS SKU]],Sheet2!$B:$B,Sheet2!D:D)","v":"A"},{"$f":"_xlfn.XLOOKUP(Table11[[#This Row],[TDS SKU]],Sheet2!$B:$B,Sheet2!E:E)","v":"CTO BO"},{"$f":"LEFT(Table11[[#This Row],[Apple Part ]],4)","v":"Z1LZ"}]
["Z1LZ","15358489",3719,"CTO MBA 15 M5 10 CPU 10 GPU 32GB 4TB SKY BLUE 70W","SCW93LL/A","Special Order","15-inch","Sky Blue","M5 chip with 10‑core CPU, 10‑core GPU","32GB","4TB SSD","70W USB-C",null,{"$f":"_xlfn.XLOOKUP(Table11[[#This Row],[TDS SKU]],Sheet2!$B:$B,Sheet2!C:C)","v":"B"},{"$f":"_xlfn.XLOOKUP(Table11[[#This Row],[TDS SKU]],Sheet2!$B:$B,Sheet2!D:D)","v":"A"},{"$f":"_xlfn.XLOOKUP(Table11[[#This Row],[TDS SKU]],Sheet2!$B:$B,Sheet2!E:E)","v":"CTO BO"},{"$f":"LEFT(Table11[[#This Row],[Apple Part ]],4)","v":"Z1LZ"}]
["Z1LZ","15358475",1819,"CTO MBA 15 M5 10 CPU 10 GPU 16GB 1TB SKY BLUE 35W","SCW93LL/A","Special Order","15-inch","Sky Blue","M5 chip with 10‑core CPU, 10‑core GPU","16GB","1TB SSD","35W Dual USB-C",null,{"$f":"_xlfn.XLOOKUP(Table11[[#This Row],[TDS SKU]],Sheet2!$B:$B,Sheet2!C:C)","v":"B"},{"$f":"_xlfn.XLOOKUP(Table11[[#This Row],[TDS SKU]],Sheet2!$B:$B,Sheet2!D:D)","v":"A"},{"$f":"_xlfn.XLOOKUP(Table11[[#This Row],[TDS SKU]],Sheet2!$B:$B,Sheet2!E:E)","v":"CTO BO"},{"$f":"LEFT(Table11[[#This Row],[Apple Part ]],4)","v":"Z1LZ"}]
["Z1LZ","15358476",1819,"CTO MBA 15 M5 10 CPU 10 GPU 16GB 1TB SKY BLUE 70W","SCW93LL/A","Special Order","15-inch","Sky Blue","M5 chip with 10‑core CPU, 10‑core GPU","16GB","1TB SSD","70W USB-C",null,{"$f":"_xlfn.XLOOKUP(Table11[[#This Row],[TDS SKU]],Sheet2!$B:$B,Sheet2!C:C)","v":"B"},{"$f":"_xlfn.XLOOKUP(Table11[[#This Row],[TDS SKU]],Sheet2!$B:$B,Sheet2!D:D)","v":"A"},{"$f":"_xlfn.XLOOKUP(Table11[[#This Row],[TDS SKU]],Sheet2!$B:$B,Sheet2!E:E)","v":"CTO BO"},{"$f":"LEFT(Table11[[#This Row],[Apple Part ]],4)","v":"Z1LZ"}]
["Z1LZ","15358477",2019,"CTO MBA 15 M5 10 CPU 10 GPU 24GB 1TB SKY BLUE 35W","SCW93LL/A","Special Order","15-inch","Sky Blue","M5 chip with 10‑core CPU, 10‑core GPU","24GB","1TB SSD","35W Dual USB-C",null,{"$f":"_xlfn.XLOOKUP(Table11[[#This Row],[TDS SKU]],Sheet2!$B:$B,Sheet2!C:C)","v":"B"},{"$f":"_xlfn.XLOOKUP(Table11[[#This Row],[TDS SKU]],Sheet2!$B:$B,Sheet2!D:D)","v":"A"},{"$f":"_xlfn.XLOOKUP(Table11[[#This Row],[TDS SKU]],Sheet2!$B:$B,Sheet2!E:E)","v":"CTO BO"},{"$f":"LEFT(Table11[[#This Row],[Apple Part ]],4)","v":"Z1LZ"}]
["Z1LZ","15358478",2019,"CTO MBA 15 M5 10 CPU 10 GPU 24GB 1TB SKY BLUE 70W","SCW93LL/A","Special Order","15-inch","Sky Blue","M5 chip with 10‑core CPU, 10‑core GPU","24GB","1TB SSD","70W USB-C",null,{"$f":"_xlfn.XLOOKUP(Table11[[#This Row],[TDS SKU]],Sheet2!$B:$B,Sheet2!C:C)","v":"B"},{"$f":"_xlfn.XLOOKUP(Table11[[#This Row],[TDS SKU]],Sheet2!$B:$B,Sheet2!D:D)","v":"A"},{"$f":"_xlfn.XLOOKUP(Table11[[#This Row],[TDS SKU]],Sheet2!$B:$B,Sheet2!E:E)","v":"CTO BO"},{"$f":"LEFT(Table11[[#This Row],[Apple Part ]],4)","v":"Z1LZ"}]
["Z1LZ","15358480",2219,"CTO MBA 15 M5 10 CPU 10 GPU 32GB 1TB SKY BLUE 35W","SCW93LL/A","Special Order","15-inch","Sky Blue","M5 chip with 10‑core CPU, 10‑core GPU","32GB","1TB SSD","35W Dual USB-C",null,{"$f":"_xlfn.XLOOKUP(Table11[[#This Row],[TDS SKU]],Sheet2!$B:$B,Sheet2!C:C)","v":"B"},{"$f":"_xlfn.XLOOKUP(Table11[[#This Row],[TDS SKU]],Sheet2!$B:$B,Sheet2!D:D)","v":"A"},{"$f":"_xlfn.XLOOKUP(Table11[[#This Row],[TDS SKU]],Sheet2!$B:$B,Sheet2!E:E)","v":"CTO BO"},{"$f":"LEFT(Table11[[#This Row],[Apple Part ]],4)","v":"Z1LZ"}]

{"sheet":"MacBook Pro","index":4,"n_rows":308,"n_cols":17,"rows_kept":308,"cut":false,"hidden":false,"merged":[[0,0,0,12]]}
["This document and the information in it is proprietary and provided in confidence, and may not be disclosed to any third party or used for any other purpose than was intended by the author."]
[]
[]
[]
[]
[]
[]
[]
[]
[]
[]
[]
[]
[]
[]
[]
[]
["*Red text denotes EOL product"]
["Apple Part ","TDS SKU","MSRP","Description","AppleCare","Stocking Status","Size","Color","Processor","Memory","Storage","Power Adapter","Nano-Texture","ABC Code","Active Status","VPC"]
["MDE14LL/A","15098111",1999,"MBP 14 M5 10CPU 10GPU 16GB 1TB  SPACE BLACK  70W","SXKH2LL/A",{"$f":"IF(OR(P20=\"CTO BO\",P20=\"ZPN BO\"),\"Special Order\",\"Stocked\")","v":"Stocked"},"14-inch","Space Black","M5 chip with 10‑core CPU, 10‑core GPU","16GB","1TB SSD","70W USB-C","Standard",{"$f":"_xlfn.XLOOKUP(Table8[[#This Row],[TDS SKU]],Sheet2!$B:$B,Sheet2!C:C)","v":"A"},{"$f":"_xlfn.XLOOKUP(Table8[[#This Row],[TDS SKU]],Sheet2!$B:$B,Sheet2!D:D)","v":"A"},{"$f":"_xlfn.XLOOKUP(Table8[[#This Row],[TDS SKU]],Sheet2!$B:$B,Sheet2!E:E)","v":"MACBOOK"},{"$f":"LEFT(Table8[[#This Row],[Apple Part ]],4)","v":"MDE1"}]
["MDE34LL/A","15098112",2199,"MBP 14 M5 10CPU 10GPU 24GB 1TB  SPACE BLACK  70W","SXKH2LL/A","Stocked","14-inch","Space Black","M5 chip with 10‑core CPU, 10‑core GPU","24GB","1TB SSD","70W USB-C","Standard",{"$f":"_xlfn.XLOOKUP(Table8[[#This Row],[TDS SKU]],Sheet2!$B:$B,Sheet2!C:C)","v":"A"},{"$f":"_xlfn.XLOOKUP(Table8[[#This Row],[TDS SKU]],Sheet2!$B:$B,Sheet2!D:D)","v":"A"},{"$f":"_xlfn.XLOOKUP(Table8[[#This Row],[TDS SKU]],Sheet2!$B:$B,Sheet2!E:E)","v":"MACBOOK"},{"$f":"LEFT(Table8[[#This Row],[Apple Part ]],4)","v":"MDE3"}]
["MDE54LL/A","15098114",1999,"MBP 14 M5 10CPU 10GPU 16GB 1TB  SILVER  70W","SXKH2LL/A","Stocked","14-inch","Silver","M5 chip with 10‑core CPU, 10‑core GPU","16GB","1TB SSD","70W USB-C","Standard",{"$f":"_xlfn.XLOOKUP(Table8[[#This Row],[TDS SKU]],Sheet2!$B:$B,Sheet2!C:C)","v":"A"},{"$f":"_xlfn.XLOOKUP(Table8[[#This Row],[TDS SKU]],Sheet2!$B:$B,Sheet2!D:D)","v":"A"},{"$f":"_xlfn.XLOOKUP(Table8[[#This Row],[TDS SKU]],Sheet2!$B:$B,Sheet2!E:E)","v":"MACBOOK"},{"$f":"LEFT(Table8[[#This Row],[Apple Part ]],4)","v":"MDE5"}]
["MDE64LL/A","15098115",2199,"MBP 14 M5 10CPU 10GPU 24GB 1TB  SILVER  70W","SXKH2LL/A","Stocked","14-inch","Silver","M5 chip with 10‑core CPU, 10‑core GPU","24GB","1TB SSD","70W USB-C","Standard",{"$f":"_xlfn.XLOOKUP(Table8[[#This Row],[TDS SKU]],Sheet2!$B:$B,Sheet2!C:C)","v":"A"},{"$f":"_xlfn.XLOOKUP(Table8[[#This Row],[TDS SKU]],Sheet2!$B:$B,Sheet2!D:D)","v":"A"},{"$f":"_xlfn.XLOOKUP(Table8[[#This Row],[TDS SKU]],Sheet2!$B:$B,Sheet2!E:E)","v":"MACBOOK"},{"$f":"LEFT(Table8[[#This Row],[Apple Part ]],4)","v":"MDE6"}]
["MGDN4LL/A","15350890",2499,"MBP 14 M5 PRO 15 CPU 16 GPU 24GB 1TB SILVER 70W","SCXT3LL/A","Stocked","14-inch","Silver","M5 Pro chip with 15‑core CPU, 16‑core GPU","24GB","1TB SSD","70W USB-C","Standard",{"$f":"_xlfn.XLOOKUP(Table8[[#This Row],[TDS SKU]],Sheet2!$B:$B,Sheet2!C:C)","v":"A"},{"$f":"_xlfn.XLOOKUP(Table8[[#This Row],[TDS SKU]],Sheet2!$B:$B,Sheet2!D:D)","v":"A"},{"$f":"_xlfn.XLOOKUP(Table8[[#This Row],[TDS SKU]],Sheet2!$B:$B,Sheet2!E:E)","v":"MACBOOK"},{"$f":"LEFT(Table8[[#This Row],[Apple Part ]],4)","v":"MGDN"}]
["MGDP4LL/A","15350891",3199,"MBP 14 M5 PRO 18 CPU 20 GPU 24GB 2TB SILVER 96W","SCXT3LL/A","Stocked","14-inch","Silver","M5 Pro chip with 18‑core CPU, 20‑core GPU","24GB","2TB SSD","96W USB-C","Standard",{"$f":"_xlfn.XLOOKUP(Table8[[#This Row],[TDS SKU]],Sheet2!$B:$B,Sheet2!C:C)","v":"A"},{"$f":"_xlfn.XLOOKUP(Table8[[#This Row],[TDS SKU]],Sheet2!$B:$B,Sheet2!D:D)","v":"A"},{"$f":"_xlfn.XLOOKUP(Table8[[#This Row],[TDS SKU]],Sheet2!$B:$B,Sheet2!E:E)","v":"MACBOOK"},{"$f":"LEFT(Table8[[#This Row],[Apple Part ]],4)","v":"MGDP"}]
["MGDQ4LL/A","15350892",4099,"MBP 14 M5 MAX 18 CPU 32 GPU 36GB 2TB SILVER 96W","SCXT3LL/A","Stocked","14-inch","Silver","M5 Max chip with 18‑core CPU, 32‑core GPU","36GB","2TB SSD","96W USB-C","Standard",{"$f":"_xlfn.XLOOKUP(Table8[[#This Row],[TDS SKU]],Sheet2!$B:$B,Sheet2!C:C)","v":"A"},{"$f":"_xlfn.XLOOKUP(Table8[[#This Row],[TDS SKU]],Sheet2!$B:$B,Sheet2!D:D)","v":"A"},{"$f":"_xlfn.XLOOKUP(Table8[[#This Row],[TDS SKU]],Sheet2!$B:$B,Sheet2!E:E)","v":"MACBOOK"},{"$f":"LEFT(Table8[[#This Row],[Apple Part ]],4)","v":"MGDQ"}]
["MGDR4LL/A","15350893",2499,"MBP 14 M5 PRO 15 CPU 16 GPU 24GB 1TB SPACE BLACK 70W","SCXT3LL/A","Stocked","14-inch","Space Black","M5 Pro chip with 15‑core CPU, 16‑core GPU","24GB","1TB SSD","70W USB-C","Standard",{"$f":"_xlfn.XLOOKUP(Table8[[#This Row],[TDS SKU]],Sheet2!$B:$B,Sheet2!C:C)","v":"A"},{"$f":"_xlfn.XLOOKUP(Table8[[#This Row],[TDS SKU]],Sheet2!$B:$B,Sheet2!D:D)","v":"A"},{"$f":"_xlfn.XLOOKUP(Table8[[#This Row],[TDS SKU]],Sheet2!$B:$B,Sheet2!E:E)","v":"MACBOOK"},{"$f":"LEFT(Table8[[#This Row],[Apple Part ]],4)","v":"MGDR"}]
["MGDT4LL/A","15350894",3199,"MBP 14 M5 PRO 18 CPU 20 GPU 24GB 2TB SPACE BLACK 96W","SCXT3LL/A","Stocked","14-inch","Space Black","M5 Pro chip with 18‑core CPU, 20‑core GPU","24GB","2TB SSD","96W USB-C","Standard",{"$f":"_xlfn.XLOOKUP(Table8[[#This Row],[TDS SKU]],Sheet2!$B:$B,Sheet2!C:C)","v":"A"},{"$f":"_xlfn.XLOOKUP(Table8[[#This Row],[TDS SKU]],Sheet2!$B:$B,Sheet2!D:D)","v":"A"},{"$f":"_xlfn.XLOOKUP(Table8[[#This Row],[TDS SKU]],Sheet2!$B:$B,Sheet2!E:E)","v":"MACBOOK"},{"$f":"LEFT(Table8[[#This Row],[Apple Part ]],4)","v":"MGDT"}]
["MGDU4LL/A","15350895",4099,"MBP 14 M5 MAX 18 CPU 32 GPU 36GB 2TB SPACE BLACK 96W","SCXT3LL/A","Stocked","14-inch","Space Black","M5 Max chip with 18‑core CPU, 32‑core GPU","36GB","2TB SSD","96W USB-C","Standard",{"$f":"_xlfn.XLOOKUP(Table8[[#This Row],[TDS SKU]],Sheet2!$B:$B,Sheet2!C:C)","v":"A"},{"$f":"_xlfn.XLOOKUP(Table8[[#This Row],[TDS SKU]],Sheet2!$B:$B,Sheet2!D:D)","v":"A"},{"$f":"_xlfn.XLOOKUP(Table8[[#This Row],[TDS SKU]],Sheet2!$B:$B,Sheet2!E:E)","v":"MACBOOK"},{"$f":"LEFT(Table8[[#This Row],[Apple Part ]],4)","v":"MGDU"}]
["MGE44LL/A","15350896",2999,"MBP 16 M5 PRO 18 CPU 20 GPU 24GB 1TB SILVER 140W","SCXU3LL/A","Stocked","16-inch","Silver","M5 Pro chip with 18‑core CPU, 20‑core GPU","24GB","1TB SSD","140W USB-C","Standard",{"$f":"_xlfn.XLOOKUP(Table8[[#This Row],[TDS SKU]],Sheet2!$B:$B,Sheet2!C:C)","v":"A"},{"$f":"_xlfn.XLOOKUP(Table8[[#This Row],[TDS SKU]],Sheet2!$B:$B,Sheet2!D:D)","v":"A"},{"$f":"_xlfn.XLOOKUP(Table8[[#This Row],[TDS SKU]],Sheet2!$B:$B,Sheet2!E:E)","v":"MACBOOK"},{"$f":"LEFT(Table8[[#This Row],[Apple Part ]],4)","v":"MGE4"}]
["MGE64LL/A","15350916",3599,"MBP 16 M5 PRO 18 CPU 20 GPU 48GB 1TB SILVER 140W","SCXU3LL/A","Stocked","16-inch","Silver","M5 Pro chip with 18‑core CPU, 20‑core GPU","48GB","1TB SSD","140W USB-C","Standard",{"$f":"_xlfn.XLOOKUP(Table8[[#This Row],[TDS SKU]],Sheet2!$B:$B,Sheet2!C:C)","v":"A"},{"$f":"_xlfn.XLOOKUP(Table8[[#This Row],[TDS SKU]],Sheet2!$B:$B,Sheet2!D:D)","v":"A"},{"$f":"_xlfn.XLOOKUP(Table8[[#This Row],[TDS SKU]],Sheet2!$B:$B,Sheet2!E:E)","v":"MACBOOK"},{"$f":"LEFT(Table8[[#This Row],[Apple Part ]],4)","v":"MGE6"}]
["MGE74LL/A","15350917",4399,"MBP 16 M5 MAX 18 CPU 32 GPU 36GB 2TB SILVER 140W","SCXU3LL/A","Stocked","16-inch","Silver","M5 Max chip with 18‑core CPU, 32‑core GPU","36GB","2TB SSD","140W USB-C","Standard",{"$f":"_xlfn.XLOOKUP(Table8[[#This Row],[TDS SKU]],Sheet2!$B:$B,Sheet2!C:C)","v":"A"},{"$f":"_xlfn.XLOOKUP(Table8[[#This Row],[TDS SKU]],Sheet2!$B:$B,Sheet2!D:D)","v":"A"},{"$f":"_xlfn.XLOOKUP(Table8[[#This Row],[TDS SKU]],Sheet2!$B:$B,Sheet2!E:E)","v":"MACBOOK"},{"$f":"LEFT(Table8[[#This Row],[Apple Part ]],4)","v":"MGE7"}]
["MGE94LL/A","15350918",4999,"MBP 16 M5 MAX 18 CPU 40 GPU 48GB 2TB SILVER 140W","SCXU3LL/A","Stocked","16-inch","Silver","M5 Max chip with 18‑core CPU, 40‑core GPU","48GB","2TB SSD","140W USB-C","Standard",{"$f":"_xlfn.XLOOKUP(Table8[[#This Row],[TDS SKU]],Sheet2!$B:$B,Sheet2!C:C)","v":"A"},{"$f":"_xlfn.XLOOKUP(Table8[[#This Row],[TDS SKU]],Sheet2!$B:$B,Sheet2!D:D)","v":"A"},{"$f":"_xlfn.XLOOKUP(Table8[[#This Row],[TDS SKU]],Sheet2!$B:$B,Sheet2!E:E)","v":"MACBOOK"},{"$f":"LEFT(Table8[[#This Row],[Apple Part ]],4)","v":"MGE9"}]
["MGEA4LL/A","15350919",2999,"MBP 16 M5 PRO 18 CPU 20 GPU 24GB 1TB SPACE BLACK 140W","SCXU3LL/A","Stocked","16-inch","Space Black","M5 Pro chip with 18‑core CPU, 20‑core GPU","24GB","1TB SSD","140W USB-C","Standard",{"$f":"_xlfn.XLOOKUP(Table8[[#This Row],[TDS SKU]],Sheet2!$B:$B,Sheet2!C:C)","v":"A"},{"$f":"_xlfn.XLOOKUP(Table8[[#This Row],[TDS SKU]],Sheet2!$B:$B,Sheet2!D:D)","v":"A"},{"$f":"_xlfn.XLOOKUP(Table8[[#This Row],[TDS SKU]],Sheet2!$B:$B,Sheet2!E:E)","v":"MACBOOK"},{"$f":"LEFT(Table8[[#This Row],[Apple Part ]],4)","v":"MGEA"}]
["MGEC4LL/A","15350920",3599,"MBP 16 M5 PRO 18 CPU 20 GPU 48GB 1TB SPACE BLACK 140W","SCXU3LL/A","Stocked","16-inch","Space Black","M5 Pro chip with 18‑core CPU, 20‑core GPU","48GB","1TB SSD","140W USB-C","Standard",{"$f":"_xlfn.XLOOKUP(Table8[[#This Row],[TDS SKU]],Sheet2!$B:$B,Sheet2!C:C)","v":"A"},{"$f":"_xlfn.XLOOKUP(Table8[[#This Row],[TDS SKU]],Sheet2!$B:$B,Sheet2!D:D)","v":"A"},{"$f":"_xlfn.XLOOKUP(Table8[[#This Row],[TDS SKU]],Sheet2!$B:$B,Sheet2!E:E)","v":"MACBOOK"},{"$f":"LEFT(Table8[[#This Row],[Apple Part ]],4)","v":"MGEC"}]
["MGED4LL/A","15350950",4399,"MBP 16 M5 MAX 18 CPU 32 GPU 36GB 2TB SPACE BLACK 140W","SCXU3LL/A","Stocked","16-inch","Space Black","M5 Max chip with 18‑core CPU, 32‑core GPU","36GB","2TB SSD","140W USB-C","Standard",{"$f":"_xlfn.XLOOKUP(Table8[[#This Row],[TDS SKU]],Sheet2!$B:$B,Sheet2!C:C)","v":"A"},{"$f":"_xlfn.XLOOKUP(Table8[[#This Row],[TDS SKU]],Sheet2!$B:$B,Sheet2!D:D)","v":"A"},{"$f":"_xlfn.XLOOKUP(Table8[[#This Row],[TDS SKU]],Sheet2!$B:$B,Sheet2!E:E)","v":"MACBOOK"},{"$f":"LEFT(Table8[[#This Row],[Apple Part ]],4)","v":"MGED"}]
["MGEE4LL/A","15350951",4999,"MBP 16 M5 MAX 18 CPU 40 GPU 48GB 2TB SPACE BLACK 140W","SCXU3LL/A","Stocked","16-inch","Space Black","M5 Max chip with 18‑core CPU, 40‑core GPU","48GB","2TB SSD","140W USB-C","Standard",{"$f":"_xlfn.XLOOKUP(Table8[[#This Row],[TDS SKU]],Sheet2!$B:$B,Sheet2!C:C)","v":"A"},{"$f":"_xlfn.XLOOKUP(Table8[[#This Row],[TDS SKU]],Sheet2!$B:$B,Sheet2!D:D)","v":"A"},{"$f":"_xlfn.XLOOKUP(Table8[[#This Row],[TDS SKU]],Sheet2!$B:$B,Sheet2!E:E)","v":"MACBOOK"},{"$f":"LEFT(Table8[[#This Row],[Apple Part ]],4)","v":"MGEE"}]
["MJ3D4LL/A","15350921",2399,"MBP 14 M5 10CPU 10GPU 32GB 1TB  SPACE BLACK  70W","SXKH2LL/A","Stocked","14-inch","Space Black","M5 chip with 10‑core CPU, 10‑core GPU","32GB","1TB SSD","70W USB-C","Standard",{"$f":"_xlfn.XLOOKUP(Table8[[#This Row],[TDS SKU]],Sheet2!$B:$B,Sheet2!C:C)","v":"A"},{"$f":"_xlfn.XLOOKUP(Table8[[#This Row],[TDS SKU]],Sheet2!$B:$B,Sheet2!D:D)","v":"A"},{"$f":"_xlfn.XLOOKUP(Table8[[#This Row],[TDS SKU]],Sheet2!$B:$B,Sheet2!E:E)","v":"MACBOOK"},{"$f":"LEFT(Table8[[#This Row],[Apple Part ]],4)","v":"MJ3D"}]
["MJ3E4LL/A","15350922",2399,"MBP 14 M5 10CPU 10GPU 32GB 1TB  SILVER  70W","SXKH2LL/A","Stocked","14-inch","Silver","M5 chip with 10‑core CPU, 10‑core GPU","32GB","1TB SSD","70W USB-C","Standard",{"$f":"_xlfn.XLOOKUP(Table8[[#This Row],[TDS SKU]],Sheet2!$B:$B,Sheet2!C:C)","v":"A"},{"$f":"_xlfn.XLOOKUP(Table8[[#This Row],[TDS SKU]],Sheet2!$B:$B,Sheet2!D:D)","v":"A"},{"$f":"_xlfn.XLOOKUP(Table8[[#This Row],[TDS SKU]],Sheet2!$B:$B,Sheet2!E:E)","v":"MACBOOK"},{"$f":"LEFT(Table8[[#This Row],[Apple Part ]],4)","v":"MJ3E"}]
["MJLV4LL/A","15350923",2999,"MBP 14 M5 PRO 15 CPU 16 GPU 24GB 2TB SILVER 70W","SCXT3LL/A","Stocked","14-inch","Silver","M5 Pro chip with 15‑core CPU, 16‑core GPU","24GB","2TB SSD","70W USB-C","Standard",{"$f":"_xlfn.XLOOKUP(Table8[[#This Row],[TDS SKU]],Sheet2!$B:$B,Sheet2!C:C)","v":"A"},{"$f":"_xlfn.XLOOKUP(Table8[[#This Row],[TDS SKU]],Sheet2!$B:$B,Sheet2!D:D)","v":"A"},{"$f":"_xlfn.XLOOKUP(Table8[[#This Row],[TDS SKU]],Sheet2!$B:$B,Sheet2!E:E)","v":"MACBOOK"},{"$f":"LEFT(Table8[[#This Row],[Apple Part ]],4)","v":"MJLV"}]
["MJLW4LL/A","15350881",2999,"MBP 14 M5 PRO 15 CPU 16 GPU 24GB 2TB SPACE BLACK 70W","SCXT3LL/A","Stocked","14-inch","Space Black","M5 Pro chip with 15‑core CPU, 16‑core GPU","24GB","2TB SSD","70W USB-C","Standard",{"$f":"_xlfn.XLOOKUP(Table8[[#This Row],[TDS SKU]],Sheet2!$B:$B,Sheet2!C:C)","v":"A"},{"$f":"_xlfn.XLOOKUP(Table8[[#This Row],[TDS SKU]],Sheet2!$B:$B,Sheet2!D:D)","v":"A"},{"$f":"_xlfn.XLOOKUP(Table8[[#This Row],[TDS SKU]],Sheet2!$B:$B,Sheet2!E:E)","v":"MACBOOK"},{"$f":"LEFT(Table8[[#This Row],[Apple Part ]],4)","v":"MJLW"}]
["Z1FB","14324863",0,"CTO MBP 14 M4 PRO 12CPU 16GPU 48GB 512GB SLVR 70W","SR182LL/A","Stocked","14-inch","Silver","M4 Pro chip with 12‑core CPU, 16‑core GPU","48GB","512GB SSD","70W USB-C","Standard",{"$f":"_xlfn.XLOOKUP(Table8[[#This Row],[TDS SKU]],Sheet2!$B:$B,Sheet2!C:C)","v":"C"},{"$f":"_xlfn.XLOOKUP(Table8[[#This Row],[TDS SKU]],Sheet2!$B:$B,Sheet2!D:D)","v":"A"},{"$f":"_xlfn.XLOOKUP(Table8[[#This Row],[TDS SKU]],Sheet2!$B:$B,Sheet2!E:E)","v":"STOCKED CTO"},{"$f":"LEFT(Table8[[#This Row],[Apple Part ]],4)","v":"Z1FB"}]
["Z1KJ","15359382",2149,"CTO MBP 14 M5 10CPU 10GPU 16GB 1TB  SPACE BLACK NANO 70W","SXKH2LL/A","Special Order","14-inch","Space Black","M5 chip with 10‑core CPU, 10‑core GPU","16GB","1TB SSD","70W USB-C","Nano-Texture",{"$f":"_xlfn.XLOOKUP(Table8[[#This Row],[TDS SKU]],Sheet2!$B:$B,Sheet2!C:C)","v":"B"},{"$f":"_xlfn.XLOOKUP(Table8[[#This Row],[TDS SKU]],Sheet2!$B:$B,Sheet2!D:D)","v":"A"},{"$f":"_xlfn.XLOOKUP(Table8[[#This Row],[TDS SKU]],Sheet2!$B:$B,Sheet2!E:E)","v":"CTO BO"},{"$f":"LEFT(Table8[[#This Row],[Apple Part ]],4)","v":"Z1KJ"}]
["Z1KJ","15359390",2499,"CTO MBP 14 M5 10CPU 10GPU 16GB 2TB  SPACE BLACK  70W","SXKH2LL/A","Special Order","14-inch","Space Black","M5 chip with 10‑core CPU, 10‑core GPU","16GB","2TB SSD","70W USB-C","Standard",{"$f":"_xlfn.XLOOKUP(Table8[[#This Row],[TDS SKU]],Sheet2!$B:$B,Sheet2!C:C)","v":"B"},{"$f":"_xlfn.XLOOKUP(Table8[[#This Row],[TDS SKU]],Sheet2!$B:$B,Sheet2!D:D)","v":"A"},{"$f":"_xlfn.XLOOKUP(Table8[[#This Row],[TDS SKU]],Sheet2!$B:$B,Sheet2!E:E)","v":"CTO BO"},{"$f":"LEFT(Table8[[#This Row],[Apple Part ]],4)","v":"Z1KJ"}]
["Z1KJ","15359372",3499,"CTO MBP 14 M5 10CPU 10GPU 16GB 4TB  SPACE BLACK  70W","SXKH2LL/A","Special Order","14-inch","Space Black","M5 chip with 10‑core CPU, 10‑core GPU","16GB","4TB SSD","70W USB-C","Standard",{"$f":"_xlfn.XLOOKUP(Table8[[#This Row],[TDS SKU]],Sheet2!$B:$B,Sheet2!C:C)","v":"B"},{"$f":"_xlfn.XLOOKUP(Table8[[#This Row],[TDS SKU]],Sheet2!$B:$B,Sheet2!D:D)","v":"A"},{"$f":"_xlfn.XLOOKUP(Table8[[#This Row],[TDS SKU]],Sheet2!$B:$B,Sheet2!E:E)","v":"CTO BO"},{"$f":"LEFT(Table8[[#This Row],[Apple Part ]],4)","v":"Z1KJ"}]
["Z1KJ","15359381",2019,"CTO MBP 14 M5 10CPU 10GPU 16GB 1TB  SPACE BLACK  96W","SXKH2LL/A","Special Order","14-inch","Space Black","M5 chip with 10‑core CPU, 10‑core GPU","16GB","1TB SSD","96W USB-C","Standard",{"$f":"_xlfn.XLOOKUP(Table8[[#This Row],[TDS SKU]],Sheet2!$B:$B,Sheet2!C:C)","v":"B"},{"$f":"_xlfn.XLOOKUP(Table8[[#This Row],[TDS SKU]],Sheet2!$B:$B,Sheet2!D:D)","v":"A"},{"$f":"_xlfn.XLOOKUP(Table8[[#This Row],[TDS SKU]],Sheet2!$B:$B,Sheet2!E:E)","v":"CTO BO"},{"$f":"LEFT(Table8[[#This Row],[Apple Part ]],4)","v":"Z1KJ"}]
["Z1KJ","15359383",2169,"CTO MBP 14 M5 10CPU 10GPU 16GB 1TB  SPACE BLACK NANO 96W","SXKH2LL/A","Special Order","14-inch","Space Black","M5 chip with 10‑core CPU, 10‑core GPU","16GB","1TB SSD","96W USB-C","Nano-Texture",{"$f":"_xlfn.XLOOKUP(Table8[[#This Row],[TDS SKU]],Sheet2!$B:$B,Sheet2!C:C)","v":"B"},{"$f":"_xlfn.XLOOKUP(Table8[[#This Row],[TDS SKU]],Sheet2!$B:$B,Sheet2!D:D)","v":"A"},{"$f":"_xlfn.XLOOKUP(Table8[[#This Row],[TDS SKU]],Sheet2!$B:$B,Sheet2!E:E)","v":"CTO BO"},{"$f":"LEFT(Table8[[#This Row],[Apple Part ]],4)","v":"Z1KJ"}]
["Z1KJ","15359387",2419,"CTO MBP 14 M5 10CPU 10GPU 32GB 1TB  SPACE BLACK  96W","SXKH2LL/A","Special Order","14-inch","Space Black","M5 chip with 10‑core CPU, 10‑core GPU","32GB","1TB SSD","96W USB-C","Standard",{"$f":"_xlfn.XLOOKUP(Table8[[#This Row],[TDS SKU]],Sheet2!$B:$B,Sheet2!C:C)","v":"B"},{"$f":"_xlfn.XLOOKUP(Table8[[#This Row],[TDS SKU]],Sheet2!$B:$B,Sheet2!D:D)","v":"A"},{"$f":"_xlfn.XLOOKUP(Table8[[#This Row],[TDS SKU]],Sheet2!$B:$B,Sheet2!E:E)","v":"CTO BO"},{"$f":"LEFT(Table8[[#This Row],[Apple Part ]],4)","v":"Z1KJ"}]
["Z1KJ","15359368",2899,"CTO MBP 14 M5 10CPU 10GPU 32GB 2TB  SPACE BLACK  70W","SXKH2LL/A","Special Order","14-inch","Space Black","M5 chip with 10‑core CPU, 10‑core GPU","32GB","2TB SSD","70W USB-C","Standard",{"$f":"_xlfn.XLOOKUP(Table8[[#This Row],[TDS SKU]],Sheet2!$B:$B,Sheet2!C:C)","v":"B"},{"$f":"_xlfn.XLOOKUP(Table8[[#This Row],[TDS SKU]],Sheet2!$B:$B,Sheet2!D:D)","v":"A"},{"$f":"_xlfn.XLOOKUP(Table8[[#This Row],[TDS SKU]],Sheet2!$B:$B,Sheet2!E:E)","v":"CTO BO"},{"$f":"LEFT(Table8[[#This Row],[Apple Part ]],4)","v":"Z1KJ"}]
["Z1KJ","15359384",2219,"CTO MBP 14 M5 10CPU 10GPU 24GB 1TB  SPACE BLACK  96W","SXKH2LL/A","Special Order","14-inch","Space Black","M5 chip with 10‑core CPU, 10‑core GPU","24GB","1TB SSD","96W USB-C","Standard",{"$f":"_xlfn.XLOOKUP(Table8[[#This Row],[TDS SKU]],Sheet2!$B:$B,Sheet2!C:C)","v":"B"},{"$f":"_xlfn.XLOOKUP(Table8[[#This Row],[TDS SKU]],Sheet2!$B:$B,Sheet2!D:D)","v":"A"},{"$f":"_xlfn.XLOOKUP(Table8[[#This Row],[TDS SKU]],Sheet2!$B:$B,Sheet2!E:E)","v":"CTO BO"},{"$f":"LEFT(Table8[[#This Row],[Apple Part ]],4)","v":"Z1KJ"}]
["Z1KJ","15359386",2369,"CTO MBP 14 M5 10CPU 10GPU 24GB 1TB  SPACE BLACK NANO 96W","SXKH2LL/A","Special Order","14-inch","Space Black","M5 chip with 10‑core CPU, 10‑core GPU","24GB","1TB SSD","96W USB-C","Nano-Texture",{"$f":"_xlfn.XLOOKUP(Table8[[#This Row],[TDS SKU]],Sheet2!$B:$B,Sheet2!C:C)","v":"B"},{"$f":"_xlfn.XLOOKUP(Table8[[#This Row],[TDS SKU]],Sheet2!$B:$B,Sheet2!D:D)","v":"A"},{"$f":"_xlfn.XLOOKUP(Table8[[#This Row],[TDS SKU]],Sheet2!$B:$B,Sheet2!E:E)","v":"CTO BO"},{"$f":"LEFT(Table8[[#This Row],[Apple Part ]],4)","v":"Z1KJ"}]
["Z1KJ","15359389",2569,"CTO MBP 14 M5 10CPU 10GPU 32GB 1TB  SPACE BLACK NANO 96W","SXKH2LL/A","Special Order","14-inch","Space Black","M5 chip with 10‑core CPU, 10‑core GPU","32GB","1TB SSD","96W USB-C","Nano-Texture",{"$f":"_xlfn.XLOOKUP(Table8[[#This Row],[TDS SKU]],Sheet2!$B:$B,Sheet2!C:C)","v":"B"},{"$f":"_xlfn.XLOOKUP(Table8[[#This Row],[TDS SKU]],Sheet2!$B:$B,Sheet2!D:D)","v":"A"},{"$f":"_xlfn.XLOOKUP(Table8[[#This Row],[TDS SKU]],Sheet2!$B:$B,Sheet2!E:E)","v":"CTO BO"},{"$f":"LEFT(Table8[[#This Row],[Apple Part ]],4)","v":"Z1KJ"}]
["Z1KJ","15359388",2549,"CTO MBP 14 M5 10CPU 10GPU 32GB 1TB  SPACE BLACK NANO 70W","SXKH2LL/A","Special Order","14-inch","Space Black","M5 chip with 10‑core CPU, 10‑core GPU","32GB","1TB SSD","70W USB-C","Nano-Texture",{"$f":"_xlfn.XLOOKUP(Table8[[#This Row],[TDS SKU]],Sheet2!$B:$B,Sheet2!C:C)","v":"B"},{"$f":"_xlfn.XLOOKUP(Table8[[#This Row],[TDS SKU]],Sheet2!$B:$B,Sheet2!D:D)","v":"A"},{"$f":"_xlfn.XLOOKUP(Table8[[#This Row],[TDS SKU]],Sheet2!$B:$B,Sheet2!E:E)","v":"CTO BO"},{"$f":"LEFT(Table8[[#This Row],[Apple Part ]],4)","v":"Z1KJ"}]
["Z1KJ","15359393",2669,"CTO MBP 14 M5 10CPU 10GPU 16GB 2TB  SPACE BLACK NANO 96W","SXKH2LL/A","Special Order","14-inch","Space Black","M5 chip with 10‑core CPU, 10‑core GPU","16GB","2TB SSD","96W USB-C","Nano-Texture",{"$f":"_xlfn.XLOOKUP(Table8[[#This Row],[TDS SKU]],Sheet2!$B:$B,Sheet2!C:C)","v":"B"},{"$f":"_xlfn.XLOOKUP(Table8[[#This Row],[TDS SKU]],Sheet2!$B:$B,Sheet2!D:D)","v":"A"},{"$f":"_xlfn.XLOOKUP(Table8[[#This Row],[TDS SKU]],Sheet2!$B:$B,Sheet2!E:E)","v":"CTO BO"},{"$f":"LEFT(Table8[[#This Row],[Apple Part ]],4)","v":"Z1KJ"}]
["Z1KJ","15359369",2919,"CTO MBP 14 M5 10CPU 10GPU 32GB 2TB  SPACE BLACK  96W","SXKH2LL/A","Special Order","14-inch","Space Black","M5 chip with 10‑core CPU, 10‑core GPU","32GB","2TB SSD","96W USB-C","Standard",{"$f":"_xlfn.XLOOKUP(Table8[[#This Row],[TDS SKU]],Sheet2!$B:$B,Sheet2!C:C)","v":"B"},{"$f":"_xlfn.XLOOKUP(Table8[[#This Row],[TDS SKU]],Sheet2!$B:$B,Sheet2!D:D)","v":"A"},{"$f":"_xlfn.XLOOKUP(Table8[[#This Row],[TDS SKU]],Sheet2!$B:$B,Sheet2!E:E)","v":"CTO BO"},{"$f":"LEFT(Table8[[#This Row],[Apple Part ]],4)","v":"Z1KJ"}]
["Z1KJ","15359394",2699,"CTO MBP 14 M5 10CPU 10GPU 24GB 2TB  SPACE BLACK  70W","SXKH2LL/A","Special Order","14-inch","Space Black","M5 chip with 10‑core CPU, 10‑core GPU","24GB","2TB SSD","70W USB-C","Standard",{"$f":"_xlfn.XLOOKUP(Table8[[#This Row],[TDS SKU]],Sheet2!$B:$B,Sheet2!C:C)","v":"B"},{"$f":"_xlfn.XLOOKUP(Table8[[#This Row],[TDS SKU]],Sheet2!$B:$B,Sheet2!D:D)","v":"A"},{"$f":"_xlfn.XLOOKUP(Table8[[#This Row],[TDS SKU]],Sheet2!$B:$B,Sheet2!E:E)","v":"CTO BO"},{"$f":"LEFT(Table8[[#This Row],[Apple Part ]],4)","v":"Z1KJ"}]
["Z1KJ","15359385",2349,"CTO MBP 14 M5 10CPU 10GPU 24GB 1TB  SPACE BLACK NANO 70W","SXKH2LL/A","Special Order","14-inch","Space Black","M5 chip with 10‑core CPU, 10‑core GPU","24GB","1TB SSD","70W USB-C","Nano-Texture",{"$f":"_xlfn.XLOOKUP(Table8[[#This Row],[TDS SKU]],Sheet2!$B:$B,Sheet2!C:C)","v":"B"},{"$f":"_xlfn.XLOOKUP(Table8[[#This Row],[TDS SKU]],Sheet2!$B:$B,Sheet2!D:D)","v":"A"},{"$f":"_xlfn.XLOOKUP(Table8[[#This Row],[TDS SKU]],Sheet2!$B:$B,Sheet2!E:E)","v":"CTO BO"},{"$f":"LEFT(Table8[[#This Row],[Apple Part ]],4)","v":"Z1KJ"}]
["Z1KJ","15359395",2719,"CTO MBP 14 M5 10CPU 10GPU 24GB 2TB  SPACE BLACK  96W","SXKH2LL/A","Special Order","14-inch","Space Black","M5 chip with 10‑core CPU, 10‑core GPU","24GB","2TB SSD","96W USB-C","Standard",{"$f":"_xlfn.XLOOKUP(Table8[[#This Row],[TDS SKU]],Sheet2!$B:$B,Sheet2!C:C)","v":"B"},{"$f":"_xlfn.XLOOKUP(Table8[[#This Row],[TDS SKU]],Sheet2!$B:$B,Sheet2!D:D)","v":"A"},{"$f":"_xlfn.XLOOKUP(Table8[[#This Row],[TDS SKU]],Sheet2!$B:$B,Sheet2!E:E)","v":"CTO BO"},{"$f":"LEFT(Table8[[#This Row],[Apple Part ]],4)","v":"Z1KJ"}]
["Z1KJ","15359391",2519,"CTO MBP 14 M5 10CPU 10GPU 16GB 2TB  SPACE BLACK  96W","SXKH2LL/A","Special Order","14-inch","Space Black","M5 chip with 10‑core CPU, 10‑core GPU","16GB","2TB SSD","96W USB-C","Standard",{"$f":"_xlfn.XLOOKUP(Table8[[#This Row],[TDS SKU]],Sheet2!$B:$B,Sheet2!C:C)","v":"B"},{"$f":"_xlfn.XLOOKUP(Table8[[#This Row],[TDS SKU]],Sheet2!$B:$B,Sheet2!D:D)","v":"A"},{"$f":"_xlfn.XLOOKUP(Table8[[#This Row],[TDS SKU]],Sheet2!$B:$B,Sheet2!E:E)","v":"CTO BO"},{"$f":"LEFT(Table8[[#This Row],[Apple Part ]],4)","v":"Z1KJ"}]
["Z1KJ","15359392",2649,"CTO MBP 14 M5 10CPU 10GPU 16GB 2TB  SPACE BLACK NANO 70W","SXKH2LL/A","Special Order","14-inch","Space Black","M5 chip with 10‑core CPU, 10‑core GPU","16GB","2TB SSD","70W USB-C","Nano-Texture",{"$f":"_xlfn.XLOOKUP(Table8[[#This Row],[TDS SKU]],Sheet2!$B:$B,Sheet2!C:C)","v":"B"},{"$f":"_xlfn.XLOOKUP(Table8[[#This Row],[TDS SKU]],Sheet2!$B:$B,Sheet2!D:D)","v":"A"},{"$f":"_xlfn.XLOOKUP(Table8[[#This Row],[TDS SKU]],Sheet2!$B:$B,Sheet2!E:E)","v":"CTO BO"},{"$f":"LEFT(Table8[[#This Row],[Apple Part ]],4)","v":"Z1KJ"}]
["Z1KJ","15359370",3049,"CTO MBP 14 M5 10CPU 10GPU 32GB 2TB  SPACE BLACK NANO 70W","SXKH2LL/A","Special Order","14-inch","Space Black","M5 chip with 10‑core CPU, 10‑core GPU","32GB","2TB SSD","70W USB-C","Nano-Texture",{"$f":"_xlfn.XLOOKUP(Table8[[#This Row],[TDS SKU]],Sheet2!$B:$B,Sheet2!C:C)","v":"B"},{"$f":"_xlfn.XLOOKUP(Table8[[#This Row],[TDS SKU]],Sheet2!$B:$B,Sheet2!D:D)","v":"A"},{"$f":"_xlfn.XLOOKUP(Table8[[#This Row],[TDS SKU]],Sheet2!$B:$B,Sheet2!E:E)","v":"CTO BO"},{"$f":"LEFT(Table8[[#This Row],[Apple Part ]],4)","v":"Z1KJ"}]
["Z1KJ","15359376",3699,"CTO MBP 14 M5 10CPU 10GPU 24GB 4TB  SPACE BLACK  70W","SXKH2LL/A","Special Order","14-inch","Space Black","M5 chip with 10‑core CPU, 10‑core GPU","24GB","4TB SSD","70W USB-C","Standard",{"$f":"_xlfn.XLOOKUP(Table8[[#This Row],[TDS SKU]],Sheet2!$B:$B,Sheet2!C:C)","v":"B"},{"$f":"_xlfn.XLOOKUP(Table8[[#This Row],[TDS SKU]],Sheet2!$B:$B,Sheet2!D:D)","v":"A"},{"$f":"_xlfn.XLOOKUP(Table8[[#This Row],[TDS SKU]],Sheet2!$B:$B,Sheet2!E:E)","v":"CTO BO"},{"$f":"LEFT(Table8[[#This Row],[Apple Part ]],4)","v":"Z1KJ"}]
["Z1KJ","15359403",4069,"CTO MBP 14 M5 10CPU 10GPU 32GB 4TB  SPACE BLACK NANO 96W","SXKH2LL/A","Special Order","14-inch","Space Black","M5 chip with 10‑core CPU, 10‑core GPU","32GB","4TB SSD","96W USB-C","Nano-Texture",{"$f":"_xlfn.XLOOKUP(Table8[[#This Row],[TDS SKU]],Sheet2!$B:$B,Sheet2!C:C)","v":"B"},{"$f":"_xlfn.XLOOKUP(Table8[[#This Row],[TDS SKU]],Sheet2!$B:$B,Sheet2!D:D)","v":"A"},{"$f":"_xlfn.XLOOKUP(Table8[[#This Row],[TDS SKU]],Sheet2!$B:$B,Sheet2!E:E)","v":"CTO BO"},{"$f":"LEFT(Table8[[#This Row],[Apple Part ]],4)","v":"Z1KJ"}]
["Z1KJ","15359377",3719,"CTO MBP 14 M5 10CPU 10GPU 24GB 4TB  SPACE BLACK  96W","SXKH2LL/A","Special Order","14-inch","Space Black","M5 chip with 10‑core CPU, 10‑core GPU","24GB","4TB SSD","96W USB-C","Standard",{"$f":"_xlfn.XLOOKUP(Table8[[#This Row],[TDS SKU]],Sheet2!$B:$B,Sheet2!C:C)","v":"B"},{"$f":"_xlfn.XLOOKUP(Table8[[#This Row],[TDS SKU]],Sheet2!$B:$B,Sheet2!D:D)","v":"A"},{"$f":"_xlfn.XLOOKUP(Table8[[#This Row],[TDS SKU]],Sheet2!$B:$B,Sheet2!E:E)","v":"CTO BO"},{"$f":"LEFT(Table8[[#This Row],[Apple Part ]],4)","v":"Z1KJ"}]
["Z1KJ","15359400",3899,"CTO MBP 14 M5 10CPU 10GPU 32GB 4TB  SPACE BLACK  70W","SXKH2LL/A","Special Order","14-inch","Space Black","M5 chip with 10‑core CPU, 10‑core GPU","32GB","4TB SSD","70W USB-C","Standard",{"$f":"_xlfn.XLOOKUP(Table8[[#This Row],[TDS SKU]],Sheet2!$B:$B,Sheet2!C:C)","v":"B"},{"$f":"_xlfn.XLOOKUP(Table8[[#This Row],[TDS SKU]],Sheet2!$B:$B,Sheet2!D:D)","v":"A"},{"$f":"_xlfn.XLOOKUP(Table8[[#This Row],[TDS SKU]],Sheet2!$B:$B,Sheet2!E:E)","v":"CTO BO"},{"$f":"LEFT(Table8[[#This Row],[Apple Part ]],4)","v":"Z1KJ"}]
["Z1KJ","15359402",4049,"CTO MBP 14 M5 10CPU 10GPU 32GB 4TB  SPACE BLACK NANO 70W","SXKH2LL/A","Special Order","14-inch","Space Black","M5 chip with 10‑core CPU, 10‑core GPU","32GB","4TB SSD","70W USB-C","Nano-Texture",{"$f":"_xlfn.XLOOKUP(Table8[[#This Row],[TDS SKU]],Sheet2!$B:$B,Sheet2!C:C)","v":"B"},{"$f":"_xlfn.XLOOKUP(Table8[[#This Row],[TDS SKU]],Sheet2!$B:$B,Sheet2!D:D)","v":"A"},{"$f":"_xlfn.XLOOKUP(Table8[[#This Row],[TDS SKU]],Sheet2!$B:$B,Sheet2!E:E)","v":"CTO BO"},{"$f":"LEFT(Table8[[#This Row],[Apple Part ]],4)","v":"Z1KJ"}]
["Z1KJ","15359375",3669,"CTO MBP 14 M5 10CPU 10GPU 16GB 4TB  SPACE BLACK NANO 96W","SXKH2LL/A","Special Order","14-inch","Space Black","M5 chip with 10‑core CPU, 10‑core GPU","16GB","4TB SSD","96W USB-C","Nano-Texture",{"$f":"_xlfn.XLOOKUP(Table8[[#This Row],[TDS SKU]],Sheet2!$B:$B,Sheet2!C:C)","v":"B"},{"$f":"_xlfn.XLOOKUP(Table8[[#This Row],[TDS SKU]],Sheet2!$B:$B,Sheet2!D:D)","v":"A"},{"$f":"_xlfn.XLOOKUP(Table8[[#This Row],[TDS SKU]],Sheet2!$B:$B,Sheet2!E:E)","v":"CTO BO"},{"$f":"LEFT(Table8[[#This Row],[Apple Part ]],4)","v":"Z1KJ"}]
["Z1KJ","15359396",2849,"CTO MBP 14 M5 10CPU 10GPU 24GB 2TB  SPACE BLACK NANO 70W","SXKH2LL/A","Special Order","14-inch","Space Black","M5 chip with 10‑core CPU, 10‑core GPU","24GB","2TB SSD","70W USB-C","Nano-Texture",{"$f":"_xlfn.XLOOKUP(Table8[[#This Row],[TDS SKU]],Sheet2!$B:$B,Sheet2!C:C)","v":"B"},{"$f":"_xlfn.XLOOKUP(Table8[[#This Row],[TDS SKU]],Sheet2!$B:$B,Sheet2!D:D)","v":"A"},{"$f":"_xlfn.XLOOKUP(Table8[[#This Row],[TDS SKU]],Sheet2!$B:$B,Sheet2!E:E)","v":"CTO BO"},{"$f":"LEFT(Table8[[#This Row],[Apple Part ]],4)","v":"Z1KJ"}]
["Z1KJ","15359371",3069,"CTO MBP 14 M5 10CPU 10GPU 32GB 2TB  SPACE BLACK NANO 96W","SXKH2LL/A","Special Order","14-inch","Space Black","M5 chip with 10‑core CPU, 10‑core GPU","32GB","2TB SSD","96W USB-C","Nano-Texture",{"$f":"_xlfn.XLOOKUP(Table8[[#This Row],[TDS SKU]],Sheet2!$B:$B,Sheet2!C:C)","v":"B"},{"$f":"_xlfn.XLOOKUP(Table8[[#This Row],[TDS SKU]],Sheet2!$B:$B,Sheet2!D:D)","v":"A"},{"$f":"_xlfn.XLOOKUP(Table8[[#This Row],[TDS SKU]],Sheet2!$B:$B,Sheet2!E:E)","v":"CTO BO"},{"$f":"LEFT(Table8[[#This Row],[Apple Part ]],4)","v":"Z1KJ"}]
["Z1KJ","15359397",2869,"CTO MBP 14 M5 10CPU 10GPU 24GB 2TB  SPACE BLACK NANO 96W","SXKH2LL/A","Special Order","14-inch","Space Black","M5 chip with 10‑core CPU, 10‑core GPU","24GB","2TB SSD","96W USB-C","Nano-Texture",{"$f":"_xlfn.XLOOKUP(Table8[[#This Row],[TDS SKU]],Sheet2!$B:$B,Sheet2!C:C)","v":"B"},{"$f":"_xlfn.XLOOKUP(Table8[[#This Row],[TDS SKU]],Sheet2!$B:$B,Sheet2!D:D)","v":"A"},{"$f":"_xlfn.XLOOKUP(Table8[[#This Row],[TDS SKU]],Sheet2!$B:$B,Sheet2!E:E)","v":"CTO BO"},{"$f":"LEFT(Table8[[#This Row],[Apple Part ]],4)","v":"Z1KJ"}]
["Z1KJ","15359398",3849,"CTO MBP 14 M5 10CPU 10GPU 24GB 4TB  SPACE BLACK NANO 70W","SXKH2LL/A","Special Order","14-inch","Space Black","M5 chip with 10‑core CPU, 10‑core GPU","24GB","4TB SSD","70W USB-C","Nano-Texture",{"$f":"_xlfn.XLOOKUP(Table8[[#This Row],[TDS SKU]],Sheet2!$B:$B,Sheet2!C:C)","v":"B"},{"$f":"_xlfn.XLOOKUP(Table8[[#This Row],[TDS SKU]],Sheet2!$B:$B,Sheet2!D:D)","v":"A"},{"$f":"_xlfn.XLOOKUP(Table8[[#This Row],[TDS SKU]],Sheet2!$B:$B,Sheet2!E:E)","v":"CTO BO"},{"$f":"LEFT(Table8[[#This Row],[Apple Part ]],4)","v":"Z1KJ"}]
["Z1KJ","15359399",3869,"CTO MBP 14 M5 10CPU 10GPU 24GB 4TB  SPACE BLACK NANO 96W","SXKH2LL/A","Special Order","14-inch","Space Black","M5 chip with 10‑core CPU, 10‑core GPU","24GB","4TB SSD","96W USB-C","Nano-Texture",{"$f":"_xlfn.XLOOKUP(Table8[[#This Row],[TDS SKU]],Sheet2!$B:$B,Sheet2!C:C)","v":"B"},{"$f":"_xlfn.XLOOKUP(Table8[[#This Row],[TDS SKU]],Sheet2!$B:$B,Sheet2!D:D)","v":"A"},{"$f":"_xlfn.XLOOKUP(Table8[[#This Row],[TDS SKU]],Sheet2!$B:$B,Sheet2!E:E)","v":"CTO BO"},{"$f":"LEFT(Table8[[#This Row],[Apple Part ]],4)","v":"Z1KJ"}]
["Z1KJ","15359373",2519,"CTO MBP 14 M5 10CPU 10GPU 16GB 4TB  SPACE BLACK  96W","SXKH2LL/A","Special Order","14-inch","Space Black","M5 chip with 10‑core CPU, 10‑core GPU","16GB","4TB SSD","96W USB-C","Standard",{"$f":"_xlfn.XLOOKUP(Table8[[#This Row],[TDS SKU]],Sheet2!$B:$B,Sheet2!C:C)","v":"B"},{"$f":"_xlfn.XLOOKUP(Table8[[#This Row],[TDS SKU]],Sheet2!$B:$B,Sheet2!D:D)","v":"A"},{"$f":"_xlfn.XLOOKUP(Table8[[#This Row],[TDS SKU]],Sheet2!$B:$B,Sheet2!E:E)","v":"CTO BO"},{"$f":"LEFT(Table8[[#This Row],[Apple Part ]],4)","v":"Z1KJ"}]
["Z1KJ","15359401",3919,"CTO MBP 14 M5 10CPU 10GPU 32GB 4TB  SPACE BLACK  96W","SXKH2LL/A","Special Order","14-inch","Space Black","M5 chip with 10‑core CPU, 10‑core GPU","32GB","4TB SSD","96W USB-C","Standard",{"$f":"_xlfn.XLOOKUP(Table8[[#This Row],[TDS SKU]],Sheet2!$B:$B,Sheet2!C:C)","v":"B"},{"$f":"_xlfn.XLOOKUP(Table8[[#This Row],[TDS SKU]],Sheet2!$B:$B,Sheet2!D:D)","v":"A"},{"$f":"_xlfn.XLOOKUP(Table8[[#This Row],[TDS SKU]],Sheet2!$B:$B,Sheet2!E:E)","v":"CTO BO"},{"$f":"LEFT(Table8[[#This Row],[Apple Part ]],4)","v":"Z1KJ"}]
["Z1KJ","15359374",3649,"CTO MBP 14 M5 10CPU 10GPU 16GB 4TB  SPACE BLACK NANO 70W","SXKH2LL/A","Special Order","14-inch","Space Black","M5 chip with 10‑core CPU, 10‑core GPU","16GB","4TB SSD","70W USB-C","Nano-Texture",{"$f":"_xlfn.XLOOKUP(Table8[[#This Row],[TDS SKU]],Sheet2!$B:$B,Sheet2!C:C)","v":"B"},{"$f":"_xlfn.XLOOKUP(Table8[[#This Row],[TDS SKU]],Sheet2!$B:$B,Sheet2!D:D)","v":"A"},{"$f":"_xlfn.XLOOKUP(Table8[[#This Row],[TDS SKU]],Sheet2!$B:$B,Sheet2!E:E)","v":"CTO BO"},{"$f":"LEFT(Table8[[#This Row],[Apple Part ]],4)","v":"Z1KJ"}]
["Z1KM","15359339",2149,"CTO MBP 14 M5 10CPU 10GPU 16GB 1TB  SILVER NANO 70W","SXKH2LL/A","Special Order","14-inch","Silver","M5 chip with 10‑core CPU, 10‑core GPU","16GB","1TB SSD","70W USB-C","Nano-Texture",{"$f":"_xlfn.XLOOKUP(Table8[[#This Row],[TDS SKU]],Sheet2!$B:$B,Sheet2!C:C)","v":"B"},{"$f":"_xlfn.XLOOKUP(Table8[[#This Row],[TDS SKU]],Sheet2!$B:$B,Sheet2!D:D)","v":"A"},{"$f":"_xlfn.XLOOKUP(Table8[[#This Row],[TDS SKU]],Sheet2!$B:$B,Sheet2!E:E)","v":"CTO BO"},{"$f":"LEFT(Table8[[#This Row],[Apple Part ]],4)","v":"Z1KM"}]
["Z1KM","15359347",2499,"CTO MBP 14 M5 10CPU 10GPU 16GB 2TB  SILVER  70W","SXKH2LL/A","Special Order","14-inch","Silver","M5 chip with 10‑core CPU, 10‑core GPU","16GB","2TB SSD","70W USB-C","Standard",{"$f":"_xlfn.XLOOKUP(Table8[[#This Row],[TDS SKU]],Sheet2!$B:$B,Sheet2!C:C)","v":"B"},{"$f":"_xlfn.XLOOKUP(Table8[[#This Row],[TDS SKU]],Sheet2!$B:$B,Sheet2!D:D)","v":"A"},{"$f":"_xlfn.XLOOKUP(Table8[[#This Row],[TDS SKU]],Sheet2!$B:$B,Sheet2!E:E)","v":"CTO BO"},{"$f":"LEFT(Table8[[#This Row],[Apple Part ]],4)","v":"Z1KM"}]
["Z1KM","15359349",3499,"CTO MBP 14 M5 10CPU 10GPU 16GB 4TB  SILVER  70W","SXKH2LL/A","Special Order","14-inch","Silver","M5 chip with 10‑core CPU, 10‑core GPU","16GB","4TB SSD","70W USB-C","Standard",{"$f":"_xlfn.XLOOKUP(Table8[[#This Row],[TDS SKU]],Sheet2!$B:$B,Sheet2!C:C)","v":"B"},{"$f":"_xlfn.XLOOKUP(Table8[[#This Row],[TDS SKU]],Sheet2!$B:$B,Sheet2!D:D)","v":"A"},{"$f":"_xlfn.XLOOKUP(Table8[[#This Row],[TDS SKU]],Sheet2!$B:$B,Sheet2!E:E)","v":"CTO BO"},{"$f":"LEFT(Table8[[#This Row],[Apple Part ]],4)","v":"Z1KM"}]
["Z1KM","15359338",2019,"CTO MBP 14 M5 10CPU 10GPU 16GB 1TB  SILVER  96W","SXKH2LL/A","Special Order","14-inch","Silver","M5 chip with 10‑core CPU, 10‑core GPU","16GB","1TB SSD","96W USB-C","Standard",{"$f":"_xlfn.XLOOKUP(Table8[[#This Row],[TDS SKU]],Sheet2!$B:$B,Sheet2!C:C)","v":"B"},{"$f":"_xlfn.XLOOKUP(Table8[[#This Row],[TDS SKU]],Sheet2!$B:$B,Sheet2!D:D)","v":"A"},{"$f":"_xlfn.XLOOKUP(Table8[[#This Row],[TDS SKU]],Sheet2!$B:$B,Sheet2!E:E)","v":"CTO BO"},{"$f":"LEFT(Table8[[#This Row],[Apple Part ]],4)","v":"Z1KM"}]
["Z1KM","15359340",2169,"CTO MBP 14 M5 10CPU 10GPU 16GB 1TB  SILVER NANO 96W","SXKH2LL/A","Special Order","14-inch","Silver","M5 chip with 10‑core CPU, 10‑core GPU","16GB","1TB SSD","96W USB-C","Nano-Texture",{"$f":"_xlfn.XLOOKUP(Table8[[#This Row],[TDS SKU]],Sheet2!$B:$B,Sheet2!C:C)","v":"B"},{"$f":"_xlfn.XLOOKUP(Table8[[#This Row],[TDS SKU]],Sheet2!$B:$B,Sheet2!D:D)","v":"A"},{"$f":"_xlfn.XLOOKUP(Table8[[#This Row],[TDS SKU]],Sheet2!$B:$B,Sheet2!E:E)","v":"CTO BO"},{"$f":"LEFT(Table8[[#This Row],[Apple Part ]],4)","v":"Z1KM"}]
["Z1KM","15359341",2219,"CTO MBP 14 M5 10CPU 10GPU 24GB 1TB  SILVER  96W","SXKH2LL/A","Special Order","14-inch","Silver","M5 chip with 10‑core CPU, 10‑core GPU","24GB","1TB SSD","96W USB-C","Standard",{"$f":"_xlfn.XLOOKUP(Table8[[#This Row],[TDS SKU]],Sheet2!$B:$B,Sheet2!C:C)","v":"B"},{"$f":"_xlfn.XLOOKUP(Table8[[#This Row],[TDS SKU]],Sheet2!$B:$B,Sheet2!D:D)","v":"A"},{"$f":"_xlfn.XLOOKUP(Table8[[#This Row],[TDS SKU]],Sheet2!$B:$B,Sheet2!E:E)","v":"CTO BO"},{"$f":"LEFT(Table8[[#This Row],[Apple Part ]],4)","v":"Z1KM"}]
["Z1KM","15359342",2349,"CTO MBP 14 M5 10CPU 10GPU 24GB 1TB  SILVER NANO 70W","SXKH2LL/A","Special Order","14-inch","Silver","M5 chip with 10‑core CPU, 10‑core GPU","24GB","1TB SSD","70W USB-C","Nano-Texture",{"$f":"_xlfn.XLOOKUP(Table8[[#This Row],[TDS SKU]],Sheet2!$B:$B,Sheet2!C:C)","v":"B"},{"$f":"_xlfn.XLOOKUP(Table8[[#This Row],[TDS SKU]],Sheet2!$B:$B,Sheet2!D:D)","v":"A"},{"$f":"_xlfn.XLOOKUP(Table8[[#This Row],[TDS SKU]],Sheet2!$B:$B,Sheet2!E:E)","v":"CTO BO"},{"$f":"LEFT(Table8[[#This Row],[Apple Part ]],4)","v":"Z1KM"}]
["Z1KM","15359343",2369,"CTO MBP 14 M5 10CPU 10GPU 24GB 1TB  SILVER NANO 96W","SXKH2LL/A","Special Order","14-inch","Silver","M5 chip with 10‑core CPU, 10‑core GPU","24GB","1TB SSD","96W USB-C","Nano-Texture",{"$f":"_xlfn.XLOOKUP(Table8[[#This Row],[TDS SKU]],Sheet2!$B:$B,Sheet2!C:C)","v":"B"},{"$f":"_xlfn.XLOOKUP(Table8[[#This Row],[TDS SKU]],Sheet2!$B:$B,Sheet2!D:D)","v":"A"},{"$f":"_xlfn.XLOOKUP(Table8[[#This Row],[TDS SKU]],Sheet2!$B:$B,Sheet2!E:E)","v":"CTO BO"},{"$f":"LEFT(Table8[[#This Row],[Apple Part ]],4)","v":"Z1KM"}]
["Z1KM","15359366",2919,"CTO MBP 14 M5 10CPU 10GPU 32GB 2TB  SILVER  96W","SXKH2LL/A",{"$f":"IF(OR(P84=\"CTO BO\",P84=\"ZPN BO\"),\"Special Order\",\"Stocked\")","v":"Special Order"},"14-inch","Silver","M5 chip with 10‑core CPU, 10‑core GPU","32GB","2TB SSD","96W USB-C","Standard",{"$f":"_xlfn.XLOOKUP(Table8[[#This Row],[TDS SKU]],Sheet2!$B:$B,Sheet2!C:C)","v":"B"},{"$f":"_xlfn.XLOOKUP(Table8[[#This Row],[TDS SKU]],Sheet2!$B:$B,Sheet2!D:D)","v":"A"},{"$f":"_xlfn.XLOOKUP(Table8[[#This Row],[TDS SKU]],Sheet2!$B:$B,Sheet2!E:E)","v":"CTO BO"},{"$f":"LEFT(Table8[[#This Row],[Apple Part ]],4)","v":"Z1KM"}]
["Z1KM","15359361",2699,"CTO MBP 14 M5 10CPU 10GPU 24GB 2TB  SILVER  70W","SXKH2LL/A","Special Order","14-inch","Silver","M5 chip with 10‑core CPU, 10‑core GPU","24GB","2TB SSD","70W USB-C","Standard",{"$f":"_xlfn.XLOOKUP(Table8[[#This Row],[TDS SKU]],Sheet2!$B:$B,Sheet2!C:C)","v":"B"},{"$f":"_xlfn.XLOOKUP(Table8[[#This Row],[TDS SKU]],Sheet2!$B:$B,Sheet2!D:D)","v":"A"},{"$f":"_xlfn.XLOOKUP(Table8[[#This Row],[TDS SKU]],Sheet2!$B:$B,Sheet2!E:E)","v":"CTO BO"},{"$f":"LEFT(Table8[[#This Row],[Apple Part ]],4)","v":"Z1KM"}]
["Z1KM","15359345",2549,"CTO MBP 14 M5 10CPU 10GPU 32GB 1TB  SILVER NANO 70W","SXKH2LL/A","Special Order","14-inch","Silver","M5 chip with 10‑core CPU, 10‑core GPU","32GB","1TB SSD","70W USB-C","Nano-Texture",{"$f":"_xlfn.XLOOKUP(Table8[[#This Row],[TDS SKU]],Sheet2!$B:$B,Sheet2!C:C)","v":"B"},{"$f":"_xlfn.XLOOKUP(Table8[[#This Row],[TDS SKU]],Sheet2!$B:$B,Sheet2!D:D)","v":"A"},{"$f":"_xlfn.XLOOKUP(Table8[[#This Row],[TDS SKU]],Sheet2!$B:$B,Sheet2!E:E)","v":"CTO BO"},{"$f":"LEFT(Table8[[#This Row],[Apple Part ]],4)","v":"Z1KM"}]
["Z1KM","15359378",3919,"CTO MBP 14 M5 10CPU 10GPU 32GB 4TB  SILVER  96W","SXKH2LL/A","Special Order","14-inch","Silver","M5 chip with 10‑core CPU, 10‑core GPU","32GB","4TB SSD","96W USB-C","Standard",{"$f":"_xlfn.XLOOKUP(Table8[[#This Row],[TDS SKU]],Sheet2!$B:$B,Sheet2!C:C)","v":"B"},{"$f":"_xlfn.XLOOKUP(Table8[[#This Row],[TDS SKU]],Sheet2!$B:$B,Sheet2!D:D)","v":"A"},{"$f":"_xlfn.XLOOKUP(Table8[[#This Row],[TDS SKU]],Sheet2!$B:$B,Sheet2!E:E)","v":"CTO BO"},{"$f":"LEFT(Table8[[#This Row],[Apple Part ]],4)","v":"Z1KM"}]
["Z1KM","15359344",2419,"CTO MBP 14 M5 10CPU 10GPU 32GB 1TB  SILVER  96W","SXKH2LL/A","Special Order","14-inch","Silver","M5 chip with 10‑core CPU, 10‑core GPU","32GB","1TB SSD","96W USB-C","Standard",{"$f":"_xlfn.XLOOKUP(Table8[[#This Row],[TDS SKU]],Sheet2!$B:$B,Sheet2!C:C)","v":"B"},{"$f":"_xlfn.XLOOKUP(Table8[[#This Row],[TDS SKU]],Sheet2!$B:$B,Sheet2!D:D)","v":"A"},{"$f":"_xlfn.XLOOKUP(Table8[[#This Row],[TDS SKU]],Sheet2!$B:$B,Sheet2!E:E)","v":"CTO BO"},{"$f":"LEFT(Table8[[#This Row],[Apple Part ]],4)","v":"Z1KM"}]
["Z1KM","15359358",2519,"CTO MBP 14 M5 10CPU 10GPU 16GB 2TB  SILVER  96W","SXKH2LL/A","Special Order","14-inch","Silver","M5 chip with 10‑core CPU, 10‑core GPU","16GB","2TB SSD","96W USB-C","Standard",{"$f":"_xlfn.XLOOKUP(Table8[[#This Row],[TDS SKU]],Sheet2!$B:$B,Sheet2!C:C)","v":"B"},{"$f":"_xlfn.XLOOKUP(Table8[[#This Row],[TDS SKU]],Sheet2!$B:$B,Sheet2!D:D)","v":"A"},{"$f":"_xlfn.XLOOKUP(Table8[[#This Row],[TDS SKU]],Sheet2!$B:$B,Sheet2!E:E)","v":"CTO BO"},{"$f":"LEFT(Table8[[#This Row],[Apple Part ]],4)","v":"Z1KM"}]
["Z1KM","15359365",2899,"CTO MBP 14 M5 10CPU 10GPU 32GB 2TB  SILVER  70W","SXKH2LL/A","Special Order","14-inch","Silver","M5 chip with 10‑core CPU, 10‑core GPU","32GB","2TB SSD","70W USB-C","Standard",{"$f":"_xlfn.XLOOKUP(Table8[[#This Row],[TDS SKU]],Sheet2!$B:$B,Sheet2!C:C)","v":"B"},{"$f":"_xlfn.XLOOKUP(Table8[[#This Row],[TDS SKU]],Sheet2!$B:$B,Sheet2!D:D)","v":"A"},{"$f":"_xlfn.XLOOKUP(Table8[[#This Row],[TDS SKU]],Sheet2!$B:$B,Sheet2!E:E)","v":"CTO BO"},{"$f":"LEFT(Table8[[#This Row],[Apple Part ]],4)","v":"Z1KM"}]
["Z1KM","15359346",2569,"CTO MBP 14 M5 10CPU 10GPU 32GB 1TB  SILVER NANO 96W","SXKH2LL/A","Special Order","14-inch","Silver","M5 chip with 10‑core CPU, 10‑core GPU","32GB","1TB SSD","96W USB-C","Nano-Texture",{"$f":"_xlfn.XLOOKUP(Table8[[#This Row],[TDS SKU]],Sheet2!$B:$B,Sheet2!C:C)","v":"B"},{"$f":"_xlfn.XLOOKUP(Table8[[#This Row],[TDS SKU]],Sheet2!$B:$B,Sheet2!D:D)","v":"A"},{"$f":"_xlfn.XLOOKUP(Table8[[#This Row],[TDS SKU]],Sheet2!$B:$B,Sheet2!E:E)","v":"CTO BO"},{"$f":"LEFT(Table8[[#This Row],[Apple Part ]],4)","v":"Z1KM"}]
["Z1KM","15359380",4069,"CTO MBP 14 M5 10CPU 10GPU 32GB 4TB  SILVER NANO 96W","SXKH2LL/A","Special Order","14-inch","Silver","M5 chip with 10‑core CPU, 10‑core GPU","32GB","4TB SSD","96W USB-C","Nano-Texture",{"$f":"_xlfn.XLOOKUP(Table8[[#This Row],[TDS SKU]],Sheet2!$B:$B,Sheet2!C:C)","v":"B"},{"$f":"_xlfn.XLOOKUP(Table8[[#This Row],[TDS SKU]],Sheet2!$B:$B,Sheet2!D:D)","v":"A"},{"$f":"_xlfn.XLOOKUP(Table8[[#This Row],[TDS SKU]],Sheet2!$B:$B,Sheet2!E:E)","v":"CTO BO"},{"$f":"LEFT(Table8[[#This Row],[Apple Part ]],4)","v":"Z1KM"}]
["Z1KM","15359360",2669,"CTO MBP 14 M5 10CPU 10GPU 16GB 2TB  SILVER NANO 96W","SXKH2LL/A","Special Order","14-inch","Silver","M5 chip with 10‑core CPU, 10‑core GPU","16GB","2TB SSD","96W USB-C","Nano-Texture",{"$f":"_xlfn.XLOOKUP(Table8[[#This Row],[TDS SKU]],Sheet2!$B:$B,Sheet2!C:C)","v":"B"},{"$f":"_xlfn.XLOOKUP(Table8[[#This Row],[TDS SKU]],Sheet2!$B:$B,Sheet2!D:D)","v":"A"},{"$f":"_xlfn.XLOOKUP(Table8[[#This Row],[TDS SKU]],Sheet2!$B:$B,Sheet2!E:E)","v":"CTO BO"},{"$f":"LEFT(Table8[[#This Row],[Apple Part ]],4)","v":"Z1KM"}]
["Z1KM","15359364",2869,"CTO MBP 14 M5 10CPU 10GPU 24GB 2TB  SILVER NANO 96W","SXKH2LL/A","Special Order","14-inch","Silver","M5 chip with 10‑core CPU, 10‑core GPU","24GB","2TB SSD","96W USB-C","Nano-Texture",{"$f":"_xlfn.XLOOKUP(Table8[[#This Row],[TDS SKU]],Sheet2!$B:$B,Sheet2!C:C)","v":"B"},{"$f":"_xlfn.XLOOKUP(Table8[[#This Row],[TDS SKU]],Sheet2!$B:$B,Sheet2!D:D)","v":"A"},{"$f":"_xlfn.XLOOKUP(Table8[[#This Row],[TDS SKU]],Sheet2!$B:$B,Sheet2!E:E)","v":"CTO BO"},{"$f":"LEFT(Table8[[#This Row],[Apple Part ]],4)","v":"Z1KM"}]
["Z1KM","15359359",2649,"CTO MBP 14 M5 10CPU 10GPU 16GB 2TB  SILVER NANO 70W","SXKH2LL/A","Special Order","14-inch","Silver","M5 chip with 10‑core CPU, 10‑core GPU","16GB","2TB SSD","70W USB-C","Nano-Texture",{"$f":"_xlfn.XLOOKUP(Table8[[#This Row],[TDS SKU]],Sheet2!$B:$B,Sheet2!C:C)","v":"B"},{"$f":"_xlfn.XLOOKUP(Table8[[#This Row],[TDS SKU]],Sheet2!$B:$B,Sheet2!D:D)","v":"A"},{"$f":"_xlfn.XLOOKUP(Table8[[#This Row],[TDS SKU]],Sheet2!$B:$B,Sheet2!E:E)","v":"CTO BO"},{"$f":"LEFT(Table8[[#This Row],[Apple Part ]],4)","v":"Z1KM"}]
["Z1KM","15359363",2849,"CTO MBP 14 M5 10CPU 10GPU 24GB 2TB  SILVER NANO 70W","SXKH2LL/A","Special Order","14-inch","Silver","M5 chip with 10‑core CPU, 10‑core GPU","24GB","2TB SSD","70W USB-C","Nano-Texture",{"$f":"_xlfn.XLOOKUP(Table8[[#This Row],[TDS SKU]],Sheet2!$B:$B,Sheet2!C:C)","v":"B"},{"$f":"_xlfn.XLOOKUP(Table8[[#This Row],[TDS SKU]],Sheet2!$B:$B,Sheet2!D:D)","v":"A"},{"$f":"_xlfn.XLOOKUP(Table8[[#This Row],[TDS SKU]],Sheet2!$B:$B,Sheet2!E:E)","v":"CTO BO"},{"$f":"LEFT(Table8[[#This Row],[Apple Part ]],4)","v":"Z1KM"}]
["Z1KM","15359367",3049,"CTO MBP 14 M5 10CPU 10GPU 32GB 2TB  SILVER NANO 70W","SXKH2LL/A","Special Order","14-inch","Silver","M5 chip with 10‑core CPU, 10‑core GPU","32GB","2TB SSD","70W USB-C","Nano-Texture",{"$f":"_xlfn.XLOOKUP(Table8[[#This Row],[TDS SKU]],Sheet2!$B:$B,Sheet2!C:C)","v":"B"},{"$f":"_xlfn.XLOOKUP(Table8[[#This Row],[TDS SKU]],Sheet2!$B:$B,Sheet2!D:D)","v":"A"},{"$f":"_xlfn.XLOOKUP(Table8[[#This Row],[TDS SKU]],Sheet2!$B:$B,Sheet2!E:E)","v":"CTO BO"},{"$f":"LEFT(Table8[[#This Row],[Apple Part ]],4)","v":"Z1KM"}]
["Z1KM","15359353",3699,"CTO MBP 14 M5 10CPU 10GPU 24GB 4TB  SILVER  70W","SXKH2LL/A","Special Order","14-inch","Silver","M5 chip with 10‑core CPU, 10‑core GPU","24GB","4TB SSD","70W USB-C","Standard",{"$f":"_xlfn.XLOOKUP(Table8[[#This Row],[TDS SKU]],Sheet2!$B:$B,Sheet2!C:C)","v":"B"},{"$f":"_xlfn.XLOOKUP(Table8[[#This Row],[TDS SKU]],Sheet2!$B:$B,Sheet2!D:D)","v":"A"},{"$f":"_xlfn.XLOOKUP(Table8[[#This Row],[TDS SKU]],Sheet2!$B:$B,Sheet2!E:E)","v":"CTO BO"},{"$f":"LEFT(Table8[[#This Row],[Apple Part ]],4)","v":"Z1KM"}]
["Z1KM","15359348",3069,"CTO MBP 14 M5 10CPU 10GPU 32GB 2TB  SILVER NANO 96W","SXKH2LL/A","Special Order","14-inch","Silver","M5 chip with 10‑core CPU, 10‑core GPU","32GB","2TB SSD","96W USB-C","Nano-Texture",{"$f":"_xlfn.XLOOKUP(Table8[[#This Row],[TDS SKU]],Sheet2!$B:$B,Sheet2!C:C)","v":"B"},{"$f":"_xlfn.XLOOKUP(Table8[[#This Row],[TDS SKU]],Sheet2!$B:$B,Sheet2!D:D)","v":"A"},{"$f":"_xlfn.XLOOKUP(Table8[[#This Row],[TDS SKU]],Sheet2!$B:$B,Sheet2!E:E)","v":"CTO BO"},{"$f":"LEFT(Table8[[#This Row],[Apple Part ]],4)","v":"Z1KM"}]
["Z1KM","15359352",3669,"CTO MBP 14 M5 10CPU 10GPU 16GB 4TB  SILVER NANO 96W","SXKH2LL/A","Special Order","14-inch","Silver","M5 chip with 10‑core CPU, 10‑core GPU","16GB","4TB SSD","96W USB-C","Nano-Texture",{"$f":"_xlfn.XLOOKUP(Table8[[#This Row],[TDS SKU]],Sheet2!$B:$B,Sheet2!C:C)","v":"B"},{"$f":"_xlfn.XLOOKUP(Table8[[#This Row],[TDS SKU]],Sheet2!$B:$B,Sheet2!D:D)","v":"A"},{"$f":"_xlfn.XLOOKUP(Table8[[#This Row],[TDS SKU]],Sheet2!$B:$B,Sheet2!E:E)","v":"CTO BO"},{"$f":"LEFT(Table8[[#This Row],[Apple Part ]],4)","v":"Z1KM"}]
["Z1KM","15359379",4049,"CTO MBP 14 M5 10CPU 10GPU 32GB 4TB  SILVER NANO 70W","SXKH2LL/A","Special Order","14-inch","Silver","M5 chip with 10‑core CPU, 10‑core GPU","32GB","4TB SSD","70W USB-C","Nano-Texture",{"$f":"_xlfn.XLOOKUP(Table8[[#This Row],[TDS SKU]],Sheet2!$B:$B,Sheet2!C:C)","v":"B"},{"$f":"_xlfn.XLOOKUP(Table8[[#This Row],[TDS SKU]],Sheet2!$B:$B,Sheet2!D:D)","v":"A"},{"$f":"_xlfn.XLOOKUP(Table8[[#This Row],[TDS SKU]],Sheet2!$B:$B,Sheet2!E:E)","v":"CTO BO"},{"$f":"LEFT(Table8[[#This Row],[Apple Part ]],4)","v":"Z1KM"}]
["Z1KM","15359350",2519,"CTO MBP 14 M5 10CPU 10GPU 16GB 4TB  SILVER  96W","SXKH2LL/A","Special Order","14-inch","Silver","M5 chip with 10‑core CPU, 10‑core GPU","16GB","4TB SSD","96W USB-C","Standard",{"$f":"_xlfn.XLOOKUP(Table8[[#This Row],[TDS SKU]],Sheet2!$B:$B,Sheet2!C:C)","v":"B"},{"$f":"_xlfn.XLOOKUP(Table8[[#This Row],[TDS SKU]],Sheet2!$B:$B,Sheet2!D:D)","v":"A"},{"$f":"_xlfn.XLOOKUP(Table8[[#This Row],[TDS SKU]],Sheet2!$B:$B,Sheet2!E:E)","v":"CTO BO"},{"$f":"LEFT(Table8[[#This Row],[Apple Part ]],4)","v":"Z1KM"}]
["Z1KM","15359357",3899,"CTO MBP 14 M5 10CPU 10GPU 32GB 4TB  SILVER  70W","SXKH2LL/A","Special Order","14-inch","Silver","M5 chip with 10‑core CPU, 10‑core GPU","32GB","4TB SSD","70W USB-C","Standard",{"$f":"_xlfn.XLOOKUP(Table8[[#This Row],[TDS SKU]],Sheet2!$B:$B,Sheet2!C:C)","v":"B"},{"$f":"_xlfn.XLOOKUP(Table8[[#This Row],[TDS SKU]],Sheet2!$B:$B,Sheet2!D:D)","v":"A"},{"$f":"_xlfn.XLOOKUP(Table8[[#This Row],[TDS SKU]],Sheet2!$B:$B,Sheet2!E:E)","v":"CTO BO"},{"$f":"LEFT(Table8[[#This Row],[Apple Part ]],4)","v":"Z1KM"}]
["Z1KM","15359362",2719,"CTO MBP 14 M5 10CPU 10GPU 24GB 2TB  SILVER  96W","SXKH2LL/A","Special Order","14-inch","Silver","M5 chip with 10‑core CPU, 10‑core GPU","24GB","2TB SSD","96W USB-C","Standard",{"$f":"_xlfn.XLOOKUP(Table8[[#This Row],[TDS SKU]],Sheet2!$B:$B,Sheet2!C:C)","v":"B"},{"$f":"_xlfn.XLOOKUP(Table8[[#This Row],[TDS SKU]],Sheet2!$B:$B,Sheet2!D:D)","v":"A"},{"$f":"_xlfn.XLOOKUP(Table8[[#This Row],[TDS SKU]],Sheet2!$B:$B,Sheet2!E:E)","v":"CTO BO"},{"$f":"LEFT(Table8[[#This Row],[Apple Part ]],4)","v":"Z1KM"}]
["Z1KM","15359351",3649,"CTO MBP 14 M5 10CPU 10GPU 16GB 4TB  SILVER NANO 70W","SXKH2LL/A","Special Order","14-inch","Silver","M5 chip with 10‑core CPU, 10‑core GPU","16GB","4TB SSD","70W USB-C","Nano-Texture",{"$f":"_xlfn.XLOOKUP(Table8[[#This Row],[TDS SKU]],Sheet2!$B:$B,Sheet2!C:C)","v":"B"},{"$f":"_xlfn.XLOOKUP(Table8[[#This Row],[TDS SKU]],Sheet2!$B:$B,Sheet2!D:D)","v":"A"},{"$f":"_xlfn.XLOOKUP(Table8[[#This Row],[TDS SKU]],Sheet2!$B:$B,Sheet2!E:E)","v":"CTO BO"},{"$f":"LEFT(Table8[[#This Row],[Apple Part ]],4)","v":"Z1KM"}]
["Z1KM","15359354",3719,"CTO MBP 14 M5 10CPU 10GPU 24GB 4TB  SILVER  96W","SXKH2LL/A","Special Order","14-inch","Silver","M5 chip with 10‑core CPU, 10‑core GPU","24GB","4TB SSD","96W USB-C","Standard",{"$f":"_xlfn.XLOOKUP(Table8[[#This Row],[TDS SKU]],Sheet2!$B:$B,Sheet2!C:C)","v":"B"},{"$f":"_xlfn.XLOOKUP(Table8[[#This Row],[TDS SKU]],Sheet2!$B:$B,Sheet2!D:D)","v":"A"},{"$f":"_xlfn.XLOOKUP(Table8[[#This Row],[TDS SKU]],Sheet2!$B:$B,Sheet2!E:E)","v":"CTO BO"},{"$f":"LEFT(Table8[[#This Row],[Apple Part ]],4)","v":"Z1KM"}]
["Z1KM","15359355",3849,"CTO MBP 14 M5 10CPU 10GPU 24GB 4TB  SILVER NANO 70W","SXKH2LL/A","Special Order","14-inch","Silver","M5 chip with 10‑core CPU, 10‑core GPU","24GB","4TB SSD","70W USB-C","Nano-Texture",{"$f":"_xlfn.XLOOKUP(Table8[[#This Row],[TDS SKU]],Sheet2!$B:$B,Sheet2!C:C)","v":"B"},{"$f":"_xlfn.XLOOKUP(Table8[[#This Row],[TDS SKU]],Sheet2!$B:$B,Sheet2!D:D)","v":"A"},{"$f":"_xlfn.XLOOKUP(Table8[[#This Row],[TDS SKU]],Sheet2!$B:$B,Sheet2!E:E)","v":"CTO BO"},{"$f":"LEFT(Table8[[#This Row],[Apple Part ]],4)","v":"Z1KM"}]
["Z1KM","15359356",3869,"CTO MBP 14 M5 10CPU 10GPU 24GB 4TB  SILVER NANO 96W","SXKH2LL/A","Special Order","14-inch","Silver","M5 chip with 10‑core CPU, 10‑core GPU","24GB","4TB SSD","96W USB-C","Nano-Texture",{"$f":"_xlfn.XLOOKUP(Table8[[#This Row],[TDS SKU]],Sheet2!$B:$B,Sheet2!C:C)","v":"B"},{"$f":"_xlfn.XLOOKUP(Table8[[#This Row],[TDS SKU]],Sheet2!$B:$B,Sheet2!D:D)","v":"A"},{"$f":"_xlfn.XLOOKUP(Table8[[#This Row],[TDS SKU]],Sheet2!$B:$B,Sheet2!E:E)","v":"CTO BO"},{"$f":"LEFT(Table8[[#This Row],[Apple Part ]],4)","v":"Z1KM"}]
["Z1MH","15358577",2649,"CTO MBP 14 M5 PRO 15 CPU 16 GPU 24GB 1TB SILVER NANO 70W","SCXT3LL/A","Special Order","14-inch","Silver","M5 Pro chip with 15‑core CPU, 16‑core GPU","24GB","1TB SSD","70W USB-C","Nano-Texture",{"$f":"_xlfn.XLOOKUP(Table8[[#This Row],[TDS SKU]],Sheet2!$B:$B,Sheet2!C:C)","v":"B"},{"$f":"_xlfn.XLOOKUP(Table8[[#This Row],[TDS SKU]],Sheet2!$B:$B,Sheet2!D:D)","v":"A"},{"$f":"_xlfn.XLOOKUP(Table8[[#This Row],[TDS SKU]],Sheet2!$B:$B,Sheet2!E:E)","v":"CTO BO"},{"$f":"LEFT(Table8[[#This Row],[Apple Part ]],4)","v":"Z1MH"}]
["Z1MH","15358579",3099,"CTO MBP 14 M5 PRO 15 CPU 16 GPU 48GB 1TB SILVER 70W","SCXT3LL/A","Stocked","14-inch","Silver","M5 Pro chip with 15‑core CPU, 16‑core GPU","48GB","1TB SSD","70W USB-C","Standard",{"$f":"_xlfn.XLOOKUP(Table8[[#This Row],[TDS SKU]],Sheet2!$B:$B,Sheet2!C:C)","v":"B"},{"$f":"_xlfn.XLOOKUP(Table8[[#This Row],[TDS SKU]],Sheet2!$B:$B,Sheet2!D:D)","v":"A"},{"$f":"_xlfn.XLOOKUP(Table8[[#This Row],[TDS SKU]],Sheet2!$B:$B,Sheet2!E:E)","v":"STOCKED CTO"},{"$f":"LEFT(Table8[[#This Row],[Apple Part ]],4)","v":"Z1MH"}]
["Z1MH","15358600",3999,"CTO MBP 14 M5 PRO 15 CPU 16 GPU 24GB 4TB SILVER 70W","SCXT3LL/A","Special Order","14-inch","Silver","M5 Pro chip with 15‑core CPU, 16‑core GPU","24GB","4TB SSD","70W USB-C","Standard",{"$f":"_xlfn.XLOOKUP(Table8[[#This Row],[TDS SKU]],Sheet2!$B:$B,Sheet2!C:C)","v":"B"},{"$f":"_xlfn.XLOOKUP(Table8[[#This Row],[TDS SKU]],Sheet2!$B:$B,Sheet2!D:D)","v":"A"},{"$f":"_xlfn.XLOOKUP(Table8[[#This Row],[TDS SKU]],Sheet2!$B:$B,Sheet2!E:E)","v":"CTO BO"},{"$f":"LEFT(Table8[[#This Row],[Apple Part ]],4)","v":"Z1MH"}]
["Z1MH","15358596",3599,"CTO MBP 14 M5 PRO 15 CPU 16 GPU 48GB 2TB SILVER 70W","SCXT3LL/A","Special Order","14-inch","Silver","M5 Pro chip with 15‑core CPU, 16‑core GPU","48GB","2TB SSD","70W USB-C","Standard",{"$f":"_xlfn.XLOOKUP(Table8[[#This Row],[TDS SKU]],Sheet2!$B:$B,Sheet2!C:C)","v":"B"},{"$f":"_xlfn.XLOOKUP(Table8[[#This Row],[TDS SKU]],Sheet2!$B:$B,Sheet2!D:D)","v":"A"},{"$f":"_xlfn.XLOOKUP(Table8[[#This Row],[TDS SKU]],Sheet2!$B:$B,Sheet2!E:E)","v":"CTO BO"},{"$f":"LEFT(Table8[[#This Row],[Apple Part ]],4)","v":"Z1MH"}]
["Z1MH","15358604",4599,"CTO MBP 14 M5 PRO 15 CPU 16 GPU 48GB 4TB SILVER 70W","SCXT3LL/A","Special Order","14-inch","Silver","M5 Pro chip with 15‑core CPU, 16‑core GPU","48GB","4TB SSD","70W USB-C","Standard",{"$f":"_xlfn.XLOOKUP(Table8[[#This Row],[TDS SKU]],Sheet2!$B:$B,Sheet2!C:C)","v":"B"},{"$f":"_xlfn.XLOOKUP(Table8[[#This Row],[TDS SKU]],Sheet2!$B:$B,Sheet2!D:D)","v":"A"},{"$f":"_xlfn.XLOOKUP(Table8[[#This Row],[TDS SKU]],Sheet2!$B:$B,Sheet2!E:E)","v":"CTO BO"},{"$f":"LEFT(Table8[[#This Row],[Apple Part ]],4)","v":"Z1MH"}]
["Z1MH","15358576",2519,"CTO MBP 14 M5 PRO 15 CPU 16 GPU 24GB 1TB SILVER 96W","SCXT3LL/A","Special Order","14-inch","Silver","M5 Pro chip with 15‑core CPU, 16‑core GPU","24GB","1TB SSD","96W USB-C","Standard",{"$f":"_xlfn.XLOOKUP(Table8[[#This Row],[TDS SKU]],Sheet2!$B:$B,Sheet2!C:C)","v":"B"},{"$f":"_xlfn.XLOOKUP(Table8[[#This Row],[TDS SKU]],Sheet2!$B:$B,Sheet2!D:D)","v":"A"},{"$f":"_xlfn.XLOOKUP(Table8[[#This Row],[TDS SKU]],Sheet2!$B:$B,Sheet2!E:E)","v":"CTO BO"},{"$f":"LEFT(Table8[[#This Row],[Apple Part ]],4)","v":"Z1MH"}]
["Z1MH","15358618",2699,"CTO MBP 14 M5 PRO 18 CPU 20 GPU 24GB 1TB SILVER 96W","SCXT3LL/A","Special Order","14-inch","Silver","M5 Pro chip with 18‑core CPU, 20‑core GPU","24GB","1TB SSD","96W USB-C","Standard",{"$f":"_xlfn.XLOOKUP(Table8[[#This Row],[TDS SKU]],Sheet2!$B:$B,Sheet2!C:C)","v":"B"},{"$f":"_xlfn.XLOOKUP(Table8[[#This Row],[TDS SKU]],Sheet2!$B:$B,Sheet2!D:D)","v":"A"},{"$f":"_xlfn.XLOOKUP(Table8[[#This Row],[TDS SKU]],Sheet2!$B:$B,Sheet2!E:E)","v":"CTO BO"},{"$f":"LEFT(Table8[[#This Row],[Apple Part ]],4)","v":"Z1MH"}]
["Z1MH","15358620",3299,"CTO MBP 14 M5 PRO 18 CPU 20 GPU 48GB 1TB SILVER 96W","SCXT3LL/A","Stocked","14-inch","Silver","M5 Pro chip with 18‑core CPU, 20‑core GPU","48GB","1TB SSD","96W USB-C","Standard",{"$f":"_xlfn.XLOOKUP(Table8[[#This Row],[TDS SKU]],Sheet2!$B:$B,Sheet2!C:C)","v":"B"},{"$f":"_xlfn.XLOOKUP(Table8[[#This Row],[TDS SKU]],Sheet2!$B:$B,Sheet2!D:D)","v":"A"},{"$f":"_xlfn.XLOOKUP(Table8[[#This Row],[TDS SKU]],Sheet2!$B:$B,Sheet2!E:E)","v":"STOCKED CTO"},{"$f":"LEFT(Table8[[#This Row],[Apple Part ]],4)","v":"Z1MH"}]
["Z1MH","15358622",3699,"CTO MBP 14 M5 PRO 18 CPU 20 GPU 64GB 1TB SILVER 96W","SCXT3LL/A","Stocked","14-inch","Silver","M5 Pro chip with 18‑core CPU, 20‑core GPU","64GB","1TB SSD","96W USB-C","Standard",{"$f":"_xlfn.XLOOKUP(Table8[[#This Row],[TDS SKU]],Sheet2!$B:$B,Sheet2!C:C)","v":"B"},{"$f":"_xlfn.XLOOKUP(Table8[[#This Row],[TDS SKU]],Sheet2!$B:$B,Sheet2!D:D)","v":"A"},{"$f":"_xlfn.XLOOKUP(Table8[[#This Row],[TDS SKU]],Sheet2!$B:$B,Sheet2!E:E)","v":"STOCKED CTO"},{"$f":"LEFT(Table8[[#This Row],[Apple Part ]],4)","v":"Z1MH"}]
["Z1MH","15358638",7099,"CTO MBP 14 M5 MAX 18 CPU 32 GPU 36GB 8TB SILVER 96W","SCXT3LL/A","Special Order","14-inch","Silver","M5 Max chip with 18‑core CPU, 32‑core GPU","36GB","8TB SSD","96W USB-C","Standard",{"$f":"_xlfn.XLOOKUP(Table8[[#This Row],[TDS SKU]],Sheet2!$B:$B,Sheet2!C:C)","v":"B"},{"$f":"_xlfn.XLOOKUP(Table8[[#This Row],[TDS SKU]],Sheet2!$B:$B,Sheet2!D:D)","v":"A"},{"$f":"_xlfn.XLOOKUP(Table8[[#This Row],[TDS SKU]],Sheet2!$B:$B,Sheet2!E:E)","v":"CTO BO"},{"$f":"LEFT(Table8[[#This Row],[Apple Part ]],4)","v":"Z1MH"}]
["Z1MH","15358640",4699,"CTO MBP 14 M5 MAX 18 CPU 40 GPU 48GB 2TB SILVER 96W","SCXT3LL/A","Special Order","14-inch","Silver","M5 Max chip with 18‑core CPU, 40‑core GPU","48GB","2TB SSD","96W USB-C","Standard",{"$f":"_xlfn.XLOOKUP(Table8[[#This Row],[TDS SKU]],Sheet2!$B:$B,Sheet2!C:C)","v":"B"},{"$f":"_xlfn.XLOOKUP(Table8[[#This Row],[TDS SKU]],Sheet2!$B:$B,Sheet2!D:D)","v":"A"},{"$f":"_xlfn.XLOOKUP(Table8[[#This Row],[TDS SKU]],Sheet2!$B:$B,Sheet2!E:E)","v":"CTO BO"},{"$f":"LEFT(Table8[[#This Row],[Apple Part ]],4)","v":"Z1MH"}]
["Z1MH","15358642",5099,"CTO MBP 14 M5 MAX 18 CPU 40 GPU 64GB 2TB SILVER 96W","SCXT3LL/A","Stocked","14-inch","Silver","M5 Max chip with 18‑core CPU, 40‑core GPU","64GB","2TB SSD","96W USB-C","Standard",{"$f":"_xlfn.XLOOKUP(Table8[[#This Row],[TDS SKU]],Sheet2!$B:$B,Sheet2!C:C)","v":"B"},{"$f":"_xlfn.XLOOKUP(Table8[[#This Row],[TDS SKU]],Sheet2!$B:$B,Sheet2!D:D)","v":"A"},{"$f":"_xlfn.XLOOKUP(Table8[[#This Row],[TDS SKU]],Sheet2!$B:$B,Sheet2!E:E)","v":"STOCKED CTO"},{"$f":"LEFT(Table8[[#This Row],[Apple Part ]],4)","v":"Z1MH"}]
["Z1MH","15358644",6699,"CTO MBP 14 M5 MAX 18 CPU 40 GPU 128GB 2TB SILVER 96W","SCXT3LL/A","Special Order","14-inch","Silver","M5 Max chip with 18‑core CPU, 40‑core GPU","128GB","2TB SSD","96W USB-C","Standard",{"$f":"_xlfn.XLOOKUP(Table8[[#This Row],[TDS SKU]],Sheet2!$B:$B,Sheet2!C:C)","v":"B"},{"$f":"_xlfn.XLOOKUP(Table8[[#This Row],[TDS SKU]],Sheet2!$B:$B,Sheet2!D:D)","v":"A"},{"$f":"_xlfn.XLOOKUP(Table8[[#This Row],[TDS SKU]],Sheet2!$B:$B,Sheet2!E:E)","v":"CTO BO"},{"$f":"LEFT(Table8[[#This Row],[Apple Part ]],4)","v":"Z1MH"}]
["Z1MH","15358572",7699,"CTO MBP 14 M5 MAX 18 CPU 40 GPU 48GB 8TB SILVER 96W","SCXT3LL/A","Special Order","14-inch","Silver","M5 Max chip with 18‑core CPU, 40‑core GPU","48GB","8TB SSD","96W USB-C","Standard",{"$f":"_xlfn.XLOOKUP(Table8[[#This Row],[TDS SKU]],Sheet2!$B:$B,Sheet2!C:C)","v":"B"},{"$f":"_xlfn.XLOOKUP(Table8[[#This Row],[TDS SKU]],Sheet2!$B:$B,Sheet2!D:D)","v":"A"},{"$f":"_xlfn.XLOOKUP(Table8[[#This Row],[TDS SKU]],Sheet2!$B:$B,Sheet2!E:E)","v":"CTO BO"},{"$f":"LEFT(Table8[[#This Row],[Apple Part ]],4)","v":"Z1MH"}]
["Z1MH","15358559",4199,"CTO MBP 14 M5 PRO 18 CPU 20 GPU 24GB 4TB SILVER 96W","SCXT3LL/A","Special Order","14-inch","Silver","M5 Pro chip with 18‑core CPU, 20‑core GPU","24GB","4TB SSD","96W USB-C","Standard",{"$f":"_xlfn.XLOOKUP(Table8[[#This Row],[TDS SKU]],Sheet2!$B:$B,Sheet2!C:C)","v":"B"},{"$f":"_xlfn.XLOOKUP(Table8[[#This Row],[TDS SKU]],Sheet2!$B:$B,Sheet2!D:D)","v":"A"},{"$f":"_xlfn.XLOOKUP(Table8[[#This Row],[TDS SKU]],Sheet2!$B:$B,Sheet2!E:E)","v":"CTO BO"},{"$f":"LEFT(Table8[[#This Row],[Apple Part ]],4)","v":"Z1MH"}]
["Z1MH","15358555",3799,"CTO MBP 14 M5 PRO 18 CPU 20 GPU 48GB 2TB SILVER 96W","SCXT3LL/A","Special Order","14-inch","Silver","M5 Pro chip with 18‑core CPU, 20‑core GPU","48GB","2TB SSD","96W USB-C","Standard",{"$f":"_xlfn.XLOOKUP(Table8[[#This Row],[TDS SKU]],Sheet2!$B:$B,Sheet2!C:C)","v":"B"},{"$f":"_xlfn.XLOOKUP(Table8[[#This Row],[TDS SKU]],Sheet2!$B:$B,Sheet2!D:D)","v":"A"},{"$f":"_xlfn.XLOOKUP(Table8[[#This Row],[TDS SKU]],Sheet2!$B:$B,Sheet2!E:E)","v":"CTO BO"},{"$f":"LEFT(Table8[[#This Row],[Apple Part ]],4)","v":"Z1MH"}]
["Z1MH","15358561",4799,"CTO MBP 14 M5 PRO 18 CPU 20 GPU 48GB 4TB SILVER 96W","SCXT3LL/A","Special Order","14-inch","Silver","M5 Pro chip with 18‑core CPU, 20‑core GPU","48GB","4TB SSD","96W USB-C","Standard",{"$f":"_xlfn.XLOOKUP(Table8[[#This Row],[TDS SKU]],Sheet2!$B:$B,Sheet2!C:C)","v":"B"},{"$f":"_xlfn.XLOOKUP(Table8[[#This Row],[TDS SKU]],Sheet2!$B:$B,Sheet2!D:D)","v":"A"},{"$f":"_xlfn.XLOOKUP(Table8[[#This Row],[TDS SKU]],Sheet2!$B:$B,Sheet2!E:E)","v":"CTO BO"},{"$f":"LEFT(Table8[[#This Row],[Apple Part ]],4)","v":"Z1MH"}]
["Z1MH","15358557",4199,"CTO MBP 14 M5 PRO 18 CPU 20 GPU 64GB 2TB SILVER 96W","SCXT3LL/A","Special Order","14-inch","Silver","M5 Pro chip with 18‑core CPU, 20‑core GPU","64GB","2TB SSD","96W USB-C","Standard",{"$f":"_xlfn.XLOOKUP(Table8[[#This Row],[TDS SKU]],Sheet2!$B:$B,Sheet2!C:C)","v":"B"},{"$f":"_xlfn.XLOOKUP(Table8[[#This Row],[TDS SKU]],Sheet2!$B:$B,Sheet2!D:D)","v":"A"},{"$f":"_xlfn.XLOOKUP(Table8[[#This Row],[TDS SKU]],Sheet2!$B:$B,Sheet2!E:E)","v":"CTO BO"},{"$f":"LEFT(Table8[[#This Row],[Apple Part ]],4)","v":"Z1MH"}]
["Z1MH","15358563",5199,"CTO MBP 14 M5 PRO 18 CPU 20 GPU 64GB 4TB SILVER 96W","SCXT3LL/A","Special Order","14-inch","Silver","M5 Pro chip with 18‑core CPU, 20‑core GPU","64GB","4TB SSD","96W USB-C","Standard",{"$f":"_xlfn.XLOOKUP(Table8[[#This Row],[TDS SKU]],Sheet2!$B:$B,Sheet2!C:C)","v":"B"},{"$f":"_xlfn.XLOOKUP(Table8[[#This Row],[TDS SKU]],Sheet2!$B:$B,Sheet2!D:D)","v":"A"},{"$f":"_xlfn.XLOOKUP(Table8[[#This Row],[TDS SKU]],Sheet2!$B:$B,Sheet2!E:E)","v":"CTO BO"},{"$f":"LEFT(Table8[[#This Row],[Apple Part ]],4)","v":"Z1MH"}]
["Z1MH","15358636",5099,"CTO MBP 14 M5 MAX 18 CPU 32 GPU 36GB 4TB SILVER 96W","SCXT3LL/A","Special Order","14-inch","Silver","M5 Max chip with 18‑core CPU, 32‑core GPU","36GB","4TB SSD","96W USB-C","Standard",{"$f":"_xlfn.XLOOKUP(Table8[[#This Row],[TDS SKU]],Sheet2!$B:$B,Sheet2!C:C)","v":"B"},{"$f":"_xlfn.XLOOKUP(Table8[[#This Row],[TDS SKU]],Sheet2!$B:$B,Sheet2!D:D)","v":"A"},{"$f":"_xlfn.XLOOKUP(Table8[[#This Row],[TDS SKU]],Sheet2!$B:$B,Sheet2!E:E)","v":"CTO BO"},{"$f":"LEFT(Table8[[#This Row],[Apple Part ]],4)","v":"Z1MH"}]
["Z1MH","15358566",5699,"CTO MBP 14 M5 MAX 18 CPU 40 GPU 48GB 4TB SILVER 96W","SCXT3LL/A","Special Order","14-inch","Silver","M5 Max chip with 18‑core CPU, 40‑core GPU","48GB","4TB SSD","96W USB-C","Standard",{"$f":"_xlfn.XLOOKUP(Table8[[#This Row],[TDS SKU]],Sheet2!$B:$B,Sheet2!C:C)","v":"B"},{"$f":"_xlfn.XLOOKUP(Table8[[#This Row],[TDS SKU]],Sheet2!$B:$B,Sheet2!D:D)","v":"A"},{"$f":"_xlfn.XLOOKUP(Table8[[#This Row],[TDS SKU]],Sheet2!$B:$B,Sheet2!E:E)","v":"CTO BO"},{"$f":"LEFT(Table8[[#This Row],[Apple Part ]],4)","v":"Z1MH"}]
["Z1MH","15358568",6099,"CTO MBP 14 M5 MAX 18 CPU 40 GPU 64GB 4TB SILVER 96W","SCXT3LL/A","Special Order","14-inch","Silver","M5 Max chip with 18‑core CPU, 40‑core GPU","64GB","4TB SSD","96W USB-C","Standard",{"$f":"_xlfn.XLOOKUP(Table8[[#This Row],[TDS SKU]],Sheet2!$B:$B,Sheet2!C:C)","v":"B"},{"$f":"_xlfn.XLOOKUP(Table8[[#This Row],[TDS SKU]],Sheet2!$B:$B,Sheet2!D:D)","v":"A"},{"$f":"_xlfn.XLOOKUP(Table8[[#This Row],[TDS SKU]],Sheet2!$B:$B,Sheet2!E:E)","v":"CTO BO"},{"$f":"LEFT(Table8[[#This Row],[Apple Part ]],4)","v":"Z1MH"}]
["Z1MH","15358574",8099,"CTO MBP 14 M5 MAX 18 CPU 40 GPU 64GB 8TB SILVER 96W","SCXT3LL/A","Special Order","14-inch","Silver","M5 Max chip with 18‑core CPU, 40‑core GPU","64GB","8TB SSD","96W USB-C","Standard",{"$f":"_xlfn.XLOOKUP(Table8[[#This Row],[TDS SKU]],Sheet2!$B:$B,Sheet2!C:C)","v":"B"},{"$f":"_xlfn.XLOOKUP(Table8[[#This Row],[TDS SKU]],Sheet2!$B:$B,Sheet2!D:D)","v":"A"},{"$f":"_xlfn.XLOOKUP(Table8[[#This Row],[TDS SKU]],Sheet2!$B:$B,Sheet2!E:E)","v":"CTO BO"},{"$f":"LEFT(Table8[[#This Row],[Apple Part ]],4)","v":"Z1MH"}]
["Z1MH","15358570",7699,"CTO MBP 14 M5 MAX 18 CPU 40 GPU 128GB 4TB SILVER 96W","SCXT3LL/A","Special Order","14-inch","Silver","M5 Max chip with 18‑core CPU, 40‑core GPU","128GB","4TB SSD","96W USB-C","Standard",{"$f":"_xlfn.XLOOKUP(Table8[[#This Row],[TDS SKU]],Sheet2!$B:$B,Sheet2!C:C)","v":"B"},{"$f":"_xlfn.XLOOKUP(Table8[[#This Row],[TDS SKU]],Sheet2!$B:$B,Sheet2!D:D)","v":"A"},{"$f":"_xlfn.XLOOKUP(Table8[[#This Row],[TDS SKU]],Sheet2!$B:$B,Sheet2!E:E)","v":"CTO BO"},{"$f":"LEFT(Table8[[#This Row],[Apple Part ]],4)","v":"Z1MH"}]
["Z1MH","15358666",9699,"CTO MBP 14 M5 MAX 18 CPU 40 GPU 128GB 8TB SILVER 96W","SCXT3LL/A","Special Order","14-inch","Silver","M5 Max chip with 18‑core CPU, 40‑core GPU","128GB","8TB SSD","96W USB-C","Standard",{"$f":"_xlfn.XLOOKUP(Table8[[#This Row],[TDS SKU]],Sheet2!$B:$B,Sheet2!C:C)","v":"B"},{"$f":"_xlfn.XLOOKUP(Table8[[#This Row],[TDS SKU]],Sheet2!$B:$B,Sheet2!D:D)","v":"A"},{"$f":"_xlfn.XLOOKUP(Table8[[#This Row],[TDS SKU]],Sheet2!$B:$B,Sheet2!E:E)","v":"CTO BO"},{"$f":"LEFT(Table8[[#This Row],[Apple Part ]],4)","v":"Z1MH"}]
["Z1MH","15358619",2849,"CTO MBP 14 M5 PRO 18 CPU 20 GPU 24GB 1TB SILVER NANO 96W","SCXT3LL/A","Special Order","14-inch","Silver","M5 Pro chip with 18‑core CPU, 20‑core GPU","24GB","1TB SSD","96W USB-C","Nano-Texture",{"$f":"_xlfn.XLOOKUP(Table8[[#This Row],[TDS SKU]],Sheet2!$B:$B,Sheet2!C:C)","v":"B"},{"$f":"_xlfn.XLOOKUP(Table8[[#This Row],[TDS SKU]],Sheet2!$B:$B,Sheet2!D:D)","v":"A"},{"$f":"_xlfn.XLOOKUP(Table8[[#This Row],[TDS SKU]],Sheet2!$B:$B,Sheet2!E:E)","v":"CTO BO"},{"$f":"LEFT(Table8[[#This Row],[Apple Part ]],4)","v":"Z1MH"}]
["Z1MH","15358635",4249,"CTO MBP 14 M5 MAX 18 CPU 32 GPU 36GB 2TB SILVER NANO 96W","SCXT3LL/A","Special Order","14-inch","Silver","M5 Max chip with 18‑core CPU, 32‑core GPU","36GB","2TB SSD","96W USB-C","Nano-Texture",{"$f":"_xlfn.XLOOKUP(Table8[[#This Row],[TDS SKU]],Sheet2!$B:$B,Sheet2!C:C)","v":"B"},{"$f":"_xlfn.XLOOKUP(Table8[[#This Row],[TDS SKU]],Sheet2!$B:$B,Sheet2!D:D)","v":"A"},{"$f":"_xlfn.XLOOKUP(Table8[[#This Row],[TDS SKU]],Sheet2!$B:$B,Sheet2!E:E)","v":"CTO BO"},{"$f":"LEFT(Table8[[#This Row],[Apple Part ]],4)","v":"Z1MH"}]
["Z1MH","15358641",4849,"CTO MBP 14 M5 MAX 18 CPU 40 GPU 48GB 2TB SILVER NANO 96W","SCXT3LL/A","Special Order","14-inch","Silver","M5 Max chip with 18‑core CPU, 40‑core GPU","48GB","2TB SSD","96W USB-C","Nano-Texture",{"$f":"_xlfn.XLOOKUP(Table8[[#This Row],[TDS SKU]],Sheet2!$B:$B,Sheet2!C:C)","v":"B"},{"$f":"_xlfn.XLOOKUP(Table8[[#This Row],[TDS SKU]],Sheet2!$B:$B,Sheet2!D:D)","v":"A"},{"$f":"_xlfn.XLOOKUP(Table8[[#This Row],[TDS SKU]],Sheet2!$B:$B,Sheet2!E:E)","v":"CTO BO"},{"$f":"LEFT(Table8[[#This Row],[Apple Part ]],4)","v":"Z1MH"}]
["Z1MH","15358582",3269,"CTO MBP 14 M5 PRO 15 CPU 16 GPU 48GB 1TB SILVER NANO 96W","SCXT3LL/A","Special Order","14-inch","Silver","M5 Pro chip with 15‑core CPU, 16‑core GPU","48GB","1TB SSD","96W USB-C","Nano-Texture",{"$f":"_xlfn.XLOOKUP(Table8[[#This Row],[TDS SKU]],Sheet2!$B:$B,Sheet2!C:C)","v":"B"},{"$f":"_xlfn.XLOOKUP(Table8[[#This Row],[TDS SKU]],Sheet2!$B:$B,Sheet2!D:D)","v":"A"},{"$f":"_xlfn.XLOOKUP(Table8[[#This Row],[TDS SKU]],Sheet2!$B:$B,Sheet2!E:E)","v":"CTO BO"},{"$f":"LEFT(Table8[[#This Row],[Apple Part ]],4)","v":"Z1MH"}]
["Z1MH","15358580",3119,"CTO MBP 14 M5 PRO 15 CPU 16 GPU 48GB 1TB SILVER 96W","SCXT3LL/A","Special Order","14-inch","Silver","M5 Pro chip with 15‑core CPU, 16‑core GPU","48GB","1TB SSD","96W USB-C","Standard",{"$f":"_xlfn.XLOOKUP(Table8[[#This Row],[TDS SKU]],Sheet2!$B:$B,Sheet2!C:C)","v":"B"},{"$f":"_xlfn.XLOOKUP(Table8[[#This Row],[TDS SKU]],Sheet2!$B:$B,Sheet2!D:D)","v":"A"},{"$f":"_xlfn.XLOOKUP(Table8[[#This Row],[TDS SKU]],Sheet2!$B:$B,Sheet2!E:E)","v":"CTO BO"},{"$f":"LEFT(Table8[[#This Row],[Apple Part ]],4)","v":"Z1MH"}]
["Z1MH","15358621",3449,"CTO MBP 14 M5 PRO 18 CPU 20 GPU 48GB 1TB SILVER NANO 96W","SCXT3LL/A","Special Order","14-inch","Silver","M5 Pro chip with 18‑core CPU, 20‑core GPU","48GB","1TB SSD","96W USB-C","Nano-Texture",{"$f":"_xlfn.XLOOKUP(Table8[[#This Row],[TDS SKU]],Sheet2!$B:$B,Sheet2!C:C)","v":"B"},{"$f":"_xlfn.XLOOKUP(Table8[[#This Row],[TDS SKU]],Sheet2!$B:$B,Sheet2!D:D)","v":"A"},{"$f":"_xlfn.XLOOKUP(Table8[[#This Row],[TDS SKU]],Sheet2!$B:$B,Sheet2!E:E)","v":"CTO BO"},{"$f":"LEFT(Table8[[#This Row],[Apple Part ]],4)","v":"Z1MH"}]
["Z1MH","15358584",3149,"CTO MBP 14 M5 PRO 15 CPU 16 GPU 24GB 2TB SILVER NANO 70W","SCXT3LL/A","Special Order","14-inch","Silver","M5 Pro chip with 15‑core CPU, 16‑core GPU","24GB","2TB SSD","70W USB-C","Nano-Texture",{"$f":"_xlfn.XLOOKUP(Table8[[#This Row],[TDS SKU]],Sheet2!$B:$B,Sheet2!C:C)","v":"B"},{"$f":"_xlfn.XLOOKUP(Table8[[#This Row],[TDS SKU]],Sheet2!$B:$B,Sheet2!D:D)","v":"A"},{"$f":"_xlfn.XLOOKUP(Table8[[#This Row],[TDS SKU]],Sheet2!$B:$B,Sheet2!E:E)","v":"CTO BO"},{"$f":"LEFT(Table8[[#This Row],[Apple Part ]],4)","v":"Z1MH"}]
["Z1MH","15358581",3249,"CTO MBP 14 M5 PRO 15 CPU 16 GPU 48GB 1TB SILVER NANO 70W","SCXT3LL/A","Special Order","14-inch","Silver","M5 Pro chip with 15‑core CPU, 16‑core GPU","48GB","1TB SSD","70W USB-C","Nano-Texture",{"$f":"_xlfn.XLOOKUP(Table8[[#This Row],[TDS SKU]],Sheet2!$B:$B,Sheet2!C:C)","v":"B"},{"$f":"_xlfn.XLOOKUP(Table8[[#This Row],[TDS SKU]],Sheet2!$B:$B,Sheet2!D:D)","v":"A"},{"$f":"_xlfn.XLOOKUP(Table8[[#This Row],[TDS SKU]],Sheet2!$B:$B,Sheet2!E:E)","v":"CTO BO"},{"$f":"LEFT(Table8[[#This Row],[Apple Part ]],4)","v":"Z1MH"}]
["Z1MH","15358583",3019,"CTO MBP 14 M5 PRO 15 CPU 16 GPU 24GB 2TB SILVER 96W","SCXT3LL/A","Special Order","14-inch","Silver","M5 Pro chip with 15‑core CPU, 16‑core GPU","24GB","2TB SSD","96W USB-C","Standard",{"$f":"_xlfn.XLOOKUP(Table8[[#This Row],[TDS SKU]],Sheet2!$B:$B,Sheet2!C:C)","v":"B"},{"$f":"_xlfn.XLOOKUP(Table8[[#This Row],[TDS SKU]],Sheet2!$B:$B,Sheet2!D:D)","v":"A"},{"$f":"_xlfn.XLOOKUP(Table8[[#This Row],[TDS SKU]],Sheet2!$B:$B,Sheet2!E:E)","v":"CTO BO"},{"$f":"LEFT(Table8[[#This Row],[Apple Part ]],4)","v":"Z1MH"}]
["Z1MH","15358597",3619,"CTO MBP 14 M5 PRO 15 CPU 16 GPU 48GB 2TB SILVER 96W","SCXT3LL/A","Special Order","14-inch","Silver","M5 Pro chip with 15‑core CPU, 16‑core GPU","48GB","2TB SSD","96W USB-C","Standard",{"$f":"_xlfn.XLOOKUP(Table8[[#This Row],[TDS SKU]],Sheet2!$B:$B,Sheet2!C:C)","v":"B"},{"$f":"_xlfn.XLOOKUP(Table8[[#This Row],[TDS SKU]],Sheet2!$B:$B,Sheet2!D:D)","v":"A"},{"$f":"_xlfn.XLOOKUP(Table8[[#This Row],[TDS SKU]],Sheet2!$B:$B,Sheet2!E:E)","v":"CTO BO"},{"$f":"LEFT(Table8[[#This Row],[Apple Part ]],4)","v":"Z1MH"}]
["Z1MH","15358578",2669,"CTO MBP 14 M5 PRO 15 CPU 16 GPU 24GB 1TB SILVER NANO 96W","SCXT3LL/A","Special Order","14-inch","Silver","M5 Pro chip with 15‑core CPU, 16‑core GPU","24GB","1TB SSD","96W USB-C","Nano-Texture",{"$f":"_xlfn.XLOOKUP(Table8[[#This Row],[TDS SKU]],Sheet2!$B:$B,Sheet2!C:C)","v":"B"},{"$f":"_xlfn.XLOOKUP(Table8[[#This Row],[TDS SKU]],Sheet2!$B:$B,Sheet2!D:D)","v":"A"},{"$f":"_xlfn.XLOOKUP(Table8[[#This Row],[TDS SKU]],Sheet2!$B:$B,Sheet2!E:E)","v":"CTO BO"},{"$f":"LEFT(Table8[[#This Row],[Apple Part ]],4)","v":"Z1MH"}]
["Z1MH","15358595",3169,"CTO MBP 14 M5 PRO 15 CPU 16 GPU 24GB 2TB SILVER NANO 96W","SCXT3LL/A","Special Order","14-inch","Silver","M5 Pro chip with 15‑core CPU, 16‑core GPU","24GB","2TB SSD","96W USB-C","Nano-Texture",{"$f":"_xlfn.XLOOKUP(Table8[[#This Row],[TDS SKU]],Sheet2!$B:$B,Sheet2!C:C)","v":"B"},{"$f":"_xlfn.XLOOKUP(Table8[[#This Row],[TDS SKU]],Sheet2!$B:$B,Sheet2!D:D)","v":"A"},{"$f":"_xlfn.XLOOKUP(Table8[[#This Row],[TDS SKU]],Sheet2!$B:$B,Sheet2!E:E)","v":"CTO BO"},{"$f":"LEFT(Table8[[#This Row],[Apple Part ]],4)","v":"Z1MH"}]
["Z1MH","15358602",4149,"CTO MBP 14 M5 PRO 15 CPU 16 GPU 24GB 4TB SILVER NANO 70W","SCXT3LL/A","Special Order","14-inch","Silver","M5 Pro chip with 15‑core CPU, 16‑core GPU","24GB","4TB SSD","70W USB-C","Nano-Texture",{"$f":"_xlfn.XLOOKUP(Table8[[#This Row],[TDS SKU]],Sheet2!$B:$B,Sheet2!C:C)","v":"B"},{"$f":"_xlfn.XLOOKUP(Table8[[#This Row],[TDS SKU]],Sheet2!$B:$B,Sheet2!D:D)","v":"A"},{"$f":"_xlfn.XLOOKUP(Table8[[#This Row],[TDS SKU]],Sheet2!$B:$B,Sheet2!E:E)","v":"CTO BO"},{"$f":"LEFT(Table8[[#This Row],[Apple Part ]],4)","v":"Z1MH"}]
["Z1MH","15358603",4169,"CTO MBP 14 M5 PRO 15 CPU 16 GPU 24GB 4TB SILVER NANO 96W","SCXT3LL/A","Special Order","14-inch","Silver","M5 Pro chip with 15‑core CPU, 16‑core GPU","24GB","4TB SSD","96W USB-C","Nano-Texture",{"$f":"_xlfn.XLOOKUP(Table8[[#This Row],[TDS SKU]],Sheet2!$B:$B,Sheet2!C:C)","v":"B"},{"$f":"_xlfn.XLOOKUP(Table8[[#This Row],[TDS SKU]],Sheet2!$B:$B,Sheet2!D:D)","v":"A"},{"$f":"_xlfn.XLOOKUP(Table8[[#This Row],[TDS SKU]],Sheet2!$B:$B,Sheet2!E:E)","v":"CTO BO"},{"$f":"LEFT(Table8[[#This Row],[Apple Part ]],4)","v":"Z1MH"}]
["Z1MH","15358598",3749,"CTO MBP 14 M5 PRO 15 CPU 16 GPU 48GB 2TB SILVER NANO 70W","SCXT3LL/A",{"$f":"IF(OR(P148=\"CTO BO\",P148=\"ZPN BO\"),\"Special Order\",\"Stocked\")","v":"Special Order"},"14-inch","Silver","M5 Pro chip with 15‑core CPU, 16‑core GPU","48GB","2TB SSD","70W USB-C","Nano-Texture",{"$f":"_xlfn.XLOOKUP(Table8[[#This Row],[TDS SKU]],Sheet2!$B:$B,Sheet2!C:C)","v":"B"},{"$f":"_xlfn.XLOOKUP(Table8[[#This Row],[TDS SKU]],Sheet2!$B:$B,Sheet2!D:D)","v":"A"},{"$f":"_xlfn.XLOOKUP(Table8[[#This Row],[TDS SKU]],Sheet2!$B:$B,Sheet2!E:E)","v":"CTO BO"},{"$f":"LEFT(Table8[[#This Row],[Apple Part ]],4)","v":"Z1MH"}]
["Z1MH","15358599",3769,"CTO MBP 14 M5 PRO 15 CPU 16 GPU 48GB 2TB SILVER NANO 96W","SCXT3LL/A","Special Order","14-inch","Silver","M5 Pro chip with 15‑core CPU, 16‑core GPU","48GB","2TB SSD","96W USB-C","Nano-Texture",{"$f":"_xlfn.XLOOKUP(Table8[[#This Row],[TDS SKU]],Sheet2!$B:$B,Sheet2!C:C)","v":"B"},{"$f":"_xlfn.XLOOKUP(Table8[[#This Row],[TDS SKU]],Sheet2!$B:$B,Sheet2!D:D)","v":"A"},{"$f":"_xlfn.XLOOKUP(Table8[[#This Row],[TDS SKU]],Sheet2!$B:$B,Sheet2!E:E)","v":"CTO BO"},{"$f":"LEFT(Table8[[#This Row],[Apple Part ]],4)","v":"Z1MH"}]
["Z1MH","15358601",4019,"CTO MBP 14 M5 PRO 15 CPU 16 GPU 24GB 4TB SILVER 96W","SCXT3LL/A","Special Order","14-inch","Silver","M5 Pro chip with 15‑core CPU, 16‑core GPU","24GB","4TB SSD","96W USB-C","Standard",{"$f":"_xlfn.XLOOKUP(Table8[[#This Row],[TDS SKU]],Sheet2!$B:$B,Sheet2!C:C)","v":"B"},{"$f":"_xlfn.XLOOKUP(Table8[[#This Row],[TDS SKU]],Sheet2!$B:$B,Sheet2!D:D)","v":"A"},{"$f":"_xlfn.XLOOKUP(Table8[[#This Row],[TDS SKU]],Sheet2!$B:$B,Sheet2!E:E)","v":"CTO BO"},{"$f":"LEFT(Table8[[#This Row],[Apple Part ]],4)","v":"Z1MH"}]
["Z1MH","15358617",4769,"CTO MBP 14 M5 PRO 15 CPU 16 GPU 48GB 4TB SILVER NANO 96W","SCXT3LL/A","Special Order","14-inch","Silver","M5 Pro chip with 15‑core CPU, 16‑core GPU","48GB","4TB SSD","96W USB-C","Nano-Texture",{"$f":"_xlfn.XLOOKUP(Table8[[#This Row],[TDS SKU]],Sheet2!$B:$B,Sheet2!C:C)","v":"B"},{"$f":"_xlfn.XLOOKUP(Table8[[#This Row],[TDS SKU]],Sheet2!$B:$B,Sheet2!D:D)","v":"A"},{"$f":"_xlfn.XLOOKUP(Table8[[#This Row],[TDS SKU]],Sheet2!$B:$B,Sheet2!E:E)","v":"CTO BO"},{"$f":"LEFT(Table8[[#This Row],[Apple Part ]],4)","v":"Z1MH"}]
["Z1MH","15358623",3849,"CTO MBP 14 M5 PRO 18 CPU 20 GPU 64GB 1TB SILVER NANO 96W","SCXT3LL/A","Special Order","14-inch","Silver","M5 Pro chip with 18‑core CPU, 20‑core GPU","64GB","1TB SSD","96W USB-C","Nano-Texture",{"$f":"_xlfn.XLOOKUP(Table8[[#This Row],[TDS SKU]],Sheet2!$B:$B,Sheet2!C:C)","v":"B"},{"$f":"_xlfn.XLOOKUP(Table8[[#This Row],[TDS SKU]],Sheet2!$B:$B,Sheet2!D:D)","v":"A"},{"$f":"_xlfn.XLOOKUP(Table8[[#This Row],[TDS SKU]],Sheet2!$B:$B,Sheet2!E:E)","v":"CTO BO"},{"$f":"LEFT(Table8[[#This Row],[Apple Part ]],4)","v":"Z1MH"}]
["Z1MH","15358615",4619,"CTO MBP 14 M5 PRO 15 CPU 16 GPU 48GB 4TB SILVER 96W","SCXT3LL/A","Special Order","14-inch","Silver","M5 Pro chip with 15‑core CPU, 16‑core GPU","48GB","4TB SSD","96W USB-C","Standard",{"$f":"_xlfn.XLOOKUP(Table8[[#This Row],[TDS SKU]],Sheet2!$B:$B,Sheet2!C:C)","v":"B"},{"$f":"_xlfn.XLOOKUP(Table8[[#This Row],[TDS SKU]],Sheet2!$B:$B,Sheet2!D:D)","v":"A"},{"$f":"_xlfn.XLOOKUP(Table8[[#This Row],[TDS SKU]],Sheet2!$B:$B,Sheet2!E:E)","v":"CTO BO"},{"$f":"LEFT(Table8[[#This Row],[Apple Part ]],4)","v":"Z1MH"}]
["Z1MH","15358573",7849,"CTO MBP 14 M5 MAX 18 CPU 40 GPU 48GB 8TB SILVER NANO 96W","SCXT3LL/A","Special Order","14-inch","Silver","M5 Max chip with 18‑core CPU, 40‑core GPU","48GB","8TB SSD","96W USB-C","Nano-Texture",{"$f":"_xlfn.XLOOKUP(Table8[[#This Row],[TDS SKU]],Sheet2!$B:$B,Sheet2!C:C)","v":"B"},{"$f":"_xlfn.XLOOKUP(Table8[[#This Row],[TDS SKU]],Sheet2!$B:$B,Sheet2!D:D)","v":"A"},{"$f":"_xlfn.XLOOKUP(Table8[[#This Row],[TDS SKU]],Sheet2!$B:$B,Sheet2!E:E)","v":"CTO BO"},{"$f":"LEFT(Table8[[#This Row],[Apple Part ]],4)","v":"Z1MH"}]
["Z1MH","15358665",8249,"CTO MBP 14 M5 MAX 18 CPU 40 GPU 64GB 8TB SILVER NANO 96W","SCXT3LL/A","Special Order","14-inch","Silver","M5 Max chip with 18‑core CPU, 40‑core GPU","64GB","8TB SSD","96W USB-C","Nano-Texture",{"$f":"_xlfn.XLOOKUP(Table8[[#This Row],[TDS SKU]],Sheet2!$B:$B,Sheet2!C:C)","v":"B"},{"$f":"_xlfn.XLOOKUP(Table8[[#This Row],[TDS SKU]],Sheet2!$B:$B,Sheet2!D:D)","v":"A"},{"$f":"_xlfn.XLOOKUP(Table8[[#This Row],[TDS SKU]],Sheet2!$B:$B,Sheet2!E:E)","v":"CTO BO"},{"$f":"LEFT(Table8[[#This Row],[Apple Part ]],4)","v":"Z1MH"}]
["Z1MH","15358667",9849,"CTO MBP 14 M5 MAX 18 CPU 40 GPU 128GB 8TB SILVER NANO 96W","SCXT3LL/A","Special Order","14-inch","Silver","M5 Max chip with 18‑core CPU, 40‑core GPU","128GB","8TB SSD","96W USB-C","Nano-Texture",{"$f":"_xlfn.XLOOKUP(Table8[[#This Row],[TDS SKU]],Sheet2!$B:$B,Sheet2!C:C)","v":"B"},{"$f":"_xlfn.XLOOKUP(Table8[[#This Row],[TDS SKU]],Sheet2!$B:$B,Sheet2!D:D)","v":"A"},{"$f":"_xlfn.XLOOKUP(Table8[[#This Row],[TDS SKU]],Sheet2!$B:$B,Sheet2!E:E)","v":"CTO BO"},{"$f":"LEFT(Table8[[#This Row],[Apple Part ]],4)","v":"Z1MH"}]
["Z1MH","15358562",4949,"CTO MBP 14 M5 PRO 18 CPU 20 GPU 48GB 4TB SILVER NANO 96W","SCXT3LL/A","Special Order","14-inch","Silver","M5 Pro chip with 18‑core CPU, 20‑core GPU","48GB","4TB SSD","96W USB-C","Nano-Texture",{"$f":"_xlfn.XLOOKUP(Table8[[#This Row],[TDS SKU]],Sheet2!$B:$B,Sheet2!C:C)","v":"B"},{"$f":"_xlfn.XLOOKUP(Table8[[#This Row],[TDS SKU]],Sheet2!$B:$B,Sheet2!D:D)","v":"A"},{"$f":"_xlfn.XLOOKUP(Table8[[#This Row],[TDS SKU]],Sheet2!$B:$B,Sheet2!E:E)","v":"CTO BO"},{"$f":"LEFT(Table8[[#This Row],[Apple Part ]],4)","v":"Z1MH"}]
["Z1MH","15358564",5349,"CTO MBP 14 M5 PRO 18 CPU 20 GPU 64GB 4TB SILVER NANO 96W","SCXT3LL/A","Special Order","14-inch","Silver","M5 Pro chip with 18‑core CPU, 20‑core GPU","64GB","4TB SSD","96W USB-C","Nano-Texture",{"$f":"_xlfn.XLOOKUP(Table8[[#This Row],[TDS SKU]],Sheet2!$B:$B,Sheet2!C:C)","v":"B"},{"$f":"_xlfn.XLOOKUP(Table8[[#This Row],[TDS SKU]],Sheet2!$B:$B,Sheet2!D:D)","v":"A"},{"$f":"_xlfn.XLOOKUP(Table8[[#This Row],[TDS SKU]],Sheet2!$B:$B,Sheet2!E:E)","v":"CTO BO"},{"$f":"LEFT(Table8[[#This Row],[Apple Part ]],4)","v":"Z1MH"}]
["Z1MH","15358637",5249,"CTO MBP 14 M5 MAX 18 CPU 32 GPU 36GB 4TB SILVER NANO 96W","SCXT3LL/A","Special Order","14-inch","Silver","M5 Max chip with 18‑core CPU, 32‑core GPU","36GB","4TB SSD","96W USB-C","Nano-Texture",{"$f":"_xlfn.XLOOKUP(Table8[[#This Row],[TDS SKU]],Sheet2!$B:$B,Sheet2!C:C)","v":"B"},{"$f":"_xlfn.XLOOKUP(Table8[[#This Row],[TDS SKU]],Sheet2!$B:$B,Sheet2!D:D)","v":"A"},{"$f":"_xlfn.XLOOKUP(Table8[[#This Row],[TDS SKU]],Sheet2!$B:$B,Sheet2!E:E)","v":"CTO BO"},{"$f":"LEFT(Table8[[#This Row],[Apple Part ]],4)","v":"Z1MH"}]
["Z1MH","15358639",7249,"CTO MBP 14 M5 MAX 18 CPU 32 GPU 36GB 8TB SILVER NANO 96W","SCXT3LL/A","Special Order","14-inch","Silver","M5 Max chip with 18‑core CPU, 32‑core GPU","36GB","8TB SSD","96W USB-C","Nano-Texture",{"$f":"_xlfn.XLOOKUP(Table8[[#This Row],[TDS SKU]],Sheet2!$B:$B,Sheet2!C:C)","v":"B"},{"$f":"_xlfn.XLOOKUP(Table8[[#This Row],[TDS SKU]],Sheet2!$B:$B,Sheet2!D:D)","v":"A"},{"$f":"_xlfn.XLOOKUP(Table8[[#This Row],[TDS SKU]],Sheet2!$B:$B,Sheet2!E:E)","v":"CTO BO"},{"$f":"LEFT(Table8[[#This Row],[Apple Part ]],4)","v":"Z1MH"}]
["Z1MH","15358643",5249,"CTO MBP 14 M5 MAX 18 CPU 40 GPU 64GB 2TB SILVER NANO 96W","SCXT3LL/A","Special Order","14-inch","Silver","M5 Max chip with 18‑core CPU, 40‑core GPU","64GB","2TB SSD","96W USB-C","Nano-Texture",{"$f":"_xlfn.XLOOKUP(Table8[[#This Row],[TDS SKU]],Sheet2!$B:$B,Sheet2!C:C)","v":"B"},{"$f":"_xlfn.XLOOKUP(Table8[[#This Row],[TDS SKU]],Sheet2!$B:$B,Sheet2!D:D)","v":"A"},{"$f":"_xlfn.XLOOKUP(Table8[[#This Row],[TDS SKU]],Sheet2!$B:$B,Sheet2!E:E)","v":"CTO BO"},{"$f":"LEFT(Table8[[#This Row],[Apple Part ]],4)","v":"Z1MH"}]
["Z1MH","15358565",6849,"CTO MBP 14 M5 MAX 18 CPU 40 GPU 128GB 2TB SILVER NANO 96W","SCXT3LL/A","Special Order","14-inch","Silver","M5 Max chip with 18‑core CPU, 40‑core GPU","128GB","2TB SSD","96W USB-C","Nano-Texture",{"$f":"_xlfn.XLOOKUP(Table8[[#This Row],[TDS SKU]],Sheet2!$B:$B,Sheet2!C:C)","v":"B"},{"$f":"_xlfn.XLOOKUP(Table8[[#This Row],[TDS SKU]],Sheet2!$B:$B,Sheet2!D:D)","v":"A"},{"$f":"_xlfn.XLOOKUP(Table8[[#This Row],[TDS SKU]],Sheet2!$B:$B,Sheet2!E:E)","v":"CTO BO"},{"$f":"LEFT(Table8[[#This Row],[Apple Part ]],4)","v":"Z1MH"}]
["Z1MH","15358567",5849,"CTO MBP 14 M5 MAX 18 CPU 40 GPU 48GB 4TB SILVER NANO 96W","SCXT3LL/A","Special Order","14-inch","Silver","M5 Max chip with 18‑core CPU, 40‑core GPU","48GB","4TB SSD","96W USB-C","Nano-Texture",{"$f":"_xlfn.XLOOKUP(Table8[[#This Row],[TDS SKU]],Sheet2!$B:$B,Sheet2!C:C)","v":"B"},{"$f":"_xlfn.XLOOKUP(Table8[[#This Row],[TDS SKU]],Sheet2!$B:$B,Sheet2!D:D)","v":"A"},{"$f":"_xlfn.XLOOKUP(Table8[[#This Row],[TDS SKU]],Sheet2!$B:$B,Sheet2!E:E)","v":"CTO BO"},{"$f":"LEFT(Table8[[#This Row],[Apple Part ]],4)","v":"Z1MH"}]
["Z1MH","15358569",6249,"CTO MBP 14 M5 MAX 18 CPU 40 GPU 64GB 4TB SILVER NANO 96W","SCXT3LL/A","Special Order","14-inch","Silver","M5 Max chip with 18‑core CPU, 40‑core GPU","64GB","4TB SSD","96W USB-C","Nano-Texture",{"$f":"_xlfn.XLOOKUP(Table8[[#This Row],[TDS SKU]],Sheet2!$B:$B,Sheet2!C:C)","v":"B"},{"$f":"_xlfn.XLOOKUP(Table8[[#This Row],[TDS SKU]],Sheet2!$B:$B,Sheet2!D:D)","v":"A"},{"$f":"_xlfn.XLOOKUP(Table8[[#This Row],[TDS SKU]],Sheet2!$B:$B,Sheet2!E:E)","v":"CTO BO"},{"$f":"LEFT(Table8[[#This Row],[Apple Part ]],4)","v":"Z1MH"}]
["Z1MH","15358571",7849,"CTO MBP 14 M5 MAX 18 CPU 40 GPU 128GB 4TB SILVER NANO 96W","SCXT3LL/A","Special Order","14-inch","Silver","M5 Max chip with 18‑core CPU, 40‑core GPU","128GB","4TB SSD","96W USB-C","Nano-Texture",{"$f":"_xlfn.XLOOKUP(Table8[[#This Row],[TDS SKU]],Sheet2!$B:$B,Sheet2!C:C)","v":"B"},{"$f":"_xlfn.XLOOKUP(Table8[[#This Row],[TDS SKU]],Sheet2!$B:$B,Sheet2!D:D)","v":"A"},{"$f":"_xlfn.XLOOKUP(Table8[[#This Row],[TDS SKU]],Sheet2!$B:$B,Sheet2!E:E)","v":"CTO BO"},{"$f":"LEFT(Table8[[#This Row],[Apple Part ]],4)","v":"Z1MH"}]
["Z1MH","15358616",4749,"CTO MBP 14 M5 PRO 15 CPU 16 GPU 48GB 4TB SILVER NANO 70W","SCXT3LL/A","Special Order","14-inch","Silver","M5 Pro chip with 15‑core CPU, 16‑core GPU","48GB","4TB SSD","70W USB-C","Nano-Texture",{"$f":"_xlfn.XLOOKUP(Table8[[#This Row],[TDS SKU]],Sheet2!$B:$B,Sheet2!C:C)","v":"B"},{"$f":"_xlfn.XLOOKUP(Table8[[#This Row],[TDS SKU]],Sheet2!$B:$B,Sheet2!D:D)","v":"A"},{"$f":"_xlfn.XLOOKUP(Table8[[#This Row],[TDS SKU]],Sheet2!$B:$B,Sheet2!E:E)","v":"CTO BO"},{"$f":"LEFT(Table8[[#This Row],[Apple Part ]],4)","v":"Z1MH"}]
["Z1MH","15358624",3349,"CTO MBP 14 M5 PRO 18 CPU 20 GPU 24GB 2TB SILVER NANO 96W","SCXT3LL/A","Special Order","14-inch","Silver","M5 Pro chip with 18‑core CPU, 20‑core GPU","24GB","2TB SSD","96W USB-C","Nano-Texture",{"$f":"_xlfn.XLOOKUP(Table8[[#This Row],[TDS SKU]],Sheet2!$B:$B,Sheet2!C:C)","v":"B"},{"$f":"_xlfn.XLOOKUP(Table8[[#This Row],[TDS SKU]],Sheet2!$B:$B,Sheet2!D:D)","v":"A"},{"$f":"_xlfn.XLOOKUP(Table8[[#This Row],[TDS SKU]],Sheet2!$B:$B,Sheet2!E:E)","v":"CTO BO"},{"$f":"LEFT(Table8[[#This Row],[Apple Part ]],4)","v":"Z1MH"}]
["Z1MH","15358556",3949,"CTO MBP 14 M5 PRO 18 CPU 20 GPU 48GB 2TB SILVER NANO 96W","SCXT3LL/A","Special Order","14-inch","Silver","M5 Pro chip with 18‑core CPU, 20‑core GPU","48GB","2TB SSD","96W USB-C","Nano-Texture",{"$f":"_xlfn.XLOOKUP(Table8[[#This Row],[TDS SKU]],Sheet2!$B:$B,Sheet2!C:C)","v":"B"},{"$f":"_xlfn.XLOOKUP(Table8[[#This Row],[TDS SKU]],Sheet2!$B:$B,Sheet2!D:D)","v":"A"},{"$f":"_xlfn.XLOOKUP(Table8[[#This Row],[TDS SKU]],Sheet2!$B:$B,Sheet2!E:E)","v":"CTO BO"},{"$f":"LEFT(Table8[[#This Row],[Apple Part ]],4)","v":"Z1MH"}]
["Z1MH","15358558",4349,"CTO MBP 14 M5 PRO 18 CPU 20 GPU 64GB 2TB SILVER NANO 96W","SCXT3LL/A","Special Order","14-inch","Silver","M5 Pro chip with 18‑core CPU, 20‑core GPU","64GB","2TB SSD","96W USB-C","Nano-Texture",{"$f":"_xlfn.XLOOKUP(Table8[[#This Row],[TDS SKU]],Sheet2!$B:$B,Sheet2!C:C)","v":"B"},{"$f":"_xlfn.XLOOKUP(Table8[[#This Row],[TDS SKU]],Sheet2!$B:$B,Sheet2!D:D)","v":"A"},{"$f":"_xlfn.XLOOKUP(Table8[[#This Row],[TDS SKU]],Sheet2!$B:$B,Sheet2!E:E)","v":"CTO BO"},{"$f":"LEFT(Table8[[#This Row],[Apple Part ]],4)","v":"Z1MH"}]
["Z1MH","15358560",4349,"CTO MBP 14 M5 PRO 18 CPU 20 GPU 24GB 4TB SILVER NANO 96W","SCXT3LL/A","Special Order","14-inch","Silver","M5 Pro chip with 18‑core CPU, 20‑core GPU","24GB","4TB SSD","96W USB-C","Nano-Texture",{"$f":"_xlfn.XLOOKUP(Table8[[#This Row],[TDS SKU]],Sheet2!$B:$B,Sheet2!C:C)","v":"B"},{"$f":"_xlfn.XLOOKUP(Table8[[#This Row],[TDS SKU]],Sheet2!$B:$B,Sheet2!D:D)","v":"A"},{"$f":"_xlfn.XLOOKUP(Table8[[#This Row],[TDS SKU]],Sheet2!$B:$B,Sheet2!E:E)","v":"CTO BO"},{"$f":"LEFT(Table8[[#This Row],[Apple Part ]],4)","v":"Z1MH"}]
["Z1ML","15358669",2649,"CTO MBP 14 M5 PRO 15 CPU 16 GPU 24GB 1TB SPACE BLACK NANO 70W","SCXT3LL/A","Stocked","14-inch","Space Black","M5 Pro chip with 15‑core CPU, 16‑core GPU","24GB","1TB SSD","70W USB-C","Nano-Texture",{"$f":"_xlfn.XLOOKUP(Table8[[#This Row],[TDS SKU]],Sheet2!$B:$B,Sheet2!C:C)","v":"B"},{"$f":"_xlfn.XLOOKUP(Table8[[#This Row],[TDS SKU]],Sheet2!$B:$B,Sheet2!D:D)","v":"A"},{"$f":"_xlfn.XLOOKUP(Table8[[#This Row],[TDS SKU]],Sheet2!$B:$B,Sheet2!E:E)","v":"STOCKED CTO"},{"$f":"LEFT(Table8[[#This Row],[Apple Part ]],4)","v":"Z1ML"}]
["Z1ML","15358591",3999,"CTO MBP 14 M5 PRO 15 CPU 16 GPU 24GB 4TB SPACE BLACK 70W","SCXT3LL/A","Special Order","14-inch","Space Black","M5 Pro chip with 15‑core CPU, 16‑core GPU","24GB","4TB SSD","70W USB-C","Standard",{"$f":"_xlfn.XLOOKUP(Table8[[#This Row],[TDS SKU]],Sheet2!$B:$B,Sheet2!C:C)","v":"B"},{"$f":"_xlfn.XLOOKUP(Table8[[#This Row],[TDS SKU]],Sheet2!$B:$B,Sheet2!D:D)","v":"A"},{"$f":"_xlfn.XLOOKUP(Table8[[#This Row],[TDS SKU]],Sheet2!$B:$B,Sheet2!E:E)","v":"CTO BO"},{"$f":"LEFT(Table8[[#This Row],[Apple Part ]],4)","v":"Z1ML"}]
["Z1ML","15355958",3099,"CTO MBP 14 M5 PRO 15 CPU 16 GPU 48GB 1TB SPACE BLACK 70W","SCXT3LL/A","Stocked","14-inch","Space Black","M5 Pro chip with 15‑core CPU, 16‑core GPU","48GB","1TB SSD","70W USB-C","Standard",{"$f":"_xlfn.XLOOKUP(Table8[[#This Row],[TDS SKU]],Sheet2!$B:$B,Sheet2!C:C)","v":"B"},{"$f":"_xlfn.XLOOKUP(Table8[[#This Row],[TDS SKU]],Sheet2!$B:$B,Sheet2!D:D)","v":"A"},{"$f":"_xlfn.XLOOKUP(Table8[[#This Row],[TDS SKU]],Sheet2!$B:$B,Sheet2!E:E)","v":"STOCKED CTO"},{"$f":"LEFT(Table8[[#This Row],[Apple Part ]],4)","v":"Z1ML"}]
["Z1ML","15358587",3599,"CTO MBP 14 M5 PRO 15 CPU 16 GPU 48GB 2TB SPACE BLACK 70W","SCXT3LL/A","Special Order","14-inch","Space Black","M5 Pro chip with 15‑core CPU, 16‑core GPU","48GB","2TB SSD","70W USB-C","Standard",{"$f":"_xlfn.XLOOKUP(Table8[[#This Row],[TDS SKU]],Sheet2!$B:$B,Sheet2!C:C)","v":"B"},{"$f":"_xlfn.XLOOKUP(Table8[[#This Row],[TDS SKU]],Sheet2!$B:$B,Sheet2!D:D)","v":"A"},{"$f":"_xlfn.XLOOKUP(Table8[[#This Row],[TDS SKU]],Sheet2!$B:$B,Sheet2!E:E)","v":"CTO BO"},{"$f":"LEFT(Table8[[#This Row],[Apple Part ]],4)","v":"Z1ML"}]
["Z1ML","15358605",4599,"CTO MBP 14 M5 PRO 15 CPU 16 GPU 48GB 4TB SPACE BLACK 70W","SCXT3LL/A","Special Order","14-inch","Space Black","M5 Pro chip with 15‑core CPU, 16‑core GPU","48GB","4TB SSD","70W USB-C","Standard",{"$f":"_xlfn.XLOOKUP(Table8[[#This Row],[TDS SKU]],Sheet2!$B:$B,Sheet2!C:C)","v":"B"},{"$f":"_xlfn.XLOOKUP(Table8[[#This Row],[TDS SKU]],Sheet2!$B:$B,Sheet2!D:D)","v":"A"},{"$f":"_xlfn.XLOOKUP(Table8[[#This Row],[TDS SKU]],Sheet2!$B:$B,Sheet2!E:E)","v":"CTO BO"},{"$f":"LEFT(Table8[[#This Row],[Apple Part ]],4)","v":"Z1ML"}]
["Z1ML","15358585",3149,"CTO MBP 14 M5 PRO 15 CPU 16 GPU 24GB 2TB SPACE BLACK NANO 70W","SCXT3LL/A","Special Order","14-inch","Space Black","M5 Pro chip with 15‑core CPU, 16‑core GPU","24GB","2TB SSD","70W USB-C","Nano-Texture",{"$f":"_xlfn.XLOOKUP(Table8[[#This Row],[TDS SKU]],Sheet2!$B:$B,Sheet2!C:C)","v":"B"},{"$f":"_xlfn.XLOOKUP(Table8[[#This Row],[TDS SKU]],Sheet2!$B:$B,Sheet2!D:D)","v":"A"},{"$f":"_xlfn.XLOOKUP(Table8[[#This Row],[TDS SKU]],Sheet2!$B:$B,Sheet2!E:E)","v":"CTO BO"},{"$f":"LEFT(Table8[[#This Row],[Apple Part ]],4)","v":"Z1ML"}]
["Z1ML","15358593",4149,"CTO MBP 14 M5 PRO 15 CPU 16 GPU 24GB 4TB SPACE BLACK NANO 70W","SCXT3LL/A","Special Order","14-inch","Space Black","M5 Pro chip with 15‑core CPU, 16‑core GPU","24GB","4TB SSD","70W USB-C","Nano-Texture",{"$f":"_xlfn.XLOOKUP(Table8[[#This Row],[TDS SKU]],Sheet2!$B:$B,Sheet2!C:C)","v":"B"},{"$f":"_xlfn.XLOOKUP(Table8[[#This Row],[TDS SKU]],Sheet2!$B:$B,Sheet2!D:D)","v":"A"},{"$f":"_xlfn.XLOOKUP(Table8[[#This Row],[TDS SKU]],Sheet2!$B:$B,Sheet2!E:E)","v":"CTO BO"},{"$f":"LEFT(Table8[[#This Row],[Apple Part ]],4)","v":"Z1ML"}]
["Z1ML","15358671",3249,"CTO MBP 14 M5 PRO 15 CPU 16 GPU 48GB 1TB SPACE BLACK NANO 70W","SCXT3LL/A","Special Order","14-inch","Space Black","M5 Pro chip with 15‑core CPU, 16‑core GPU","48GB","1TB SSD","70W USB-C","Nano-Texture",{"$f":"_xlfn.XLOOKUP(Table8[[#This Row],[TDS SKU]],Sheet2!$B:$B,Sheet2!C:C)","v":"B"},{"$f":"_xlfn.XLOOKUP(Table8[[#This Row],[TDS SKU]],Sheet2!$B:$B,Sheet2!D:D)","v":"A"},{"$f":"_xlfn.XLOOKUP(Table8[[#This Row],[TDS SKU]],Sheet2!$B:$B,Sheet2!E:E)","v":"CTO BO"},{"$f":"LEFT(Table8[[#This Row],[Apple Part ]],4)","v":"Z1ML"}]
["Z1ML","15358589",3749,"CTO MBP 14 M5 PRO 15 CPU 16 GPU 48GB 2TB SPACE BLACK NANO 70W","SCXT3LL/A","Special Order","14-inch","Space Black","M5 Pro chip with 15‑core CPU, 16‑core GPU","48GB","2TB SSD","70W USB-C","Nano-Texture",{"$f":"_xlfn.XLOOKUP(Table8[[#This Row],[TDS SKU]],Sheet2!$B:$B,Sheet2!C:C)","v":"B"},{"$f":"_xlfn.XLOOKUP(Table8[[#This Row],[TDS SKU]],Sheet2!$B:$B,Sheet2!D:D)","v":"A"},{"$f":"_xlfn.XLOOKUP(Table8[[#This Row],[TDS SKU]],Sheet2!$B:$B,Sheet2!E:E)","v":"CTO BO"},{"$f":"LEFT(Table8[[#This Row],[Apple Part ]],4)","v":"Z1ML"}]
["Z1ML","15358607",4749,"CTO MBP 14 M5 PRO 15 CPU 16 GPU 48GB 4TB SPACE BLACK NANO 70W","SCXT3LL/A","Special Order","14-inch","Space Black","M5 Pro chip with 15‑core CPU, 16‑core GPU","48GB","4TB SSD","70W USB-C","Nano-Texture",{"$f":"_xlfn.XLOOKUP(Table8[[#This Row],[TDS SKU]],Sheet2!$B:$B,Sheet2!C:C)","v":"B"},{"$f":"_xlfn.XLOOKUP(Table8[[#This Row],[TDS SKU]],Sheet2!$B:$B,Sheet2!D:D)","v":"A"},{"$f":"_xlfn.XLOOKUP(Table8[[#This Row],[TDS SKU]],Sheet2!$B:$B,Sheet2!E:E)","v":"CTO BO"},{"$f":"LEFT(Table8[[#This Row],[Apple Part ]],4)","v":"Z1ML"}]
["Z1ML","15358668",2519,"CTO MBP 14 M5 PRO 15 CPU 16 GPU 24GB 1TB SPACE BLACK 96W","SCXT3LL/A","Special Order","14-inch","Space Black","M5 Pro chip with 15‑core CPU, 16‑core GPU","24GB","1TB SSD","96W USB-C","Standard",{"$f":"_xlfn.XLOOKUP(Table8[[#This Row],[TDS SKU]],Sheet2!$B:$B,Sheet2!C:C)","v":"B"},{"$f":"_xlfn.XLOOKUP(Table8[[#This Row],[TDS SKU]],Sheet2!$B:$B,Sheet2!D:D)","v":"A"},{"$f":"_xlfn.XLOOKUP(Table8[[#This Row],[TDS SKU]],Sheet2!$B:$B,Sheet2!E:E)","v":"CTO BO"},{"$f":"LEFT(Table8[[#This Row],[Apple Part ]],4)","v":"Z1ML"}]
["Z1ML","15358609",2699,"CTO MBP 14 M5 PRO 18 CPU 20 GPU 24GB 1TB SPACE BLACK 96W","SCXT3LL/A","Special Order","14-inch","Space Black","M5 Pro chip with 18‑core CPU, 20‑core GPU","24GB","1TB SSD","96W USB-C","Standard",{"$f":"_xlfn.XLOOKUP(Table8[[#This Row],[TDS SKU]],Sheet2!$B:$B,Sheet2!C:C)","v":"B"},{"$f":"_xlfn.XLOOKUP(Table8[[#This Row],[TDS SKU]],Sheet2!$B:$B,Sheet2!D:D)","v":"A"},{"$f":"_xlfn.XLOOKUP(Table8[[#This Row],[TDS SKU]],Sheet2!$B:$B,Sheet2!E:E)","v":"CTO BO"},{"$f":"LEFT(Table8[[#This Row],[Apple Part ]],4)","v":"Z1ML"}]
["Z1ML","15355959",3299,"CTO MBP 14 M5 PRO 18 CPU 20 GPU 48GB 1TB SPACE BLACK 96W","SCXT3LL/A","Stocked","14-inch","Space Black","M5 Pro chip with 18‑core CPU, 20‑core GPU","48GB","1TB SSD","96W USB-C","Standard",{"$f":"_xlfn.XLOOKUP(Table8[[#This Row],[TDS SKU]],Sheet2!$B:$B,Sheet2!C:C)","v":"B"},{"$f":"_xlfn.XLOOKUP(Table8[[#This Row],[TDS SKU]],Sheet2!$B:$B,Sheet2!D:D)","v":"A"},{"$f":"_xlfn.XLOOKUP(Table8[[#This Row],[TDS SKU]],Sheet2!$B:$B,Sheet2!E:E)","v":"STOCKED CTO"},{"$f":"LEFT(Table8[[#This Row],[Apple Part ]],4)","v":"Z1ML"}]
["Z1ML","15358612",3699,"CTO MBP 14 M5 PRO 18 CPU 20 GPU 64GB 1TB SPACE BLACK 96W","SCXT3LL/A","Stocked","14-inch","Space Black","M5 Pro chip with 18‑core CPU, 20‑core GPU","64GB","1TB SSD","96W USB-C","Standard",{"$f":"_xlfn.XLOOKUP(Table8[[#This Row],[TDS SKU]],Sheet2!$B:$B,Sheet2!C:C)","v":"B"},{"$f":"_xlfn.XLOOKUP(Table8[[#This Row],[TDS SKU]],Sheet2!$B:$B,Sheet2!D:D)","v":"A"},{"$f":"_xlfn.XLOOKUP(Table8[[#This Row],[TDS SKU]],Sheet2!$B:$B,Sheet2!E:E)","v":"STOCKED CTO"},{"$f":"LEFT(Table8[[#This Row],[Apple Part ]],4)","v":"Z1ML"}]
["Z1ML","15358687",7099,"CTO MBP 14 M5 MAX 18 CPU 32 GPU 36GB 8TB SPACE BLACK 96W","SCXT3LL/A","Special Order","14-inch","Space Black","M5 Max chip with 18‑core CPU, 32‑core GPU","36GB","8TB SSD","96W USB-C","Standard",{"$f":"_xlfn.XLOOKUP(Table8[[#This Row],[TDS SKU]],Sheet2!$B:$B,Sheet2!C:C)","v":"B"},{"$f":"_xlfn.XLOOKUP(Table8[[#This Row],[TDS SKU]],Sheet2!$B:$B,Sheet2!D:D)","v":"A"},{"$f":"_xlfn.XLOOKUP(Table8[[#This Row],[TDS SKU]],Sheet2!$B:$B,Sheet2!E:E)","v":"CTO BO"},{"$f":"LEFT(Table8[[#This Row],[Apple Part ]],4)","v":"Z1ML"}]
["Z1ML","15358689",4699,"CTO MBP 14 M5 MAX 18 CPU 40 GPU 48GB 2TB SPACE BLACK 96W","SCXT3LL/A","Special Order","14-inch","Space Black","M5 Max chip with 18‑core CPU, 40‑core GPU","48GB","2TB SSD","96W USB-C","Standard",{"$f":"_xlfn.XLOOKUP(Table8[[#This Row],[TDS SKU]],Sheet2!$B:$B,Sheet2!C:C)","v":"B"},{"$f":"_xlfn.XLOOKUP(Table8[[#This Row],[TDS SKU]],Sheet2!$B:$B,Sheet2!D:D)","v":"A"},{"$f":"_xlfn.XLOOKUP(Table8[[#This Row],[TDS SKU]],Sheet2!$B:$B,Sheet2!E:E)","v":"CTO BO"},{"$f":"LEFT(Table8[[#This Row],[Apple Part ]],4)","v":"Z1ML"}]
["Z1ML","15355960",5099,"CTO MBP 14 M5 MAX 18 CPU 40 GPU 64GB 2TB SPACE BLACK 96W","SCXT3LL/A","Stocked","14-inch","Space Black","M5 Max chip with 18‑core CPU, 40‑core GPU","64GB","2TB SSD","96W USB-C","Standard",{"$f":"_xlfn.XLOOKUP(Table8[[#This Row],[TDS SKU]],Sheet2!$B:$B,Sheet2!C:C)","v":"B"},{"$f":"_xlfn.XLOOKUP(Table8[[#This Row],[TDS SKU]],Sheet2!$B:$B,Sheet2!D:D)","v":"A"},{"$f":"_xlfn.XLOOKUP(Table8[[#This Row],[TDS SKU]],Sheet2!$B:$B,Sheet2!E:E)","v":"STOCKED CTO"},{"$f":"LEFT(Table8[[#This Row],[Apple Part ]],4)","v":"Z1ML"}]
["Z1ML","15358692",6699,"CTO MBP 14 M5 MAX 18 CPU 40 GPU 128GB 2TB SPACE BLACK 96W","SCXT3LL/A","Special Order","14-inch","Space Black","M5 Max chip with 18‑core CPU, 40‑core GPU","128GB","2TB SSD","96W USB-C","Standard",{"$f":"_xlfn.XLOOKUP(Table8[[#This Row],[TDS SKU]],Sheet2!$B:$B,Sheet2!C:C)","v":"B"},{"$f":"_xlfn.XLOOKUP(Table8[[#This Row],[TDS SKU]],Sheet2!$B:$B,Sheet2!D:D)","v":"A"},{"$f":"_xlfn.XLOOKUP(Table8[[#This Row],[TDS SKU]],Sheet2!$B:$B,Sheet2!E:E)","v":"CTO BO"},{"$f":"LEFT(Table8[[#This Row],[Apple Part ]],4)","v":"Z1ML"}]
["Z1ML","15358651",7699,"CTO MBP 14 M5 MAX 18 CPU 40 GPU 48GB 8TB SPACE BLACK 96W","SCXT3LL/A","Special Order","14-inch","Space Black","M5 Max chip with 18‑core CPU, 40‑core GPU","48GB","8TB SSD","96W USB-C","Standard",{"$f":"_xlfn.XLOOKUP(Table8[[#This Row],[TDS SKU]],Sheet2!$B:$B,Sheet2!C:C)","v":"B"},{"$f":"_xlfn.XLOOKUP(Table8[[#This Row],[TDS SKU]],Sheet2!$B:$B,Sheet2!D:D)","v":"A"},{"$f":"_xlfn.XLOOKUP(Table8[[#This Row],[TDS SKU]],Sheet2!$B:$B,Sheet2!E:E)","v":"CTO BO"},{"$f":"LEFT(Table8[[#This Row],[Apple Part ]],4)","v":"Z1ML"}]
["Z1ML","15358625",3799,"CTO MBP 14 M5 PRO 18 CPU 20 GPU 48GB 2TB SPACE BLACK 96W","SCXT3LL/A","Special Order","14-inch","Space Black","M5 Pro chip with 18‑core CPU, 20‑core GPU","48GB","2TB SSD","96W USB-C","Standard",{"$f":"_xlfn.XLOOKUP(Table8[[#This Row],[TDS SKU]],Sheet2!$B:$B,Sheet2!C:C)","v":"B"},{"$f":"_xlfn.XLOOKUP(Table8[[#This Row],[TDS SKU]],Sheet2!$B:$B,Sheet2!D:D)","v":"A"},{"$f":"_xlfn.XLOOKUP(Table8[[#This Row],[TDS SKU]],Sheet2!$B:$B,Sheet2!E:E)","v":"CTO BO"},{"$f":"LEFT(Table8[[#This Row],[Apple Part ]],4)","v":"Z1ML"}]
["Z1ML","15358627",4199,"CTO MBP 14 M5 PRO 18 CPU 20 GPU 64GB 2TB SPACE BLACK 96W","SCXT3LL/A","Stocked","14-inch","Space Black","M5 Pro chip with 18‑core CPU, 20‑core GPU","64GB","2TB SSD","96W USB-C","Standard",{"$f":"_xlfn.XLOOKUP(Table8[[#This Row],[TDS SKU]],Sheet2!$B:$B,Sheet2!C:C)","v":"B"},{"$f":"_xlfn.XLOOKUP(Table8[[#This Row],[TDS SKU]],Sheet2!$B:$B,Sheet2!D:D)","v":"A"},{"$f":"_xlfn.XLOOKUP(Table8[[#This Row],[TDS SKU]],Sheet2!$B:$B,Sheet2!E:E)","v":"STOCKED CTO"},{"$f":"LEFT(Table8[[#This Row],[Apple Part ]],4)","v":"Z1ML"}]
["Z1ML","15358629",4199,"CTO MBP 14 M5 PRO 18 CPU 20 GPU 24GB 4TB SPACE BLACK 96W","SCXT3LL/A","Special Order","14-inch","Space Black","M5 Pro chip with 18‑core CPU, 20‑core GPU","24GB","4TB SSD","96W USB-C","Standard",{"$f":"_xlfn.XLOOKUP(Table8[[#This Row],[TDS SKU]],Sheet2!$B:$B,Sheet2!C:C)","v":"B"},{"$f":"_xlfn.XLOOKUP(Table8[[#This Row],[TDS SKU]],Sheet2!$B:$B,Sheet2!D:D)","v":"A"},{"$f":"_xlfn.XLOOKUP(Table8[[#This Row],[TDS SKU]],Sheet2!$B:$B,Sheet2!E:E)","v":"CTO BO"},{"$f":"LEFT(Table8[[#This Row],[Apple Part ]],4)","v":"Z1ML"}]
["Z1ML","15358685",5099,"CTO MBP 14 M5 MAX 18 CPU 32 GPU 36GB 4TB SPACE BLACK 96W","SCXT3LL/A","Special Order","14-inch","Space Black","M5 Max chip with 18‑core CPU, 32‑core GPU","36GB","4TB SSD","96W USB-C","Standard",{"$f":"_xlfn.XLOOKUP(Table8[[#This Row],[TDS SKU]],Sheet2!$B:$B,Sheet2!C:C)","v":"B"},{"$f":"_xlfn.XLOOKUP(Table8[[#This Row],[TDS SKU]],Sheet2!$B:$B,Sheet2!D:D)","v":"A"},{"$f":"_xlfn.XLOOKUP(Table8[[#This Row],[TDS SKU]],Sheet2!$B:$B,Sheet2!E:E)","v":"CTO BO"},{"$f":"LEFT(Table8[[#This Row],[Apple Part ]],4)","v":"Z1ML"}]
["Z1ML","15358645",5699,"CTO MBP 14 M5 MAX 18 CPU 40 GPU 48GB 4TB SPACE BLACK 96W","SCXT3LL/A","Special Order","14-inch","Space Black","M5 Max chip with 18‑core CPU, 40‑core GPU","48GB","4TB SSD","96W USB-C","Standard",{"$f":"_xlfn.XLOOKUP(Table8[[#This Row],[TDS SKU]],Sheet2!$B:$B,Sheet2!C:C)","v":"B"},{"$f":"_xlfn.XLOOKUP(Table8[[#This Row],[TDS SKU]],Sheet2!$B:$B,Sheet2!D:D)","v":"A"},{"$f":"_xlfn.XLOOKUP(Table8[[#This Row],[TDS SKU]],Sheet2!$B:$B,Sheet2!E:E)","v":"CTO BO"},{"$f":"LEFT(Table8[[#This Row],[Apple Part ]],4)","v":"Z1ML"}]
["Z1ML","15358631",4799,"CTO MBP 14 M5 PRO 18 CPU 20 GPU 48GB 4TB SPACE BLACK 96W","SCXT3LL/A","Special Order","14-inch","Space Black","M5 Pro chip with 18‑core CPU, 20‑core GPU","48GB","4TB SSD","96W USB-C","Standard",{"$f":"_xlfn.XLOOKUP(Table8[[#This Row],[TDS SKU]],Sheet2!$B:$B,Sheet2!C:C)","v":"B"},{"$f":"_xlfn.XLOOKUP(Table8[[#This Row],[TDS SKU]],Sheet2!$B:$B,Sheet2!D:D)","v":"A"},{"$f":"_xlfn.XLOOKUP(Table8[[#This Row],[TDS SKU]],Sheet2!$B:$B,Sheet2!E:E)","v":"CTO BO"},{"$f":"LEFT(Table8[[#This Row],[Apple Part ]],4)","v":"Z1ML"}]
["Z1ML","15358633",5199,"CTO MBP 14 M5 PRO 18 CPU 20 GPU 64GB 4TB SPACE BLACK 96W","SCXT3LL/A","Special Order","14-inch","Space Black","M5 Pro chip with 18‑core CPU, 20‑core GPU","64GB","4TB SSD","96W USB-C","Standard",{"$f":"_xlfn.XLOOKUP(Table8[[#This Row],[TDS SKU]],Sheet2!$B:$B,Sheet2!C:C)","v":"B"},{"$f":"_xlfn.XLOOKUP(Table8[[#This Row],[TDS SKU]],Sheet2!$B:$B,Sheet2!D:D)","v":"A"},{"$f":"_xlfn.XLOOKUP(Table8[[#This Row],[TDS SKU]],Sheet2!$B:$B,Sheet2!E:E)","v":"CTO BO"},{"$f":"LEFT(Table8[[#This Row],[Apple Part ]],4)","v":"Z1ML"}]
["Z1ML","15358647",6099,"CTO MBP 14 M5 MAX 18 CPU 40 GPU 64GB 4TB SPACE BLACK 96W","SCXT3LL/A","Special Order","14-inch","Space Black","M5 Max chip with 18‑core CPU, 40‑core GPU","64GB","4TB SSD","96W USB-C","Standard",{"$f":"_xlfn.XLOOKUP(Table8[[#This Row],[TDS SKU]],Sheet2!$B:$B,Sheet2!C:C)","v":"B"},{"$f":"_xlfn.XLOOKUP(Table8[[#This Row],[TDS SKU]],Sheet2!$B:$B,Sheet2!D:D)","v":"A"},{"$f":"_xlfn.XLOOKUP(Table8[[#This Row],[TDS SKU]],Sheet2!$B:$B,Sheet2!E:E)","v":"CTO BO"},{"$f":"LEFT(Table8[[#This Row],[Apple Part ]],4)","v":"Z1ML"}]
["Z1ML","15358649",7699,"CTO MBP 14 M5 MAX 18 CPU 40 GPU 128GB 4TB SPACE BLACK 96W","SCXT3LL/A","Special Order","14-inch","Space Black","M5 Max chip with 18‑core CPU, 40‑core GPU","128GB","4TB SSD","96W USB-C","Standard",{"$f":"_xlfn.XLOOKUP(Table8[[#This Row],[TDS SKU]],Sheet2!$B:$B,Sheet2!C:C)","v":"B"},{"$f":"_xlfn.XLOOKUP(Table8[[#This Row],[TDS SKU]],Sheet2!$B:$B,Sheet2!D:D)","v":"A"},{"$f":"_xlfn.XLOOKUP(Table8[[#This Row],[TDS SKU]],Sheet2!$B:$B,Sheet2!E:E)","v":"CTO BO"},{"$f":"LEFT(Table8[[#This Row],[Apple Part ]],4)","v":"Z1ML"}]
["Z1ML","15358653",8099,"CTO MBP 14 M5 MAX 18 CPU 40 GPU 64GB 8TB SPACE BLACK 96W","SCXT3LL/A","Special Order","14-inch","Space Black","M5 Max chip with 18‑core CPU, 40‑core GPU","64GB","8TB SSD","96W USB-C","Standard",{"$f":"_xlfn.XLOOKUP(Table8[[#This Row],[TDS SKU]],Sheet2!$B:$B,Sheet2!C:C)","v":"B"},{"$f":"_xlfn.XLOOKUP(Table8[[#This Row],[TDS SKU]],Sheet2!$B:$B,Sheet2!D:D)","v":"A"},{"$f":"_xlfn.XLOOKUP(Table8[[#This Row],[TDS SKU]],Sheet2!$B:$B,Sheet2!E:E)","v":"CTO BO"},{"$f":"LEFT(Table8[[#This Row],[Apple Part ]],4)","v":"Z1ML"}]
["Z1ML","15358655",9699,"CTO MBP 14 M5 MAX 18 CPU 40 GPU 128GB 8TB SPACE BLACK 96W","SCXT3LL/A","Special Order","14-inch","Space Black","M5 Max chip with 18‑core CPU, 40‑core GPU","128GB","8TB SSD","96W USB-C","Standard",{"$f":"_xlfn.XLOOKUP(Table8[[#This Row],[TDS SKU]],Sheet2!$B:$B,Sheet2!C:C)","v":"B"},{"$f":"_xlfn.XLOOKUP(Table8[[#This Row],[TDS SKU]],Sheet2!$B:$B,Sheet2!D:D)","v":"A"},{"$f":"_xlfn.XLOOKUP(Table8[[#This Row],[TDS SKU]],Sheet2!$B:$B,Sheet2!E:E)","v":"CTO BO"},{"$f":"LEFT(Table8[[#This Row],[Apple Part ]],4)","v":"Z1ML"}]
["Z1ML","15358610",2849,"CTO MBP 14 M5 PRO 18 CPU 20 GPU 24GB 1TB SPACE BLACK NANO 96W","SCXT3LL/A","Special Order","14-inch","Space Black","M5 Pro chip with 18‑core CPU, 20‑core GPU","24GB","1TB SSD","96W USB-C","Nano-Texture",{"$f":"_xlfn.XLOOKUP(Table8[[#This Row],[TDS SKU]],Sheet2!$B:$B,Sheet2!C:C)","v":"B"},{"$f":"_xlfn.XLOOKUP(Table8[[#This Row],[TDS SKU]],Sheet2!$B:$B,Sheet2!D:D)","v":"A"},{"$f":"_xlfn.XLOOKUP(Table8[[#This Row],[TDS SKU]],Sheet2!$B:$B,Sheet2!E:E)","v":"CTO BO"},{"$f":"LEFT(Table8[[#This Row],[Apple Part ]],4)","v":"Z1ML"}]
["Z1ML","15358684",4249,"CTO MBP 14 M5 MAX 18 CPU 32 GPU 36GB 2TB SPACE BLACK NANO 96W","SCXT3LL/A","Special Order","14-inch","Space Black","M5 Max chip with 18‑core CPU, 32‑core GPU","36GB","2TB SSD","96W USB-C","Nano-Texture",{"$f":"_xlfn.XLOOKUP(Table8[[#This Row],[TDS SKU]],Sheet2!$B:$B,Sheet2!C:C)","v":"B"},{"$f":"_xlfn.XLOOKUP(Table8[[#This Row],[TDS SKU]],Sheet2!$B:$B,Sheet2!D:D)","v":"A"},{"$f":"_xlfn.XLOOKUP(Table8[[#This Row],[TDS SKU]],Sheet2!$B:$B,Sheet2!E:E)","v":"CTO BO"},{"$f":"LEFT(Table8[[#This Row],[Apple Part ]],4)","v":"Z1ML"}]
["Z1ML","15358690",4849,"CTO MBP 14 M5 MAX 18 CPU 40 GPU 48GB 2TB SPACE BLACK NANO 96W","SCXT3LL/A","Special Order","14-inch","Space Black","M5 Max chip with 18‑core CPU, 40‑core GPU","48GB","2TB SSD","96W USB-C","Nano-Texture",{"$f":"_xlfn.XLOOKUP(Table8[[#This Row],[TDS SKU]],Sheet2!$B:$B,Sheet2!C:C)","v":"B"},{"$f":"_xlfn.XLOOKUP(Table8[[#This Row],[TDS SKU]],Sheet2!$B:$B,Sheet2!D:D)","v":"A"},{"$f":"_xlfn.XLOOKUP(Table8[[#This Row],[TDS SKU]],Sheet2!$B:$B,Sheet2!E:E)","v":"CTO BO"},{"$f":"LEFT(Table8[[#This Row],[Apple Part ]],4)","v":"Z1ML"}]
["Z1ML","15357021",3119,"CTO MBP 14 M5 PRO 15 CPU 16 GPU 48GB 1TB SPACE BLACK 96W","SCXT3LL/A","Special Order","14-inch","Space Black","M5 Pro chip with 15‑core CPU, 16‑core GPU","48GB","1TB SSD","96W USB-C","Standard",{"$f":"_xlfn.XLOOKUP(Table8[[#This Row],[TDS SKU]],Sheet2!$B:$B,Sheet2!C:C)","v":"B"},{"$f":"_xlfn.XLOOKUP(Table8[[#This Row],[TDS SKU]],Sheet2!$B:$B,Sheet2!D:D)","v":"A"},{"$f":"_xlfn.XLOOKUP(Table8[[#This Row],[TDS SKU]],Sheet2!$B:$B,Sheet2!E:E)","v":"CTO BO"},{"$f":"LEFT(Table8[[#This Row],[Apple Part ]],4)","v":"Z1ML"}]
["Z1ML","15358588",3619,"CTO MBP 14 M5 PRO 15 CPU 16 GPU 48GB 2TB SPACE BLACK 96W","SCXT3LL/A","Special Order","14-inch","Space Black","M5 Pro chip with 15‑core CPU, 16‑core GPU","48GB","2TB SSD","96W USB-C","Standard",{"$f":"_xlfn.XLOOKUP(Table8[[#This Row],[TDS SKU]],Sheet2!$B:$B,Sheet2!C:C)","v":"B"},{"$f":"_xlfn.XLOOKUP(Table8[[#This Row],[TDS SKU]],Sheet2!$B:$B,Sheet2!D:D)","v":"A"},{"$f":"_xlfn.XLOOKUP(Table8[[#This Row],[TDS SKU]],Sheet2!$B:$B,Sheet2!E:E)","v":"CTO BO"},{"$f":"LEFT(Table8[[#This Row],[Apple Part ]],4)","v":"Z1ML"}]
["Z1ML","15358611",3449,"CTO MBP 14 M5 PRO 18 CPU 20 GPU 48GB 1TB SPACE BLACK NANO 96W","SCXT3LL/A","Stocked","14-inch","Space Black","M5 Pro chip with 18‑core CPU, 20‑core GPU","48GB","1TB SSD","96W USB-C","Nano-Texture",{"$f":"_xlfn.XLOOKUP(Table8[[#This Row],[TDS SKU]],Sheet2!$B:$B,Sheet2!C:C)","v":"B"},{"$f":"_xlfn.XLOOKUP(Table8[[#This Row],[TDS SKU]],Sheet2!$B:$B,Sheet2!D:D)","v":"A"},{"$f":"_xlfn.XLOOKUP(Table8[[#This Row],[TDS SKU]],Sheet2!$B:$B,Sheet2!E:E)","v":"STOCKED CTO"},{"$f":"LEFT(Table8[[#This Row],[Apple Part ]],4)","v":"Z1ML"}]
["Z1ML","15358608",4769,"CTO MBP 14 M5 PRO 15 CPU 16 GPU 48GB 4TB SPACE BLACK NANO 96W","SCXT3LL/A","Special Order","14-inch","Space Black","M5 Pro chip with 15‑core CPU, 16‑core GPU","48GB","4TB SSD","96W USB-C","Nano-Texture",{"$f":"_xlfn.XLOOKUP(Table8[[#This Row],[TDS SKU]],Sheet2!$B:$B,Sheet2!C:C)","v":"B"},{"$f":"_xlfn.XLOOKUP(Table8[[#This Row],[TDS SKU]],Sheet2!$B:$B,Sheet2!D:D)","v":"A"},{"$f":"_xlfn.XLOOKUP(Table8[[#This Row],[TDS SKU]],Sheet2!$B:$B,Sheet2!E:E)","v":"CTO BO"},{"$f":"LEFT(Table8[[#This Row],[Apple Part ]],4)","v":"Z1ML"}]
["Z1ML","15358673",3019,"CTO MBP 14 M5 PRO 15 CPU 16 GPU 24GB 2TB SPACE BLACK 96W","SCXT3LL/A","Special Order","14-inch","Space Black","M5 Pro chip with 15‑core CPU, 16‑core GPU","24GB","2TB SSD","96W USB-C","Standard",{"$f":"_xlfn.XLOOKUP(Table8[[#This Row],[TDS SKU]],Sheet2!$B:$B,Sheet2!C:C)","v":"B"},{"$f":"_xlfn.XLOOKUP(Table8[[#This Row],[TDS SKU]],Sheet2!$B:$B,Sheet2!D:D)","v":"A"},{"$f":"_xlfn.XLOOKUP(Table8[[#This Row],[TDS SKU]],Sheet2!$B:$B,Sheet2!E:E)","v":"CTO BO"},{"$f":"LEFT(Table8[[#This Row],[Apple Part ]],4)","v":"Z1ML"}]
["Z1ML","15358670",2669,"CTO MBP 14 M5 PRO 15 CPU 16 GPU 24GB 1TB SPACE BLACK NANO 96W","SCXT3LL/A","Special Order","14-inch","Space Black","M5 Pro chip with 15‑core CPU, 16‑core GPU","24GB","1TB SSD","96W USB-C","Nano-Texture",{"$f":"_xlfn.XLOOKUP(Table8[[#This Row],[TDS SKU]],Sheet2!$B:$B,Sheet2!C:C)","v":"B"},{"$f":"_xlfn.XLOOKUP(Table8[[#This Row],[TDS SKU]],Sheet2!$B:$B,Sheet2!D:D)","v":"A"},{"$f":"_xlfn.XLOOKUP(Table8[[#This Row],[TDS SKU]],Sheet2!$B:$B,Sheet2!E:E)","v":"CTO BO"},{"$f":"LEFT(Table8[[#This Row],[Apple Part ]],4)","v":"Z1ML"}]
["Z1ML","15358590",3769,"CTO MBP 14 M5 PRO 15 CPU 16 GPU 48GB 2TB SPACE BLACK NANO 96W","SCXT3LL/A","Special Order","14-inch","Space Black","M5 Pro chip with 15‑core CPU, 16‑core GPU","48GB","2TB SSD","96W USB-C","Nano-Texture",{"$f":"_xlfn.XLOOKUP(Table8[[#This Row],[TDS SKU]],Sheet2!$B:$B,Sheet2!C:C)","v":"B"},{"$f":"_xlfn.XLOOKUP(Table8[[#This Row],[TDS SKU]],Sheet2!$B:$B,Sheet2!D:D)","v":"A"},{"$f":"_xlfn.XLOOKUP(Table8[[#This Row],[TDS SKU]],Sheet2!$B:$B,Sheet2!E:E)","v":"CTO BO"},{"$f":"LEFT(Table8[[#This Row],[Apple Part ]],4)","v":"Z1ML"}]
["Z1ML","15358672",3269,"CTO MBP 14 M5 PRO 15 CPU 16 GPU 48GB 1TB SPACE BLACK NANO 96W","SCXT3LL/A","Special Order","14-inch","Space Black","M5 Pro chip with 15‑core CPU, 16‑core GPU","48GB","1TB SSD","96W USB-C","Nano-Texture",{"$f":"_xlfn.XLOOKUP(Table8[[#This Row],[TDS SKU]],Sheet2!$B:$B,Sheet2!C:C)","v":"B"},{"$f":"_xlfn.XLOOKUP(Table8[[#This Row],[TDS SKU]],Sheet2!$B:$B,Sheet2!D:D)","v":"A"},{"$f":"_xlfn.XLOOKUP(Table8[[#This Row],[TDS SKU]],Sheet2!$B:$B,Sheet2!E:E)","v":"CTO BO"},{"$f":"LEFT(Table8[[#This Row],[Apple Part ]],4)","v":"Z1ML"}]
["Z1ML","15358592",4019,"CTO MBP 14 M5 PRO 15 CPU 16 GPU 24GB 4TB SPACE BLACK 96W","SCXT3LL/A",{"$f":"IF(OR(P212=\"CTO BO\",P212=\"ZPN BO\"),\"Special Order\",\"Stocked\")","v":"Special Order"},"14-inch","Space Black","M5 Pro chip with 15‑core CPU, 16‑core GPU","24GB","4TB SSD","96W USB-C","Standard",{"$f":"_xlfn.XLOOKUP(Table8[[#This Row],[TDS SKU]],Sheet2!$B:$B,Sheet2!C:C)","v":"B"},{"$f":"_xlfn.XLOOKUP(Table8[[#This Row],[TDS SKU]],Sheet2!$B:$B,Sheet2!D:D)","v":"A"},{"$f":"_xlfn.XLOOKUP(Table8[[#This Row],[TDS SKU]],Sheet2!$B:$B,Sheet2!E:E)","v":"CTO BO"},{"$f":"LEFT(Table8[[#This Row],[Apple Part ]],4)","v":"Z1ML"}]
["Z1ML","15358586",3169,"CTO MBP 14 M5 PRO 15 CPU 16 GPU 24GB 2TB SPACE BLACK NANO 96W","SCXT3LL/A","Special Order","14-inch","Space Black","M5 Pro chip with 15‑core CPU, 16‑core GPU","24GB","2TB SSD","96W USB-C","Nano-Texture",{"$f":"_xlfn.XLOOKUP(Table8[[#This Row],[TDS SKU]],Sheet2!$B:$B,Sheet2!C:C)","v":"B"},{"$f":"_xlfn.XLOOKUP(Table8[[#This Row],[TDS SKU]],Sheet2!$B:$B,Sheet2!D:D)","v":"A"},{"$f":"_xlfn.XLOOKUP(Table8[[#This Row],[TDS SKU]],Sheet2!$B:$B,Sheet2!E:E)","v":"CTO BO"},{"$f":"LEFT(Table8[[#This Row],[Apple Part ]],4)","v":"Z1ML"}]
["Z1ML","15358613",3849,"CTO MBP 14 M5 PRO 18 CPU 20 GPU 64GB 1TB SPACE BLACK NANO 96W","SCXT3LL/A","Special Order","14-inch","Space Black","M5 Pro chip with 18‑core CPU, 20‑core GPU","64GB","1TB SSD","96W USB-C","Nano-Texture",{"$f":"_xlfn.XLOOKUP(Table8[[#This Row],[TDS SKU]],Sheet2!$B:$B,Sheet2!C:C)","v":"B"},{"$f":"_xlfn.XLOOKUP(Table8[[#This Row],[TDS SKU]],Sheet2!$B:$B,Sheet2!D:D)","v":"A"},{"$f":"_xlfn.XLOOKUP(Table8[[#This Row],[TDS SKU]],Sheet2!$B:$B,Sheet2!E:E)","v":"CTO BO"},{"$f":"LEFT(Table8[[#This Row],[Apple Part ]],4)","v":"Z1ML"}]
["Z1ML","15358632",4949,"CTO MBP 14 M5 PRO 18 CPU 20 GPU 48GB 4TB SPACE BLACK NANO 96W","SCXT3LL/A","Special Order","14-inch","Space Black","M5 Pro chip with 18‑core CPU, 20‑core GPU","48GB","4TB SSD","96W USB-C","Nano-Texture",{"$f":"_xlfn.XLOOKUP(Table8[[#This Row],[TDS SKU]],Sheet2!$B:$B,Sheet2!C:C)","v":"B"},{"$f":"_xlfn.XLOOKUP(Table8[[#This Row],[TDS SKU]],Sheet2!$B:$B,Sheet2!D:D)","v":"A"},{"$f":"_xlfn.XLOOKUP(Table8[[#This Row],[TDS SKU]],Sheet2!$B:$B,Sheet2!E:E)","v":"CTO BO"},{"$f":"LEFT(Table8[[#This Row],[Apple Part ]],4)","v":"Z1ML"}]
["Z1ML","15358634",5349,"CTO MBP 14 M5 PRO 18 CPU 20 GPU 64GB 4TB SPACE BLACK NANO 96W","SCXT3LL/A","Special Order","14-inch","Space Black","M5 Pro chip with 18‑core CPU, 20‑core GPU","64GB","4TB SSD","96W USB-C","Nano-Texture",{"$f":"_xlfn.XLOOKUP(Table8[[#This Row],[TDS SKU]],Sheet2!$B:$B,Sheet2!C:C)","v":"B"},{"$f":"_xlfn.XLOOKUP(Table8[[#This Row],[TDS SKU]],Sheet2!$B:$B,Sheet2!D:D)","v":"A"},{"$f":"_xlfn.XLOOKUP(Table8[[#This Row],[TDS SKU]],Sheet2!$B:$B,Sheet2!E:E)","v":"CTO BO"},{"$f":"LEFT(Table8[[#This Row],[Apple Part ]],4)","v":"Z1ML"}]
["Z1ML","15358686",5249,"CTO MBP 14 M5 MAX 18 CPU 32 GPU 36GB 4TB SPACE BLACK NANO 96W","SCXT3LL/A","Special Order","14-inch","Space Black","M5 Max chip with 18‑core CPU, 32‑core GPU","36GB","4TB SSD","96W USB-C","Nano-Texture",{"$f":"_xlfn.XLOOKUP(Table8[[#This Row],[TDS SKU]],Sheet2!$B:$B,Sheet2!C:C)","v":"B"},{"$f":"_xlfn.XLOOKUP(Table8[[#This Row],[TDS SKU]],Sheet2!$B:$B,Sheet2!D:D)","v":"A"},{"$f":"_xlfn.XLOOKUP(Table8[[#This Row],[TDS SKU]],Sheet2!$B:$B,Sheet2!E:E)","v":"CTO BO"},{"$f":"LEFT(Table8[[#This Row],[Apple Part ]],4)","v":"Z1ML"}]
["Z1ML","15358688",7249,"CTO MBP 14 M5 MAX 18 CPU 32 GPU 36GB 8TB SPACE BLACK NANO 96W","SCXT3LL/A","Special Order","14-inch","Space Black","M5 Max chip with 18‑core CPU, 32‑core GPU","36GB","8TB SSD","96W USB-C","Nano-Texture",{"$f":"_xlfn.XLOOKUP(Table8[[#This Row],[TDS SKU]],Sheet2!$B:$B,Sheet2!C:C)","v":"B"},{"$f":"_xlfn.XLOOKUP(Table8[[#This Row],[TDS SKU]],Sheet2!$B:$B,Sheet2!D:D)","v":"A"},{"$f":"_xlfn.XLOOKUP(Table8[[#This Row],[TDS SKU]],Sheet2!$B:$B,Sheet2!E:E)","v":"CTO BO"},{"$f":"LEFT(Table8[[#This Row],[Apple Part ]],4)","v":"Z1ML"}]
["Z1ML","15358691",5249,"CTO MBP 14 M5 MAX 18 CPU 40 GPU 64GB 2TB SPACE BLACK NANO 96W","SCXT3LL/A","Stocked","14-inch","Space Black","M5 Max chip with 18‑core CPU, 40‑core GPU","64GB","2TB SSD","96W USB-C","Nano-Texture",{"$f":"_xlfn.XLOOKUP(Table8[[#This Row],[TDS SKU]],Sheet2!$B:$B,Sheet2!C:C)","v":"B"},{"$f":"_xlfn.XLOOKUP(Table8[[#This Row],[TDS SKU]],Sheet2!$B:$B,Sheet2!D:D)","v":"A"},{"$f":"_xlfn.XLOOKUP(Table8[[#This Row],[TDS SKU]],Sheet2!$B:$B,Sheet2!E:E)","v":"STOCKED CTO"},{"$f":"LEFT(Table8[[#This Row],[Apple Part ]],4)","v":"Z1ML"}]
["Z1ML","15358693",6849,"CTO MBP 14 M5 MAX 18 CPU 40 GPU 128GB 2TB SPACE BLACK NANO 96W","SCXT3LL/A","Special Order","14-inch","Space Black","M5 Max chip with 18‑core CPU, 40‑core GPU","128GB","2TB SSD","96W USB-C","Nano-Texture",{"$f":"_xlfn.XLOOKUP(Table8[[#This Row],[TDS SKU]],Sheet2!$B:$B,Sheet2!C:C)","v":"B"},{"$f":"_xlfn.XLOOKUP(Table8[[#This Row],[TDS SKU]],Sheet2!$B:$B,Sheet2!D:D)","v":"A"},{"$f":"_xlfn.XLOOKUP(Table8[[#This Row],[TDS SKU]],Sheet2!$B:$B,Sheet2!E:E)","v":"CTO BO"},{"$f":"LEFT(Table8[[#This Row],[Apple Part ]],4)","v":"Z1ML"}]
["Z1ML","15358646",5849,"CTO MBP 14 M5 MAX 18 CPU 40 GPU 48GB 4TB SPACE BLACK NANO 96W","SCXT3LL/A","Special Order","14-inch","Space Black","M5 Max chip with 18‑core CPU, 40‑core GPU","48GB","4TB SSD","96W USB-C","Nano-Texture",{"$f":"_xlfn.XLOOKUP(Table8[[#This Row],[TDS SKU]],Sheet2!$B:$B,Sheet2!C:C)","v":"B"},{"$f":"_xlfn.XLOOKUP(Table8[[#This Row],[TDS SKU]],Sheet2!$B:$B,Sheet2!D:D)","v":"A"},{"$f":"_xlfn.XLOOKUP(Table8[[#This Row],[TDS SKU]],Sheet2!$B:$B,Sheet2!E:E)","v":"CTO BO"},{"$f":"LEFT(Table8[[#This Row],[Apple Part ]],4)","v":"Z1ML"}]
["Z1ML","15358648",6249,"CTO MBP 14 M5 MAX 18 CPU 40 GPU 64GB 4TB SPACE BLACK NANO 96W","SCXT3LL/A","Special Order","14-inch","Space Black","M5 Max chip with 18‑core CPU, 40‑core GPU","64GB","4TB SSD","96W USB-C","Nano-Texture",{"$f":"_xlfn.XLOOKUP(Table8[[#This Row],[TDS SKU]],Sheet2!$B:$B,Sheet2!C:C)","v":"B"},{"$f":"_xlfn.XLOOKUP(Table8[[#This Row],[TDS SKU]],Sheet2!$B:$B,Sheet2!D:D)","v":"A"},{"$f":"_xlfn.XLOOKUP(Table8[[#This Row],[TDS SKU]],Sheet2!$B:$B,Sheet2!E:E)","v":"CTO BO"},{"$f":"LEFT(Table8[[#This Row],[Apple Part ]],4)","v":"Z1ML"}]
["Z1ML","15358650",7849,"CTO MBP 14 M5 MAX 18 CPU 40 GPU 128GB 4TB SPACE BLACK NANO 96W","SCXT3LL/A","Special Order","14-inch","Space Black","M5 Max chip with 18‑core CPU, 40‑core GPU","128GB","4TB SSD","96W USB-C","Nano-Texture",{"$f":"_xlfn.XLOOKUP(Table8[[#This Row],[TDS SKU]],Sheet2!$B:$B,Sheet2!C:C)","v":"B"},{"$f":"_xlfn.XLOOKUP(Table8[[#This Row],[TDS SKU]],Sheet2!$B:$B,Sheet2!D:D)","v":"A"},{"$f":"_xlfn.XLOOKUP(Table8[[#This Row],[TDS SKU]],Sheet2!$B:$B,Sheet2!E:E)","v":"CTO BO"},{"$f":"LEFT(Table8[[#This Row],[Apple Part ]],4)","v":"Z1ML"}]
["Z1ML","15358594",4169,"CTO MBP 14 M5 PRO 15 CPU 16 GPU 24GB 4TB SPACE BLACK NANO 96W","SCXT3LL/A","Special Order","14-inch","Space Black","M5 Pro chip with 15‑core CPU, 16‑core GPU","24GB","4TB SSD","96W USB-C","Nano-Texture",{"$f":"_xlfn.XLOOKUP(Table8[[#This Row],[TDS SKU]],Sheet2!$B:$B,Sheet2!C:C)","v":"B"},{"$f":"_xlfn.XLOOKUP(Table8[[#This Row],[TDS SKU]],Sheet2!$B:$B,Sheet2!D:D)","v":"A"},{"$f":"_xlfn.XLOOKUP(Table8[[#This Row],[TDS SKU]],Sheet2!$B:$B,Sheet2!E:E)","v":"CTO BO"},{"$f":"LEFT(Table8[[#This Row],[Apple Part ]],4)","v":"Z1ML"}]
["Z1ML","15358606",4619,"CTO MBP 14 M5 PRO 15 CPU 16 GPU 48GB 4TB SPACE BLACK 96W","SCXT3LL/A","Special Order","14-inch","Space Black","M5 Pro chip with 15‑core CPU, 16‑core GPU","48GB","4TB SSD","96W USB-C","Standard",{"$f":"_xlfn.XLOOKUP(Table8[[#This Row],[TDS SKU]],Sheet2!$B:$B,Sheet2!C:C)","v":"B"},{"$f":"_xlfn.XLOOKUP(Table8[[#This Row],[TDS SKU]],Sheet2!$B:$B,Sheet2!D:D)","v":"A"},{"$f":"_xlfn.XLOOKUP(Table8[[#This Row],[TDS SKU]],Sheet2!$B:$B,Sheet2!E:E)","v":"CTO BO"},{"$f":"LEFT(Table8[[#This Row],[Apple Part ]],4)","v":"Z1ML"}]
["Z1ML","15358614",3349,"CTO MBP 14 M5 PRO 18 CPU 20 GPU 24GB 2TB SPACE BLACK NANO 96W","SCXT3LL/A","Special Order","14-inch","Space Black","M5 Pro chip with 18‑core CPU, 20‑core GPU","24GB","2TB SSD","96W USB-C","Nano-Texture",{"$f":"_xlfn.XLOOKUP(Table8[[#This Row],[TDS SKU]],Sheet2!$B:$B,Sheet2!C:C)","v":"B"},{"$f":"_xlfn.XLOOKUP(Table8[[#This Row],[TDS SKU]],Sheet2!$B:$B,Sheet2!D:D)","v":"A"},{"$f":"_xlfn.XLOOKUP(Table8[[#This Row],[TDS SKU]],Sheet2!$B:$B,Sheet2!E:E)","v":"CTO BO"},{"$f":"LEFT(Table8[[#This Row],[Apple Part ]],4)","v":"Z1ML"}]
["Z1ML","15358626",3949,"CTO MBP 14 M5 PRO 18 CPU 20 GPU 48GB 2TB SPACE BLACK NANO 96W","SCXT3LL/A","Special Order","14-inch","Space Black","M5 Pro chip with 18‑core CPU, 20‑core GPU","48GB","2TB SSD","96W USB-C","Nano-Texture",{"$f":"_xlfn.XLOOKUP(Table8[[#This Row],[TDS SKU]],Sheet2!$B:$B,Sheet2!C:C)","v":"B"},{"$f":"_xlfn.XLOOKUP(Table8[[#This Row],[TDS SKU]],Sheet2!$B:$B,Sheet2!D:D)","v":"A"},{"$f":"_xlfn.XLOOKUP(Table8[[#This Row],[TDS SKU]],Sheet2!$B:$B,Sheet2!E:E)","v":"CTO BO"},{"$f":"LEFT(Table8[[#This Row],[Apple Part ]],4)","v":"Z1ML"}]
["Z1ML","15358628",4349,"CTO MBP 14 M5 PRO 18 CPU 20 GPU 64GB 2TB SPACE BLACK NANO 96W","SCXT3LL/A","Special Order","14-inch","Space Black","M5 Pro chip with 18‑core CPU, 20‑core GPU","64GB","2TB SSD","96W USB-C","Nano-Texture",{"$f":"_xlfn.XLOOKUP(Table8[[#This Row],[TDS SKU]],Sheet2!$B:$B,Sheet2!C:C)","v":"B"},{"$f":"_xlfn.XLOOKUP(Table8[[#This Row],[TDS SKU]],Sheet2!$B:$B,Sheet2!D:D)","v":"A"},{"$f":"_xlfn.XLOOKUP(Table8[[#This Row],[TDS SKU]],Sheet2!$B:$B,Sheet2!E:E)","v":"CTO BO"},{"$f":"LEFT(Table8[[#This Row],[Apple Part ]],4)","v":"Z1ML"}]
["Z1ML","15358630",4349,"CTO MBP 14 M5 PRO 18 CPU 20 GPU 24GB 4TB SPACE BLACK NANO 96W","SCXT3LL/A","Special Order","14-inch","Space Black","M5 Pro chip with 18‑core CPU, 20‑core GPU","24GB","4TB SSD","96W USB-C","Nano-Texture",{"$f":"_xlfn.XLOOKUP(Table8[[#This Row],[TDS SKU]],Sheet2!$B:$B,Sheet2!C:C)","v":"B"},{"$f":"_xlfn.XLOOKUP(Table8[[#This Row],[TDS SKU]],Sheet2!$B:$B,Sheet2!D:D)","v":"A"},{"$f":"_xlfn.XLOOKUP(Table8[[#This Row],[TDS SKU]],Sheet2!$B:$B,Sheet2!E:E)","v":"CTO BO"},{"$f":"LEFT(Table8[[#This Row],[Apple Part ]],4)","v":"Z1ML"}]
["Z1ML","15358654",8249,"CTO MBP 14 M5 MAX 18 CPU 40 GPU 64GB 8TB SPACE BLACK NANO 96W","SCXT3LL/A","Special Order","14-inch","Space Black","M5 Max chip with 18‑core CPU, 40‑core GPU","64GB","8TB SSD","96W USB-C","Nano-Texture",{"$f":"_xlfn.XLOOKUP(Table8[[#This Row],[TDS SKU]],Sheet2!$B:$B,Sheet2!C:C)","v":"B"},{"$f":"_xlfn.XLOOKUP(Table8[[#This Row],[TDS SKU]],Sheet2!$B:$B,Sheet2!D:D)","v":"A"},{"$f":"_xlfn.XLOOKUP(Table8[[#This Row],[TDS SKU]],Sheet2!$B:$B,Sheet2!E:E)","v":"CTO BO"},{"$f":"LEFT(Table8[[#This Row],[Apple Part ]],4)","v":"Z1ML"}]
["Z1ML","15358652",7849,"CTO MBP 14 M5 MAX 18 CPU 40 GPU 48GB 8TB SPACE BLACK NANO 96W","SCXT3LL/A","Special Order","14-inch","Space Black","M5 Max chip with 18‑core CPU, 40‑core GPU","48GB","8TB SSD","96W USB-C","Nano-Texture",{"$f":"_xlfn.XLOOKUP(Table8[[#This Row],[TDS SKU]],Sheet2!$B:$B,Sheet2!C:C)","v":"B"},{"$f":"_xlfn.XLOOKUP(Table8[[#This Row],[TDS SKU]],Sheet2!$B:$B,Sheet2!D:D)","v":"A"},{"$f":"_xlfn.XLOOKUP(Table8[[#This Row],[TDS SKU]],Sheet2!$B:$B,Sheet2!E:E)","v":"CTO BO"},{"$f":"LEFT(Table8[[#This Row],[Apple Part ]],4)","v":"Z1ML"}]
["Z1ML","15358656",9849,"CTO MBP 14 M5 MAX 18 CPU 40 GPU 128GB 8TB SPACE BLACK NANO 96W","SCXT3LL/A","Special Order","14-inch","Space Black","M5 Max chip with 18‑core CPU, 40‑core GPU","128GB","8TB SSD","96W USB-C","Nano-Texture",{"$f":"_xlfn.XLOOKUP(Table8[[#This Row],[TDS SKU]],Sheet2!$B:$B,Sheet2!C:C)","v":"B"},{"$f":"_xlfn.XLOOKUP(Table8[[#This Row],[TDS SKU]],Sheet2!$B:$B,Sheet2!D:D)","v":"A"},{"$f":"_xlfn.XLOOKUP(Table8[[#This Row],[TDS SKU]],Sheet2!$B:$B,Sheet2!E:E)","v":"CTO BO"},{"$f":"LEFT(Table8[[#This Row],[Apple Part ]],4)","v":"Z1ML"}]
["Z1MV","15358657",3149,"CTO MBP 16 M5 PRO 18 CPU 20 GPU 24GB 1TB SILVER NANO 140W","SCXU3LL/A","Special Order","16-inch","Silver","M5 Pro chip with 18‑core CPU, 20‑core GPU","24GB","1TB SSD","140W USB-C","Nano-Texture",{"$f":"_xlfn.XLOOKUP(Table8[[#This Row],[TDS SKU]],Sheet2!$B:$B,Sheet2!C:C)","v":"B"},{"$f":"_xlfn.XLOOKUP(Table8[[#This Row],[TDS SKU]],Sheet2!$B:$B,Sheet2!D:D)","v":"A"},{"$f":"_xlfn.XLOOKUP(Table8[[#This Row],[TDS SKU]],Sheet2!$B:$B,Sheet2!E:E)","v":"CTO BO"},{"$f":"LEFT(Table8[[#This Row],[Apple Part ]],4)","v":"Z1MV"}]
["Z1MV","15358659",3999,"CTO MBP 16 M5 PRO 18 CPU 20 GPU 64GB 1TB SILVER 140W","SCXU3LL/A","Special Order","16-inch","Silver","M5 Pro chip with 18‑core CPU, 20‑core GPU","64GB","1TB SSD","140W USB-C","Standard",{"$f":"_xlfn.XLOOKUP(Table8[[#This Row],[TDS SKU]],Sheet2!$B:$B,Sheet2!C:C)","v":"B"},{"$f":"_xlfn.XLOOKUP(Table8[[#This Row],[TDS SKU]],Sheet2!$B:$B,Sheet2!D:D)","v":"A"},{"$f":"_xlfn.XLOOKUP(Table8[[#This Row],[TDS SKU]],Sheet2!$B:$B,Sheet2!E:E)","v":"CTO BO"},{"$f":"LEFT(Table8[[#This Row],[Apple Part ]],4)","v":"Z1MV"}]
["Z1MV","15358695",7399,"CTO MBP 16 M5 MAX 18 CPU 32 GPU 36GB 8TB SILVER 140W","SCXU3LL/A","Special Order","16-inch","Silver","M5 Max chip with 18‑core CPU, 32‑core GPU","36GB","8TB SSD","140W USB-C","Standard",{"$f":"_xlfn.XLOOKUP(Table8[[#This Row],[TDS SKU]],Sheet2!$B:$B,Sheet2!C:C)","v":"B"},{"$f":"_xlfn.XLOOKUP(Table8[[#This Row],[TDS SKU]],Sheet2!$B:$B,Sheet2!D:D)","v":"A"},{"$f":"_xlfn.XLOOKUP(Table8[[#This Row],[TDS SKU]],Sheet2!$B:$B,Sheet2!E:E)","v":"CTO BO"},{"$f":"LEFT(Table8[[#This Row],[Apple Part ]],4)","v":"Z1MV"}]
["Z1MV","15355961",5399,"CTO MBP 16 M5 MAX 18 CPU 40 GPU 64GB 2TB SILVER 140W","SCXU3LL/A","Stocked","16-inch","Silver","M5 Max chip with 18‑core CPU, 40‑core GPU","64GB","2TB SSD","140W USB-C","Standard",{"$f":"_xlfn.XLOOKUP(Table8[[#This Row],[TDS SKU]],Sheet2!$B:$B,Sheet2!C:C)","v":"B"},{"$f":"_xlfn.XLOOKUP(Table8[[#This Row],[TDS SKU]],Sheet2!$B:$B,Sheet2!D:D)","v":"A"},{"$f":"_xlfn.XLOOKUP(Table8[[#This Row],[TDS SKU]],Sheet2!$B:$B,Sheet2!E:E)","v":"STOCKED CTO"},{"$f":"LEFT(Table8[[#This Row],[Apple Part ]],4)","v":"Z1MV"}]
["Z1MV","15358699",6999,"CTO MBP 16 M5 MAX 18 CPU 40 GPU 128GB 2TB SILVER 140W","SCXU3LL/A","Special Order","16-inch","Silver","M5 Max chip with 18‑core CPU, 40‑core GPU","128GB","2TB SSD","140W USB-C","Standard",{"$f":"_xlfn.XLOOKUP(Table8[[#This Row],[TDS SKU]],Sheet2!$B:$B,Sheet2!C:C)","v":"B"},{"$f":"_xlfn.XLOOKUP(Table8[[#This Row],[TDS SKU]],Sheet2!$B:$B,Sheet2!D:D)","v":"A"},{"$f":"_xlfn.XLOOKUP(Table8[[#This Row],[TDS SKU]],Sheet2!$B:$B,Sheet2!E:E)","v":"CTO BO"},{"$f":"LEFT(Table8[[#This Row],[Apple Part ]],4)","v":"Z1MV"}]
["Z1MV","15358707",7999,"CTO MBP 16 M5 MAX 18 CPU 40 GPU 48GB 8TB SILVER 140W","SCXU3LL/A","Special Order","16-inch","Silver","M5 Max chip with 18‑core CPU, 40‑core GPU","48GB","8TB SSD","140W USB-C","Standard",{"$f":"_xlfn.XLOOKUP(Table8[[#This Row],[TDS SKU]],Sheet2!$B:$B,Sheet2!C:C)","v":"B"},{"$f":"_xlfn.XLOOKUP(Table8[[#This Row],[TDS SKU]],Sheet2!$B:$B,Sheet2!D:D)","v":"A"},{"$f":"_xlfn.XLOOKUP(Table8[[#This Row],[TDS SKU]],Sheet2!$B:$B,Sheet2!E:E)","v":"CTO BO"},{"$f":"LEFT(Table8[[#This Row],[Apple Part ]],4)","v":"Z1MV"}]
["Z1MV","15358661",3499,"CTO MBP 16 M5 PRO 18 CPU 20 GPU 24GB 2TB SILVER 140W","SCXU3LL/A","Special Order","16-inch","Silver","M5 Pro chip with 18‑core CPU, 20‑core GPU","24GB","2TB SSD","140W USB-C","Standard",{"$f":"_xlfn.XLOOKUP(Table8[[#This Row],[TDS SKU]],Sheet2!$B:$B,Sheet2!C:C)","v":"B"},{"$f":"_xlfn.XLOOKUP(Table8[[#This Row],[TDS SKU]],Sheet2!$B:$B,Sheet2!D:D)","v":"A"},{"$f":"_xlfn.XLOOKUP(Table8[[#This Row],[TDS SKU]],Sheet2!$B:$B,Sheet2!E:E)","v":"CTO BO"},{"$f":"LEFT(Table8[[#This Row],[Apple Part ]],4)","v":"Z1MV"}]
["Z1MV","15358676",4499,"CTO MBP 16 M5 PRO 18 CPU 20 GPU 24GB 4TB SILVER 140W","SCXU3LL/A","Special Order","16-inch","Silver","M5 Pro chip with 18‑core CPU, 20‑core GPU","24GB","4TB SSD","140W USB-C","Standard",{"$f":"_xlfn.XLOOKUP(Table8[[#This Row],[TDS SKU]],Sheet2!$B:$B,Sheet2!C:C)","v":"B"},{"$f":"_xlfn.XLOOKUP(Table8[[#This Row],[TDS SKU]],Sheet2!$B:$B,Sheet2!D:D)","v":"A"},{"$f":"_xlfn.XLOOKUP(Table8[[#This Row],[TDS SKU]],Sheet2!$B:$B,Sheet2!E:E)","v":"CTO BO"},{"$f":"LEFT(Table8[[#This Row],[Apple Part ]],4)","v":"Z1MV"}]
["Z1MV","15358663",4099,"CTO MBP 16 M5 PRO 18 CPU 20 GPU 48GB 2TB SILVER 140W","SCXU3LL/A","Special Order","16-inch","Silver","M5 Pro chip with 18‑core CPU, 20‑core GPU","48GB","2TB SSD","140W USB-C","Standard",{"$f":"_xlfn.XLOOKUP(Table8[[#This Row],[TDS SKU]],Sheet2!$B:$B,Sheet2!C:C)","v":"B"},{"$f":"_xlfn.XLOOKUP(Table8[[#This Row],[TDS SKU]],Sheet2!$B:$B,Sheet2!D:D)","v":"A"},{"$f":"_xlfn.XLOOKUP(Table8[[#This Row],[TDS SKU]],Sheet2!$B:$B,Sheet2!E:E)","v":"CTO BO"},{"$f":"LEFT(Table8[[#This Row],[Apple Part ]],4)","v":"Z1MV"}]
["Z1MV","15358678",5099,"CTO MBP 16 M5 PRO 18 CPU 20 GPU 48GB 4TB SILVER 140W","SCXU3LL/A","Special Order","16-inch","Silver","M5 Pro chip with 18‑core CPU, 20‑core GPU","48GB","4TB SSD","140W USB-C","Standard",{"$f":"_xlfn.XLOOKUP(Table8[[#This Row],[TDS SKU]],Sheet2!$B:$B,Sheet2!C:C)","v":"B"},{"$f":"_xlfn.XLOOKUP(Table8[[#This Row],[TDS SKU]],Sheet2!$B:$B,Sheet2!D:D)","v":"A"},{"$f":"_xlfn.XLOOKUP(Table8[[#This Row],[TDS SKU]],Sheet2!$B:$B,Sheet2!E:E)","v":"CTO BO"},{"$f":"LEFT(Table8[[#This Row],[Apple Part ]],4)","v":"Z1MV"}]
["Z1MV","15358674",4499,"CTO MBP 16 M5 PRO 18 CPU 20 GPU 64GB 2TB SILVER 140W","SCXU3LL/A","Special Order","16-inch","Silver","M5 Pro chip with 18‑core CPU, 20‑core GPU","64GB","2TB SSD","140W USB-C","Standard",{"$f":"_xlfn.XLOOKUP(Table8[[#This Row],[TDS SKU]],Sheet2!$B:$B,Sheet2!C:C)","v":"B"},{"$f":"_xlfn.XLOOKUP(Table8[[#This Row],[TDS SKU]],Sheet2!$B:$B,Sheet2!D:D)","v":"A"},{"$f":"_xlfn.XLOOKUP(Table8[[#This Row],[TDS SKU]],Sheet2!$B:$B,Sheet2!E:E)","v":"CTO BO"},{"$f":"LEFT(Table8[[#This Row],[Apple Part ]],4)","v":"Z1MV"}]
["Z1MV","15358680",5499,"CTO MBP 16 M5 PRO 18 CPU 20 GPU 64GB 4TB SILVER 140W","SCXU3LL/A","Special Order","16-inch","Silver","M5 Pro chip with 18‑core CPU, 20‑core GPU","64GB","4TB SSD","140W USB-C","Standard",{"$f":"_xlfn.XLOOKUP(Table8[[#This Row],[TDS SKU]],Sheet2!$B:$B,Sheet2!C:C)","v":"B"},{"$f":"_xlfn.XLOOKUP(Table8[[#This Row],[TDS SKU]],Sheet2!$B:$B,Sheet2!D:D)","v":"A"},{"$f":"_xlfn.XLOOKUP(Table8[[#This Row],[TDS SKU]],Sheet2!$B:$B,Sheet2!E:E)","v":"CTO BO"},{"$f":"LEFT(Table8[[#This Row],[Apple Part ]],4)","v":"Z1MV"}]
["Z1MV","15358683",5399,"CTO MBP 16 M5 MAX 18 CPU 32 GPU 36GB 4TB SILVER 140W","SCXU3LL/A","Special Order","16-inch","Silver","M5 Max chip with 18‑core CPU, 32‑core GPU","36GB","4TB SSD","140W USB-C","Standard",{"$f":"_xlfn.XLOOKUP(Table8[[#This Row],[TDS SKU]],Sheet2!$B:$B,Sheet2!C:C)","v":"B"},{"$f":"_xlfn.XLOOKUP(Table8[[#This Row],[TDS SKU]],Sheet2!$B:$B,Sheet2!D:D)","v":"A"},{"$f":"_xlfn.XLOOKUP(Table8[[#This Row],[TDS SKU]],Sheet2!$B:$B,Sheet2!E:E)","v":"CTO BO"},{"$f":"LEFT(Table8[[#This Row],[Apple Part ]],4)","v":"Z1MV"}]
["Z1MV","15358701",5999,"CTO MBP 16 M5 MAX 18 CPU 40 GPU 48GB 4TB SILVER 140W","SCXU3LL/A","Special Order","16-inch","Silver","M5 Max chip with 18‑core CPU, 40‑core GPU","48GB","4TB SSD","140W USB-C","Standard",{"$f":"_xlfn.XLOOKUP(Table8[[#This Row],[TDS SKU]],Sheet2!$B:$B,Sheet2!C:C)","v":"B"},{"$f":"_xlfn.XLOOKUP(Table8[[#This Row],[TDS SKU]],Sheet2!$B:$B,Sheet2!D:D)","v":"A"},{"$f":"_xlfn.XLOOKUP(Table8[[#This Row],[TDS SKU]],Sheet2!$B:$B,Sheet2!E:E)","v":"CTO BO"},{"$f":"LEFT(Table8[[#This Row],[Apple Part ]],4)","v":"Z1MV"}]
["Z1MV","15358703",6399,"CTO MBP 16 M5 MAX 18 CPU 40 GPU 64GB 4TB SILVER 140W","SCXU3LL/A","Special Order","16-inch","Silver","M5 Max chip with 18‑core CPU, 40‑core GPU","64GB","4TB SSD","140W USB-C","Standard",{"$f":"_xlfn.XLOOKUP(Table8[[#This Row],[TDS SKU]],Sheet2!$B:$B,Sheet2!C:C)","v":"B"},{"$f":"_xlfn.XLOOKUP(Table8[[#This Row],[TDS SKU]],Sheet2!$B:$B,Sheet2!D:D)","v":"A"},{"$f":"_xlfn.XLOOKUP(Table8[[#This Row],[TDS SKU]],Sheet2!$B:$B,Sheet2!E:E)","v":"CTO BO"},{"$f":"LEFT(Table8[[#This Row],[Apple Part ]],4)","v":"Z1MV"}]
["Z1MV","15358709",8399,"CTO MBP 16 M5 MAX 18 CPU 40 GPU 64GB 8TB SILVER 140W","SCXU3LL/A","Special Order","16-inch","Silver","M5 Max chip with 18‑core CPU, 40‑core GPU","64GB","8TB SSD","140W USB-C","Standard",{"$f":"_xlfn.XLOOKUP(Table8[[#This Row],[TDS SKU]],Sheet2!$B:$B,Sheet2!C:C)","v":"B"},{"$f":"_xlfn.XLOOKUP(Table8[[#This Row],[TDS SKU]],Sheet2!$B:$B,Sheet2!D:D)","v":"A"},{"$f":"_xlfn.XLOOKUP(Table8[[#This Row],[TDS SKU]],Sheet2!$B:$B,Sheet2!E:E)","v":"CTO BO"},{"$f":"LEFT(Table8[[#This Row],[Apple Part ]],4)","v":"Z1MV"}]
["Z1MV","15358705",7999,"CTO MBP 16 M5 MAX 18 CPU 40 GPU 128GB 4TB SILVER 140W","SCXU3LL/A","Special Order","16-inch","Silver","M5 Max chip with 18‑core CPU, 40‑core GPU","128GB","4TB SSD","140W USB-C","Standard",{"$f":"_xlfn.XLOOKUP(Table8[[#This Row],[TDS SKU]],Sheet2!$B:$B,Sheet2!C:C)","v":"B"},{"$f":"_xlfn.XLOOKUP(Table8[[#This Row],[TDS SKU]],Sheet2!$B:$B,Sheet2!D:D)","v":"A"},{"$f":"_xlfn.XLOOKUP(Table8[[#This Row],[TDS SKU]],Sheet2!$B:$B,Sheet2!E:E)","v":"CTO BO"},{"$f":"LEFT(Table8[[#This Row],[Apple Part ]],4)","v":"Z1MV"}]
["Z1MV","15358711",9999,"CTO MBP 16 M5 MAX 18 CPU 40 GPU 128GB 8TB SILVER 140W","SCXU3LL/A","Special Order","16-inch","Silver","M5 Max chip with 18‑core CPU, 40‑core GPU","128GB","8TB SSD","140W USB-C","Standard",{"$f":"_xlfn.XLOOKUP(Table8[[#This Row],[TDS SKU]],Sheet2!$B:$B,Sheet2!C:C)","v":"B"},{"$f":"_xlfn.XLOOKUP(Table8[[#This Row],[TDS SKU]],Sheet2!$B:$B,Sheet2!D:D)","v":"A"},{"$f":"_xlfn.XLOOKUP(Table8[[#This Row],[TDS SKU]],Sheet2!$B:$B,Sheet2!E:E)","v":"CTO BO"},{"$f":"LEFT(Table8[[#This Row],[Apple Part ]],4)","v":"Z1MV"}]
["Z1MV","15358682",4549,"CTO MBP 16 M5 MAX 18 CPU 32 GPU 36GB 2TB SILVER NANO 140W","SCXU3LL/A","Special Order","16-inch","Silver","M5 Max chip with 18‑core CPU, 32‑core GPU","36GB","2TB SSD","140W USB-C","Nano-Texture",{"$f":"_xlfn.XLOOKUP(Table8[[#This Row],[TDS SKU]],Sheet2!$B:$B,Sheet2!C:C)","v":"B"},{"$f":"_xlfn.XLOOKUP(Table8[[#This Row],[TDS SKU]],Sheet2!$B:$B,Sheet2!D:D)","v":"A"},{"$f":"_xlfn.XLOOKUP(Table8[[#This Row],[TDS SKU]],Sheet2!$B:$B,Sheet2!E:E)","v":"CTO BO"},{"$f":"LEFT(Table8[[#This Row],[Apple Part ]],4)","v":"Z1MV"}]
["Z1MV","15358697",5149,"CTO MBP 16 M5 MAX 18 CPU 40 GPU 48GB 2TB SILVER NANO 140W","SCXU3LL/A","Special Order","16-inch","Silver","M5 Max chip with 18‑core CPU, 40‑core GPU","48GB","2TB SSD","140W USB-C","Nano-Texture",{"$f":"_xlfn.XLOOKUP(Table8[[#This Row],[TDS SKU]],Sheet2!$B:$B,Sheet2!C:C)","v":"B"},{"$f":"_xlfn.XLOOKUP(Table8[[#This Row],[TDS SKU]],Sheet2!$B:$B,Sheet2!D:D)","v":"A"},{"$f":"_xlfn.XLOOKUP(Table8[[#This Row],[TDS SKU]],Sheet2!$B:$B,Sheet2!E:E)","v":"CTO BO"},{"$f":"LEFT(Table8[[#This Row],[Apple Part ]],4)","v":"Z1MV"}]
["Z1MV","15358662",3649,"CTO MBP 16 M5 PRO 18 CPU 20 GPU 24GB 2TB SILVER NANO 140W","SCXU3LL/A","Special Order","16-inch","Silver","M5 Pro chip with 18‑core CPU, 20‑core GPU","24GB","2TB SSD","140W USB-C","Nano-Texture",{"$f":"_xlfn.XLOOKUP(Table8[[#This Row],[TDS SKU]],Sheet2!$B:$B,Sheet2!C:C)","v":"B"},{"$f":"_xlfn.XLOOKUP(Table8[[#This Row],[TDS SKU]],Sheet2!$B:$B,Sheet2!D:D)","v":"A"},{"$f":"_xlfn.XLOOKUP(Table8[[#This Row],[TDS SKU]],Sheet2!$B:$B,Sheet2!E:E)","v":"CTO BO"},{"$f":"LEFT(Table8[[#This Row],[Apple Part ]],4)","v":"Z1MV"}]
["Z1MV","15358677",4649,"CTO MBP 16 M5 PRO 18 CPU 20 GPU 24GB 4TB SILVER NANO 140W","SCXU3LL/A","Special Order","16-inch","Silver","M5 Pro chip with 18‑core CPU, 20‑core GPU","24GB","4TB SSD","140W USB-C","Nano-Texture",{"$f":"_xlfn.XLOOKUP(Table8[[#This Row],[TDS SKU]],Sheet2!$B:$B,Sheet2!C:C)","v":"B"},{"$f":"_xlfn.XLOOKUP(Table8[[#This Row],[TDS SKU]],Sheet2!$B:$B,Sheet2!D:D)","v":"A"},{"$f":"_xlfn.XLOOKUP(Table8[[#This Row],[TDS SKU]],Sheet2!$B:$B,Sheet2!E:E)","v":"CTO BO"},{"$f":"LEFT(Table8[[#This Row],[Apple Part ]],4)","v":"Z1MV"}]
["Z1MV","15358658",3749,"CTO MBP 16 M5 PRO 18 CPU 20 GPU 48GB 1TB SILVER NANO 140W","SCXU3LL/A","Special Order","16-inch","Silver","M5 Pro chip with 18‑core CPU, 20‑core GPU","48GB","1TB SSD","140W USB-C","Nano-Texture",{"$f":"_xlfn.XLOOKUP(Table8[[#This Row],[TDS SKU]],Sheet2!$B:$B,Sheet2!C:C)","v":"B"},{"$f":"_xlfn.XLOOKUP(Table8[[#This Row],[TDS SKU]],Sheet2!$B:$B,Sheet2!D:D)","v":"A"},{"$f":"_xlfn.XLOOKUP(Table8[[#This Row],[TDS SKU]],Sheet2!$B:$B,Sheet2!E:E)","v":"CTO BO"},{"$f":"LEFT(Table8[[#This Row],[Apple Part ]],4)","v":"Z1MV"}]
["Z1MV","15358712",10149,"CTO MBP 16 M5 MAX 18 CPU 40 GPU 128GB 8TB SILVER NANO 140W","SCXU3LL/A","Special Order","16-inch","Silver","M5 Max chip with 18‑core CPU, 40‑core GPU","128GB","8TB SSD","140W USB-C","Nano-Texture",{"$f":"_xlfn.XLOOKUP(Table8[[#This Row],[TDS SKU]],Sheet2!$B:$B,Sheet2!C:C)","v":"B"},{"$f":"_xlfn.XLOOKUP(Table8[[#This Row],[TDS SKU]],Sheet2!$B:$B,Sheet2!D:D)","v":"A"},{"$f":"_xlfn.XLOOKUP(Table8[[#This Row],[TDS SKU]],Sheet2!$B:$B,Sheet2!E:E)","v":"CTO BO"},{"$f":"LEFT(Table8[[#This Row],[Apple Part ]],4)","v":"Z1MV"}]
["Z1MV","15358704",6549,"CTO MBP 16 M5 MAX 18 CPU 40 GPU 64GB 4TB SILVER NANO 140W","SCXU3LL/A","Special Order","16-inch","Silver","M5 Max chip with 18‑core CPU, 40‑core GPU","64GB","4TB SSD","140W USB-C","Nano-Texture",{"$f":"_xlfn.XLOOKUP(Table8[[#This Row],[TDS SKU]],Sheet2!$B:$B,Sheet2!C:C)","v":"B"},{"$f":"_xlfn.XLOOKUP(Table8[[#This Row],[TDS SKU]],Sheet2!$B:$B,Sheet2!D:D)","v":"A"},{"$f":"_xlfn.XLOOKUP(Table8[[#This Row],[TDS SKU]],Sheet2!$B:$B,Sheet2!E:E)","v":"CTO BO"},{"$f":"LEFT(Table8[[#This Row],[Apple Part ]],4)","v":"Z1MV"}]
["Z1MV","15358710",8549,"CTO MBP 16 M5 MAX 18 CPU 40 GPU 64GB 8TB SILVER NANO 140W","SCXU3LL/A","Special Order","16-inch","Silver","M5 Max chip with 18‑core CPU, 40‑core GPU","64GB","8TB SSD","140W USB-C","Nano-Texture",{"$f":"_xlfn.XLOOKUP(Table8[[#This Row],[TDS SKU]],Sheet2!$B:$B,Sheet2!C:C)","v":"B"},{"$f":"_xlfn.XLOOKUP(Table8[[#This Row],[TDS SKU]],Sheet2!$B:$B,Sheet2!D:D)","v":"A"},{"$f":"_xlfn.XLOOKUP(Table8[[#This Row],[TDS SKU]],Sheet2!$B:$B,Sheet2!E:E)","v":"CTO BO"},{"$f":"LEFT(Table8[[#This Row],[Apple Part ]],4)","v":"Z1MV"}]
["Z1MV","15358681",5649,"CTO MBP 16 M5 PRO 18 CPU 20 GPU 64GB 4TB SILVER NANO 140W","SCXU3LL/A","Special Order","16-inch","Silver","M5 Pro chip with 18‑core CPU, 20‑core GPU","64GB","4TB SSD","140W USB-C","Nano-Texture",{"$f":"_xlfn.XLOOKUP(Table8[[#This Row],[TDS SKU]],Sheet2!$B:$B,Sheet2!C:C)","v":"B"},{"$f":"_xlfn.XLOOKUP(Table8[[#This Row],[TDS SKU]],Sheet2!$B:$B,Sheet2!D:D)","v":"A"},{"$f":"_xlfn.XLOOKUP(Table8[[#This Row],[TDS SKU]],Sheet2!$B:$B,Sheet2!E:E)","v":"CTO BO"},{"$f":"LEFT(Table8[[#This Row],[Apple Part ]],4)","v":"Z1MV"}]
["Z1MV","15358694",5549,"CTO MBP 16 M5 MAX 18 CPU 32 GPU 36GB 4TB SILVER NANO 140W","SCXU3LL/A","Special Order","16-inch","Silver","M5 Max chip with 18‑core CPU, 32‑core GPU","36GB","4TB SSD","140W USB-C","Nano-Texture",{"$f":"_xlfn.XLOOKUP(Table8[[#This Row],[TDS SKU]],Sheet2!$B:$B,Sheet2!C:C)","v":"B"},{"$f":"_xlfn.XLOOKUP(Table8[[#This Row],[TDS SKU]],Sheet2!$B:$B,Sheet2!D:D)","v":"A"},{"$f":"_xlfn.XLOOKUP(Table8[[#This Row],[TDS SKU]],Sheet2!$B:$B,Sheet2!E:E)","v":"CTO BO"},{"$f":"LEFT(Table8[[#This Row],[Apple Part ]],4)","v":"Z1MV"}]
["Z1MV","15358696",7549,"CTO MBP 16 M5 MAX 18 CPU 32 GPU 36GB 8TB SILVER NANO 140W","SCXU3LL/A","Special Order","16-inch","Silver","M5 Max chip with 18‑core CPU, 32‑core GPU","36GB","8TB SSD","140W USB-C","Nano-Texture",{"$f":"_xlfn.XLOOKUP(Table8[[#This Row],[TDS SKU]],Sheet2!$B:$B,Sheet2!C:C)","v":"B"},{"$f":"_xlfn.XLOOKUP(Table8[[#This Row],[TDS SKU]],Sheet2!$B:$B,Sheet2!D:D)","v":"A"},{"$f":"_xlfn.XLOOKUP(Table8[[#This Row],[TDS SKU]],Sheet2!$B:$B,Sheet2!E:E)","v":"CTO BO"},{"$f":"LEFT(Table8[[#This Row],[Apple Part ]],4)","v":"Z1MV"}]
["Z1MV","15358700",7149,"CTO MBP 16 M5 MAX 18 CPU 40 GPU 128GB 2TB SILVER NANO 140W","SCXU3LL/A","Special Order","16-inch","Silver","M5 Max chip with 18‑core CPU, 40‑core GPU","128GB","2TB SSD","140W USB-C","Nano-Texture",{"$f":"_xlfn.XLOOKUP(Table8[[#This Row],[TDS SKU]],Sheet2!$B:$B,Sheet2!C:C)","v":"B"},{"$f":"_xlfn.XLOOKUP(Table8[[#This Row],[TDS SKU]],Sheet2!$B:$B,Sheet2!D:D)","v":"A"},{"$f":"_xlfn.XLOOKUP(Table8[[#This Row],[TDS SKU]],Sheet2!$B:$B,Sheet2!E:E)","v":"CTO BO"},{"$f":"LEFT(Table8[[#This Row],[Apple Part ]],4)","v":"Z1MV"}]
["Z1MV","15358702",6149,"CTO MBP 16 M5 MAX 18 CPU 40 GPU 48GB 4TB SILVER NANO 140W","SCXU3LL/A","Special Order","16-inch","Silver","M5 Max chip with 18‑core CPU, 40‑core GPU","48GB","4TB SSD","140W USB-C","Nano-Texture",{"$f":"_xlfn.XLOOKUP(Table8[[#This Row],[TDS SKU]],Sheet2!$B:$B,Sheet2!C:C)","v":"B"},{"$f":"_xlfn.XLOOKUP(Table8[[#This Row],[TDS SKU]],Sheet2!$B:$B,Sheet2!D:D)","v":"A"},{"$f":"_xlfn.XLOOKUP(Table8[[#This Row],[TDS SKU]],Sheet2!$B:$B,Sheet2!E:E)","v":"CTO BO"},{"$f":"LEFT(Table8[[#This Row],[Apple Part ]],4)","v":"Z1MV"}]
["Z1MV","15358698",5549,"CTO MBP 16 M5 MAX 18 CPU 40 GPU 64GB 2TB SILVER NANO 140W","SCXU3LL/A","Special Order","16-inch","Silver","M5 Max chip with 18‑core CPU, 40‑core GPU","64GB","2TB SSD","140W USB-C","Nano-Texture",{"$f":"_xlfn.XLOOKUP(Table8[[#This Row],[TDS SKU]],Sheet2!$B:$B,Sheet2!C:C)","v":"B"},{"$f":"_xlfn.XLOOKUP(Table8[[#This Row],[TDS SKU]],Sheet2!$B:$B,Sheet2!D:D)","v":"A"},{"$f":"_xlfn.XLOOKUP(Table8[[#This Row],[TDS SKU]],Sheet2!$B:$B,Sheet2!E:E)","v":"CTO BO"},{"$f":"LEFT(Table8[[#This Row],[Apple Part ]],4)","v":"Z1MV"}]
["Z1MV","15358706",8149,"CTO MBP 16 M5 MAX 18 CPU 40 GPU 128GB 4TB SILVER NANO 140W","SCXU3LL/A","Special Order","16-inch","Silver","M5 Max chip with 18‑core CPU, 40‑core GPU","128GB","4TB SSD","140W USB-C","Nano-Texture",{"$f":"_xlfn.XLOOKUP(Table8[[#This Row],[TDS SKU]],Sheet2!$B:$B,Sheet2!C:C)","v":"B"},{"$f":"_xlfn.XLOOKUP(Table8[[#This Row],[TDS SKU]],Sheet2!$B:$B,Sheet2!D:D)","v":"A"},{"$f":"_xlfn.XLOOKUP(Table8[[#This Row],[TDS SKU]],Sheet2!$B:$B,Sheet2!E:E)","v":"CTO BO"},{"$f":"LEFT(Table8[[#This Row],[Apple Part ]],4)","v":"Z1MV"}]
["Z1MV","15358708",8149,"CTO MBP 16 M5 MAX 18 CPU 40 GPU 48GB 8TB SILVER NANO 140W","SCXU3LL/A","Special Order","16-inch","Silver","M5 Max chip with 18‑core CPU, 40‑core GPU","48GB","8TB SSD","140W USB-C","Nano-Texture",{"$f":"_xlfn.XLOOKUP(Table8[[#This Row],[TDS SKU]],Sheet2!$B:$B,Sheet2!C:C)","v":"B"},{"$f":"_xlfn.XLOOKUP(Table8[[#This Row],[TDS SKU]],Sheet2!$B:$B,Sheet2!D:D)","v":"A"},{"$f":"_xlfn.XLOOKUP(Table8[[#This Row],[TDS SKU]],Sheet2!$B:$B,Sheet2!E:E)","v":"CTO BO"},{"$f":"LEFT(Table8[[#This Row],[Apple Part ]],4)","v":"Z1MV"}]
["Z1MV","15358660",4149,"CTO MBP 16 M5 PRO 18 CPU 20 GPU 64GB 1TB SILVER NANO 140W","SCXU3LL/A","Special Order","16-inch","Silver","M5 Pro chip with 18‑core CPU, 20‑core GPU","64GB","1TB SSD","140W USB-C","Nano-Texture",{"$f":"_xlfn.XLOOKUP(Table8[[#This Row],[TDS SKU]],Sheet2!$B:$B,Sheet2!C:C)","v":"B"},{"$f":"_xlfn.XLOOKUP(Table8[[#This Row],[TDS SKU]],Sheet2!$B:$B,Sheet2!D:D)","v":"A"},{"$f":"_xlfn.XLOOKUP(Table8[[#This Row],[TDS SKU]],Sheet2!$B:$B,Sheet2!E:E)","v":"CTO BO"},{"$f":"LEFT(Table8[[#This Row],[Apple Part ]],4)","v":"Z1MV"}]
["Z1MV","15358664",4249,"CTO MBP 16 M5 PRO 18 CPU 20 GPU 48GB 2TB SILVER NANO 140W","SCXU3LL/A","Special Order","16-inch","Silver","M5 Pro chip with 18‑core CPU, 20‑core GPU","48GB","2TB SSD","140W USB-C","Nano-Texture",{"$f":"_xlfn.XLOOKUP(Table8[[#This Row],[TDS SKU]],Sheet2!$B:$B,Sheet2!C:C)","v":"B"},{"$f":"_xlfn.XLOOKUP(Table8[[#This Row],[TDS SKU]],Sheet2!$B:$B,Sheet2!D:D)","v":"A"},{"$f":"_xlfn.XLOOKUP(Table8[[#This Row],[TDS SKU]],Sheet2!$B:$B,Sheet2!E:E)","v":"CTO BO"},{"$f":"LEFT(Table8[[#This Row],[Apple Part ]],4)","v":"Z1MV"}]
["Z1MV","15358675",4649,"CTO MBP 16 M5 PRO 18 CPU 20 GPU 64GB 2TB SILVER NANO 140W","SCXU3LL/A","Special Order","16-inch","Silver","M5 Pro chip with 18‑core CPU, 20‑core GPU","64GB","2TB SSD","140W USB-C","Nano-Texture",{"$f":"_xlfn.XLOOKUP(Table8[[#This Row],[TDS SKU]],Sheet2!$B:$B,Sheet2!C:C)","v":"B"},{"$f":"_xlfn.XLOOKUP(Table8[[#This Row],[TDS SKU]],Sheet2!$B:$B,Sheet2!D:D)","v":"A"},{"$f":"_xlfn.XLOOKUP(Table8[[#This Row],[TDS SKU]],Sheet2!$B:$B,Sheet2!E:E)","v":"CTO BO"},{"$f":"LEFT(Table8[[#This Row],[Apple Part ]],4)","v":"Z1MV"}]
["Z1MV","15358679",5249,"CTO MBP 16 M5 PRO 18 CPU 20 GPU 48GB 4TB SILVER NANO 140W","SCXU3LL/A","Special Order","16-inch","Silver","M5 Pro chip with 18‑core CPU, 20‑core GPU","48GB","4TB SSD","140W USB-C","Nano-Texture",{"$f":"_xlfn.XLOOKUP(Table8[[#This Row],[TDS SKU]],Sheet2!$B:$B,Sheet2!C:C)","v":"B"},{"$f":"_xlfn.XLOOKUP(Table8[[#This Row],[TDS SKU]],Sheet2!$B:$B,Sheet2!D:D)","v":"A"},{"$f":"_xlfn.XLOOKUP(Table8[[#This Row],[TDS SKU]],Sheet2!$B:$B,Sheet2!E:E)","v":"CTO BO"},{"$f":"LEFT(Table8[[#This Row],[Apple Part ]],4)","v":"Z1MV"}]
["Z1MZ","15358713",3149,"CTO MBP 16 M5 PRO 18 CPU 20 GPU 24GB 1TB SPACE BLACK NANO 140W","SCXU3LL/A","Special Order","16-inch","Space Black","M5 Pro chip with 18‑core CPU, 20‑core GPU","24GB","1TB SSD","140W USB-C","Nano-Texture",{"$f":"_xlfn.XLOOKUP(Table8[[#This Row],[TDS SKU]],Sheet2!$B:$B,Sheet2!C:C)","v":"B"},{"$f":"_xlfn.XLOOKUP(Table8[[#This Row],[TDS SKU]],Sheet2!$B:$B,Sheet2!D:D)","v":"A"},{"$f":"_xlfn.XLOOKUP(Table8[[#This Row],[TDS SKU]],Sheet2!$B:$B,Sheet2!E:E)","v":"CTO BO"},{"$f":"LEFT(Table8[[#This Row],[Apple Part ]],4)","v":"Z1MZ"}]
["Z1MZ","15358725",3999,"CTO MBP 16 M5 PRO 18 CPU 20 GPU 64GB 1TB SPACE BLACK 140W","SCXU3LL/A","Stocked","16-inch","Space Black","M5 Pro chip with 18‑core CPU, 20‑core GPU","64GB","1TB SSD","140W USB-C","Standard",{"$f":"_xlfn.XLOOKUP(Table8[[#This Row],[TDS SKU]],Sheet2!$B:$B,Sheet2!C:C)","v":"B"},{"$f":"_xlfn.XLOOKUP(Table8[[#This Row],[TDS SKU]],Sheet2!$B:$B,Sheet2!D:D)","v":"A"},{"$f":"_xlfn.XLOOKUP(Table8[[#This Row],[TDS SKU]],Sheet2!$B:$B,Sheet2!E:E)","v":"STOCKED CTO"},{"$f":"LEFT(Table8[[#This Row],[Apple Part ]],4)","v":"Z1MZ"}]
["Z1MZ","15358721",7399,"CTO MBP 16 M5 MAX 18 CPU 32 GPU 36GB 8TB SPACE BLACK 140W","SCXU3LL/A","Special Order","16-inch","Space Black","M5 Max chip with 18‑core CPU, 32‑core GPU","36GB","8TB SSD","140W USB-C","Standard",{"$f":"_xlfn.XLOOKUP(Table8[[#This Row],[TDS SKU]],Sheet2!$B:$B,Sheet2!C:C)","v":"B"},{"$f":"_xlfn.XLOOKUP(Table8[[#This Row],[TDS SKU]],Sheet2!$B:$B,Sheet2!D:D)","v":"A"},{"$f":"_xlfn.XLOOKUP(Table8[[#This Row],[TDS SKU]],Sheet2!$B:$B,Sheet2!E:E)","v":"CTO BO"},{"$f":"LEFT(Table8[[#This Row],[Apple Part ]],4)","v":"Z1MZ"}]
["Z1MZ","15355949",5399,"CTO MBP 16 M5 MAX 18 CPU 40 GPU 64GB 2TB SPACE BLACK 140W","SCXU3LL/A","Stocked","16-inch","Space Black","M5 Max chip with 18‑core CPU, 40‑core GPU","64GB","2TB SSD","140W USB-C","Standard",{"$f":"_xlfn.XLOOKUP(Table8[[#This Row],[TDS SKU]],Sheet2!$B:$B,Sheet2!C:C)","v":"B"},{"$f":"_xlfn.XLOOKUP(Table8[[#This Row],[TDS SKU]],Sheet2!$B:$B,Sheet2!D:D)","v":"A"},{"$f":"_xlfn.XLOOKUP(Table8[[#This Row],[TDS SKU]],Sheet2!$B:$B,Sheet2!E:E)","v":"STOCKED CTO"},{"$f":"LEFT(Table8[[#This Row],[Apple Part ]],4)","v":"Z1MZ"}]
["Z1MZ","15355951",6999,"CTO MBP 16 M5 MAX 18 CPU 40 GPU 128GB 2TB SPACE BLACK 140W","SCXU3LL/A","Stocked","16-inch","Space Black","M5 Max chip with 18‑core CPU, 40‑core GPU","128GB","2TB SSD","140W USB-C","Standard",{"$f":"_xlfn.XLOOKUP(Table8[[#This Row],[TDS SKU]],Sheet2!$B:$B,Sheet2!C:C)","v":"B"},{"$f":"_xlfn.XLOOKUP(Table8[[#This Row],[TDS SKU]],Sheet2!$B:$B,Sheet2!D:D)","v":"A"},{"$f":"_xlfn.XLOOKUP(Table8[[#This Row],[TDS SKU]],Sheet2!$B:$B,Sheet2!E:E)","v":"STOCKED CTO"},{"$f":"LEFT(Table8[[#This Row],[Apple Part ]],4)","v":"Z1MZ"}]
["Z1MZ","15358741",7999,"CTO MBP 16 M5 MAX 18 CPU 40 GPU 48GB 8TB SPACE BLACK 140W","SCXU3LL/A",{"$f":"IF(OR(P276=\"CTO BO\",P276=\"ZPN BO\"),\"Special Order\",\"Stocked\")","v":"Special Order"},"16-inch","Space Black","M5 Max chip with 18‑core CPU, 40‑core GPU","48GB","8TB SSD","140W USB-C","Standard",{"$f":"_xlfn.XLOOKUP(Table8[[#This Row],[TDS SKU]],Sheet2!$B:$B,Sheet2!C:C)","v":"B"},{"$f":"_xlfn.XLOOKUP(Table8[[#This Row],[TDS SKU]],Sheet2!$B:$B,Sheet2!D:D)","v":"A"},{"$f":"_xlfn.XLOOKUP(Table8[[#This Row],[TDS SKU]],Sheet2!$B:$B,Sheet2!E:E)","v":"CTO BO"},{"$f":"LEFT(Table8[[#This Row],[Apple Part ]],4)","v":"Z1MZ"}]
["Z1MZ","15358727",3499,"CTO MBP 16 M5 PRO 18 CPU 20 GPU 24GB 2TB SPACE BLACK 140W","SCXU3LL/A","Special Order","16-inch","Space Black","M5 Pro chip with 18‑core CPU, 20‑core GPU","24GB","2TB SSD","140W USB-C","Standard",{"$f":"_xlfn.XLOOKUP(Table8[[#This Row],[TDS SKU]],Sheet2!$B:$B,Sheet2!C:C)","v":"B"},{"$f":"_xlfn.XLOOKUP(Table8[[#This Row],[TDS SKU]],Sheet2!$B:$B,Sheet2!D:D)","v":"A"},{"$f":"_xlfn.XLOOKUP(Table8[[#This Row],[TDS SKU]],Sheet2!$B:$B,Sheet2!E:E)","v":"CTO BO"},{"$f":"LEFT(Table8[[#This Row],[Apple Part ]],4)","v":"Z1MZ"}]
["Z1MZ","15358731",4499,"CTO MBP 16 M5 PRO 18 CPU 20 GPU 24GB 4TB SPACE BLACK 140W","SCXU3LL/A","Special Order","16-inch","Space Black","M5 Pro chip with 18‑core CPU, 20‑core GPU","24GB","4TB SSD","140W USB-C","Standard",{"$f":"_xlfn.XLOOKUP(Table8[[#This Row],[TDS SKU]],Sheet2!$B:$B,Sheet2!C:C)","v":"B"},{"$f":"_xlfn.XLOOKUP(Table8[[#This Row],[TDS SKU]],Sheet2!$B:$B,Sheet2!D:D)","v":"A"},{"$f":"_xlfn.XLOOKUP(Table8[[#This Row],[TDS SKU]],Sheet2!$B:$B,Sheet2!E:E)","v":"CTO BO"},{"$f":"LEFT(Table8[[#This Row],[Apple Part ]],4)","v":"Z1MZ"}]
["Z1MZ","15358719",5399,"CTO MBP 16 M5 MAX 18 CPU 32 GPU 36GB 4TB SPACE BLACK 140W","SCXU3LL/A","Special Order","16-inch","Space Black","M5 Max chip with 18‑core CPU, 32‑core GPU","36GB","4TB SSD","140W USB-C","Standard",{"$f":"_xlfn.XLOOKUP(Table8[[#This Row],[TDS SKU]],Sheet2!$B:$B,Sheet2!C:C)","v":"B"},{"$f":"_xlfn.XLOOKUP(Table8[[#This Row],[TDS SKU]],Sheet2!$B:$B,Sheet2!D:D)","v":"A"},{"$f":"_xlfn.XLOOKUP(Table8[[#This Row],[TDS SKU]],Sheet2!$B:$B,Sheet2!E:E)","v":"CTO BO"},{"$f":"LEFT(Table8[[#This Row],[Apple Part ]],4)","v":"Z1MZ"}]
["Z1MZ","15358736",5999,"CTO MBP 16 M5 MAX 18 CPU 40 GPU 48GB 4TB SPACE BLACK 140W","SCXU3LL/A","Special Order","16-inch","Space Black","M5 Max chip with 18‑core CPU, 40‑core GPU","48GB","4TB SSD","140W USB-C","Standard",{"$f":"_xlfn.XLOOKUP(Table8[[#This Row],[TDS SKU]],Sheet2!$B:$B,Sheet2!C:C)","v":"B"},{"$f":"_xlfn.XLOOKUP(Table8[[#This Row],[TDS SKU]],Sheet2!$B:$B,Sheet2!D:D)","v":"A"},{"$f":"_xlfn.XLOOKUP(Table8[[#This Row],[TDS SKU]],Sheet2!$B:$B,Sheet2!E:E)","v":"CTO BO"},{"$f":"LEFT(Table8[[#This Row],[Apple Part ]],4)","v":"Z1MZ"}]
["Z1MZ","15355962",4099,"CTO MBP 16 M5 PRO 18 CPU 20 GPU 48GB 2TB SPACE BLACK 140W","SCXU3LL/A","Stocked","16-inch","Space Black","M5 Pro chip with 18‑core CPU, 20‑core GPU","48GB","2TB SSD","140W USB-C","Standard",{"$f":"_xlfn.XLOOKUP(Table8[[#This Row],[TDS SKU]],Sheet2!$B:$B,Sheet2!C:C)","v":"B"},{"$f":"_xlfn.XLOOKUP(Table8[[#This Row],[TDS SKU]],Sheet2!$B:$B,Sheet2!D:D)","v":"A"},{"$f":"_xlfn.XLOOKUP(Table8[[#This Row],[TDS SKU]],Sheet2!$B:$B,Sheet2!E:E)","v":"STOCKED CTO"},{"$f":"LEFT(Table8[[#This Row],[Apple Part ]],4)","v":"Z1MZ"}]
["Z1MZ","15358714",5099,"CTO MBP 16 M5 PRO 18 CPU 20 GPU 48GB 4TB SPACE BLACK 140W","SCXU3LL/A","Special Order","16-inch","Space Black","M5 Pro chip with 18‑core CPU, 20‑core GPU","48GB","4TB SSD","140W USB-C","Standard",{"$f":"_xlfn.XLOOKUP(Table8[[#This Row],[TDS SKU]],Sheet2!$B:$B,Sheet2!C:C)","v":"B"},{"$f":"_xlfn.XLOOKUP(Table8[[#This Row],[TDS SKU]],Sheet2!$B:$B,Sheet2!D:D)","v":"A"},{"$f":"_xlfn.XLOOKUP(Table8[[#This Row],[TDS SKU]],Sheet2!$B:$B,Sheet2!E:E)","v":"CTO BO"},{"$f":"LEFT(Table8[[#This Row],[Apple Part ]],4)","v":"Z1MZ"}]
["Z1MZ","15357022",4499,"CTO MBP 16 M5 PRO 18 CPU 20 GPU 64GB 2TB SPACE BLACK 140W","SCXU3LL/A","Special Order","16-inch","Space Black","M5 Pro chip with 18‑core CPU, 20‑core GPU","64GB","2TB SSD","140W USB-C","Standard",{"$f":"_xlfn.XLOOKUP(Table8[[#This Row],[TDS SKU]],Sheet2!$B:$B,Sheet2!C:C)","v":"B"},{"$f":"_xlfn.XLOOKUP(Table8[[#This Row],[TDS SKU]],Sheet2!$B:$B,Sheet2!D:D)","v":"A"},{"$f":"_xlfn.XLOOKUP(Table8[[#This Row],[TDS SKU]],Sheet2!$B:$B,Sheet2!E:E)","v":"CTO BO"},{"$f":"LEFT(Table8[[#This Row],[Apple Part ]],4)","v":"Z1MZ"}]
["Z1MZ","15358716",5499,"CTO MBP 16 M5 PRO 18 CPU 20 GPU 64GB 4TB SPACE BLACK 140W","SCXU3LL/A","Special Order","16-inch","Space Black","M5 Pro chip with 18‑core CPU, 20‑core GPU","64GB","4TB SSD","140W USB-C","Standard",{"$f":"_xlfn.XLOOKUP(Table8[[#This Row],[TDS SKU]],Sheet2!$B:$B,Sheet2!C:C)","v":"B"},{"$f":"_xlfn.XLOOKUP(Table8[[#This Row],[TDS SKU]],Sheet2!$B:$B,Sheet2!D:D)","v":"A"},{"$f":"_xlfn.XLOOKUP(Table8[[#This Row],[TDS SKU]],Sheet2!$B:$B,Sheet2!E:E)","v":"CTO BO"},{"$f":"LEFT(Table8[[#This Row],[Apple Part ]],4)","v":"Z1MZ"}]
["Z1MZ","15358738",6399,"CTO MBP 16 M5 MAX 18 CPU 40 GPU 64GB 4TB SPACE BLACK 140W","SCXU3LL/A","Special Order","16-inch","Space Black","M5 Max chip with 18‑core CPU, 40‑core GPU","64GB","4TB SSD","140W USB-C","Standard",{"$f":"_xlfn.XLOOKUP(Table8[[#This Row],[TDS SKU]],Sheet2!$B:$B,Sheet2!C:C)","v":"B"},{"$f":"_xlfn.XLOOKUP(Table8[[#This Row],[TDS SKU]],Sheet2!$B:$B,Sheet2!D:D)","v":"A"},{"$f":"_xlfn.XLOOKUP(Table8[[#This Row],[TDS SKU]],Sheet2!$B:$B,Sheet2!E:E)","v":"CTO BO"},{"$f":"LEFT(Table8[[#This Row],[Apple Part ]],4)","v":"Z1MZ"}]
["Z1MZ","15358743",8399,"CTO MBP 16 M5 MAX 18 CPU 40 GPU 64GB 8TB SPACE BLACK 140W","SCXU3LL/A","Special Order","16-inch","Space Black","M5 Max chip with 18‑core CPU, 40‑core GPU","64GB","8TB SSD","140W USB-C","Standard",{"$f":"_xlfn.XLOOKUP(Table8[[#This Row],[TDS SKU]],Sheet2!$B:$B,Sheet2!C:C)","v":"B"},{"$f":"_xlfn.XLOOKUP(Table8[[#This Row],[TDS SKU]],Sheet2!$B:$B,Sheet2!D:D)","v":"A"},{"$f":"_xlfn.XLOOKUP(Table8[[#This Row],[TDS SKU]],Sheet2!$B:$B,Sheet2!E:E)","v":"CTO BO"},{"$f":"LEFT(Table8[[#This Row],[Apple Part ]],4)","v":"Z1MZ"}]
["Z1MZ","15355952",7999,"CTO MBP 16 M5 MAX 18 CPU 40 GPU 128GB 4TB SPACE BLACK 140W","SCXU3LL/A","Stocked","16-inch","Space Black","M5 Max chip with 18‑core CPU, 40‑core GPU","128GB","4TB SSD","140W USB-C","Standard",{"$f":"_xlfn.XLOOKUP(Table8[[#This Row],[TDS SKU]],Sheet2!$B:$B,Sheet2!C:C)","v":"B"},{"$f":"_xlfn.XLOOKUP(Table8[[#This Row],[TDS SKU]],Sheet2!$B:$B,Sheet2!D:D)","v":"A"},{"$f":"_xlfn.XLOOKUP(Table8[[#This Row],[TDS SKU]],Sheet2!$B:$B,Sheet2!E:E)","v":"STOCKED CTO"},{"$f":"LEFT(Table8[[#This Row],[Apple Part ]],4)","v":"Z1MZ"}]
["Z1MZ","15358733",9999,"CTO MBP 16 M5 MAX 18 CPU 40 GPU 128GB 8TB SPACE BLACK 140W","SCXU3LL/A","Special Order","16-inch","Space Black","M5 Max chip with 18‑core CPU, 40‑core GPU","128GB","8TB SSD","140W USB-C","Standard",{"$f":"_xlfn.XLOOKUP(Table8[[#This Row],[TDS SKU]],Sheet2!$B:$B,Sheet2!C:C)","v":"B"},{"$f":"_xlfn.XLOOKUP(Table8[[#This Row],[TDS SKU]],Sheet2!$B:$B,Sheet2!D:D)","v":"A"},{"$f":"_xlfn.XLOOKUP(Table8[[#This Row],[TDS SKU]],Sheet2!$B:$B,Sheet2!E:E)","v":"CTO BO"},{"$f":"LEFT(Table8[[#This Row],[Apple Part ]],4)","v":"Z1MZ"}]
["Z1MZ","15358718",4549,"CTO MBP 16 M5 MAX 18 CPU 32 GPU 36GB 2TB SPACE BLACK NANO 140W","SCXU3LL/A","Special Order","16-inch","Space Black","M5 Max chip with 18‑core CPU, 32‑core GPU","36GB","2TB SSD","140W USB-C","Nano-Texture",{"$f":"_xlfn.XLOOKUP(Table8[[#This Row],[TDS SKU]],Sheet2!$B:$B,Sheet2!C:C)","v":"B"},{"$f":"_xlfn.XLOOKUP(Table8[[#This Row],[TDS SKU]],Sheet2!$B:$B,Sheet2!D:D)","v":"A"},{"$f":"_xlfn.XLOOKUP(Table8[[#This Row],[TDS SKU]],Sheet2!$B:$B,Sheet2!E:E)","v":"CTO BO"},{"$f":"LEFT(Table8[[#This Row],[Apple Part ]],4)","v":"Z1MZ"}]
["Z1MZ","15358723",5149,"CTO MBP 16 M5 MAX 18 CPU 40 GPU 48GB 2TB SPACE BLACK NANO 140W","SCXU3LL/A","Special Order","16-inch","Space Black","M5 Max chip with 18‑core CPU, 40‑core GPU","48GB","2TB SSD","140W USB-C","Nano-Texture",{"$f":"_xlfn.XLOOKUP(Table8[[#This Row],[TDS SKU]],Sheet2!$B:$B,Sheet2!C:C)","v":"B"},{"$f":"_xlfn.XLOOKUP(Table8[[#This Row],[TDS SKU]],Sheet2!$B:$B,Sheet2!D:D)","v":"A"},{"$f":"_xlfn.XLOOKUP(Table8[[#This Row],[TDS SKU]],Sheet2!$B:$B,Sheet2!E:E)","v":"CTO BO"},{"$f":"LEFT(Table8[[#This Row],[Apple Part ]],4)","v":"Z1MZ"}]
["Z1MZ","15358724",3749,"CTO MBP 16 M5 PRO 18 CPU 20 GPU 48GB 1TB SPACE BLACK NANO 140W","SCXU3LL/A","Stocked","16-inch","Space Black","M5 Pro chip with 18‑core CPU, 20‑core GPU","48GB","1TB SSD","140W USB-C","Nano-Texture",{"$f":"_xlfn.XLOOKUP(Table8[[#This Row],[TDS SKU]],Sheet2!$B:$B,Sheet2!C:C)","v":"B"},{"$f":"_xlfn.XLOOKUP(Table8[[#This Row],[TDS SKU]],Sheet2!$B:$B,Sheet2!D:D)","v":"A"},{"$f":"_xlfn.XLOOKUP(Table8[[#This Row],[TDS SKU]],Sheet2!$B:$B,Sheet2!E:E)","v":"STOCKED CTO"},{"$f":"LEFT(Table8[[#This Row],[Apple Part ]],4)","v":"Z1MZ"}]
["Z1MZ","15355950",5549,"CTO MBP 16 M5 MAX 18 CPU 40 GPU 64GB 2TB SPACE BLACK NANO 140W","SCXU3LL/A","Stocked","16-inch","Space Black","M5 Max chip with 18‑core CPU, 40‑core GPU","64GB","2TB SSD","140W USB-C","Nano-Texture",{"$f":"_xlfn.XLOOKUP(Table8[[#This Row],[TDS SKU]],Sheet2!$B:$B,Sheet2!C:C)","v":"B"},{"$f":"_xlfn.XLOOKUP(Table8[[#This Row],[TDS SKU]],Sheet2!$B:$B,Sheet2!D:D)","v":"A"},{"$f":"_xlfn.XLOOKUP(Table8[[#This Row],[TDS SKU]],Sheet2!$B:$B,Sheet2!E:E)","v":"STOCKED CTO"},{"$f":"LEFT(Table8[[#This Row],[Apple Part ]],4)","v":"Z1MZ"}]
["Z1MZ","15358728",3649,"CTO MBP 16 M5 PRO 18 CPU 20 GPU 24GB 2TB SPACE BLACK NANO 140W","SCXU3LL/A","Special Order","16-inch","Space Black","M5 Pro chip with 18‑core CPU, 20‑core GPU","24GB","2TB SSD","140W USB-C","Nano-Texture",{"$f":"_xlfn.XLOOKUP(Table8[[#This Row],[TDS SKU]],Sheet2!$B:$B,Sheet2!C:C)","v":"B"},{"$f":"_xlfn.XLOOKUP(Table8[[#This Row],[TDS SKU]],Sheet2!$B:$B,Sheet2!D:D)","v":"A"},{"$f":"_xlfn.XLOOKUP(Table8[[#This Row],[TDS SKU]],Sheet2!$B:$B,Sheet2!E:E)","v":"CTO BO"},{"$f":"LEFT(Table8[[#This Row],[Apple Part ]],4)","v":"Z1MZ"}]
["Z1MZ","15358729",4249,"CTO MBP 16 M5 PRO 18 CPU 20 GPU 48GB 2TB SPACE BLACK NANO 140W","SCXU3LL/A","Special Order","16-inch","Space Black","M5 Pro chip with 18‑core CPU, 20‑core GPU","48GB","2TB SSD","140W USB-C","Nano-Texture",{"$f":"_xlfn.XLOOKUP(Table8[[#This Row],[TDS SKU]],Sheet2!$B:$B,Sheet2!C:C)","v":"B"},{"$f":"_xlfn.XLOOKUP(Table8[[#This Row],[TDS SKU]],Sheet2!$B:$B,Sheet2!D:D)","v":"A"},{"$f":"_xlfn.XLOOKUP(Table8[[#This Row],[TDS SKU]],Sheet2!$B:$B,Sheet2!E:E)","v":"CTO BO"},{"$f":"LEFT(Table8[[#This Row],[Apple Part ]],4)","v":"Z1MZ"}]
["Z1MZ","15358732",4649,"CTO MBP 16 M5 PRO 18 CPU 20 GPU 24GB 4TB SPACE BLACK NANO 140W","SCXU3LL/A","Special Order","16-inch","Space Black","M5 Pro chip with 18‑core CPU, 20‑core GPU","24GB","4TB SSD","140W USB-C","Nano-Texture",{"$f":"_xlfn.XLOOKUP(Table8[[#This Row],[TDS SKU]],Sheet2!$B:$B,Sheet2!C:C)","v":"B"},{"$f":"_xlfn.XLOOKUP(Table8[[#This Row],[TDS SKU]],Sheet2!$B:$B,Sheet2!D:D)","v":"A"},{"$f":"_xlfn.XLOOKUP(Table8[[#This Row],[TDS SKU]],Sheet2!$B:$B,Sheet2!E:E)","v":"CTO BO"},{"$f":"LEFT(Table8[[#This Row],[Apple Part ]],4)","v":"Z1MZ"}]
["Z1MZ","15358715",5249,"CTO MBP 16 M5 PRO 18 CPU 20 GPU 48GB 4TB SPACE BLACK NANO 140W","SCXU3LL/A","Special Order","16-inch","Space Black","M5 Pro chip with 18‑core CPU, 20‑core GPU","48GB","4TB SSD","140W USB-C","Nano-Texture",{"$f":"_xlfn.XLOOKUP(Table8[[#This Row],[TDS SKU]],Sheet2!$B:$B,Sheet2!C:C)","v":"B"},{"$f":"_xlfn.XLOOKUP(Table8[[#This Row],[TDS SKU]],Sheet2!$B:$B,Sheet2!D:D)","v":"A"},{"$f":"_xlfn.XLOOKUP(Table8[[#This Row],[TDS SKU]],Sheet2!$B:$B,Sheet2!E:E)","v":"CTO BO"},{"$f":"LEFT(Table8[[#This Row],[Apple Part ]],4)","v":"Z1MZ"}]
["Z1MZ","15358730",4649,"CTO MBP 16 M5 PRO 18 CPU 20 GPU 64GB 2TB SPACE BLACK NANO 140W","SCXU3LL/A","Special Order","16-inch","Space Black","M5 Pro chip with 18‑core CPU, 20‑core GPU","64GB","2TB SSD","140W USB-C","Nano-Texture",{"$f":"_xlfn.XLOOKUP(Table8[[#This Row],[TDS SKU]],Sheet2!$B:$B,Sheet2!C:C)","v":"B"},{"$f":"_xlfn.XLOOKUP(Table8[[#This Row],[TDS SKU]],Sheet2!$B:$B,Sheet2!D:D)","v":"A"},{"$f":"_xlfn.XLOOKUP(Table8[[#This Row],[TDS SKU]],Sheet2!$B:$B,Sheet2!E:E)","v":"CTO BO"},{"$f":"LEFT(Table8[[#This Row],[Apple Part ]],4)","v":"Z1MZ"}]
["Z1MZ","15358726",4149,"CTO MBP 16 M5 PRO 18 CPU 20 GPU 64GB 1TB SPACE BLACK NANO 140W","SCXU3LL/A","Special Order","16-inch","Space Black","M5 Pro chip with 18‑core CPU, 20‑core GPU","64GB","1TB SSD","140W USB-C","Nano-Texture",{"$f":"_xlfn.XLOOKUP(Table8[[#This Row],[TDS SKU]],Sheet2!$B:$B,Sheet2!C:C)","v":"B"},{"$f":"_xlfn.XLOOKUP(Table8[[#This Row],[TDS SKU]],Sheet2!$B:$B,Sheet2!D:D)","v":"A"},{"$f":"_xlfn.XLOOKUP(Table8[[#This Row],[TDS SKU]],Sheet2!$B:$B,Sheet2!E:E)","v":"CTO BO"},{"$f":"LEFT(Table8[[#This Row],[Apple Part ]],4)","v":"Z1MZ"}]
["Z1MZ","15358740",8149,"CTO MBP 16 M5 MAX 18 CPU 40 GPU 128GB 4TB SPACE BLACK NANO 140W","SCXU3LL/A","Special Order","16-inch","Space Black","M5 Max chip with 18‑core CPU, 40‑core GPU","128GB","4TB SSD","140W USB-C","Nano-Texture",{"$f":"_xlfn.XLOOKUP(Table8[[#This Row],[TDS SKU]],Sheet2!$B:$B,Sheet2!C:C)","v":"B"},{"$f":"_xlfn.XLOOKUP(Table8[[#This Row],[TDS SKU]],Sheet2!$B:$B,Sheet2!D:D)","v":"A"},{"$f":"_xlfn.XLOOKUP(Table8[[#This Row],[TDS SKU]],Sheet2!$B:$B,Sheet2!E:E)","v":"CTO BO"},{"$f":"LEFT(Table8[[#This Row],[Apple Part ]],4)","v":"Z1MZ"}]
["Z1MZ","15358735",7149,"CTO MBP 16 M5 MAX 18 CPU 40 GPU 128GB 2TB SPACE BLACK NANO 140W","SCXU3LL/A","Special Order","16-inch","Space Black","M5 Max chip with 18‑core CPU, 40‑core GPU","128GB","2TB SSD","140W USB-C","Nano-Texture",{"$f":"_xlfn.XLOOKUP(Table8[[#This Row],[TDS SKU]],Sheet2!$B:$B,Sheet2!C:C)","v":"B"},{"$f":"_xlfn.XLOOKUP(Table8[[#This Row],[TDS SKU]],Sheet2!$B:$B,Sheet2!D:D)","v":"A"},{"$f":"_xlfn.XLOOKUP(Table8[[#This Row],[TDS SKU]],Sheet2!$B:$B,Sheet2!E:E)","v":"CTO BO"},{"$f":"LEFT(Table8[[#This Row],[Apple Part ]],4)","v":"Z1MZ"}]
["Z1MZ","15358717",5649,"CTO MBP 16 M5 PRO 18 CPU 20 GPU 64GB 4TB SPACE BLACK NANO 140W","SCXU3LL/A","Special Order","16-inch","Space Black","M5 Pro chip with 18‑core CPU, 20‑core GPU","64GB","4TB SSD","140W USB-C","Nano-Texture",{"$f":"_xlfn.XLOOKUP(Table8[[#This Row],[TDS SKU]],Sheet2!$B:$B,Sheet2!C:C)","v":"B"},{"$f":"_xlfn.XLOOKUP(Table8[[#This Row],[TDS SKU]],Sheet2!$B:$B,Sheet2!D:D)","v":"A"},{"$f":"_xlfn.XLOOKUP(Table8[[#This Row],[TDS SKU]],Sheet2!$B:$B,Sheet2!E:E)","v":"CTO BO"},{"$f":"LEFT(Table8[[#This Row],[Apple Part ]],4)","v":"Z1MZ"}]
["Z1MZ","15358720",5549,"CTO MBP 16 M5 MAX 18 CPU 32 GPU 36GB 4TB SPACE BLACK NANO 140W","SCXU3LL/A","Special Order","16-inch","Space Black","M5 Max chip with 18‑core CPU, 32‑core GPU","36GB","4TB SSD","140W USB-C","Nano-Texture",{"$f":"_xlfn.XLOOKUP(Table8[[#This Row],[TDS SKU]],Sheet2!$B:$B,Sheet2!C:C)","v":"B"},{"$f":"_xlfn.XLOOKUP(Table8[[#This Row],[TDS SKU]],Sheet2!$B:$B,Sheet2!D:D)","v":"A"},{"$f":"_xlfn.XLOOKUP(Table8[[#This Row],[TDS SKU]],Sheet2!$B:$B,Sheet2!E:E)","v":"CTO BO"},{"$f":"LEFT(Table8[[#This Row],[Apple Part ]],4)","v":"Z1MZ"}]
["Z1MZ","15358722",7549,"CTO MBP 16 M5 MAX 18 CPU 32 GPU 36GB 8TB SPACE BLACK NANO 140W","SCXU3LL/A","Special Order","16-inch","Space Black","M5 Max chip with 18‑core CPU, 32‑core GPU","36GB","8TB SSD","140W USB-C","Nano-Texture",{"$f":"_xlfn.XLOOKUP(Table8[[#This Row],[TDS SKU]],Sheet2!$B:$B,Sheet2!C:C)","v":"B"},{"$f":"_xlfn.XLOOKUP(Table8[[#This Row],[TDS SKU]],Sheet2!$B:$B,Sheet2!D:D)","v":"A"},{"$f":"_xlfn.XLOOKUP(Table8[[#This Row],[TDS SKU]],Sheet2!$B:$B,Sheet2!E:E)","v":"CTO BO"},{"$f":"LEFT(Table8[[#This Row],[Apple Part ]],4)","v":"Z1MZ"}]
["Z1MZ","15358737",6149,"CTO MBP 16 M5 MAX 18 CPU 40 GPU 48GB 4TB SPACE BLACK NANO 140W","SCXU3LL/A","Special Order","16-inch","Space Black","M5 Max chip with 18‑core CPU, 40‑core GPU","48GB","4TB SSD","140W USB-C","Nano-Texture",{"$f":"_xlfn.XLOOKUP(Table8[[#This Row],[TDS SKU]],Sheet2!$B:$B,Sheet2!C:C)","v":"B"},{"$f":"_xlfn.XLOOKUP(Table8[[#This Row],[TDS SKU]],Sheet2!$B:$B,Sheet2!D:D)","v":"A"},{"$f":"_xlfn.XLOOKUP(Table8[[#This Row],[TDS SKU]],Sheet2!$B:$B,Sheet2!E:E)","v":"CTO BO"},{"$f":"LEFT(Table8[[#This Row],[Apple Part ]],4)","v":"Z1MZ"}]
["Z1MZ","15358739",6549,"CTO MBP 16 M5 MAX 18 CPU 40 GPU 64GB 4TB SPACE BLACK NANO 140W","SCXU3LL/A","Special Order","16-inch","Space Black","M5 Max chip with 18‑core CPU, 40‑core GPU","64GB","4TB SSD","140W USB-C","Nano-Texture",{"$f":"_xlfn.XLOOKUP(Table8[[#This Row],[TDS SKU]],Sheet2!$B:$B,Sheet2!C:C)","v":"B"},{"$f":"_xlfn.XLOOKUP(Table8[[#This Row],[TDS SKU]],Sheet2!$B:$B,Sheet2!D:D)","v":"A"},{"$f":"_xlfn.XLOOKUP(Table8[[#This Row],[TDS SKU]],Sheet2!$B:$B,Sheet2!E:E)","v":"CTO BO"},{"$f":"LEFT(Table8[[#This Row],[Apple Part ]],4)","v":"Z1MZ"}]
["Z1MZ","15358742",8149,"CTO MBP 16 M5 MAX 18 CPU 40 GPU 48GB 8TB SPACE BLACK NANO 140W","SCXU3LL/A","Special Order","16-inch","Space Black","M5 Max chip with 18‑core CPU, 40‑core GPU","48GB","8TB SSD","140W USB-C","Nano-Texture",{"$f":"_xlfn.XLOOKUP(Table8[[#This Row],[TDS SKU]],Sheet2!$B:$B,Sheet2!C:C)","v":"B"},{"$f":"_xlfn.XLOOKUP(Table8[[#This Row],[TDS SKU]],Sheet2!$B:$B,Sheet2!D:D)","v":"A"},{"$f":"_xlfn.XLOOKUP(Table8[[#This Row],[TDS SKU]],Sheet2!$B:$B,Sheet2!E:E)","v":"CTO BO"},{"$f":"LEFT(Table8[[#This Row],[Apple Part ]],4)","v":"Z1MZ"}]
["Z1MZ","15358744",8549,"CTO MBP 16 M5 MAX 18 CPU 40 GPU 64GB 8TB SPACE BLACK NANO 140W","SCXU3LL/A","Special Order","16-inch","Space Black","M5 Max chip with 18‑core CPU, 40‑core GPU","64GB","8TB SSD","140W USB-C","Nano-Texture",{"$f":"_xlfn.XLOOKUP(Table8[[#This Row],[TDS SKU]],Sheet2!$B:$B,Sheet2!C:C)","v":"B"},{"$f":"_xlfn.XLOOKUP(Table8[[#This Row],[TDS SKU]],Sheet2!$B:$B,Sheet2!D:D)","v":"A"},{"$f":"_xlfn.XLOOKUP(Table8[[#This Row],[TDS SKU]],Sheet2!$B:$B,Sheet2!E:E)","v":"CTO BO"},{"$f":"LEFT(Table8[[#This Row],[Apple Part ]],4)","v":"Z1MZ"}]
["Z1MZ","15358734",10149,"CTO MBP 16 M5 MAX 18 CPU 40 GPU 128GB 8TB SPACE BLACK NANO 140W","SCXU3LL/A","Special Order","16-inch","Space Black","M5 Max chip with 18‑core CPU, 40‑core GPU","128GB","8TB SSD","140W USB-C","Nano-Texture",{"$f":"_xlfn.XLOOKUP(Table8[[#This Row],[TDS SKU]],Sheet2!$B:$B,Sheet2!C:C)","v":"B"},{"$f":"_xlfn.XLOOKUP(Table8[[#This Row],[TDS SKU]],Sheet2!$B:$B,Sheet2!D:D)","v":"A"},{"$f":"_xlfn.XLOOKUP(Table8[[#This Row],[TDS SKU]],Sheet2!$B:$B,Sheet2!E:E)","v":"CTO BO"},{"$f":"LEFT(Table8[[#This Row],[Apple Part ]],4)","v":"Z1MZ"}]

{"sheet":"Mac Mini","index":5,"n_rows":67,"n_cols":15,"rows_kept":67,"cut":false,"hidden":false,"merged":[]}
["This document and the information in it is proprietary and provided in confidence, and may not be disclosed to any third party or used for any other purpose than was intended by the author."]
[]
[]
[]
[]
[]
[]
[]
[]
[]
[]
[]
[]
["*Red text denotes EOL product"]
["Apple Part ","TDS SKU","MSRP","Description","AppleCare","Stocking Status","Processor","Memory","Storage","Ethernet","Column1","ABC Code","Active Status","Source Status Des."]
["MCX44LL/A","14316322",1599,"MAC MINI M4 PRO 12CPU 16GPU 24GB 512GB GIG ETH ","SR1C2LL/A",{"$f":"IF(OR(N16=\"CTO BO\",N16=\"ZPN BO\"),\"Special Order\",\"Stocked\")","v":"Stocked"},"M4 Pro chip with 12‑core CPU, 16‑core GPU","24GB","512GB SSD","Gigabit Ethernet",null,{"$f":"_xlfn.XLOOKUP(Table7[[#This Row],[TDS SKU]],Sheet2!$B:$B,Sheet2!C:C)","v":"A"},{"$f":"_xlfn.XLOOKUP(Table7[[#This Row],[TDS SKU]],Sheet2!$B:$B,Sheet2!D:D)","v":"A"},{"$f":"_xlfn.XLOOKUP(Table7[[#This Row],[TDS SKU]],Sheet2!$B:$B,Sheet2!E:E)","v":"MACBOOK"},{"$f":"LEFT(Table7[[#This Row],[Apple Part ]],4)","v":"MCX4"}]
["MU9E3LL/A","14316325",999,"MAC MINI M4 10CPU 10GPU 16GB 512GB GIG ETH ","SR1C2LL/A","Stocked","M4 chip with 10‑core CPU, 10‑core GPU","16GB","512GB SSD","Gigabit Ethernet",null,{"$f":"_xlfn.XLOOKUP(Table7[[#This Row],[TDS SKU]],Sheet2!$B:$B,Sheet2!C:C)","v":"A"},{"$f":"_xlfn.XLOOKUP(Table7[[#This Row],[TDS SKU]],Sheet2!$B:$B,Sheet2!D:D)","v":"A"},{"$f":"_xlfn.XLOOKUP(Table7[[#This Row],[TDS SKU]],Sheet2!$B:$B,Sheet2!E:E)","v":"MACBOOK"},{"$f":"LEFT(Table7[[#This Row],[Apple Part ]],4)","v":"MU9E"}]
["MCYT4LL/A","14316323",1199,"MAC MINI M4 10CPU 10GPU 24GB 512GB GIG ETH ","SR1C2LL/A","Stocked","M4 chip with 10‑core CPU, 10‑core GPU","24GB","512GB SSD","Gigabit Ethernet",null,{"$f":"_xlfn.XLOOKUP(Table7[[#This Row],[TDS SKU]],Sheet2!$B:$B,Sheet2!C:C)","v":"A"},{"$f":"_xlfn.XLOOKUP(Table7[[#This Row],[TDS SKU]],Sheet2!$B:$B,Sheet2!D:D)","v":"A"},{"$f":"_xlfn.XLOOKUP(Table7[[#This Row],[TDS SKU]],Sheet2!$B:$B,Sheet2!E:E)","v":"MACBOOK"},{"$f":"LEFT(Table7[[#This Row],[Apple Part ]],4)","v":"MCYT"}]
["Z1CG","15702054",1299,"CTO MAC MINI M4 10CPU 10GPU 16GB 1TB GIG ETH ","SR1C2LL/A","Special Order","M4 chip with 10‑core CPU, 10‑core GPU","16GB","1TB SSD","Gigabit Ethernet",null,"A","A",{"$f":"_xlfn.XLOOKUP(Table7[[#This Row],[TDS SKU]],Sheet2!$B:$B,Sheet2!E:E)","v":"CTO BO"},{"$f":"LEFT(Table7[[#This Row],[Apple Part ]],4)","v":"Z1CG"}]
["Z1CG","15618078",1799,"CTO MAC MINI M4 10CPU 10GPU 16GB 2TB GIG ETH ","SR1C2LL/A","Special Order","M4 chip with 10‑core CPU, 10‑core GPU","16GB","2TB SSD","Gigabit Ethernet",null,{"$f":"_xlfn.XLOOKUP(Table7[[#This Row],[TDS SKU]],Sheet2!$B:$B,Sheet2!C:C)","v":"B"},{"$f":"_xlfn.XLOOKUP(Table7[[#This Row],[TDS SKU]],Sheet2!$B:$B,Sheet2!D:D)","v":"A"},{"$f":"_xlfn.XLOOKUP(Table7[[#This Row],[TDS SKU]],Sheet2!$B:$B,Sheet2!E:E)","v":"CTO BO"},{"$f":"LEFT(Table7[[#This Row],[Apple Part ]],4)","v":"Z1CG"}]
["Z1CG","15618079",1899,"CTO MAC MINI M4 10CPU 10GPU 16GB 2TB 10 GIG ETH ","SR1C2LL/A","Special Order","M4 chip with 10‑core CPU, 10‑core GPU","16GB","2TB SSD","10 Gigabit Ethernet",null,{"$f":"_xlfn.XLOOKUP(Table7[[#This Row],[TDS SKU]],Sheet2!$B:$B,Sheet2!C:C)","v":"B"},{"$f":"_xlfn.XLOOKUP(Table7[[#This Row],[TDS SKU]],Sheet2!$B:$B,Sheet2!D:D)","v":"A"},{"$f":"_xlfn.XLOOKUP(Table7[[#This Row],[TDS SKU]],Sheet2!$B:$B,Sheet2!E:E)","v":"CTO BO"},{"$f":"LEFT(Table7[[#This Row],[Apple Part ]],4)","v":"Z1CG"}]
["Z1CG","15618080",1399,"CTO MAC MINI M4 10CPU 10GPU 16GB 1TB 10 GIG ETH ","SR1C2LL/A","Special Order","M4 chip with 10‑core CPU, 10‑core GPU","16GB","1TB SSD","10 Gigabit Ethernet",null,{"$f":"_xlfn.XLOOKUP(Table7[[#This Row],[TDS SKU]],Sheet2!$B:$B,Sheet2!C:C)","v":"B"},{"$f":"_xlfn.XLOOKUP(Table7[[#This Row],[TDS SKU]],Sheet2!$B:$B,Sheet2!D:D)","v":"A"},{"$f":"_xlfn.XLOOKUP(Table7[[#This Row],[TDS SKU]],Sheet2!$B:$B,Sheet2!E:E)","v":"CTO BO"},{"$f":"LEFT(Table7[[#This Row],[Apple Part ]],4)","v":"Z1CG"}]
["Z1CG","15618083",1099,"CTO MAC MINI M4 10CPU 10GPU 16GB 512GB 10 GIG ETH ","SR1C2LL/A","Special Order","M4 chip with 10‑core CPU, 10‑core GPU","16GB","512GB SSD","10 Gigabit Ethernet",null,{"$f":"_xlfn.XLOOKUP(Table7[[#This Row],[TDS SKU]],Sheet2!$B:$B,Sheet2!C:C)","v":"B"},{"$f":"_xlfn.XLOOKUP(Table7[[#This Row],[TDS SKU]],Sheet2!$B:$B,Sheet2!D:D)","v":"A"},{"$f":"_xlfn.XLOOKUP(Table7[[#This Row],[TDS SKU]],Sheet2!$B:$B,Sheet2!E:E)","v":"CTO BO"},{"$f":"LEFT(Table7[[#This Row],[Apple Part ]],4)","v":"Z1CG"}]
["Z1CG","15618077",1599,"CTO MAC MINI M4 10CPU 10GPU 24GB 1TB 10 GIG ETH ","SR1C2LL/A","Special Order","M4 chip with 10‑core CPU, 10‑core GPU","24GB","1TB SSD","10 Gigabit Ethernet",null,{"$f":"_xlfn.XLOOKUP(Table7[[#This Row],[TDS SKU]],Sheet2!$B:$B,Sheet2!C:C)","v":"B"},{"$f":"_xlfn.XLOOKUP(Table7[[#This Row],[TDS SKU]],Sheet2!$B:$B,Sheet2!D:D)","v":"A"},{"$f":"_xlfn.XLOOKUP(Table7[[#This Row],[TDS SKU]],Sheet2!$B:$B,Sheet2!E:E)","v":"CTO BO"},{"$f":"LEFT(Table7[[#This Row],[Apple Part ]],4)","v":"Z1CG"}]
["Z1CG","15702113",1499,"CTO MAC MINI M4 10CPU 10GPU 24GB 1TB GIG ETH ","SR1C2LL/A","Special Order","M4 chip with 10‑core CPU, 10‑core GPU","24GB","1TB SSD","Gigabit Ethernet",null,"A","A",{"$f":"_xlfn.XLOOKUP(Table7[[#This Row],[TDS SKU]],Sheet2!$B:$B,Sheet2!E:E)","v":"CTO BO"},{"$f":"LEFT(Table7[[#This Row],[Apple Part ]],4)","v":"Z1CG"}]
["Z1CG","15616059",1299,"CTO MAC MINI M4 10CPU 10GPU 24GB 512GB 10 GIG ETH ","SR1C2LL/A","Special Order","M4 chip with 10‑core CPU, 10‑core GPU","24GB","512GB SSD","10 Gigabit Ethernet",null,{"$f":"_xlfn.XLOOKUP(Table7[[#This Row],[TDS SKU]],Sheet2!$B:$B,Sheet2!C:C)","v":"B"},{"$f":"_xlfn.XLOOKUP(Table7[[#This Row],[TDS SKU]],Sheet2!$B:$B,Sheet2!D:D)","v":"A"},{"$f":"_xlfn.XLOOKUP(Table7[[#This Row],[TDS SKU]],Sheet2!$B:$B,Sheet2!E:E)","v":"CTO BO"},{"$f":"LEFT(Table7[[#This Row],[Apple Part ]],4)","v":"Z1CG"}]
["Z1CG","15618082",2099,"CTO MAC MINI M4 10CPU 10GPU 24GB 2TB 10 GIG ETH ","SR1C2LL/A","Special Order","M4 chip with 10‑core CPU, 10‑core GPU","24GB","2TB SSD","10 Gigabit Ethernet",null,{"$f":"_xlfn.XLOOKUP(Table7[[#This Row],[TDS SKU]],Sheet2!$B:$B,Sheet2!C:C)","v":"B"},{"$f":"_xlfn.XLOOKUP(Table7[[#This Row],[TDS SKU]],Sheet2!$B:$B,Sheet2!D:D)","v":"A"},{"$f":"_xlfn.XLOOKUP(Table7[[#This Row],[TDS SKU]],Sheet2!$B:$B,Sheet2!E:E)","v":"CTO BO"},{"$f":"LEFT(Table7[[#This Row],[Apple Part ]],4)","v":"Z1CG"}]
["Z1CG","15618081",1999,"CTO MAC MINI M4 10CPU 10GPU 24GB 2TB GIG ETH ","SR1C2LL/A","Special Order","M4 chip with 10‑core CPU, 10‑core GPU","24GB","2TB SSD","Gigabit Ethernet",null,{"$f":"_xlfn.XLOOKUP(Table7[[#This Row],[TDS SKU]],Sheet2!$B:$B,Sheet2!C:C)","v":"B"},{"$f":"_xlfn.XLOOKUP(Table7[[#This Row],[TDS SKU]],Sheet2!$B:$B,Sheet2!D:D)","v":"A"},{"$f":"_xlfn.XLOOKUP(Table7[[#This Row],[TDS SKU]],Sheet2!$B:$B,Sheet2!E:E)","v":"CTO BO"},{"$f":"LEFT(Table7[[#This Row],[Apple Part ]],4)","v":"Z1CG"}]
["Z1JV","14316896",1699,"CTO MAC MINI M4 PRO 12CPU 16GPU 24GB 512GB 10 GIG ETH ","SR1C2LL/A","Special Order","M4 Pro chip with 12‑core CPU, 16‑core GPU","24GB","512GB SSD","10 Gigabit Ethernet",null,{"$f":"_xlfn.XLOOKUP(Table7[[#This Row],[TDS SKU]],Sheet2!$B:$B,Sheet2!C:C)","v":"B"},{"$f":"_xlfn.XLOOKUP(Table7[[#This Row],[TDS SKU]],Sheet2!$B:$B,Sheet2!D:D)","v":"A"},{"$f":"_xlfn.XLOOKUP(Table7[[#This Row],[TDS SKU]],Sheet2!$B:$B,Sheet2!E:E)","v":"CTO BO"},{"$f":"LEFT(Table7[[#This Row],[Apple Part ]],4)","v":"Z1JV"}]
["Z1JV","14316913",3399,"CTO MAC MINI M4 PRO 12CPU 16GPU 24GB 4TB GIG ETH ","SR1C2LL/A","Special Order","M4 Pro chip with 12‑core CPU, 16‑core GPU","24GB","4TB SSD","Gigabit Ethernet",null,{"$f":"_xlfn.XLOOKUP(Table7[[#This Row],[TDS SKU]],Sheet2!$B:$B,Sheet2!C:C)","v":"B"},{"$f":"_xlfn.XLOOKUP(Table7[[#This Row],[TDS SKU]],Sheet2!$B:$B,Sheet2!D:D)","v":"A"},{"$f":"_xlfn.XLOOKUP(Table7[[#This Row],[TDS SKU]],Sheet2!$B:$B,Sheet2!E:E)","v":"CTO BO"},{"$f":"LEFT(Table7[[#This Row],[Apple Part ]],4)","v":"Z1JV"}]
["Z1JV","14316919",5399,"CTO MAC MINI M4 PRO 12CPU 16GPU 24GB 8TB GIG ETH ","SR1C2LL/A","Special Order","M4 Pro chip with 12‑core CPU, 16‑core GPU","24GB","8TB SSD","Gigabit Ethernet",null,{"$f":"_xlfn.XLOOKUP(Table7[[#This Row],[TDS SKU]],Sheet2!$B:$B,Sheet2!C:C)","v":"B"},{"$f":"_xlfn.XLOOKUP(Table7[[#This Row],[TDS SKU]],Sheet2!$B:$B,Sheet2!D:D)","v":"A"},{"$f":"_xlfn.XLOOKUP(Table7[[#This Row],[TDS SKU]],Sheet2!$B:$B,Sheet2!E:E)","v":"CTO BO"},{"$f":"LEFT(Table7[[#This Row],[Apple Part ]],4)","v":"Z1JV"}]
["Z1JV","14316901",1899,"CTO MAC MINI M4 PRO 12CPU 16GPU 24GB 1TB GIG ETH ","SR1C2LL/A","Stocked","M4 Pro chip with 12‑core CPU, 16‑core GPU","24GB","1TB SSD","Gigabit Ethernet",null,"A","A",{"$f":"_xlfn.XLOOKUP(Table7[[#This Row],[TDS SKU]],Sheet2!$B:$B,Sheet2!E:E)","v":"STOCKED CTO"},{"$f":"LEFT(Table7[[#This Row],[Apple Part ]],4)","v":"Z1JV"}]
["Z1JV","14316907",2399,"CTO MAC MINI M4 PRO 12CPU 16GPU 24GB 2TB GIG ETH ","SR1C2LL/A","Special Order","M4 Pro chip with 12‑core CPU, 16‑core GPU","24GB","2TB SSD","Gigabit Ethernet",null,{"$f":"_xlfn.XLOOKUP(Table7[[#This Row],[TDS SKU]],Sheet2!$B:$B,Sheet2!C:C)","v":"B"},{"$f":"_xlfn.XLOOKUP(Table7[[#This Row],[TDS SKU]],Sheet2!$B:$B,Sheet2!D:D)","v":"A"},{"$f":"_xlfn.XLOOKUP(Table7[[#This Row],[TDS SKU]],Sheet2!$B:$B,Sheet2!E:E)","v":"CTO BO"},{"$f":"LEFT(Table7[[#This Row],[Apple Part ]],4)","v":"Z1JV"}]
["Z1JV","14316897",2199,"CTO MAC MINI M4 PRO 12CPU 16GPU 48GB 512GB GIG ETH ","SR1C2LL/A","Special Order","M4 Pro chip with 12‑core CPU, 16‑core GPU","48GB","512GB SSD","Gigabit Ethernet",null,{"$f":"_xlfn.XLOOKUP(Table7[[#This Row],[TDS SKU]],Sheet2!$B:$B,Sheet2!C:C)","v":"B"},{"$f":"_xlfn.XLOOKUP(Table7[[#This Row],[TDS SKU]],Sheet2!$B:$B,Sheet2!D:D)","v":"A"},{"$f":"_xlfn.XLOOKUP(Table7[[#This Row],[TDS SKU]],Sheet2!$B:$B,Sheet2!E:E)","v":"CTO BO"},{"$f":"LEFT(Table7[[#This Row],[Apple Part ]],4)","v":"Z1JV"}]
["Z1JV","14316898",2299,"CTO MAC MINI M4 PRO 12CPU 16GPU 48GB 512GB 10 GIG ETH ","SR1C2LL/A","Special Order","M4 Pro chip with 12‑core CPU, 16‑core GPU","48GB","512GB SSD","10 Gigabit Ethernet",null,{"$f":"_xlfn.XLOOKUP(Table7[[#This Row],[TDS SKU]],Sheet2!$B:$B,Sheet2!C:C)","v":"B"},{"$f":"_xlfn.XLOOKUP(Table7[[#This Row],[TDS SKU]],Sheet2!$B:$B,Sheet2!D:D)","v":"A"},{"$f":"_xlfn.XLOOKUP(Table7[[#This Row],[TDS SKU]],Sheet2!$B:$B,Sheet2!E:E)","v":"CTO BO"},{"$f":"LEFT(Table7[[#This Row],[Apple Part ]],4)","v":"Z1JV"}]
["Z1JV","14316925",1799,"CTO MAC MINI M4 PRO 14CPU 20GPU 24GB 512GB GIG ETH ","SR1C2LL/A","Special Order","M4 Pro chip with 14‑core CPU, 20‑core GPU","24GB","512GB SSD","Gigabit Ethernet",null,{"$f":"_xlfn.XLOOKUP(Table7[[#This Row],[TDS SKU]],Sheet2!$B:$B,Sheet2!C:C)","v":"B"},{"$f":"_xlfn.XLOOKUP(Table7[[#This Row],[TDS SKU]],Sheet2!$B:$B,Sheet2!D:D)","v":"A"},{"$f":"_xlfn.XLOOKUP(Table7[[#This Row],[TDS SKU]],Sheet2!$B:$B,Sheet2!E:E)","v":"CTO BO"},{"$f":"LEFT(Table7[[#This Row],[Apple Part ]],4)","v":"Z1JV"}]
["Z1JV","14316927",2399,"CTO MAC MINI M4 PRO 14CPU 20GPU 48GB 512GB GIG ETH ","SR1C2LL/A","Special Order","M4 Pro chip with 14‑core CPU, 20‑core GPU","48GB","512GB SSD","Gigabit Ethernet",null,{"$f":"_xlfn.XLOOKUP(Table7[[#This Row],[TDS SKU]],Sheet2!$B:$B,Sheet2!C:C)","v":"B"},{"$f":"_xlfn.XLOOKUP(Table7[[#This Row],[TDS SKU]],Sheet2!$B:$B,Sheet2!D:D)","v":"A"},{"$f":"_xlfn.XLOOKUP(Table7[[#This Row],[TDS SKU]],Sheet2!$B:$B,Sheet2!E:E)","v":"CTO BO"},{"$f":"LEFT(Table7[[#This Row],[Apple Part ]],4)","v":"Z1JV"}]
["Z1JV","14316926",1899,"CTO MAC MINI M4 PRO 14CPU 20GPU 24GB 512GB 10 GIG ETH ","SR1C2LL/A","Special Order","M4 Pro chip with 14‑core CPU, 20‑core GPU","24GB","512GB SSD","10 Gigabit Ethernet",null,{"$f":"_xlfn.XLOOKUP(Table7[[#This Row],[TDS SKU]],Sheet2!$B:$B,Sheet2!C:C)","v":"B"},{"$f":"_xlfn.XLOOKUP(Table7[[#This Row],[TDS SKU]],Sheet2!$B:$B,Sheet2!D:D)","v":"A"},{"$f":"_xlfn.XLOOKUP(Table7[[#This Row],[TDS SKU]],Sheet2!$B:$B,Sheet2!E:E)","v":"CTO BO"},{"$f":"LEFT(Table7[[#This Row],[Apple Part ]],4)","v":"Z1JV"}]
["Z1JV","14316928",2499,"CTO MAC MINI M4 PRO 14CPU 20GPU 48GB 512GB 10 GIG ETH ","SR1C2LL/A","Special Order","M4 Pro chip with 14‑core CPU, 20‑core GPU","48GB","512GB SSD","10 Gigabit Ethernet",null,{"$f":"_xlfn.XLOOKUP(Table7[[#This Row],[TDS SKU]],Sheet2!$B:$B,Sheet2!C:C)","v":"B"},{"$f":"_xlfn.XLOOKUP(Table7[[#This Row],[TDS SKU]],Sheet2!$B:$B,Sheet2!D:D)","v":"A"},{"$f":"_xlfn.XLOOKUP(Table7[[#This Row],[TDS SKU]],Sheet2!$B:$B,Sheet2!E:E)","v":"CTO BO"},{"$f":"LEFT(Table7[[#This Row],[Apple Part ]],4)","v":"Z1JV"}]
["Z1JV","14316938",2699,"CTO MAC MINI M4 PRO 14CPU 20GPU 24GB 2TB 10 GIG ETH ","SR1C2LL/A","Special Order","M4 Pro chip with 14‑core CPU, 20‑core GPU","24GB","2TB SSD","10 Gigabit Ethernet",null,{"$f":"_xlfn.XLOOKUP(Table7[[#This Row],[TDS SKU]],Sheet2!$B:$B,Sheet2!C:C)","v":"B"},{"$f":"_xlfn.XLOOKUP(Table7[[#This Row],[TDS SKU]],Sheet2!$B:$B,Sheet2!D:D)","v":"A"},{"$f":"_xlfn.XLOOKUP(Table7[[#This Row],[TDS SKU]],Sheet2!$B:$B,Sheet2!E:E)","v":"CTO BO"},{"$f":"LEFT(Table7[[#This Row],[Apple Part ]],4)","v":"Z1JV"}]
["Z1JV","14316932",2199,"CTO MAC MINI M4 PRO 14CPU 20GPU 24GB 1TB 10 GIG ETH ","SR1C2LL/A","Special Order","M4 Pro chip with 14‑core CPU, 20‑core GPU","24GB","1TB SSD","10 Gigabit Ethernet",null,{"$f":"_xlfn.XLOOKUP(Table7[[#This Row],[TDS SKU]],Sheet2!$B:$B,Sheet2!C:C)","v":"B"},{"$f":"_xlfn.XLOOKUP(Table7[[#This Row],[TDS SKU]],Sheet2!$B:$B,Sheet2!D:D)","v":"A"},{"$f":"_xlfn.XLOOKUP(Table7[[#This Row],[TDS SKU]],Sheet2!$B:$B,Sheet2!E:E)","v":"CTO BO"},{"$f":"LEFT(Table7[[#This Row],[Apple Part ]],4)","v":"Z1JV"}]
["Z1JV","14316931",2099,"CTO MAC MINI M4 PRO 14CPU 20GPU 24GB 1TB GIG ETH ","SR1C2LL/A","Special Order","M4 Pro chip with 14‑core CPU, 20‑core GPU","24GB","1TB SSD","Gigabit Ethernet",null,{"$f":"_xlfn.XLOOKUP(Table7[[#This Row],[TDS SKU]],Sheet2!$B:$B,Sheet2!C:C)","v":"B"},{"$f":"_xlfn.XLOOKUP(Table7[[#This Row],[TDS SKU]],Sheet2!$B:$B,Sheet2!D:D)","v":"A"},{"$f":"_xlfn.XLOOKUP(Table7[[#This Row],[TDS SKU]],Sheet2!$B:$B,Sheet2!E:E)","v":"CTO BO"},{"$f":"LEFT(Table7[[#This Row],[Apple Part ]],4)","v":"Z1JV"}]
["Z1JV","14316904",2599,"CTO MAC MINI M4 PRO 12CPU 16GPU 48GB 1TB 10 GIG ETH ","SR1C2LL/A","Special Order","M4 Pro chip with 12‑core CPU, 16‑core GPU","48GB","1TB SSD","10 Gigabit Ethernet",null,{"$f":"_xlfn.XLOOKUP(Table7[[#This Row],[TDS SKU]],Sheet2!$B:$B,Sheet2!C:C)","v":"B"},{"$f":"_xlfn.XLOOKUP(Table7[[#This Row],[TDS SKU]],Sheet2!$B:$B,Sheet2!D:D)","v":"A"},{"$f":"_xlfn.XLOOKUP(Table7[[#This Row],[TDS SKU]],Sheet2!$B:$B,Sheet2!E:E)","v":"CTO BO"},{"$f":"LEFT(Table7[[#This Row],[Apple Part ]],4)","v":"Z1JV"}]
["Z1JV","14316934",2799,"CTO MAC MINI M4 PRO 14CPU 20GPU 48GB 1TB 10 GIG ETH ","SR1C2LL/A","Special Order","M4 Pro chip with 14‑core CPU, 20‑core GPU","48GB","1TB SSD","10 Gigabit Ethernet",null,{"$f":"_xlfn.XLOOKUP(Table7[[#This Row],[TDS SKU]],Sheet2!$B:$B,Sheet2!C:C)","v":"B"},{"$f":"_xlfn.XLOOKUP(Table7[[#This Row],[TDS SKU]],Sheet2!$B:$B,Sheet2!D:D)","v":"A"},{"$f":"_xlfn.XLOOKUP(Table7[[#This Row],[TDS SKU]],Sheet2!$B:$B,Sheet2!E:E)","v":"CTO BO"},{"$f":"LEFT(Table7[[#This Row],[Apple Part ]],4)","v":"Z1JV"}]
["Z1JV","14316902",1999,"CTO MAC MINI M4 PRO 12CPU 16GPU 24GB 1TB 10 GIG ETH ","SR1C2LL/A","Special Order","M4 Pro chip with 12‑core CPU, 16‑core GPU","24GB","1TB SSD","10 Gigabit Ethernet",null,{"$f":"_xlfn.XLOOKUP(Table7[[#This Row],[TDS SKU]],Sheet2!$B:$B,Sheet2!C:C)","v":"B"},{"$f":"_xlfn.XLOOKUP(Table7[[#This Row],[TDS SKU]],Sheet2!$B:$B,Sheet2!D:D)","v":"A"},{"$f":"_xlfn.XLOOKUP(Table7[[#This Row],[TDS SKU]],Sheet2!$B:$B,Sheet2!E:E)","v":"CTO BO"},{"$f":"LEFT(Table7[[#This Row],[Apple Part ]],4)","v":"Z1JV"}]
["Z1JV","14316874",4199,"CTO MAC MINI M4 PRO 14CPU 20GPU 48GB 4TB GIG ETH ","SR1C2LL/A","Special Order","M4 Pro chip with 14‑core CPU, 20‑core GPU","48GB","4TB SSD","Gigabit Ethernet",null,{"$f":"_xlfn.XLOOKUP(Table7[[#This Row],[TDS SKU]],Sheet2!$B:$B,Sheet2!C:C)","v":"B"},{"$f":"_xlfn.XLOOKUP(Table7[[#This Row],[TDS SKU]],Sheet2!$B:$B,Sheet2!D:D)","v":"A"},{"$f":"_xlfn.XLOOKUP(Table7[[#This Row],[TDS SKU]],Sheet2!$B:$B,Sheet2!E:E)","v":"CTO BO"},{"$f":"LEFT(Table7[[#This Row],[Apple Part ]],4)","v":"Z1JV"}]
["Z1JV","14316933",2699,"CTO MAC MINI M4 PRO 14CPU 20GPU 48GB 1TB GIG ETH ","SR1C2LL/A","Special Order","M4 Pro chip with 14‑core CPU, 20‑core GPU","48GB","1TB SSD","Gigabit Ethernet",null,{"$f":"_xlfn.XLOOKUP(Table7[[#This Row],[TDS SKU]],Sheet2!$B:$B,Sheet2!C:C)","v":"B"},{"$f":"_xlfn.XLOOKUP(Table7[[#This Row],[TDS SKU]],Sheet2!$B:$B,Sheet2!D:D)","v":"A"},{"$f":"_xlfn.XLOOKUP(Table7[[#This Row],[TDS SKU]],Sheet2!$B:$B,Sheet2!E:E)","v":"CTO BO"},{"$f":"LEFT(Table7[[#This Row],[Apple Part ]],4)","v":"Z1JV"}]
["Z1JV","14316908",3499,"CTO MAC MINI M4 PRO 12CPU 16GPU 24GB 2TB 10 GIG ETH ","SR1C2LL/A","Special Order","M4 Pro chip with 12‑core CPU, 16‑core GPU","24GB","2TB SSD","10 Gigabit Ethernet",null,{"$f":"_xlfn.XLOOKUP(Table7[[#This Row],[TDS SKU]],Sheet2!$B:$B,Sheet2!C:C)","v":"B"},{"$f":"_xlfn.XLOOKUP(Table7[[#This Row],[TDS SKU]],Sheet2!$B:$B,Sheet2!D:D)","v":"A"},{"$f":"_xlfn.XLOOKUP(Table7[[#This Row],[TDS SKU]],Sheet2!$B:$B,Sheet2!E:E)","v":"CTO BO"},{"$f":"LEFT(Table7[[#This Row],[Apple Part ]],4)","v":"Z1JV"}]
["Z1JV","14316939",3199,"CTO MAC MINI M4 PRO 14CPU 20GPU 48GB 2TB GIG ETH ","SR1C2LL/A","Special Order","M4 Pro chip with 14‑core CPU, 20‑core GPU","48GB","2TB SSD","Gigabit Ethernet",null,{"$f":"_xlfn.XLOOKUP(Table7[[#This Row],[TDS SKU]],Sheet2!$B:$B,Sheet2!C:C)","v":"B"},{"$f":"_xlfn.XLOOKUP(Table7[[#This Row],[TDS SKU]],Sheet2!$B:$B,Sheet2!D:D)","v":"A"},{"$f":"_xlfn.XLOOKUP(Table7[[#This Row],[TDS SKU]],Sheet2!$B:$B,Sheet2!E:E)","v":"CTO BO"},{"$f":"LEFT(Table7[[#This Row],[Apple Part ]],4)","v":"Z1JV"}]
["Z1JV","14316940",3299,"CTO MAC MINI M4 PRO 14CPU 20GPU 48GB 2TB 10 GIG ETH ","SR1C2LL/A","Special Order","M4 Pro chip with 14‑core CPU, 20‑core GPU","48GB","2TB SSD","10 Gigabit Ethernet",null,{"$f":"_xlfn.XLOOKUP(Table7[[#This Row],[TDS SKU]],Sheet2!$B:$B,Sheet2!C:C)","v":"B"},{"$f":"_xlfn.XLOOKUP(Table7[[#This Row],[TDS SKU]],Sheet2!$B:$B,Sheet2!D:D)","v":"A"},{"$f":"_xlfn.XLOOKUP(Table7[[#This Row],[TDS SKU]],Sheet2!$B:$B,Sheet2!E:E)","v":"CTO BO"},{"$f":"LEFT(Table7[[#This Row],[Apple Part ]],4)","v":"Z1JV"}]
["Z1JV","14316903",2499,"CTO MAC MINI M4 PRO 12CPU 16GPU 48GB 1TB GIG ETH ","SR1C2LL/A","Stocked","M4 Pro chip with 12‑core CPU, 16‑core GPU","48GB","1TB SSD","Gigabit Ethernet",null,"A","A",{"$f":"_xlfn.XLOOKUP(Table7[[#This Row],[TDS SKU]],Sheet2!$B:$B,Sheet2!E:E)","v":"STOCKED CTO"},{"$f":"LEFT(Table7[[#This Row],[Apple Part ]],4)","v":"Z1JV"}]
["Z1JV","14316909",2999,"CTO MAC MINI M4 PRO 12CPU 16GPU 48GB 2TB GIG ETH ","SR1C2LL/A","Special Order","M4 Pro chip with 12‑core CPU, 16‑core GPU","48GB","2TB SSD","Gigabit Ethernet",null,{"$f":"_xlfn.XLOOKUP(Table7[[#This Row],[TDS SKU]],Sheet2!$B:$B,Sheet2!C:C)","v":"B"},{"$f":"_xlfn.XLOOKUP(Table7[[#This Row],[TDS SKU]],Sheet2!$B:$B,Sheet2!D:D)","v":"A"},{"$f":"_xlfn.XLOOKUP(Table7[[#This Row],[TDS SKU]],Sheet2!$B:$B,Sheet2!E:E)","v":"CTO BO"},{"$f":"LEFT(Table7[[#This Row],[Apple Part ]],4)","v":"Z1JV"}]
["Z1JV","14316920",5499,"CTO MAC MINI M4 PRO 12CPU 16GPU 24GB 8TB 10 GIG ETH ","SR1C2LL/A",{"$f":"IF(OR(N53=\"CTO BO\",N53=\"ZPN BO\"),\"Special Order\",\"Stocked\")","v":"Special Order"},"M4 Pro chip with 12‑core CPU, 16‑core GPU","24GB","8TB SSD","10 Gigabit Ethernet",null,{"$f":"_xlfn.XLOOKUP(Table7[[#This Row],[TDS SKU]],Sheet2!$B:$B,Sheet2!C:C)","v":"B"},{"$f":"_xlfn.XLOOKUP(Table7[[#This Row],[TDS SKU]],Sheet2!$B:$B,Sheet2!D:D)","v":"A"},{"$f":"_xlfn.XLOOKUP(Table7[[#This Row],[TDS SKU]],Sheet2!$B:$B,Sheet2!E:E)","v":"CTO BO"},{"$f":"LEFT(Table7[[#This Row],[Apple Part ]],4)","v":"Z1JV"}]
["Z1JV","14316937",2599,"CTO MAC MINI M4 PRO 14CPU 20GPU 24GB 2TB GIG ETH ","SR1C2LL/A","Special Order","M4 Pro chip with 14‑core CPU, 20‑core GPU","24GB","2TB SSD","Gigabit Ethernet",null,{"$f":"_xlfn.XLOOKUP(Table7[[#This Row],[TDS SKU]],Sheet2!$B:$B,Sheet2!C:C)","v":"B"},{"$f":"_xlfn.XLOOKUP(Table7[[#This Row],[TDS SKU]],Sheet2!$B:$B,Sheet2!D:D)","v":"A"},{"$f":"_xlfn.XLOOKUP(Table7[[#This Row],[TDS SKU]],Sheet2!$B:$B,Sheet2!E:E)","v":"CTO BO"},{"$f":"LEFT(Table7[[#This Row],[Apple Part ]],4)","v":"Z1JV"}]
["Z1JV","14316915",3999,"CTO MAC MINI M4 PRO 12CPU 16GPU 48GB 4TB GIG ETH ","SR1C2LL/A","Special Order","M4 Pro chip with 12‑core CPU, 16‑core GPU","48GB","4TB SSD","Gigabit Ethernet",null,{"$f":"_xlfn.XLOOKUP(Table7[[#This Row],[TDS SKU]],Sheet2!$B:$B,Sheet2!C:C)","v":"B"},{"$f":"_xlfn.XLOOKUP(Table7[[#This Row],[TDS SKU]],Sheet2!$B:$B,Sheet2!D:D)","v":"A"},{"$f":"_xlfn.XLOOKUP(Table7[[#This Row],[TDS SKU]],Sheet2!$B:$B,Sheet2!E:E)","v":"CTO BO"},{"$f":"LEFT(Table7[[#This Row],[Apple Part ]],4)","v":"Z1JV"}]
["Z1JV","14316943",3599,"CTO MAC MINI M4 PRO 14CPU 20GPU 24GB 4TB GIG ETH ","SR1C2LL/A","Special Order","M4 Pro chip with 14‑core CPU, 20‑core GPU","24GB","4TB SSD","Gigabit Ethernet",null,{"$f":"_xlfn.XLOOKUP(Table7[[#This Row],[TDS SKU]],Sheet2!$B:$B,Sheet2!C:C)","v":"B"},{"$f":"_xlfn.XLOOKUP(Table7[[#This Row],[TDS SKU]],Sheet2!$B:$B,Sheet2!D:D)","v":"A"},{"$f":"_xlfn.XLOOKUP(Table7[[#This Row],[TDS SKU]],Sheet2!$B:$B,Sheet2!E:E)","v":"CTO BO"},{"$f":"LEFT(Table7[[#This Row],[Apple Part ]],4)","v":"Z1JV"}]
["Z1JV","14316875",4299,"CTO MAC MINI M4 PRO 14CPU 20GPU 48GB 4TB 10 GIG ETH ","SR1C2LL/A","Special Order","M4 Pro chip with 14‑core CPU, 20‑core GPU","48GB","4TB SSD","10 Gigabit Ethernet",null,{"$f":"_xlfn.XLOOKUP(Table7[[#This Row],[TDS SKU]],Sheet2!$B:$B,Sheet2!C:C)","v":"B"},{"$f":"_xlfn.XLOOKUP(Table7[[#This Row],[TDS SKU]],Sheet2!$B:$B,Sheet2!D:D)","v":"A"},{"$f":"_xlfn.XLOOKUP(Table7[[#This Row],[TDS SKU]],Sheet2!$B:$B,Sheet2!E:E)","v":"CTO BO"},{"$f":"LEFT(Table7[[#This Row],[Apple Part ]],4)","v":"Z1JV"}]
["Z1JV","14316916",4099,"CTO MAC MINI M4 PRO 12CPU 16GPU 48GB 4TB 10 GIG ETH ","SR1C2LL/A","Special Order","M4 Pro chip with 12‑core CPU, 16‑core GPU","48GB","4TB SSD","10 Gigabit Ethernet",null,{"$f":"_xlfn.XLOOKUP(Table7[[#This Row],[TDS SKU]],Sheet2!$B:$B,Sheet2!C:C)","v":"B"},{"$f":"_xlfn.XLOOKUP(Table7[[#This Row],[TDS SKU]],Sheet2!$B:$B,Sheet2!D:D)","v":"A"},{"$f":"_xlfn.XLOOKUP(Table7[[#This Row],[TDS SKU]],Sheet2!$B:$B,Sheet2!E:E)","v":"CTO BO"},{"$f":"LEFT(Table7[[#This Row],[Apple Part ]],4)","v":"Z1JV"}]
["Z1JV","14316910",3099,"CTO MAC MINI M4 PRO 12CPU 16GPU 48GB 2TB 10 GIG ETH ","SR1C2LL/A","Special Order","M4 Pro chip with 12‑core CPU, 16‑core GPU","48GB","2TB SSD","10 Gigabit Ethernet",null,{"$f":"_xlfn.XLOOKUP(Table7[[#This Row],[TDS SKU]],Sheet2!$B:$B,Sheet2!C:C)","v":"B"},{"$f":"_xlfn.XLOOKUP(Table7[[#This Row],[TDS SKU]],Sheet2!$B:$B,Sheet2!D:D)","v":"A"},{"$f":"_xlfn.XLOOKUP(Table7[[#This Row],[TDS SKU]],Sheet2!$B:$B,Sheet2!E:E)","v":"CTO BO"},{"$f":"LEFT(Table7[[#This Row],[Apple Part ]],4)","v":"Z1JV"}]
["Z1JV","14316873",3699,"CTO MAC MINI M4 PRO 14CPU 20GPU 24GB 4TB 10 GIG ETH ","SR1C2LL/A","Special Order","M4 Pro chip with 14‑core CPU, 20‑core GPU","24GB","4TB SSD","10 Gigabit Ethernet",null,{"$f":"_xlfn.XLOOKUP(Table7[[#This Row],[TDS SKU]],Sheet2!$B:$B,Sheet2!C:C)","v":"B"},{"$f":"_xlfn.XLOOKUP(Table7[[#This Row],[TDS SKU]],Sheet2!$B:$B,Sheet2!D:D)","v":"A"},{"$f":"_xlfn.XLOOKUP(Table7[[#This Row],[TDS SKU]],Sheet2!$B:$B,Sheet2!E:E)","v":"CTO BO"},{"$f":"LEFT(Table7[[#This Row],[Apple Part ]],4)","v":"Z1JV"}]
["Z1JV","14316880",6199,"CTO MAC MINI M4 PRO 14CPU 20GPU 48GB 8TB GIG ETH ","SR1C2LL/A","Special Order","M4 Pro chip with 14‑core CPU, 20‑core GPU","48GB","8TB SSD","Gigabit Ethernet",null,{"$f":"_xlfn.XLOOKUP(Table7[[#This Row],[TDS SKU]],Sheet2!$B:$B,Sheet2!C:C)","v":"B"},{"$f":"_xlfn.XLOOKUP(Table7[[#This Row],[TDS SKU]],Sheet2!$B:$B,Sheet2!D:D)","v":"A"},{"$f":"_xlfn.XLOOKUP(Table7[[#This Row],[TDS SKU]],Sheet2!$B:$B,Sheet2!E:E)","v":"CTO BO"},{"$f":"LEFT(Table7[[#This Row],[Apple Part ]],4)","v":"Z1JV"}]
["Z1JV","14316914",3499,"CTO MAC MINI M4 PRO 12CPU 16GPU 24GB 4TB 10 GIG ETH ","SR1C2LL/A","Special Order","M4 Pro chip with 12‑core CPU, 16‑core GPU","24GB","4TB SSD","10 Gigabit Ethernet",null,{"$f":"_xlfn.XLOOKUP(Table7[[#This Row],[TDS SKU]],Sheet2!$B:$B,Sheet2!C:C)","v":"B"},{"$f":"_xlfn.XLOOKUP(Table7[[#This Row],[TDS SKU]],Sheet2!$B:$B,Sheet2!D:D)","v":"A"},{"$f":"_xlfn.XLOOKUP(Table7[[#This Row],[TDS SKU]],Sheet2!$B:$B,Sheet2!E:E)","v":"CTO BO"},{"$f":"LEFT(Table7[[#This Row],[Apple Part ]],4)","v":"Z1JV"}]
["Z1JV","14316878",5599,"CTO MAC MINI M4 PRO 14CPU 20GPU 24GB 8TB GIG ETH ","SR1C2LL/A","Special Order","M4 Pro chip with 14‑core CPU, 20‑core GPU","24GB","8TB SSD","Gigabit Ethernet",null,{"$f":"_xlfn.XLOOKUP(Table7[[#This Row],[TDS SKU]],Sheet2!$B:$B,Sheet2!C:C)","v":"B"},{"$f":"_xlfn.XLOOKUP(Table7[[#This Row],[TDS SKU]],Sheet2!$B:$B,Sheet2!D:D)","v":"A"},{"$f":"_xlfn.XLOOKUP(Table7[[#This Row],[TDS SKU]],Sheet2!$B:$B,Sheet2!E:E)","v":"CTO BO"},{"$f":"LEFT(Table7[[#This Row],[Apple Part ]],4)","v":"Z1JV"}]
["Z1JV","14316879",5699,"CTO MAC MINI M4 PRO 14CPU 20GPU 24GB 8TB 10 GIG ETH ","SR1C2LL/A","Special Order","M4 Pro chip with 14‑core CPU, 20‑core GPU","24GB","8TB SSD","10 Gigabit Ethernet",null,{"$f":"_xlfn.XLOOKUP(Table7[[#This Row],[TDS SKU]],Sheet2!$B:$B,Sheet2!C:C)","v":"B"},{"$f":"_xlfn.XLOOKUP(Table7[[#This Row],[TDS SKU]],Sheet2!$B:$B,Sheet2!D:D)","v":"A"},{"$f":"_xlfn.XLOOKUP(Table7[[#This Row],[TDS SKU]],Sheet2!$B:$B,Sheet2!E:E)","v":"CTO BO"},{"$f":"LEFT(Table7[[#This Row],[Apple Part ]],4)","v":"Z1JV"}]
["Z1JV","14316881",6299,"CTO MAC MINI M4 PRO 14CPU 20GPU 48GB 8TB 10 GIG ETH ","SR1C2LL/A","Special Order","M4 Pro chip with 14‑core CPU, 20‑core GPU","48GB","8TB SSD","10 Gigabit Ethernet",null,{"$f":"_xlfn.XLOOKUP(Table7[[#This Row],[TDS SKU]],Sheet2!$B:$B,Sheet2!C:C)","v":"B"},{"$f":"_xlfn.XLOOKUP(Table7[[#This Row],[TDS SKU]],Sheet2!$B:$B,Sheet2!D:D)","v":"A"},{"$f":"_xlfn.XLOOKUP(Table7[[#This Row],[TDS SKU]],Sheet2!$B:$B,Sheet2!E:E)","v":"CTO BO"},{"$f":"LEFT(Table7[[#This Row],[Apple Part ]],4)","v":"Z1JV"}]
["Z1JV","14316921",5999,"CTO MAC MINI M4 PRO 12CPU 16GPU 48GB 8TB GIG ETH ","SR1C2LL/A","Special Order","M4 Pro chip with 12‑core CPU, 16‑core GPU","48GB","8TB SSD","Gigabit Ethernet",null,{"$f":"_xlfn.XLOOKUP(Table7[[#This Row],[TDS SKU]],Sheet2!$B:$B,Sheet2!C:C)","v":"B"},{"$f":"_xlfn.XLOOKUP(Table7[[#This Row],[TDS SKU]],Sheet2!$B:$B,Sheet2!D:D)","v":"A"},{"$f":"_xlfn.XLOOKUP(Table7[[#This Row],[TDS SKU]],Sheet2!$B:$B,Sheet2!E:E)","v":"CTO BO"},{"$f":"LEFT(Table7[[#This Row],[Apple Part ]],4)","v":"Z1JV"}]
["Z1JV","14316922",6099,"CTO MAC MINI M4 PRO 12CPU 16GPU 48GB 8TB 10 GIG ETH ","SR1C2LL/A","Special Order","M4 Pro chip with 12‑core CPU, 16‑core GPU","48GB","8TB SSD","10 Gigabit Ethernet",null,{"$f":"_xlfn.XLOOKUP(Table7[[#This Row],[TDS SKU]],Sheet2!$B:$B,Sheet2!C:C)","v":"B"},{"$f":"_xlfn.XLOOKUP(Table7[[#This Row],[TDS SKU]],Sheet2!$B:$B,Sheet2!D:D)","v":"A"},{"$f":"_xlfn.XLOOKUP(Table7[[#This Row],[TDS SKU]],Sheet2!$B:$B,Sheet2!E:E)","v":"CTO BO"},{"$f":"LEFT(Table7[[#This Row],[Apple Part ]],4)","v":"Z1JV"}]

{"sheet":"Mac Studio","index":6,"n_rows":55,"n_cols":14,"rows_kept":55,"cut":false,"hidden":false,"merged":[[0,0,0,8]]}
["This document and the information in it is proprietary and provided in confidence, and may not be disclosed to any third party or used for any other purpose than was intended by the author."]
[]
[]
[]
[]
[]
[]
[]
[]
[]
[]
[]
[]
["*Red text denotes EOL product"]
["Apple Part ","TDS SKU","MSRP","Description","AppleCare","Stocking Status","Processor","Memory","Storage","Column1","ABC Code","Active Status","VPC"]
["MU963LL/A","14576398",2499,"MAC STUDIO M4M 14CPU 32GPU 36GB 512GB    ","STKT2LL/A",{"$f":"IF(OR(M16=\"CTO BO\",M16=\"ZPN BO\"),\"Special Order\",\"Stocked\")","v":"Stocked"},"Apple M4 Max with 14-core CPU, 32-core GPU","36GB","512GB SSD",null,{"$f":"_xlfn.XLOOKUP(Table6[[#This Row],[TDS SKU]],Sheet2!$B:$B,Sheet2!C:C)","v":"A"},{"$f":"_xlfn.XLOOKUP(Table6[[#This Row],[TDS SKU]],Sheet2!$B:$B,Sheet2!D:D)","v":"A"},{"$f":"_xlfn.XLOOKUP(Table6[[#This Row],[TDS SKU]],Sheet2!$B:$B,Sheet2!E:E)","v":"MACBOOK"},{"$f":"LEFT(Table6[[#This Row],[Apple Part ]],4)","v":"MU96"}]
["MU973LL/A","14576399",5299,"MAC STUDIO M3U 28CPU 60GPU 96GB 1TB    ","STKT2LL/A","Stocked","Apple M3 Ultra with 28-core CPU, 60-core GPU","96GB","1TB SSD",null,"B","A",{"$f":"_xlfn.XLOOKUP(Table6[[#This Row],[TDS SKU]],Sheet2!$B:$B,Sheet2!E:E)","v":"MACBOOK"},{"$f":"LEFT(Table6[[#This Row],[Apple Part ]],4)","v":"MU97"}]
["Z1CD","14577657",2799,"CTO MAC STUDIO M4M 14CPU 32GPU 36GB 1TB    ","STKT2LL/A","Stocked","Apple M4 Max with 14-core CPU, 32-core GPU","36GB","1TB SSD",null,{"$f":"_xlfn.XLOOKUP(Table6[[#This Row],[TDS SKU]],Sheet2!$B:$B,Sheet2!C:C)","v":"A"},{"$f":"_xlfn.XLOOKUP(Table6[[#This Row],[TDS SKU]],Sheet2!$B:$B,Sheet2!D:D)","v":"A"},{"$f":"_xlfn.XLOOKUP(Table6[[#This Row],[TDS SKU]],Sheet2!$B:$B,Sheet2!E:E)","v":"STOCKED CTO"},{"$f":"LEFT(Table6[[#This Row],[Apple Part ]],4)","v":"Z1CD"}]
["Z1CD","14577658",3299,"CTO MAC STUDIO M4M 14CPU 32GPU 36GB 2TB    ","STKT2LL/A","Special Order","Apple M4 Max with 14-core CPU, 32-core GPU","36GB","2TB SSD",null,{"$f":"_xlfn.XLOOKUP(Table6[[#This Row],[TDS SKU]],Sheet2!$B:$B,Sheet2!C:C)","v":"B"},{"$f":"_xlfn.XLOOKUP(Table6[[#This Row],[TDS SKU]],Sheet2!$B:$B,Sheet2!D:D)","v":"A"},{"$f":"_xlfn.XLOOKUP(Table6[[#This Row],[TDS SKU]],Sheet2!$B:$B,Sheet2!E:E)","v":"CTO BO"},{"$f":"LEFT(Table6[[#This Row],[Apple Part ]],4)","v":"Z1CD"}]
["Z1CD","14577659",4299,"CTO MAC STUDIO M4M 14CPU 32GPU 36GB 4TB    ","STKT2LL/A","Special Order","Apple M4 Max with 14-core CPU, 32-core GPU","36GB","4TB SSD",null,{"$f":"_xlfn.XLOOKUP(Table6[[#This Row],[TDS SKU]],Sheet2!$B:$B,Sheet2!C:C)","v":"B"},{"$f":"_xlfn.XLOOKUP(Table6[[#This Row],[TDS SKU]],Sheet2!$B:$B,Sheet2!D:D)","v":"A"},{"$f":"_xlfn.XLOOKUP(Table6[[#This Row],[TDS SKU]],Sheet2!$B:$B,Sheet2!E:E)","v":"CTO BO"},{"$f":"LEFT(Table6[[#This Row],[Apple Part ]],4)","v":"Z1CD"}]
["Z1CD","14577660",6299,"CTO MAC STUDIO M4M 14CPU 32GPU 36GB 8TB    ","STKT2LL/A","Special Order","Apple M4 Max with 14-core CPU, 32-core GPU","36GB","8TB SSD",null,{"$f":"_xlfn.XLOOKUP(Table6[[#This Row],[TDS SKU]],Sheet2!$B:$B,Sheet2!C:C)","v":"B"},{"$f":"_xlfn.XLOOKUP(Table6[[#This Row],[TDS SKU]],Sheet2!$B:$B,Sheet2!D:D)","v":"A"},{"$f":"_xlfn.XLOOKUP(Table6[[#This Row],[TDS SKU]],Sheet2!$B:$B,Sheet2!E:E)","v":"CTO BO"},{"$f":"LEFT(Table6[[#This Row],[Apple Part ]],4)","v":"Z1CD"}]
["Z1CD","14577661",0,"CTO MAC STUDIO M4M 16CPU 40GPU 48GB 512GB    ","STKT2LL/A","Special Order","Apple M4 Max with 16-core CPU, 40-core GPU","48GB","512GB SSD",null,{"$f":"_xlfn.XLOOKUP(Table6[[#This Row],[TDS SKU]],Sheet2!$B:$B,Sheet2!C:C)","v":"B"},{"$f":"_xlfn.XLOOKUP(Table6[[#This Row],[TDS SKU]],Sheet2!$B:$B,Sheet2!D:D)","v":"A"},{"$f":"_xlfn.XLOOKUP(Table6[[#This Row],[TDS SKU]],Sheet2!$B:$B,Sheet2!E:E)","v":"CTO BO"},{"$f":"LEFT(Table6[[#This Row],[Apple Part ]],4)","v":"Z1CD"}]
["Z1CD","14577662",3499,"CTO MAC STUDIO M4M 16CPU 40GPU 64GB 512GB    ","STKT2LL/A","Special Order","Apple M4 Max with 16-core CPU, 40-core GPU","64GB","512GB SSD",null,{"$f":"_xlfn.XLOOKUP(Table6[[#This Row],[TDS SKU]],Sheet2!$B:$B,Sheet2!C:C)","v":"B"},{"$f":"_xlfn.XLOOKUP(Table6[[#This Row],[TDS SKU]],Sheet2!$B:$B,Sheet2!D:D)","v":"A"},{"$f":"_xlfn.XLOOKUP(Table6[[#This Row],[TDS SKU]],Sheet2!$B:$B,Sheet2!E:E)","v":"CTO BO"},{"$f":"LEFT(Table6[[#This Row],[Apple Part ]],4)","v":"Z1CD"}]
["Z1CD","14577663",0,"CTO MAC STUDIO M4M 16CPU 40GPU 128GB 512GB    ","STKT2LL/A","Special Order","Apple M4 Max with 16-core CPU, 40-core GPU","128GB","512GB SSD",null,{"$f":"_xlfn.XLOOKUP(Table6[[#This Row],[TDS SKU]],Sheet2!$B:$B,Sheet2!C:C)","v":"C"},{"$f":"_xlfn.XLOOKUP(Table6[[#This Row],[TDS SKU]],Sheet2!$B:$B,Sheet2!D:D)","v":"A"},{"$f":"_xlfn.XLOOKUP(Table6[[#This Row],[TDS SKU]],Sheet2!$B:$B,Sheet2!E:E)","v":"CTO BO"},{"$f":"LEFT(Table6[[#This Row],[Apple Part ]],4)","v":"Z1CD"}]
["Z1CD","14577606",0,"CTO MAC STUDIO M3U 28CPU 60GPU 256GB 1TB    ","STKT2LL/A","Special Order","Apple M3 Ultra with 28-core CPU, 60-core GPU","256GB","1TB SSD",null,{"$f":"_xlfn.XLOOKUP(Table6[[#This Row],[TDS SKU]],Sheet2!$B:$B,Sheet2!C:C)","v":"C"},{"$f":"_xlfn.XLOOKUP(Table6[[#This Row],[TDS SKU]],Sheet2!$B:$B,Sheet2!D:D)","v":"A"},{"$f":"_xlfn.XLOOKUP(Table6[[#This Row],[TDS SKU]],Sheet2!$B:$B,Sheet2!E:E)","v":"CTO BO"},{"$f":"LEFT(Table6[[#This Row],[Apple Part ]],4)","v":"Z1CD"}]
["Z1CD","14577613",12799,"CTO MAC STUDIO M3U 28CPU 60GPU 96GB 16TB    ","STKT2LL/A","Special Order","Apple M3 Ultra with 28-core CPU, 60-core GPU","96GB","16TB SSD",null,{"$f":"_xlfn.XLOOKUP(Table6[[#This Row],[TDS SKU]],Sheet2!$B:$B,Sheet2!C:C)","v":"B"},"A",{"$f":"_xlfn.XLOOKUP(Table6[[#This Row],[TDS SKU]],Sheet2!$B:$B,Sheet2!E:E)","v":"CTO BO"},{"$f":"LEFT(Table6[[#This Row],[Apple Part ]],4)","v":"Z1CD"}]
["Z1CD","14577625",6799,"CTO MAC STUDIO M3U 32CPU 80GPU 96GB 1TB    ","STKT2LL/A","Special Order","Apple M3 Ultra with 32-core CPU, 80-core GPU","96GB","1TB SSD",null,{"$f":"_xlfn.XLOOKUP(Table6[[#This Row],[TDS SKU]],Sheet2!$B:$B,Sheet2!C:C)","v":"B"},{"$f":"_xlfn.XLOOKUP(Table6[[#This Row],[TDS SKU]],Sheet2!$B:$B,Sheet2!D:D)","v":"A"},{"$f":"_xlfn.XLOOKUP(Table6[[#This Row],[TDS SKU]],Sheet2!$B:$B,Sheet2!E:E)","v":"CTO BO"},{"$f":"LEFT(Table6[[#This Row],[Apple Part ]],4)","v":"Z1CD"}]
["Z1CD","14577626",0,"CTO MAC STUDIO M3U 32CPU 80GPU 256GB 1TB    ","STKT2LL/A","Special Order","Apple M3 Ultra with 32-core CPU, 80-core GPU","256GB","1TB SSD",null,{"$f":"_xlfn.XLOOKUP(Table6[[#This Row],[TDS SKU]],Sheet2!$B:$B,Sheet2!C:C)","v":"C"},"A",{"$f":"_xlfn.XLOOKUP(Table6[[#This Row],[TDS SKU]],Sheet2!$B:$B,Sheet2!E:E)","v":"CTO BO"},{"$f":"LEFT(Table6[[#This Row],[Apple Part ]],4)","v":"Z1CD"}]
["Z1CD","14577677",14299,"CTO MAC STUDIO M3U 32CPU 80GPU 96GB 16TB    ","STKT2LL/A","Special Order","Apple M3 Ultra with 32-core CPU, 80-core GPU","96GB","16TB SSD",null,{"$f":"_xlfn.XLOOKUP(Table6[[#This Row],[TDS SKU]],Sheet2!$B:$B,Sheet2!C:C)","v":"B"},{"$f":"_xlfn.XLOOKUP(Table6[[#This Row],[TDS SKU]],Sheet2!$B:$B,Sheet2!D:D)","v":"A"},{"$f":"_xlfn.XLOOKUP(Table6[[#This Row],[TDS SKU]],Sheet2!$B:$B,Sheet2!E:E)","v":"CTO BO"},{"$f":"LEFT(Table6[[#This Row],[Apple Part ]],4)","v":"Z1CD"}]
["Z1CD","14577664",0,"CTO MAC STUDIO M4M 16CPU 40GPU 48GB 1TB    ","STKT2LL/A","Stocked","Apple M4 Max with 16-core CPU, 40-core GPU","48GB","1TB SSD",null,{"$f":"_xlfn.XLOOKUP(Table6[[#This Row],[TDS SKU]],Sheet2!$B:$B,Sheet2!C:C)","v":"A"},{"$f":"_xlfn.XLOOKUP(Table6[[#This Row],[TDS SKU]],Sheet2!$B:$B,Sheet2!D:D)","v":"A"},{"$f":"_xlfn.XLOOKUP(Table6[[#This Row],[TDS SKU]],Sheet2!$B:$B,Sheet2!E:E)","v":"STOCKED CTO"},{"$f":"LEFT(Table6[[#This Row],[Apple Part ]],4)","v":"Z1CD"}]
["Z1CD","14577667",0,"CTO MAC STUDIO M4M 16CPU 40GPU 48GB 2TB    ","STKT2LL/A","Special Order","Apple M4 Max with 16-core CPU, 40-core GPU","48GB","2TB SSD",null,{"$f":"_xlfn.XLOOKUP(Table6[[#This Row],[TDS SKU]],Sheet2!$B:$B,Sheet2!C:C)","v":"B"},{"$f":"_xlfn.XLOOKUP(Table6[[#This Row],[TDS SKU]],Sheet2!$B:$B,Sheet2!D:D)","v":"A"},{"$f":"_xlfn.XLOOKUP(Table6[[#This Row],[TDS SKU]],Sheet2!$B:$B,Sheet2!E:E)","v":"CTO BO"},{"$f":"LEFT(Table6[[#This Row],[Apple Part ]],4)","v":"Z1CD"}]
["Z1CD","14577670",0,"CTO MAC STUDIO M4M 16CPU 40GPU 48GB 4TB    ","STKT2LL/A","Special Order","Apple M4 Max with 16-core CPU, 40-core GPU","48GB","4TB SSD",null,{"$f":"_xlfn.XLOOKUP(Table6[[#This Row],[TDS SKU]],Sheet2!$B:$B,Sheet2!C:C)","v":"B"},{"$f":"_xlfn.XLOOKUP(Table6[[#This Row],[TDS SKU]],Sheet2!$B:$B,Sheet2!D:D)","v":"A"},{"$f":"_xlfn.XLOOKUP(Table6[[#This Row],[TDS SKU]],Sheet2!$B:$B,Sheet2!E:E)","v":"CTO BO"},{"$f":"LEFT(Table6[[#This Row],[Apple Part ]],4)","v":"Z1CD"}]
["Z1CD","14577673",0,"CTO MAC STUDIO M4M 16CPU 40GPU 48GB 8TB    ","STKT2LL/A","Special Order","Apple M4 Max with 16-core CPU, 40-core GPU","48GB","8TB SSD",null,{"$f":"_xlfn.XLOOKUP(Table6[[#This Row],[TDS SKU]],Sheet2!$B:$B,Sheet2!C:C)","v":"B"},{"$f":"_xlfn.XLOOKUP(Table6[[#This Row],[TDS SKU]],Sheet2!$B:$B,Sheet2!D:D)","v":"A"},{"$f":"_xlfn.XLOOKUP(Table6[[#This Row],[TDS SKU]],Sheet2!$B:$B,Sheet2!E:E)","v":"CTO BO"},{"$f":"LEFT(Table6[[#This Row],[Apple Part ]],4)","v":"Z1CD"}]
["Z1CD","14577607",5799,"CTO MAC STUDIO M3U 28CPU 60GPU 96GB 2TB    ","STKT2LL/A",{"$f":"IF(OR(M34=\"CTO BO\",M34=\"ZPN BO\"),\"Special Order\",\"Stocked\")","v":"Special Order"},"Apple M3 Ultra with 28-core CPU, 60-core GPU","96GB","2TB SSD",null,{"$f":"_xlfn.XLOOKUP(Table6[[#This Row],[TDS SKU]],Sheet2!$B:$B,Sheet2!C:C)","v":"B"},{"$f":"_xlfn.XLOOKUP(Table6[[#This Row],[TDS SKU]],Sheet2!$B:$B,Sheet2!D:D)","v":"A"},{"$f":"_xlfn.XLOOKUP(Table6[[#This Row],[TDS SKU]],Sheet2!$B:$B,Sheet2!E:E)","v":"CTO BO"},{"$f":"LEFT(Table6[[#This Row],[Apple Part ]],4)","v":"Z1CD"}]
["Z1CD","14577609",6799,"CTO MAC STUDIO M3U 28CPU 60GPU 96GB 4TB    ","STKT2LL/A","Special Order","Apple M3 Ultra with 28-core CPU, 60-core GPU","96GB","4TB SSD",null,{"$f":"_xlfn.XLOOKUP(Table6[[#This Row],[TDS SKU]],Sheet2!$B:$B,Sheet2!C:C)","v":"B"},{"$f":"_xlfn.XLOOKUP(Table6[[#This Row],[TDS SKU]],Sheet2!$B:$B,Sheet2!D:D)","v":"A"},{"$f":"_xlfn.XLOOKUP(Table6[[#This Row],[TDS SKU]],Sheet2!$B:$B,Sheet2!E:E)","v":"CTO BO"},{"$f":"LEFT(Table6[[#This Row],[Apple Part ]],4)","v":"Z1CD"}]
["Z1CD","14577611",8799,"CTO MAC STUDIO M3U 28CPU 60GPU 96GB 8TB    ","STKT2LL/A","Special Order","Apple M3 Ultra with 28-core CPU, 60-core GPU","96GB","8TB SSD",null,{"$f":"_xlfn.XLOOKUP(Table6[[#This Row],[TDS SKU]],Sheet2!$B:$B,Sheet2!C:C)","v":"B"},{"$f":"_xlfn.XLOOKUP(Table6[[#This Row],[TDS SKU]],Sheet2!$B:$B,Sheet2!D:D)","v":"A"},{"$f":"_xlfn.XLOOKUP(Table6[[#This Row],[TDS SKU]],Sheet2!$B:$B,Sheet2!E:E)","v":"CTO BO"},{"$f":"LEFT(Table6[[#This Row],[Apple Part ]],4)","v":"Z1CD"}]
["Z1CD","14577628",7299,"CTO MAC STUDIO M3U 32CPU 80GPU 96GB 2TB    ","STKT2LL/A","Special Order","Apple M3 Ultra with 32-core CPU, 80-core GPU","96GB","2TB SSD",null,{"$f":"_xlfn.XLOOKUP(Table6[[#This Row],[TDS SKU]],Sheet2!$B:$B,Sheet2!C:C)","v":"B"},{"$f":"_xlfn.XLOOKUP(Table6[[#This Row],[TDS SKU]],Sheet2!$B:$B,Sheet2!D:D)","v":"A"},{"$f":"_xlfn.XLOOKUP(Table6[[#This Row],[TDS SKU]],Sheet2!$B:$B,Sheet2!E:E)","v":"CTO BO"},{"$f":"LEFT(Table6[[#This Row],[Apple Part ]],4)","v":"Z1CD"}]
["Z1CD","14577631",8299,"CTO MAC STUDIO M3U 32CPU 80GPU 96GB 4TB    ","STKT2LL/A","Special Order","Apple M3 Ultra with 32-core CPU, 80-core GPU","96GB","4TB SSD",null,{"$f":"_xlfn.XLOOKUP(Table6[[#This Row],[TDS SKU]],Sheet2!$B:$B,Sheet2!C:C)","v":"B"},{"$f":"_xlfn.XLOOKUP(Table6[[#This Row],[TDS SKU]],Sheet2!$B:$B,Sheet2!D:D)","v":"A"},{"$f":"_xlfn.XLOOKUP(Table6[[#This Row],[TDS SKU]],Sheet2!$B:$B,Sheet2!E:E)","v":"CTO BO"},{"$f":"LEFT(Table6[[#This Row],[Apple Part ]],4)","v":"Z1CD"}]
["Z1CD","14577634",10299,"CTO MAC STUDIO M3U 32CPU 80GPU 96GB 8TB    ","STKT2LL/A","Special Order","Apple M3 Ultra with 32-core CPU, 80-core GPU","96GB","8TB SSD",null,{"$f":"_xlfn.XLOOKUP(Table6[[#This Row],[TDS SKU]],Sheet2!$B:$B,Sheet2!C:C)","v":"B"},{"$f":"_xlfn.XLOOKUP(Table6[[#This Row],[TDS SKU]],Sheet2!$B:$B,Sheet2!D:D)","v":"A"},{"$f":"_xlfn.XLOOKUP(Table6[[#This Row],[TDS SKU]],Sheet2!$B:$B,Sheet2!E:E)","v":"CTO BO"},{"$f":"LEFT(Table6[[#This Row],[Apple Part ]],4)","v":"Z1CD"}]
["Z1CD","14577665",3799,"CTO MAC STUDIO M4M 16CPU 40GPU 64GB 1TB    ","STKT2LL/A","Stocked","Apple M4 Max with 16-core CPU, 40-core GPU","64GB","1TB SSD",null,{"$f":"_xlfn.XLOOKUP(Table6[[#This Row],[TDS SKU]],Sheet2!$B:$B,Sheet2!C:C)","v":"A"},{"$f":"_xlfn.XLOOKUP(Table6[[#This Row],[TDS SKU]],Sheet2!$B:$B,Sheet2!D:D)","v":"A"},{"$f":"_xlfn.XLOOKUP(Table6[[#This Row],[TDS SKU]],Sheet2!$B:$B,Sheet2!E:E)","v":"STOCKED CTO"},{"$f":"LEFT(Table6[[#This Row],[Apple Part ]],4)","v":"Z1CD"}]
["Z1CD","14577666",0,"CTO MAC STUDIO M4M 16CPU 40GPU 128GB 1TB    ","STKT2LL/A",{"$f":"IF(OR(M41=\"CTO BO\",M41=\"ZPN BO\"),\"Special Order\",\"Stocked\")","v":"Stocked"},"Apple M4 Max with 16-core CPU, 40-core GPU","128GB","1TB SSD",null,{"$f":"_xlfn.XLOOKUP(Table6[[#This Row],[TDS SKU]],Sheet2!$B:$B,Sheet2!C:C)","v":"C"},{"$f":"_xlfn.XLOOKUP(Table6[[#This Row],[TDS SKU]],Sheet2!$B:$B,Sheet2!D:D)","v":"A"},{"$f":"_xlfn.XLOOKUP(Table6[[#This Row],[TDS SKU]],Sheet2!$B:$B,Sheet2!E:E)","v":"STOCKED CTO"},{"$f":"LEFT(Table6[[#This Row],[Apple Part ]],4)","v":"Z1CD"}]
["Z1CD","14577668",4299,"CTO MAC STUDIO M4M 16CPU 40GPU 64GB 2TB    ","STKT2LL/A","Special Order","Apple M4 Max with 16-core CPU, 40-core GPU","64GB","2TB SSD",null,{"$f":"_xlfn.XLOOKUP(Table6[[#This Row],[TDS SKU]],Sheet2!$B:$B,Sheet2!C:C)","v":"A"},{"$f":"_xlfn.XLOOKUP(Table6[[#This Row],[TDS SKU]],Sheet2!$B:$B,Sheet2!D:D)","v":"A"},{"$f":"_xlfn.XLOOKUP(Table6[[#This Row],[TDS SKU]],Sheet2!$B:$B,Sheet2!E:E)","v":"CTO BO"},{"$f":"LEFT(Table6[[#This Row],[Apple Part ]],4)","v":"Z1CD"}]
["Z1CD","14577669",0,"CTO MAC STUDIO M4M 16CPU 40GPU 128GB 2TB    ","STKT2LL/A","Special Order","Apple M4 Max with 16-core CPU, 40-core GPU","128GB","2TB SSD",null,{"$f":"_xlfn.XLOOKUP(Table6[[#This Row],[TDS SKU]],Sheet2!$B:$B,Sheet2!C:C)","v":"C"},{"$f":"_xlfn.XLOOKUP(Table6[[#This Row],[TDS SKU]],Sheet2!$B:$B,Sheet2!D:D)","v":"A"},{"$f":"_xlfn.XLOOKUP(Table6[[#This Row],[TDS SKU]],Sheet2!$B:$B,Sheet2!E:E)","v":"CTO BO"},{"$f":"LEFT(Table6[[#This Row],[Apple Part ]],4)","v":"Z1CD"}]
["Z1CD","14577671",5299,"CTO MAC STUDIO M4M 16CPU 40GPU 64GB 4TB    ","STKT2LL/A","Special Order","Apple M4 Max with 16-core CPU, 40-core GPU","64GB","4TB SSD",null,{"$f":"_xlfn.XLOOKUP(Table6[[#This Row],[TDS SKU]],Sheet2!$B:$B,Sheet2!C:C)","v":"B"},{"$f":"_xlfn.XLOOKUP(Table6[[#This Row],[TDS SKU]],Sheet2!$B:$B,Sheet2!D:D)","v":"A"},{"$f":"_xlfn.XLOOKUP(Table6[[#This Row],[TDS SKU]],Sheet2!$B:$B,Sheet2!E:E)","v":"CTO BO"},{"$f":"LEFT(Table6[[#This Row],[Apple Part ]],4)","v":"Z1CD"}]
["Z1CD","14577672",0,"CTO MAC STUDIO M4M 16CPU 40GPU 128GB 4TB    ","STKT2LL/A","Special Order","Apple M4 Max with 16-core CPU, 40-core GPU","128GB","4TB SSD",null,{"$f":"_xlfn.XLOOKUP(Table6[[#This Row],[TDS SKU]],Sheet2!$B:$B,Sheet2!C:C)","v":"C"},{"$f":"_xlfn.XLOOKUP(Table6[[#This Row],[TDS SKU]],Sheet2!$B:$B,Sheet2!D:D)","v":"A"},{"$f":"_xlfn.XLOOKUP(Table6[[#This Row],[TDS SKU]],Sheet2!$B:$B,Sheet2!E:E)","v":"CTO BO"},{"$f":"LEFT(Table6[[#This Row],[Apple Part ]],4)","v":"Z1CD"}]
["Z1CD","14577674",7299,"CTO MAC STUDIO M4M 16CPU 40GPU 64GB 8TB    ","STKT2LL/A","Special Order","Apple M4 Max with 16-core CPU, 40-core GPU","64GB","8TB SSD",null,{"$f":"_xlfn.XLOOKUP(Table6[[#This Row],[TDS SKU]],Sheet2!$B:$B,Sheet2!C:C)","v":"B"},{"$f":"_xlfn.XLOOKUP(Table6[[#This Row],[TDS SKU]],Sheet2!$B:$B,Sheet2!D:D)","v":"A"},{"$f":"_xlfn.XLOOKUP(Table6[[#This Row],[TDS SKU]],Sheet2!$B:$B,Sheet2!E:E)","v":"CTO BO"},{"$f":"LEFT(Table6[[#This Row],[Apple Part ]],4)","v":"Z1CD"}]
["Z1CD","14577605",0,"CTO MAC STUDIO M4M 16CPU 40GPU 128GB 8TB    ","STKT2LL/A","Special Order","Apple M4 Max with 16-core CPU, 40-core GPU","128GB","8TB SSD",null,{"$f":"_xlfn.XLOOKUP(Table6[[#This Row],[TDS SKU]],Sheet2!$B:$B,Sheet2!C:C)","v":"C"},{"$f":"_xlfn.XLOOKUP(Table6[[#This Row],[TDS SKU]],Sheet2!$B:$B,Sheet2!D:D)","v":"A"},{"$f":"_xlfn.XLOOKUP(Table6[[#This Row],[TDS SKU]],Sheet2!$B:$B,Sheet2!E:E)","v":"CTO BO"},{"$f":"LEFT(Table6[[#This Row],[Apple Part ]],4)","v":"Z1CD"}]
["Z1CD","14577608",0,"CTO MAC STUDIO M3U 28CPU 60GPU 256GB 2TB    ","STKT2LL/A","Stocked","Apple M3 Ultra with 28-core CPU, 60-core GPU","256GB","2TB SSD",null,{"$f":"_xlfn.XLOOKUP(Table6[[#This Row],[TDS SKU]],Sheet2!$B:$B,Sheet2!C:C)","v":"C"},{"$f":"_xlfn.XLOOKUP(Table6[[#This Row],[TDS SKU]],Sheet2!$B:$B,Sheet2!D:D)","v":"A"},{"$f":"_xlfn.XLOOKUP(Table6[[#This Row],[TDS SKU]],Sheet2!$B:$B,Sheet2!E:E)","v":"STOCKED CTO"},{"$f":"LEFT(Table6[[#This Row],[Apple Part ]],4)","v":"Z1CD"}]
["Z1CD","14577610",0,"CTO MAC STUDIO M3U 28CPU 60GPU 256GB 4TB    ","STKT2LL/A","Special Order","Apple M3 Ultra with 28-core CPU, 60-core GPU","256GB","4TB SSD",null,{"$f":"_xlfn.XLOOKUP(Table6[[#This Row],[TDS SKU]],Sheet2!$B:$B,Sheet2!C:C)","v":"C"},{"$f":"_xlfn.XLOOKUP(Table6[[#This Row],[TDS SKU]],Sheet2!$B:$B,Sheet2!D:D)","v":"A"},{"$f":"_xlfn.XLOOKUP(Table6[[#This Row],[TDS SKU]],Sheet2!$B:$B,Sheet2!E:E)","v":"CTO BO"},{"$f":"LEFT(Table6[[#This Row],[Apple Part ]],4)","v":"Z1CD"}]
["Z1CD","14577612",0,"CTO MAC STUDIO M3U 28CPU 60GPU 256GB 8TB    ","STKT2LL/A","Special Order","Apple M3 Ultra with 28-core CPU, 60-core GPU","256GB","8TB SSD",null,{"$f":"_xlfn.XLOOKUP(Table6[[#This Row],[TDS SKU]],Sheet2!$B:$B,Sheet2!C:C)","v":"C"},{"$f":"_xlfn.XLOOKUP(Table6[[#This Row],[TDS SKU]],Sheet2!$B:$B,Sheet2!D:D)","v":"A"},{"$f":"_xlfn.XLOOKUP(Table6[[#This Row],[TDS SKU]],Sheet2!$B:$B,Sheet2!E:E)","v":"CTO BO"},{"$f":"LEFT(Table6[[#This Row],[Apple Part ]],4)","v":"Z1CD"}]
["Z1CD","14577614",0,"CTO MAC STUDIO M3U 28CPU 60GPU 256GB 16TB    ","STKT2LL/A","Special Order","Apple M3 Ultra with 28-core CPU, 60-core GPU","256GB","16TB SSD",null,{"$f":"_xlfn.XLOOKUP(Table6[[#This Row],[TDS SKU]],Sheet2!$B:$B,Sheet2!C:C)","v":"C"},{"$f":"_xlfn.XLOOKUP(Table6[[#This Row],[TDS SKU]],Sheet2!$B:$B,Sheet2!D:D)","v":"A"},{"$f":"_xlfn.XLOOKUP(Table6[[#This Row],[TDS SKU]],Sheet2!$B:$B,Sheet2!E:E)","v":"CTO BO"},{"$f":"LEFT(Table6[[#This Row],[Apple Part ]],4)","v":"Z1CD"}]
["Z1CD","14577629",0,"CTO MAC STUDIO M3U 32CPU 80GPU 256GB 2TB    ","STKT2LL/A","Special Order","Apple M3 Ultra with 32-core CPU, 80-core GPU","256GB","2TB SSD",null,{"$f":"_xlfn.XLOOKUP(Table6[[#This Row],[TDS SKU]],Sheet2!$B:$B,Sheet2!C:C)","v":"C"},{"$f":"_xlfn.XLOOKUP(Table6[[#This Row],[TDS SKU]],Sheet2!$B:$B,Sheet2!D:D)","v":"A"},{"$f":"_xlfn.XLOOKUP(Table6[[#This Row],[TDS SKU]],Sheet2!$B:$B,Sheet2!E:E)","v":"CTO BO"},{"$f":"LEFT(Table6[[#This Row],[Apple Part ]],4)","v":"Z1CD"}]
["Z1CD","14577632",0,"CTO MAC STUDIO M3U 32CPU 80GPU 256GB 4TB    ","STKT2LL/A","Special Order","Apple M3 Ultra with 32-core CPU, 80-core GPU","256GB","4TB SSD",null,{"$f":"_xlfn.XLOOKUP(Table6[[#This Row],[TDS SKU]],Sheet2!$B:$B,Sheet2!C:C)","v":"C"},{"$f":"_xlfn.XLOOKUP(Table6[[#This Row],[TDS SKU]],Sheet2!$B:$B,Sheet2!D:D)","v":"A"},{"$f":"_xlfn.XLOOKUP(Table6[[#This Row],[TDS SKU]],Sheet2!$B:$B,Sheet2!E:E)","v":"CTO BO"},{"$f":"LEFT(Table6[[#This Row],[Apple Part ]],4)","v":"Z1CD"}]
["Z1CD","14577675",0,"CTO MAC STUDIO M3U 32CPU 80GPU 256GB 8TB    ","STKT2LL/A","Special Order","Apple M3 Ultra with 32-core CPU, 80-core GPU","256GB","8TB SSD",null,{"$f":"_xlfn.XLOOKUP(Table6[[#This Row],[TDS SKU]],Sheet2!$B:$B,Sheet2!C:C)","v":"C"},{"$f":"_xlfn.XLOOKUP(Table6[[#This Row],[TDS SKU]],Sheet2!$B:$B,Sheet2!D:D)","v":"A"},{"$f":"_xlfn.XLOOKUP(Table6[[#This Row],[TDS SKU]],Sheet2!$B:$B,Sheet2!E:E)","v":"CTO BO"},{"$f":"LEFT(Table6[[#This Row],[Apple Part ]],4)","v":"Z1CD"}]
["Z1CD","14577678",0,"CTO MAC STUDIO M3U 32CPU 80GPU 256GB 16TB    ","STKT2LL/A","Special Order","Apple M3 Ultra with 32-core CPU, 80-core GPU","256GB","16TB SSD",null,{"$f":"_xlfn.XLOOKUP(Table6[[#This Row],[TDS SKU]],Sheet2!$B:$B,Sheet2!C:C)","v":"C"},{"$f":"_xlfn.XLOOKUP(Table6[[#This Row],[TDS SKU]],Sheet2!$B:$B,Sheet2!D:D)","v":"A"},{"$f":"_xlfn.XLOOKUP(Table6[[#This Row],[TDS SKU]],Sheet2!$B:$B,Sheet2!E:E)","v":"CTO BO"},{"$f":"LEFT(Table6[[#This Row],[Apple Part ]],4)","v":"Z1CD"}]

{"sheet":"iMac","index":7,"n_rows":496,"n_cols":17,"rows_kept":496,"cut":false,"hidden":false,"merged":[[0,0,0,12],[14,0,16,3]]}
["This document and the information in it is proprietary and provided in confidence, and may not be disclosed to any third party or used for any other purpose than was intended by the author."]
[]
[]
[]
[]
[]
[]
[]
[]
[]
[]
[]
[]
[]
["For iMac configurations requiring a VESA mount, a non-English (US) Keyboard, a Magic Trackpad, Final Cut Pro or Logic Pro, please contact AppleUS@tdsynnex.com"]
[]
[]
[]
["*Red text denotes EOL product"]
["Apple Part ","TDS SKU","MSRP","Description","AppleCare","Stocking Status","Color","Processor","Memory","Storage","Ethernet","Keyboard","Nano-Texture","ABC Code","Active Status","VPC"]
["MCR24LL/A","14309274",1899,"IMAC M4 10CPU 10GPU 24GB 512GB TID SILVER  ","SR1A2LL/A",{"$f":"IF(OR(P21=\"CTO BO\",P21=\"ZPN BO\"),\"Special Order\",\"Stocked\")","v":"Stocked"},"Silver","M4 chip with 10‑core CPU, 10‑core GPU","24GB","512GB SSD","Gigabit","Magic Keyboard with Touch ID","None",{"$f":"_xlfn.XLOOKUP(Table14[[#This Row],[TDS SKU]],Sheet2!$B:$B,Sheet2!C:C)","v":"B"},{"$f":"_xlfn.XLOOKUP(Table14[[#This Row],[TDS SKU]],Sheet2!$B:$B,Sheet2!D:D)","v":"A"},{"$f":"_xlfn.XLOOKUP(Table14[[#This Row],[TDS SKU]],Sheet2!$B:$B,Sheet2!E:E)","v":"IMAC"},{"$f":"LEFT(Table14[[#This Row],[Apple Part ]],4)","v":"MCR2"}]
["MD2Q4LL/A","14309276",1899,"IMAC M4 10CPU 10GPU 24GB 512GB TID GREEN  ","SR1A2LL/A","Stocked","Green","M4 chip with 10‑core CPU, 10‑core GPU","24GB","512GB SSD","Gigabit","Magic Keyboard with Touch ID","None",{"$f":"_xlfn.XLOOKUP(Table14[[#This Row],[TDS SKU]],Sheet2!$B:$B,Sheet2!C:C)","v":"B"},{"$f":"_xlfn.XLOOKUP(Table14[[#This Row],[TDS SKU]],Sheet2!$B:$B,Sheet2!D:D)","v":"A"},{"$f":"_xlfn.XLOOKUP(Table14[[#This Row],[TDS SKU]],Sheet2!$B:$B,Sheet2!E:E)","v":"IMAC"},{"$f":"LEFT(Table14[[#This Row],[Apple Part ]],4)","v":"MD2Q"}]
["MD2T4LL/A","14309277",1899,"IMAC M4 10CPU 10GPU 24GB 512GB TID BLUE  ","SR1A2LL/A","Stocked","Blue","M4 chip with 10‑core CPU, 10‑core GPU","24GB","512GB SSD","Gigabit","Magic Keyboard with Touch ID","None",{"$f":"_xlfn.XLOOKUP(Table14[[#This Row],[TDS SKU]],Sheet2!$B:$B,Sheet2!C:C)","v":"B"},{"$f":"_xlfn.XLOOKUP(Table14[[#This Row],[TDS SKU]],Sheet2!$B:$B,Sheet2!D:D)","v":"A"},{"$f":"_xlfn.XLOOKUP(Table14[[#This Row],[TDS SKU]],Sheet2!$B:$B,Sheet2!E:E)","v":"IMAC"},{"$f":"LEFT(Table14[[#This Row],[Apple Part ]],4)","v":"MD2T"}]
["MD2U4LL/A","14309278",1899,"IMAC M4 10CPU 10GPU 24GB 512GB TID PINK  ","SR1A2LL/A","Stocked","Pink","M4 chip with 10‑core CPU, 10‑core GPU","24GB","512GB SSD","Gigabit","Magic Keyboard with Touch ID","None",{"$f":"_xlfn.XLOOKUP(Table14[[#This Row],[TDS SKU]],Sheet2!$B:$B,Sheet2!C:C)","v":"B"},{"$f":"_xlfn.XLOOKUP(Table14[[#This Row],[TDS SKU]],Sheet2!$B:$B,Sheet2!D:D)","v":"A"},{"$f":"_xlfn.XLOOKUP(Table14[[#This Row],[TDS SKU]],Sheet2!$B:$B,Sheet2!E:E)","v":"IMAC"},{"$f":"LEFT(Table14[[#This Row],[Apple Part ]],4)","v":"MD2U"}]
["MD3H4LL/A","14309281",1699,"IMAC M4 10CPU 10GPU 16GB 256GB TID SILVER NANO ","SR1A2LL/A","Stocked","Silver","M4 chip with 10‑core CPU, 10‑core GPU","16GB","256GB SSD","Gigabit","Magic Keyboard with Touch ID","Nano-Texture",{"$f":"_xlfn.XLOOKUP(Table14[[#This Row],[TDS SKU]],Sheet2!$B:$B,Sheet2!C:C)","v":"B"},{"$f":"_xlfn.XLOOKUP(Table14[[#This Row],[TDS SKU]],Sheet2!$B:$B,Sheet2!D:D)","v":"A"},{"$f":"_xlfn.XLOOKUP(Table14[[#This Row],[TDS SKU]],Sheet2!$B:$B,Sheet2!E:E)","v":"IMAC"},{"$f":"LEFT(Table14[[#This Row],[Apple Part ]],4)","v":"MD3H"}]
["MWUC3LL/A","14309282",1299,"IMAC M4 8CPU 8GPU 16GB 256GB  SILVER  ","SR1A2LL/A","Stocked","Silver","M4 chip with 8‑core CPU, 8‑core GPU","16GB","256GB SSD","None","Magic Keyboard","None",{"$f":"_xlfn.XLOOKUP(Table14[[#This Row],[TDS SKU]],Sheet2!$B:$B,Sheet2!C:C)","v":"A"},{"$f":"_xlfn.XLOOKUP(Table14[[#This Row],[TDS SKU]],Sheet2!$B:$B,Sheet2!D:D)","v":"A"},{"$f":"_xlfn.XLOOKUP(Table14[[#This Row],[TDS SKU]],Sheet2!$B:$B,Sheet2!E:E)","v":"IMAC"},{"$f":"LEFT(Table14[[#This Row],[Apple Part ]],4)","v":"MWUC"}]
["MWUE3LL/A","14309294",1299,"IMAC M4 8CPU 8GPU 16GB 256GB  GREEN  ","SR1A2LL/A","Stocked","Green","M4 chip with 8‑core CPU, 8‑core GPU","16GB","256GB SSD","None","Magic Keyboard","None",{"$f":"_xlfn.XLOOKUP(Table14[[#This Row],[TDS SKU]],Sheet2!$B:$B,Sheet2!C:C)","v":"B"},{"$f":"_xlfn.XLOOKUP(Table14[[#This Row],[TDS SKU]],Sheet2!$B:$B,Sheet2!D:D)","v":"A"},{"$f":"_xlfn.XLOOKUP(Table14[[#This Row],[TDS SKU]],Sheet2!$B:$B,Sheet2!E:E)","v":"IMAC"},{"$f":"LEFT(Table14[[#This Row],[Apple Part ]],4)","v":"MWUE"}]
["MWUF3LL/A","14309295",1299,"IMAC M4 8CPU 8GPU 16GB 256GB  BLUE  ","SR1A2LL/A","Stocked","Blue","M4 chip with 8‑core CPU, 8‑core GPU","16GB","256GB SSD","None","Magic Keyboard","None",{"$f":"_xlfn.XLOOKUP(Table14[[#This Row],[TDS SKU]],Sheet2!$B:$B,Sheet2!C:C)","v":"A"},{"$f":"_xlfn.XLOOKUP(Table14[[#This Row],[TDS SKU]],Sheet2!$B:$B,Sheet2!D:D)","v":"A"},{"$f":"_xlfn.XLOOKUP(Table14[[#This Row],[TDS SKU]],Sheet2!$B:$B,Sheet2!E:E)","v":"IMAC"},{"$f":"LEFT(Table14[[#This Row],[Apple Part ]],4)","v":"MWUF"}]
["MWUG3LL/A","14309296",1299,"IMAC M4 8CPU 8GPU 16GB 256GB  PINK  ","SR1A2LL/A","Stocked","Pink","M4 chip with 8‑core CPU, 8‑core GPU","16GB","256GB SSD","None","Magic Keyboard","None",{"$f":"_xlfn.XLOOKUP(Table14[[#This Row],[TDS SKU]],Sheet2!$B:$B,Sheet2!C:C)","v":"A"},{"$f":"_xlfn.XLOOKUP(Table14[[#This Row],[TDS SKU]],Sheet2!$B:$B,Sheet2!D:D)","v":"A"},{"$f":"_xlfn.XLOOKUP(Table14[[#This Row],[TDS SKU]],Sheet2!$B:$B,Sheet2!E:E)","v":"IMAC"},{"$f":"LEFT(Table14[[#This Row],[Apple Part ]],4)","v":"MWUG"}]
["MWUU3LL/A","14309299",1499,"IMAC M4 10CPU 10GPU 16GB 256GB TID SILVER  ","SR1A2LL/A","Stocked","Silver","M4 chip with 10‑core CPU, 10‑core GPU","16GB","256GB SSD","Gigabit","Magic Keyboard with Touch ID","None",{"$f":"_xlfn.XLOOKUP(Table14[[#This Row],[TDS SKU]],Sheet2!$B:$B,Sheet2!C:C)","v":"A"},{"$f":"_xlfn.XLOOKUP(Table14[[#This Row],[TDS SKU]],Sheet2!$B:$B,Sheet2!D:D)","v":"A"},{"$f":"_xlfn.XLOOKUP(Table14[[#This Row],[TDS SKU]],Sheet2!$B:$B,Sheet2!E:E)","v":"IMAC"},{"$f":"LEFT(Table14[[#This Row],[Apple Part ]],4)","v":"MWUU"}]
["MWUV3LL/A","14309300",1699,"IMAC M4 10CPU 10GPU 16GB 512GB TID SILVER  ","SR1A2LL/A","Stocked","Silver","M4 chip with 10‑core CPU, 10‑core GPU","16GB","512GB SSD","Gigabit","Magic Keyboard with Touch ID","None",{"$f":"_xlfn.XLOOKUP(Table14[[#This Row],[TDS SKU]],Sheet2!$B:$B,Sheet2!C:C)","v":"A"},{"$f":"_xlfn.XLOOKUP(Table14[[#This Row],[TDS SKU]],Sheet2!$B:$B,Sheet2!D:D)","v":"A"},{"$f":"_xlfn.XLOOKUP(Table14[[#This Row],[TDS SKU]],Sheet2!$B:$B,Sheet2!E:E)","v":"IMAC"},{"$f":"LEFT(Table14[[#This Row],[Apple Part ]],4)","v":"MWUV"}]
["MWUW3LL/A","14309301",1499,"IMAC M4 10CPU 10GPU 16GB 256GB TID YELLOW  ","SR1A2LL/A","Stocked","Yellow","M4 chip with 10‑core CPU, 10‑core GPU","16GB","256GB SSD","Gigabit","Magic Keyboard with Touch ID","None",{"$f":"_xlfn.XLOOKUP(Table14[[#This Row],[TDS SKU]],Sheet2!$B:$B,Sheet2!C:C)","v":"B"},{"$f":"_xlfn.XLOOKUP(Table14[[#This Row],[TDS SKU]],Sheet2!$B:$B,Sheet2!D:D)","v":"A"},{"$f":"_xlfn.XLOOKUP(Table14[[#This Row],[TDS SKU]],Sheet2!$B:$B,Sheet2!E:E)","v":"IMAC"},{"$f":"LEFT(Table14[[#This Row],[Apple Part ]],4)","v":"MWUW"}]
["MWUY3LL/A","14309283",1499,"IMAC M4 10CPU 10GPU 16GB 256GB TID GREEN  ","SR1A2LL/A","Stocked","Green","M4 chip with 10‑core CPU, 10‑core GPU","16GB","256GB SSD","Gigabit","Magic Keyboard with Touch ID","None",{"$f":"_xlfn.XLOOKUP(Table14[[#This Row],[TDS SKU]],Sheet2!$B:$B,Sheet2!C:C)","v":"B"},{"$f":"_xlfn.XLOOKUP(Table14[[#This Row],[TDS SKU]],Sheet2!$B:$B,Sheet2!D:D)","v":"A"},{"$f":"_xlfn.XLOOKUP(Table14[[#This Row],[TDS SKU]],Sheet2!$B:$B,Sheet2!E:E)","v":"IMAC"},{"$f":"LEFT(Table14[[#This Row],[Apple Part ]],4)","v":"MWUY"}]
["MWV03LL/A","14309284",1699,"IMAC M4 10CPU 10GPU 16GB 512GB TID GREEN  ","SR1A2LL/A","Stocked","Green","M4 chip with 10‑core CPU, 10‑core GPU","16GB","512GB SSD","Gigabit","Magic Keyboard with Touch ID","None",{"$f":"_xlfn.XLOOKUP(Table14[[#This Row],[TDS SKU]],Sheet2!$B:$B,Sheet2!C:C)","v":"B"},{"$f":"_xlfn.XLOOKUP(Table14[[#This Row],[TDS SKU]],Sheet2!$B:$B,Sheet2!D:D)","v":"A"},{"$f":"_xlfn.XLOOKUP(Table14[[#This Row],[TDS SKU]],Sheet2!$B:$B,Sheet2!E:E)","v":"IMAC"},{"$f":"LEFT(Table14[[#This Row],[Apple Part ]],4)","v":"MWV0"}]
["MWV13LL/A","14309285",1499,"IMAC M4 10CPU 10GPU 16GB 256GB TID BLUE  ","SR1A2LL/A","Stocked","Blue","M4 chip with 10‑core CPU, 10‑core GPU","16GB","256GB SSD","Gigabit","Magic Keyboard with Touch ID","None",{"$f":"_xlfn.XLOOKUP(Table14[[#This Row],[TDS SKU]],Sheet2!$B:$B,Sheet2!C:C)","v":"B"},{"$f":"_xlfn.XLOOKUP(Table14[[#This Row],[TDS SKU]],Sheet2!$B:$B,Sheet2!D:D)","v":"A"},{"$f":"_xlfn.XLOOKUP(Table14[[#This Row],[TDS SKU]],Sheet2!$B:$B,Sheet2!E:E)","v":"IMAC"},{"$f":"LEFT(Table14[[#This Row],[Apple Part ]],4)","v":"MWV1"}]
["MWV33LL/A","14309286",1699,"IMAC M4 10CPU 10GPU 16GB 512GB TID BLUE  ","SR1A2LL/A","Stocked","Blue","M4 chip with 10‑core CPU, 10‑core GPU","16GB","512GB SSD","Gigabit","Magic Keyboard with Touch ID","None",{"$f":"_xlfn.XLOOKUP(Table14[[#This Row],[TDS SKU]],Sheet2!$B:$B,Sheet2!C:C)","v":"B"},{"$f":"_xlfn.XLOOKUP(Table14[[#This Row],[TDS SKU]],Sheet2!$B:$B,Sheet2!D:D)","v":"A"},{"$f":"_xlfn.XLOOKUP(Table14[[#This Row],[TDS SKU]],Sheet2!$B:$B,Sheet2!E:E)","v":"IMAC"},{"$f":"LEFT(Table14[[#This Row],[Apple Part ]],4)","v":"MWV3"}]
["MWV43LL/A","14309287",1499,"IMAC M4 10CPU 10GPU 16GB 256GB TID PINK  ","SR1A2LL/A","Stocked","Pink","M4 chip with 10‑core CPU, 10‑core GPU","16GB","256GB SSD","Gigabit","Magic Keyboard with Touch ID","None",{"$f":"_xlfn.XLOOKUP(Table14[[#This Row],[TDS SKU]],Sheet2!$B:$B,Sheet2!C:C)","v":"B"},{"$f":"_xlfn.XLOOKUP(Table14[[#This Row],[TDS SKU]],Sheet2!$B:$B,Sheet2!D:D)","v":"A"},{"$f":"_xlfn.XLOOKUP(Table14[[#This Row],[TDS SKU]],Sheet2!$B:$B,Sheet2!E:E)","v":"IMAC"},{"$f":"LEFT(Table14[[#This Row],[Apple Part ]],4)","v":"MWV4"}]
["MWV53LL/A","14309288",1699,"IMAC M4 10CPU 10GPU 16GB 512GB TID PINK  ","SR1A2LL/A","Stocked","Pink","M4 chip with 10‑core CPU, 10‑core GPU","16GB","512GB SSD","Gigabit","Magic Keyboard with Touch ID","None",{"$f":"_xlfn.XLOOKUP(Table14[[#This Row],[TDS SKU]],Sheet2!$B:$B,Sheet2!C:C)","v":"B"},{"$f":"_xlfn.XLOOKUP(Table14[[#This Row],[TDS SKU]],Sheet2!$B:$B,Sheet2!D:D)","v":"A"},{"$f":"_xlfn.XLOOKUP(Table14[[#This Row],[TDS SKU]],Sheet2!$B:$B,Sheet2!E:E)","v":"IMAC"},{"$f":"LEFT(Table14[[#This Row],[Apple Part ]],4)","v":"MWV5"}]
["MWV63LL/A","14309289",1499,"IMAC M4 10CPU 10GPU 16GB 256GB TID PURPLE  ","SR1A2LL/A","Stocked","Purple","M4 chip with 10‑core CPU, 10‑core GPU","16GB","256GB SSD","Gigabit","Magic Keyboard with Touch ID","None",{"$f":"_xlfn.XLOOKUP(Table14[[#This Row],[TDS SKU]],Sheet2!$B:$B,Sheet2!C:C)","v":"B"},{"$f":"_xlfn.XLOOKUP(Table14[[#This Row],[TDS SKU]],Sheet2!$B:$B,Sheet2!D:D)","v":"A"},{"$f":"_xlfn.XLOOKUP(Table14[[#This Row],[TDS SKU]],Sheet2!$B:$B,Sheet2!E:E)","v":"IMAC"},{"$f":"LEFT(Table14[[#This Row],[Apple Part ]],4)","v":"MWV6"}]
["MWV83LL/A","14309291",1499,"IMAC M4 10CPU 10GPU 16GB 256GB TID ORANGE  ","SR1A2LL/A","Stocked","Orange","M4 chip with 10‑core CPU, 10‑core GPU","16GB","256GB SSD","Gigabit","Magic Keyboard with Touch ID","None",{"$f":"_xlfn.XLOOKUP(Table14[[#This Row],[TDS SKU]],Sheet2!$B:$B,Sheet2!C:C)","v":"B"},{"$f":"_xlfn.XLOOKUP(Table14[[#This Row],[TDS SKU]],Sheet2!$B:$B,Sheet2!D:D)","v":"A"},{"$f":"_xlfn.XLOOKUP(Table14[[#This Row],[TDS SKU]],Sheet2!$B:$B,Sheet2!E:E)","v":"IMAC"},{"$f":"LEFT(Table14[[#This Row],[Apple Part ]],4)","v":"MWV8"}]
["Z1E2","14309742",1379,"CTO IMAC M4 8CPU 8GPU 16GB 256GB TID NK SILVER  ","SR1A2LL/A","Special Order","Silver","M4 chip with 8‑core CPU, 8‑core GPU","16GB","256GB SSD","None","Magic Keyboard with Touch ID and Numeric Keypad","None",{"$f":"_xlfn.XLOOKUP(Table14[[#This Row],[TDS SKU]],Sheet2!$B:$B,Sheet2!C:C)","v":"B"},{"$f":"_xlfn.XLOOKUP(Table14[[#This Row],[TDS SKU]],Sheet2!$B:$B,Sheet2!D:D)","v":"A"},{"$f":"_xlfn.XLOOKUP(Table14[[#This Row],[TDS SKU]],Sheet2!$B:$B,Sheet2!E:E)","v":"CTO BO"},{"$f":"LEFT(Table14[[#This Row],[Apple Part ]],4)","v":"Z1E2"}]
["Z1E2","14309740",1499,"CTO IMAC M4 8CPU 8GPU 24GB 256GB  SILVER  ","SR1A2LL/A","Special Order","Silver","M4 chip with 8‑core CPU, 8‑core GPU","24GB","256GB SSD","None","Magic Keyboard","None",{"$f":"_xlfn.XLOOKUP(Table14[[#This Row],[TDS SKU]],Sheet2!$B:$B,Sheet2!C:C)","v":"B"},{"$f":"_xlfn.XLOOKUP(Table14[[#This Row],[TDS SKU]],Sheet2!$B:$B,Sheet2!D:D)","v":"A"},{"$f":"_xlfn.XLOOKUP(Table14[[#This Row],[TDS SKU]],Sheet2!$B:$B,Sheet2!E:E)","v":"CTO BO"},{"$f":"LEFT(Table14[[#This Row],[Apple Part ]],4)","v":"Z1E2"}]
["Z1E2","14309765",1729,"CTO IMAC M4 8CPU 8GPU 16GB 1TB  SILVER GIG ETH ","SR1A2LL/A","Special Order","Silver","M4 chip with 8‑core CPU, 8‑core GPU","16GB","1TB SSD","Gigabit","Magic Keyboard","None",{"$f":"_xlfn.XLOOKUP(Table14[[#This Row],[TDS SKU]],Sheet2!$B:$B,Sheet2!C:C)","v":"B"},{"$f":"_xlfn.XLOOKUP(Table14[[#This Row],[TDS SKU]],Sheet2!$B:$B,Sheet2!D:D)","v":"A"},{"$f":"_xlfn.XLOOKUP(Table14[[#This Row],[TDS SKU]],Sheet2!$B:$B,Sheet2!E:E)","v":"CTO BO"},{"$f":"LEFT(Table14[[#This Row],[Apple Part ]],4)","v":"Z1E2"}]
["Z1E2","14309748",1699,"CTO IMAC M4 8CPU 8GPU 24GB 512GB  SILVER  ","SR1A2LL/A","Special Order","Silver","M4 chip with 8‑core CPU, 8‑core GPU","24GB","512GB SSD","None","Magic Keyboard","None",{"$f":"_xlfn.XLOOKUP(Table14[[#This Row],[TDS SKU]],Sheet2!$B:$B,Sheet2!C:C)","v":"B"},{"$f":"_xlfn.XLOOKUP(Table14[[#This Row],[TDS SKU]],Sheet2!$B:$B,Sheet2!D:D)","v":"A"},{"$f":"_xlfn.XLOOKUP(Table14[[#This Row],[TDS SKU]],Sheet2!$B:$B,Sheet2!E:E)","v":"CTO BO"},{"$f":"LEFT(Table14[[#This Row],[Apple Part ]],4)","v":"Z1E2"}]
["Z1E2","14309766",1899,"CTO IMAC M4 8CPU 8GPU 24GB 1TB  SILVER  ","SR1A2LL/A","Special Order","Silver","M4 chip with 8‑core CPU, 8‑core GPU","24GB","1TB SSD","None","Magic Keyboard","None",{"$f":"_xlfn.XLOOKUP(Table14[[#This Row],[TDS SKU]],Sheet2!$B:$B,Sheet2!C:C)","v":"B"},{"$f":"_xlfn.XLOOKUP(Table14[[#This Row],[TDS SKU]],Sheet2!$B:$B,Sheet2!D:D)","v":"A"},{"$f":"_xlfn.XLOOKUP(Table14[[#This Row],[TDS SKU]],Sheet2!$B:$B,Sheet2!E:E)","v":"CTO BO"},{"$f":"LEFT(Table14[[#This Row],[Apple Part ]],4)","v":"Z1E2"}]
["Z1E2","14309741",1529,"CTO IMAC M4 8CPU 8GPU 24GB 256GB  SILVER GIG ETH ","SR1A2LL/A","Special Order","Silver","M4 chip with 8‑core CPU, 8‑core GPU","24GB","256GB SSD","Gigabit","Magic Keyboard","None",{"$f":"_xlfn.XLOOKUP(Table14[[#This Row],[TDS SKU]],Sheet2!$B:$B,Sheet2!C:C)","v":"B"},{"$f":"_xlfn.XLOOKUP(Table14[[#This Row],[TDS SKU]],Sheet2!$B:$B,Sheet2!D:D)","v":"A"},{"$f":"_xlfn.XLOOKUP(Table14[[#This Row],[TDS SKU]],Sheet2!$B:$B,Sheet2!E:E)","v":"CTO BO"},{"$f":"LEFT(Table14[[#This Row],[Apple Part ]],4)","v":"Z1E2"}]
["Z1E2","14309759",1729,"CTO IMAC M4 8CPU 8GPU 24GB 512GB  SILVER GIG ETH ","SR1A2LL/A","Special Order","Silver","M4 chip with 8‑core CPU, 8‑core GPU","24GB","512GB SSD","Gigabit","Magic Keyboard","None",{"$f":"_xlfn.XLOOKUP(Table14[[#This Row],[TDS SKU]],Sheet2!$B:$B,Sheet2!C:C)","v":"B"},{"$f":"_xlfn.XLOOKUP(Table14[[#This Row],[TDS SKU]],Sheet2!$B:$B,Sheet2!D:D)","v":"A"},{"$f":"_xlfn.XLOOKUP(Table14[[#This Row],[TDS SKU]],Sheet2!$B:$B,Sheet2!E:E)","v":"CTO BO"},{"$f":"LEFT(Table14[[#This Row],[Apple Part ]],4)","v":"Z1E2"}]
["Z1E2","14309767",1929,"CTO IMAC M4 8CPU 8GPU 24GB 1TB  SILVER GIG ETH ","SR1A2LL/A","Special Order","Silver","M4 chip with 8‑core CPU, 8‑core GPU","24GB","1TB SSD","Gigabit","Magic Keyboard","None",{"$f":"_xlfn.XLOOKUP(Table14[[#This Row],[TDS SKU]],Sheet2!$B:$B,Sheet2!C:C)","v":"B"},{"$f":"_xlfn.XLOOKUP(Table14[[#This Row],[TDS SKU]],Sheet2!$B:$B,Sheet2!D:D)","v":"A"},{"$f":"_xlfn.XLOOKUP(Table14[[#This Row],[TDS SKU]],Sheet2!$B:$B,Sheet2!E:E)","v":"CTO BO"},{"$f":"LEFT(Table14[[#This Row],[Apple Part ]],4)","v":"Z1E2"}]
["Z1E2","14309760",1579,"CTO IMAC M4 8CPU 8GPU 16GB 512GB TID NK SILVER  ","SR1A2LL/A","Special Order","Silver","M4 chip with 8‑core CPU, 8‑core GPU","16GB","512GB SSD","None","Magic Keyboard with Touch ID and Numeric Keypad","None",{"$f":"_xlfn.XLOOKUP(Table14[[#This Row],[TDS SKU]],Sheet2!$B:$B,Sheet2!C:C)","v":"B"},{"$f":"_xlfn.XLOOKUP(Table14[[#This Row],[TDS SKU]],Sheet2!$B:$B,Sheet2!D:D)","v":"A"},{"$f":"_xlfn.XLOOKUP(Table14[[#This Row],[TDS SKU]],Sheet2!$B:$B,Sheet2!E:E)","v":"CTO BO"},{"$f":"LEFT(Table14[[#This Row],[Apple Part ]],4)","v":"Z1E2"}]
["Z1E2","14309761",1609,"CTO IMAC M4 8CPU 8GPU 16GB 512GB TID NK SILVER GIG ETH ","SR1A2LL/A","Special Order","Silver","M4 chip with 8‑core CPU, 8‑core GPU","16GB","512GB SSD","Gigabit","Magic Keyboard with Touch ID and Numeric Keypad","None",{"$f":"_xlfn.XLOOKUP(Table14[[#This Row],[TDS SKU]],Sheet2!$B:$B,Sheet2!C:C)","v":"B"},{"$f":"_xlfn.XLOOKUP(Table14[[#This Row],[TDS SKU]],Sheet2!$B:$B,Sheet2!D:D)","v":"A"},{"$f":"_xlfn.XLOOKUP(Table14[[#This Row],[TDS SKU]],Sheet2!$B:$B,Sheet2!E:E)","v":"CTO BO"},{"$f":"LEFT(Table14[[#This Row],[Apple Part ]],4)","v":"Z1E2"}]
["Z1E2","14309743",1409,"CTO IMAC M4 8CPU 8GPU 16GB 256GB TID NK SILVER GIG ETH ","SR1A2LL/A","Special Order","Silver","M4 chip with 8‑core CPU, 8‑core GPU","16GB","256GB SSD","Gigabit","Magic Keyboard with Touch ID and Numeric Keypad","None",{"$f":"_xlfn.XLOOKUP(Table14[[#This Row],[TDS SKU]],Sheet2!$B:$B,Sheet2!C:C)","v":"B"},{"$f":"_xlfn.XLOOKUP(Table14[[#This Row],[TDS SKU]],Sheet2!$B:$B,Sheet2!D:D)","v":"A"},{"$f":"_xlfn.XLOOKUP(Table14[[#This Row],[TDS SKU]],Sheet2!$B:$B,Sheet2!E:E)","v":"CTO BO"},{"$f":"LEFT(Table14[[#This Row],[Apple Part ]],4)","v":"Z1E2"}]
["Z1E2","14309744",1579,"CTO IMAC M4 8CPU 8GPU 24GB 256GB TID NK SILVER  ","SR1A2LL/A","Special Order","Silver","M4 chip with 8‑core CPU, 8‑core GPU","24GB","256GB SSD","None","Magic Keyboard with Touch ID and Numeric Keypad","None",{"$f":"_xlfn.XLOOKUP(Table14[[#This Row],[TDS SKU]],Sheet2!$B:$B,Sheet2!C:C)","v":"B"},{"$f":"_xlfn.XLOOKUP(Table14[[#This Row],[TDS SKU]],Sheet2!$B:$B,Sheet2!D:D)","v":"A"},{"$f":"_xlfn.XLOOKUP(Table14[[#This Row],[TDS SKU]],Sheet2!$B:$B,Sheet2!E:E)","v":"CTO BO"},{"$f":"LEFT(Table14[[#This Row],[Apple Part ]],4)","v":"Z1E2"}]
["Z1E2","14309745",1609,"CTO IMAC M4 8CPU 8GPU 24GB 256GB TID NK SILVER GIG ETH ","SR1A2LL/A","Special Order","Silver","M4 chip with 8‑core CPU, 8‑core GPU","24GB","256GB SSD","Gigabit","Magic Keyboard with Touch ID and Numeric Keypad","None",{"$f":"_xlfn.XLOOKUP(Table14[[#This Row],[TDS SKU]],Sheet2!$B:$B,Sheet2!C:C)","v":"B"},{"$f":"_xlfn.XLOOKUP(Table14[[#This Row],[TDS SKU]],Sheet2!$B:$B,Sheet2!D:D)","v":"A"},{"$f":"_xlfn.XLOOKUP(Table14[[#This Row],[TDS SKU]],Sheet2!$B:$B,Sheet2!E:E)","v":"CTO BO"},{"$f":"LEFT(Table14[[#This Row],[Apple Part ]],4)","v":"Z1E2"}]
["Z1E2","14309762",1779,"CTO IMAC M4 8CPU 8GPU 24GB 512GB TID NK SILVER  ","SR1A2LL/A","Special Order","Silver","M4 chip with 8‑core CPU, 8‑core GPU","24GB","512GB SSD","None","Magic Keyboard with Touch ID and Numeric Keypad","None",{"$f":"_xlfn.XLOOKUP(Table14[[#This Row],[TDS SKU]],Sheet2!$B:$B,Sheet2!C:C)","v":"B"},{"$f":"_xlfn.XLOOKUP(Table14[[#This Row],[TDS SKU]],Sheet2!$B:$B,Sheet2!D:D)","v":"A"},{"$f":"_xlfn.XLOOKUP(Table14[[#This Row],[TDS SKU]],Sheet2!$B:$B,Sheet2!E:E)","v":"CTO BO"},{"$f":"LEFT(Table14[[#This Row],[Apple Part ]],4)","v":"Z1E2"}]
["Z1E2","14309763",1809,"CTO IMAC M4 8CPU 8GPU 24GB 512GB TID NK SILVER GIG ETH ","SR1A2LL/A","Special Order","Silver","M4 chip with 8‑core CPU, 8‑core GPU","24GB","512GB SSD","Gigabit","Magic Keyboard with Touch ID and Numeric Keypad","None",{"$f":"_xlfn.XLOOKUP(Table14[[#This Row],[TDS SKU]],Sheet2!$B:$B,Sheet2!C:C)","v":"B"},{"$f":"_xlfn.XLOOKUP(Table14[[#This Row],[TDS SKU]],Sheet2!$B:$B,Sheet2!D:D)","v":"A"},{"$f":"_xlfn.XLOOKUP(Table14[[#This Row],[TDS SKU]],Sheet2!$B:$B,Sheet2!E:E)","v":"CTO BO"},{"$f":"LEFT(Table14[[#This Row],[Apple Part ]],4)","v":"Z1E2"}]
["Z1E2","14309768",1779,"CTO IMAC M4 8CPU 8GPU 16GB 1TB TID NK SILVER  ","SR1A2LL/A","Special Order","Silver","M4 chip with 8‑core CPU, 8‑core GPU","16GB","1TB SSD","None","Magic Keyboard with Touch ID and Numeric Keypad","None",{"$f":"_xlfn.XLOOKUP(Table14[[#This Row],[TDS SKU]],Sheet2!$B:$B,Sheet2!C:C)","v":"B"},{"$f":"_xlfn.XLOOKUP(Table14[[#This Row],[TDS SKU]],Sheet2!$B:$B,Sheet2!D:D)","v":"A"},{"$f":"_xlfn.XLOOKUP(Table14[[#This Row],[TDS SKU]],Sheet2!$B:$B,Sheet2!E:E)","v":"CTO BO"},{"$f":"LEFT(Table14[[#This Row],[Apple Part ]],4)","v":"Z1E2"}]
["Z1E2","14309769",1809,"CTO IMAC M4 8CPU 8GPU 16GB 1TB TID NK SILVER GIG ETH ","SR1A2LL/A","Special Order","Silver","M4 chip with 8‑core CPU, 8‑core GPU","16GB","1TB SSD","Gigabit","Magic Keyboard with Touch ID and Numeric Keypad","None",{"$f":"_xlfn.XLOOKUP(Table14[[#This Row],[TDS SKU]],Sheet2!$B:$B,Sheet2!C:C)","v":"B"},{"$f":"_xlfn.XLOOKUP(Table14[[#This Row],[TDS SKU]],Sheet2!$B:$B,Sheet2!D:D)","v":"A"},{"$f":"_xlfn.XLOOKUP(Table14[[#This Row],[TDS SKU]],Sheet2!$B:$B,Sheet2!E:E)","v":"CTO BO"},{"$f":"LEFT(Table14[[#This Row],[Apple Part ]],4)","v":"Z1E2"}]
["Z1E2","14309770",1979,"CTO IMAC M4 8CPU 8GPU 24GB 1TB TID NK SILVER  ","SR1A2LL/A","Special Order","Silver","M4 chip with 8‑core CPU, 8‑core GPU","24GB","1TB SSD","None","Magic Keyboard with Touch ID and Numeric Keypad","None",{"$f":"_xlfn.XLOOKUP(Table14[[#This Row],[TDS SKU]],Sheet2!$B:$B,Sheet2!C:C)","v":"B"},{"$f":"_xlfn.XLOOKUP(Table14[[#This Row],[TDS SKU]],Sheet2!$B:$B,Sheet2!D:D)","v":"A"},{"$f":"_xlfn.XLOOKUP(Table14[[#This Row],[TDS SKU]],Sheet2!$B:$B,Sheet2!E:E)","v":"CTO BO"},{"$f":"LEFT(Table14[[#This Row],[Apple Part ]],4)","v":"Z1E2"}]
["Z1E2","14309771",2009,"CTO IMAC M4 8CPU 8GPU 24GB 1TB TID NK SILVER GIG ETH ","SR1A2LL/A","Special Order","Silver","M4 chip with 8‑core CPU, 8‑core GPU","24GB","1TB SSD","Gigabit","Magic Keyboard with Touch ID and Numeric Keypad","None",{"$f":"_xlfn.XLOOKUP(Table14[[#This Row],[TDS SKU]],Sheet2!$B:$B,Sheet2!C:C)","v":"B"},{"$f":"_xlfn.XLOOKUP(Table14[[#This Row],[TDS SKU]],Sheet2!$B:$B,Sheet2!D:D)","v":"A"},{"$f":"_xlfn.XLOOKUP(Table14[[#This Row],[TDS SKU]],Sheet2!$B:$B,Sheet2!E:E)","v":"CTO BO"},{"$f":"LEFT(Table14[[#This Row],[Apple Part ]],4)","v":"Z1E2"}]
["Z1E2","15132606",1329,"CTO IMAC M4 8CPU 8GPU 16GB 256GB  SILVER GIG ETH ","SR1A2LL/A","Special Order","Silver","M4 chip with 8‑core CPU, 8‑core GPU","16GB","256GB SSD","Gigabit","Magic Keyboard","None",{"$f":"_xlfn.XLOOKUP(Table14[[#This Row],[TDS SKU]],Sheet2!$B:$B,Sheet2!C:C)","v":"B"},{"$f":"_xlfn.XLOOKUP(Table14[[#This Row],[TDS SKU]],Sheet2!$B:$B,Sheet2!D:D)","v":"A"},{"$f":"_xlfn.XLOOKUP(Table14[[#This Row],[TDS SKU]],Sheet2!$B:$B,Sheet2!E:E)","v":"ZPN BO"},{"$f":"LEFT(Table14[[#This Row],[Apple Part ]],4)","v":"Z1E2"}]
["Z1E2","15132605",1499,"CTO IMAC M4 8CPU 8GPU 16GB 512GB  SILVER  ","SR1A2LL/A","Special Order","Silver","M4 chip with 8‑core CPU, 8‑core GPU","16GB","512GB SSD","None","Magic Keyboard","None",{"$f":"_xlfn.XLOOKUP(Table14[[#This Row],[TDS SKU]],Sheet2!$B:$B,Sheet2!C:C)","v":"B"},{"$f":"_xlfn.XLOOKUP(Table14[[#This Row],[TDS SKU]],Sheet2!$B:$B,Sheet2!D:D)","v":"A"},{"$f":"_xlfn.XLOOKUP(Table14[[#This Row],[TDS SKU]],Sheet2!$B:$B,Sheet2!E:E)","v":"ZPN BO"},{"$f":"LEFT(Table14[[#This Row],[Apple Part ]],4)","v":"Z1E2"}]
["Z1E2","15132608",1699,"CTO IMAC M4 8CPU 8GPU 16GB 1TB  SILVER  ","SR1A2LL/A","Special Order","Silver","M4 chip with 8‑core CPU, 8‑core GPU","16GB","1TB SSD","None","Magic Keyboard","None",{"$f":"_xlfn.XLOOKUP(Table14[[#This Row],[TDS SKU]],Sheet2!$B:$B,Sheet2!C:C)","v":"B"},{"$f":"_xlfn.XLOOKUP(Table14[[#This Row],[TDS SKU]],Sheet2!$B:$B,Sheet2!D:D)","v":"A"},{"$f":"_xlfn.XLOOKUP(Table14[[#This Row],[TDS SKU]],Sheet2!$B:$B,Sheet2!E:E)","v":"ZPN BO"},{"$f":"LEFT(Table14[[#This Row],[Apple Part ]],4)","v":"Z1E2"}]
["Z1E2","15132609",1529,"CTO IMAC M4 8CPU 8GPU 16GB 512GB  SILVER GIG ETH ","SR1A2LL/A","Special Order","Silver","M4 chip with 8‑core CPU, 8‑core GPU","16GB","512GB SSD","Gigabit","Magic Keyboard","None",{"$f":"_xlfn.XLOOKUP(Table14[[#This Row],[TDS SKU]],Sheet2!$B:$B,Sheet2!C:C)","v":"B"},{"$f":"_xlfn.XLOOKUP(Table14[[#This Row],[TDS SKU]],Sheet2!$B:$B,Sheet2!D:D)","v":"A"},{"$f":"_xlfn.XLOOKUP(Table14[[#This Row],[TDS SKU]],Sheet2!$B:$B,Sheet2!E:E)","v":"ZPN BO"},{"$f":"LEFT(Table14[[#This Row],[Apple Part ]],4)","v":"Z1E2"}]
["Z1E3","14316802",1299,"CTO IMAC M4 8CPU 8GPU 16GB 256GB  YELLOW  ","SR1A2LL/A","Special Order","Yellow","M4 chip with 8‑core CPU, 8‑core GPU","16GB","256GB SSD","None","Magic Keyboard","None",{"$f":"_xlfn.XLOOKUP(Table14[[#This Row],[TDS SKU]],Sheet2!$B:$B,Sheet2!C:C)","v":"B"},{"$f":"_xlfn.XLOOKUP(Table14[[#This Row],[TDS SKU]],Sheet2!$B:$B,Sheet2!D:D)","v":"A"},{"$f":"_xlfn.XLOOKUP(Table14[[#This Row],[TDS SKU]],Sheet2!$B:$B,Sheet2!E:E)","v":"CTO BO"},{"$f":"LEFT(Table14[[#This Row],[Apple Part ]],4)","v":"Z1E3"}]
["Z1E3","14316820",1499,"CTO IMAC M4 8CPU 8GPU 16GB 512GB  YELLOW  ","SR1A2LL/A","Special Order","Yellow","M4 chip with 8‑core CPU, 8‑core GPU","16GB","512GB SSD","None","Magic Keyboard","None",{"$f":"_xlfn.XLOOKUP(Table14[[#This Row],[TDS SKU]],Sheet2!$B:$B,Sheet2!C:C)","v":"B"},{"$f":"_xlfn.XLOOKUP(Table14[[#This Row],[TDS SKU]],Sheet2!$B:$B,Sheet2!D:D)","v":"A"},{"$f":"_xlfn.XLOOKUP(Table14[[#This Row],[TDS SKU]],Sheet2!$B:$B,Sheet2!E:E)","v":"CTO BO"},{"$f":"LEFT(Table14[[#This Row],[Apple Part ]],4)","v":"Z1E3"}]
["Z1E3","14316828",1699,"CTO IMAC M4 8CPU 8GPU 16GB 1TB  YELLOW  ","SR1A2LL/A","Special Order","Yellow","M4 chip with 8‑core CPU, 8‑core GPU","16GB","1TB SSD","None","Magic Keyboard","None",{"$f":"_xlfn.XLOOKUP(Table14[[#This Row],[TDS SKU]],Sheet2!$B:$B,Sheet2!C:C)","v":"B"},{"$f":"_xlfn.XLOOKUP(Table14[[#This Row],[TDS SKU]],Sheet2!$B:$B,Sheet2!D:D)","v":"A"},{"$f":"_xlfn.XLOOKUP(Table14[[#This Row],[TDS SKU]],Sheet2!$B:$B,Sheet2!E:E)","v":"CTO BO"},{"$f":"LEFT(Table14[[#This Row],[Apple Part ]],4)","v":"Z1E3"}]
["Z1E3","14316816",1379,"CTO IMAC M4 8CPU 8GPU 16GB 256GB TID NK YELLOW  ","SR1A2LL/A","Special Order","Yellow","M4 chip with 8‑core CPU, 8‑core GPU","16GB","256GB SSD","None","Magic Keyboard with Touch ID and Numeric Keypad","None",{"$f":"_xlfn.XLOOKUP(Table14[[#This Row],[TDS SKU]],Sheet2!$B:$B,Sheet2!C:C)","v":"B"},{"$f":"_xlfn.XLOOKUP(Table14[[#This Row],[TDS SKU]],Sheet2!$B:$B,Sheet2!D:D)","v":"A"},{"$f":"_xlfn.XLOOKUP(Table14[[#This Row],[TDS SKU]],Sheet2!$B:$B,Sheet2!E:E)","v":"CTO BO"},{"$f":"LEFT(Table14[[#This Row],[Apple Part ]],4)","v":"Z1E3"}]
["Z1E3","14316814",1499,"CTO IMAC M4 8CPU 8GPU 24GB 256GB  YELLOW  ","SR1A2LL/A","Special Order","Yellow","M4 chip with 8‑core CPU, 8‑core GPU","24GB","256GB SSD","None","Magic Keyboard","None",{"$f":"_xlfn.XLOOKUP(Table14[[#This Row],[TDS SKU]],Sheet2!$B:$B,Sheet2!C:C)","v":"B"},{"$f":"_xlfn.XLOOKUP(Table14[[#This Row],[TDS SKU]],Sheet2!$B:$B,Sheet2!D:D)","v":"A"},{"$f":"_xlfn.XLOOKUP(Table14[[#This Row],[TDS SKU]],Sheet2!$B:$B,Sheet2!E:E)","v":"CTO BO"},{"$f":"LEFT(Table14[[#This Row],[Apple Part ]],4)","v":"Z1E3"}]
["Z1E3","14316813",1329,"CTO IMAC M4 8CPU 8GPU 16GB 256GB  YELLOW GIG ETH ","SR1A2LL/A","Special Order","Yellow","M4 chip with 8‑core CPU, 8‑core GPU","16GB","256GB SSD","Gigabit","Magic Keyboard","None",{"$f":"_xlfn.XLOOKUP(Table14[[#This Row],[TDS SKU]],Sheet2!$B:$B,Sheet2!C:C)","v":"B"},{"$f":"_xlfn.XLOOKUP(Table14[[#This Row],[TDS SKU]],Sheet2!$B:$B,Sheet2!D:D)","v":"A"},{"$f":"_xlfn.XLOOKUP(Table14[[#This Row],[TDS SKU]],Sheet2!$B:$B,Sheet2!E:E)","v":"CTO BO"},{"$f":"LEFT(Table14[[#This Row],[Apple Part ]],4)","v":"Z1E3"}]
["Z1E3","14316822",1699,"CTO IMAC M4 8CPU 8GPU 24GB 512GB  YELLOW  ","SR1A2LL/A","Special Order","Yellow","M4 chip with 8‑core CPU, 8‑core GPU","24GB","512GB SSD","None","Magic Keyboard","None",{"$f":"_xlfn.XLOOKUP(Table14[[#This Row],[TDS SKU]],Sheet2!$B:$B,Sheet2!C:C)","v":"B"},{"$f":"_xlfn.XLOOKUP(Table14[[#This Row],[TDS SKU]],Sheet2!$B:$B,Sheet2!D:D)","v":"A"},{"$f":"_xlfn.XLOOKUP(Table14[[#This Row],[TDS SKU]],Sheet2!$B:$B,Sheet2!E:E)","v":"CTO BO"},{"$f":"LEFT(Table14[[#This Row],[Apple Part ]],4)","v":"Z1E3"}]
["Z1E3","14316830",1899,"CTO IMAC M4 8CPU 8GPU 24GB 1TB  YELLOW  ","SR1A2LL/A","Special Order","Yellow","M4 chip with 8‑core CPU, 8‑core GPU","24GB","1TB SSD","None","Magic Keyboard","None",{"$f":"_xlfn.XLOOKUP(Table14[[#This Row],[TDS SKU]],Sheet2!$B:$B,Sheet2!C:C)","v":"B"},{"$f":"_xlfn.XLOOKUP(Table14[[#This Row],[TDS SKU]],Sheet2!$B:$B,Sheet2!D:D)","v":"A"},{"$f":"_xlfn.XLOOKUP(Table14[[#This Row],[TDS SKU]],Sheet2!$B:$B,Sheet2!E:E)","v":"CTO BO"},{"$f":"LEFT(Table14[[#This Row],[Apple Part ]],4)","v":"Z1E3"}]
["Z1E3","14316815",1529,"CTO IMAC M4 8CPU 8GPU 24GB 256GB  YELLOW GIG ETH ","SR1A2LL/A","Special Order","Yellow","M4 chip with 8‑core CPU, 8‑core GPU","24GB","256GB SSD","Gigabit","Magic Keyboard","None",{"$f":"_xlfn.XLOOKUP(Table14[[#This Row],[TDS SKU]],Sheet2!$B:$B,Sheet2!C:C)","v":"B"},{"$f":"_xlfn.XLOOKUP(Table14[[#This Row],[TDS SKU]],Sheet2!$B:$B,Sheet2!D:D)","v":"A"},{"$f":"_xlfn.XLOOKUP(Table14[[#This Row],[TDS SKU]],Sheet2!$B:$B,Sheet2!E:E)","v":"CTO BO"},{"$f":"LEFT(Table14[[#This Row],[Apple Part ]],4)","v":"Z1E3"}]
["Z1E3","14316821",1529,"CTO IMAC M4 8CPU 8GPU 16GB 512GB  YELLOW GIG ETH ","SR1A2LL/A","Special Order","Yellow","M4 chip with 8‑core CPU, 8‑core GPU","16GB","512GB SSD","Gigabit","Magic Keyboard","None",{"$f":"_xlfn.XLOOKUP(Table14[[#This Row],[TDS SKU]],Sheet2!$B:$B,Sheet2!C:C)","v":"B"},{"$f":"_xlfn.XLOOKUP(Table14[[#This Row],[TDS SKU]],Sheet2!$B:$B,Sheet2!D:D)","v":"A"},{"$f":"_xlfn.XLOOKUP(Table14[[#This Row],[TDS SKU]],Sheet2!$B:$B,Sheet2!E:E)","v":"CTO BO"},{"$f":"LEFT(Table14[[#This Row],[Apple Part ]],4)","v":"Z1E3"}]
["Z1E3","14316823",1729,"CTO IMAC M4 8CPU 8GPU 24GB 512GB  YELLOW GIG ETH ","SR1A2LL/A","Special Order","Yellow","M4 chip with 8‑core CPU, 8‑core GPU","24GB","512GB SSD","Gigabit","Magic Keyboard","None",{"$f":"_xlfn.XLOOKUP(Table14[[#This Row],[TDS SKU]],Sheet2!$B:$B,Sheet2!C:C)","v":"B"},{"$f":"_xlfn.XLOOKUP(Table14[[#This Row],[TDS SKU]],Sheet2!$B:$B,Sheet2!D:D)","v":"A"},{"$f":"_xlfn.XLOOKUP(Table14[[#This Row],[TDS SKU]],Sheet2!$B:$B,Sheet2!E:E)","v":"CTO BO"},{"$f":"LEFT(Table14[[#This Row],[Apple Part ]],4)","v":"Z1E3"}]
["Z1E3","14316829",1729,"CTO IMAC M4 8CPU 8GPU 16GB 1TB  YELLOW GIG ETH ","SR1A2LL/A","Special Order","Yellow","M4 chip with 8‑core CPU, 8‑core GPU","16GB","1TB SSD","Gigabit","Magic Keyboard","None",{"$f":"_xlfn.XLOOKUP(Table14[[#This Row],[TDS SKU]],Sheet2!$B:$B,Sheet2!C:C)","v":"B"},{"$f":"_xlfn.XLOOKUP(Table14[[#This Row],[TDS SKU]],Sheet2!$B:$B,Sheet2!D:D)","v":"A"},{"$f":"_xlfn.XLOOKUP(Table14[[#This Row],[TDS SKU]],Sheet2!$B:$B,Sheet2!E:E)","v":"CTO BO"},{"$f":"LEFT(Table14[[#This Row],[Apple Part ]],4)","v":"Z1E3"}]
["Z1E3","14316831",1929,"CTO IMAC M4 8CPU 8GPU 24GB 1TB  YELLOW GIG ETH ","SR1A2LL/A","Special Order","Yellow","M4 chip with 8‑core CPU, 8‑core GPU","24GB","1TB SSD","Gigabit","Magic Keyboard","None",{"$f":"_xlfn.XLOOKUP(Table14[[#This Row],[TDS SKU]],Sheet2!$B:$B,Sheet2!C:C)","v":"B"},{"$f":"_xlfn.XLOOKUP(Table14[[#This Row],[TDS SKU]],Sheet2!$B:$B,Sheet2!D:D)","v":"A"},{"$f":"_xlfn.XLOOKUP(Table14[[#This Row],[TDS SKU]],Sheet2!$B:$B,Sheet2!E:E)","v":"CTO BO"},{"$f":"LEFT(Table14[[#This Row],[Apple Part ]],4)","v":"Z1E3"}]
["Z1E3","14316783",1809,"CTO IMAC M4 8CPU 8GPU 16GB 1TB TID NK YELLOW GIG ETH ","SR1A2LL/A","Special Order","Yellow","M4 chip with 8‑core CPU, 8‑core GPU","16GB","1TB SSD","Gigabit","Magic Keyboard with Touch ID and Numeric Keypad","None",{"$f":"_xlfn.XLOOKUP(Table14[[#This Row],[TDS SKU]],Sheet2!$B:$B,Sheet2!C:C)","v":"B"},{"$f":"_xlfn.XLOOKUP(Table14[[#This Row],[TDS SKU]],Sheet2!$B:$B,Sheet2!D:D)","v":"A"},{"$f":"_xlfn.XLOOKUP(Table14[[#This Row],[TDS SKU]],Sheet2!$B:$B,Sheet2!E:E)","v":"CTO BO"},{"$f":"LEFT(Table14[[#This Row],[Apple Part ]],4)","v":"Z1E3"}]
["Z1E3","14316817",1409,"CTO IMAC M4 8CPU 8GPU 16GB 256GB TID NK YELLOW GIG ETH ","SR1A2LL/A","Special Order","Yellow","M4 chip with 8‑core CPU, 8‑core GPU","16GB","256GB SSD","Gigabit","Magic Keyboard with Touch ID and Numeric Keypad","None",{"$f":"_xlfn.XLOOKUP(Table14[[#This Row],[TDS SKU]],Sheet2!$B:$B,Sheet2!C:C)","v":"B"},{"$f":"_xlfn.XLOOKUP(Table14[[#This Row],[TDS SKU]],Sheet2!$B:$B,Sheet2!D:D)","v":"A"},{"$f":"_xlfn.XLOOKUP(Table14[[#This Row],[TDS SKU]],Sheet2!$B:$B,Sheet2!E:E)","v":"CTO BO"},{"$f":"LEFT(Table14[[#This Row],[Apple Part ]],4)","v":"Z1E3"}]
["Z1E3","14316818",1579,"CTO IMAC M4 8CPU 8GPU 24GB 256GB TID NK YELLOW  ","SR1A2LL/A","Special Order","Yellow","M4 chip with 8‑core CPU, 8‑core GPU","24GB","256GB SSD","None","Magic Keyboard with Touch ID and Numeric Keypad","None",{"$f":"_xlfn.XLOOKUP(Table14[[#This Row],[TDS SKU]],Sheet2!$B:$B,Sheet2!C:C)","v":"B"},{"$f":"_xlfn.XLOOKUP(Table14[[#This Row],[TDS SKU]],Sheet2!$B:$B,Sheet2!D:D)","v":"A"},{"$f":"_xlfn.XLOOKUP(Table14[[#This Row],[TDS SKU]],Sheet2!$B:$B,Sheet2!E:E)","v":"CTO BO"},{"$f":"LEFT(Table14[[#This Row],[Apple Part ]],4)","v":"Z1E3"}]
["Z1E3","14316819",1609,"CTO IMAC M4 8CPU 8GPU 24GB 256GB TID NK YELLOW GIG ETH ","SR1A2LL/A","Special Order","Yellow","M4 chip with 8‑core CPU, 8‑core GPU","24GB","256GB SSD","Gigabit","Magic Keyboard with Touch ID and Numeric Keypad","None",{"$f":"_xlfn.XLOOKUP(Table14[[#This Row],[TDS SKU]],Sheet2!$B:$B,Sheet2!C:C)","v":"B"},{"$f":"_xlfn.XLOOKUP(Table14[[#This Row],[TDS SKU]],Sheet2!$B:$B,Sheet2!D:D)","v":"A"},{"$f":"_xlfn.XLOOKUP(Table14[[#This Row],[TDS SKU]],Sheet2!$B:$B,Sheet2!E:E)","v":"CTO BO"},{"$f":"LEFT(Table14[[#This Row],[Apple Part ]],4)","v":"Z1E3"}]
["Z1E3","14316824",1579,"CTO IMAC M4 8CPU 8GPU 16GB 512GB TID NK YELLOW  ","SR1A2LL/A","Special Order","Yellow","M4 chip with 8‑core CPU, 8‑core GPU","16GB","512GB SSD","None","Magic Keyboard with Touch ID and Numeric Keypad","None",{"$f":"_xlfn.XLOOKUP(Table14[[#This Row],[TDS SKU]],Sheet2!$B:$B,Sheet2!C:C)","v":"B"},{"$f":"_xlfn.XLOOKUP(Table14[[#This Row],[TDS SKU]],Sheet2!$B:$B,Sheet2!D:D)","v":"A"},{"$f":"_xlfn.XLOOKUP(Table14[[#This Row],[TDS SKU]],Sheet2!$B:$B,Sheet2!E:E)","v":"CTO BO"},{"$f":"LEFT(Table14[[#This Row],[Apple Part ]],4)","v":"Z1E3"}]
["Z1E3","14316825",1609,"CTO IMAC M4 8CPU 8GPU 16GB 512GB TID NK YELLOW GIG ETH ","SR1A2LL/A","Special Order","Yellow","M4 chip with 8‑core CPU, 8‑core GPU","16GB","512GB SSD","Gigabit","Magic Keyboard with Touch ID and Numeric Keypad","None",{"$f":"_xlfn.XLOOKUP(Table14[[#This Row],[TDS SKU]],Sheet2!$B:$B,Sheet2!C:C)","v":"B"},{"$f":"_xlfn.XLOOKUP(Table14[[#This Row],[TDS SKU]],Sheet2!$B:$B,Sheet2!D:D)","v":"A"},{"$f":"_xlfn.XLOOKUP(Table14[[#This Row],[TDS SKU]],Sheet2!$B:$B,Sheet2!E:E)","v":"CTO BO"},{"$f":"LEFT(Table14[[#This Row],[Apple Part ]],4)","v":"Z1E3"}]
["Z1E3","14316826",1779,"CTO IMAC M4 8CPU 8GPU 24GB 512GB TID NK YELLOW  ","SR1A2LL/A","Special Order","Yellow","M4 chip with 8‑core CPU, 8‑core GPU","24GB","512GB SSD","None","Magic Keyboard with Touch ID and Numeric Keypad","None",{"$f":"_xlfn.XLOOKUP(Table14[[#This Row],[TDS SKU]],Sheet2!$B:$B,Sheet2!C:C)","v":"B"},{"$f":"_xlfn.XLOOKUP(Table14[[#This Row],[TDS SKU]],Sheet2!$B:$B,Sheet2!D:D)","v":"A"},{"$f":"_xlfn.XLOOKUP(Table14[[#This Row],[TDS SKU]],Sheet2!$B:$B,Sheet2!E:E)","v":"CTO BO"},{"$f":"LEFT(Table14[[#This Row],[Apple Part ]],4)","v":"Z1E3"}]
["Z1E3","14316827",1809,"CTO IMAC M4 8CPU 8GPU 24GB 512GB TID NK YELLOW GIG ETH ","SR1A2LL/A","Special Order","Yellow","M4 chip with 8‑core CPU, 8‑core GPU","24GB","512GB SSD","Gigabit","Magic Keyboard with Touch ID and Numeric Keypad","None",{"$f":"_xlfn.XLOOKUP(Table14[[#This Row],[TDS SKU]],Sheet2!$B:$B,Sheet2!C:C)","v":"B"},{"$f":"_xlfn.XLOOKUP(Table14[[#This Row],[TDS SKU]],Sheet2!$B:$B,Sheet2!D:D)","v":"A"},{"$f":"_xlfn.XLOOKUP(Table14[[#This Row],[TDS SKU]],Sheet2!$B:$B,Sheet2!E:E)","v":"CTO BO"},{"$f":"LEFT(Table14[[#This Row],[Apple Part ]],4)","v":"Z1E3"}]
["Z1E3","14316832",1779,"CTO IMAC M4 8CPU 8GPU 16GB 1TB TID NK YELLOW  ","SR1A2LL/A",{"$f":"IF(OR(P85=\"CTO BO\",P85=\"ZPN BO\"),\"Special Order\",\"Stocked\")","v":"Special Order"},"Yellow","M4 chip with 8‑core CPU, 8‑core GPU","16GB","1TB SSD","None","Magic Keyboard with Touch ID and Numeric Keypad","None",{"$f":"_xlfn.XLOOKUP(Table14[[#This Row],[TDS SKU]],Sheet2!$B:$B,Sheet2!C:C)","v":"B"},{"$f":"_xlfn.XLOOKUP(Table14[[#This Row],[TDS SKU]],Sheet2!$B:$B,Sheet2!D:D)","v":"A"},{"$f":"_xlfn.XLOOKUP(Table14[[#This Row],[TDS SKU]],Sheet2!$B:$B,Sheet2!E:E)","v":"CTO BO"},{"$f":"LEFT(Table14[[#This Row],[Apple Part ]],4)","v":"Z1E3"}]
["Z1E3","14316784",1979,"CTO IMAC M4 8CPU 8GPU 24GB 1TB TID NK YELLOW  ","SR1A2LL/A","Special Order","Yellow","M4 chip with 8‑core CPU, 8‑core GPU","24GB","1TB SSD","None","Magic Keyboard with Touch ID and Numeric Keypad","None",{"$f":"_xlfn.XLOOKUP(Table14[[#This Row],[TDS SKU]],Sheet2!$B:$B,Sheet2!C:C)","v":"B"},{"$f":"_xlfn.XLOOKUP(Table14[[#This Row],[TDS SKU]],Sheet2!$B:$B,Sheet2!D:D)","v":"A"},{"$f":"_xlfn.XLOOKUP(Table14[[#This Row],[TDS SKU]],Sheet2!$B:$B,Sheet2!E:E)","v":"CTO BO"},{"$f":"LEFT(Table14[[#This Row],[Apple Part ]],4)","v":"Z1E3"}]
["Z1E3","14316785",2009,"CTO IMAC M4 8CPU 8GPU 24GB 1TB TID NK YELLOW GIG ETH ","SR1A2LL/A","Special Order","Yellow","M4 chip with 8‑core CPU, 8‑core GPU","24GB","1TB SSD","Gigabit","Magic Keyboard with Touch ID and Numeric Keypad","None",{"$f":"_xlfn.XLOOKUP(Table14[[#This Row],[TDS SKU]],Sheet2!$B:$B,Sheet2!C:C)","v":"B"},{"$f":"_xlfn.XLOOKUP(Table14[[#This Row],[TDS SKU]],Sheet2!$B:$B,Sheet2!D:D)","v":"A"},{"$f":"_xlfn.XLOOKUP(Table14[[#This Row],[TDS SKU]],Sheet2!$B:$B,Sheet2!E:E)","v":"CTO BO"},{"$f":"LEFT(Table14[[#This Row],[Apple Part ]],4)","v":"Z1E3"}]
["Z1E4","14316776",1499,"CTO IMAC M4 8CPU 8GPU 16GB 512GB  GREEN  ","SR1A2LL/A","Special Order","Green","M4 chip with 8‑core CPU, 8‑core GPU","16GB","512GB SSD","None","Magic Keyboard","None",{"$f":"_xlfn.XLOOKUP(Table14[[#This Row],[TDS SKU]],Sheet2!$B:$B,Sheet2!C:C)","v":"B"},{"$f":"_xlfn.XLOOKUP(Table14[[#This Row],[TDS SKU]],Sheet2!$B:$B,Sheet2!D:D)","v":"A"},{"$f":"_xlfn.XLOOKUP(Table14[[#This Row],[TDS SKU]],Sheet2!$B:$B,Sheet2!E:E)","v":"CTO BO"},{"$f":"LEFT(Table14[[#This Row],[Apple Part ]],4)","v":"Z1E4"}]
["Z1E4","14316794",1699,"CTO IMAC M4 8CPU 8GPU 16GB 1TB  GREEN  ","SR1A2LL/A","Special Order","Green","M4 chip with 8‑core CPU, 8‑core GPU","16GB","1TB SSD","None","Magic Keyboard","None",{"$f":"_xlfn.XLOOKUP(Table14[[#This Row],[TDS SKU]],Sheet2!$B:$B,Sheet2!C:C)","v":"B"},{"$f":"_xlfn.XLOOKUP(Table14[[#This Row],[TDS SKU]],Sheet2!$B:$B,Sheet2!D:D)","v":"A"},{"$f":"_xlfn.XLOOKUP(Table14[[#This Row],[TDS SKU]],Sheet2!$B:$B,Sheet2!E:E)","v":"CTO BO"},{"$f":"LEFT(Table14[[#This Row],[Apple Part ]],4)","v":"Z1E4"}]
["Z1E4","14316772",1379,"CTO IMAC M4 8CPU 8GPU 16GB 256GB TID NK GREEN  ","SR1A2LL/A","Special Order","Green","M4 chip with 8‑core CPU, 8‑core GPU","16GB","256GB SSD","None","Magic Keyboard with Touch ID and Numeric Keypad","None",{"$f":"_xlfn.XLOOKUP(Table14[[#This Row],[TDS SKU]],Sheet2!$B:$B,Sheet2!C:C)","v":"B"},{"$f":"_xlfn.XLOOKUP(Table14[[#This Row],[TDS SKU]],Sheet2!$B:$B,Sheet2!D:D)","v":"A"},{"$f":"_xlfn.XLOOKUP(Table14[[#This Row],[TDS SKU]],Sheet2!$B:$B,Sheet2!E:E)","v":"CTO BO"},{"$f":"LEFT(Table14[[#This Row],[Apple Part ]],4)","v":"Z1E4"}]
["Z1E4","14316770",1499,"CTO IMAC M4 8CPU 8GPU 24GB 256GB  GREEN  ","SR1A2LL/A","Special Order","Green","M4 chip with 8‑core CPU, 8‑core GPU","24GB","256GB SSD","None","Magic Keyboard","None",{"$f":"_xlfn.XLOOKUP(Table14[[#This Row],[TDS SKU]],Sheet2!$B:$B,Sheet2!C:C)","v":"B"},{"$f":"_xlfn.XLOOKUP(Table14[[#This Row],[TDS SKU]],Sheet2!$B:$B,Sheet2!D:D)","v":"A"},{"$f":"_xlfn.XLOOKUP(Table14[[#This Row],[TDS SKU]],Sheet2!$B:$B,Sheet2!E:E)","v":"CTO BO"},{"$f":"LEFT(Table14[[#This Row],[Apple Part ]],4)","v":"Z1E4"}]
["Z1E4","14316769",1329,"CTO IMAC M4 8CPU 8GPU 16GB 256GB  GREEN GIG ETH ","SR1A2LL/A","Special Order","Green","M4 chip with 8‑core CPU, 8‑core GPU","16GB","256GB SSD","Gigabit","Magic Keyboard","None",{"$f":"_xlfn.XLOOKUP(Table14[[#This Row],[TDS SKU]],Sheet2!$B:$B,Sheet2!C:C)","v":"B"},{"$f":"_xlfn.XLOOKUP(Table14[[#This Row],[TDS SKU]],Sheet2!$B:$B,Sheet2!D:D)","v":"A"},{"$f":"_xlfn.XLOOKUP(Table14[[#This Row],[TDS SKU]],Sheet2!$B:$B,Sheet2!E:E)","v":"CTO BO"},{"$f":"LEFT(Table14[[#This Row],[Apple Part ]],4)","v":"Z1E4"}]
["Z1E4","14316771",1529,"CTO IMAC M4 8CPU 8GPU 24GB 256GB  GREEN GIG ETH ","SR1A2LL/A","Special Order","Green","M4 chip with 8‑core CPU, 8‑core GPU","24GB","256GB SSD","Gigabit","Magic Keyboard","None",{"$f":"_xlfn.XLOOKUP(Table14[[#This Row],[TDS SKU]],Sheet2!$B:$B,Sheet2!C:C)","v":"B"},{"$f":"_xlfn.XLOOKUP(Table14[[#This Row],[TDS SKU]],Sheet2!$B:$B,Sheet2!D:D)","v":"A"},{"$f":"_xlfn.XLOOKUP(Table14[[#This Row],[TDS SKU]],Sheet2!$B:$B,Sheet2!E:E)","v":"CTO BO"},{"$f":"LEFT(Table14[[#This Row],[Apple Part ]],4)","v":"Z1E4"}]
["Z1E4","14316777",1529,"CTO IMAC M4 8CPU 8GPU 16GB 512GB  GREEN GIG ETH ","SR1A2LL/A","Special Order","Green","M4 chip with 8‑core CPU, 8‑core GPU","16GB","512GB SSD","Gigabit","Magic Keyboard","None",{"$f":"_xlfn.XLOOKUP(Table14[[#This Row],[TDS SKU]],Sheet2!$B:$B,Sheet2!C:C)","v":"B"},{"$f":"_xlfn.XLOOKUP(Table14[[#This Row],[TDS SKU]],Sheet2!$B:$B,Sheet2!D:D)","v":"A"},{"$f":"_xlfn.XLOOKUP(Table14[[#This Row],[TDS SKU]],Sheet2!$B:$B,Sheet2!E:E)","v":"CTO BO"},{"$f":"LEFT(Table14[[#This Row],[Apple Part ]],4)","v":"Z1E4"}]
["Z1E4","14316778",1699,"CTO IMAC M4 8CPU 8GPU 24GB 512GB  GREEN  ","SR1A2LL/A","Special Order","Green","M4 chip with 8‑core CPU, 8‑core GPU","24GB","512GB SSD","None","Magic Keyboard","None",{"$f":"_xlfn.XLOOKUP(Table14[[#This Row],[TDS SKU]],Sheet2!$B:$B,Sheet2!C:C)","v":"B"},{"$f":"_xlfn.XLOOKUP(Table14[[#This Row],[TDS SKU]],Sheet2!$B:$B,Sheet2!D:D)","v":"A"},{"$f":"_xlfn.XLOOKUP(Table14[[#This Row],[TDS SKU]],Sheet2!$B:$B,Sheet2!E:E)","v":"CTO BO"},{"$f":"LEFT(Table14[[#This Row],[Apple Part ]],4)","v":"Z1E4"}]
["Z1E4","14316779",1729,"CTO IMAC M4 8CPU 8GPU 24GB 512GB  GREEN GIG ETH ","SR1A2LL/A","Special Order","Green","M4 chip with 8‑core CPU, 8‑core GPU","24GB","512GB SSD","Gigabit","Magic Keyboard","None",{"$f":"_xlfn.XLOOKUP(Table14[[#This Row],[TDS SKU]],Sheet2!$B:$B,Sheet2!C:C)","v":"B"},{"$f":"_xlfn.XLOOKUP(Table14[[#This Row],[TDS SKU]],Sheet2!$B:$B,Sheet2!D:D)","v":"A"},{"$f":"_xlfn.XLOOKUP(Table14[[#This Row],[TDS SKU]],Sheet2!$B:$B,Sheet2!E:E)","v":"CTO BO"},{"$f":"LEFT(Table14[[#This Row],[Apple Part ]],4)","v":"Z1E4"}]
["Z1E4","14316795",1729,"CTO IMAC M4 8CPU 8GPU 16GB 1TB  GREEN GIG ETH ","SR1A2LL/A","Special Order","Green","M4 chip with 8‑core CPU, 8‑core GPU","16GB","1TB SSD","Gigabit","Magic Keyboard","None",{"$f":"_xlfn.XLOOKUP(Table14[[#This Row],[TDS SKU]],Sheet2!$B:$B,Sheet2!C:C)","v":"B"},{"$f":"_xlfn.XLOOKUP(Table14[[#This Row],[TDS SKU]],Sheet2!$B:$B,Sheet2!D:D)","v":"A"},{"$f":"_xlfn.XLOOKUP(Table14[[#This Row],[TDS SKU]],Sheet2!$B:$B,Sheet2!E:E)","v":"CTO BO"},{"$f":"LEFT(Table14[[#This Row],[Apple Part ]],4)","v":"Z1E4"}]
["Z1E4","14316796",1899,"CTO IMAC M4 8CPU 8GPU 24GB 1TB  GREEN  ","SR1A2LL/A","Special Order","Green","M4 chip with 8‑core CPU, 8‑core GPU","24GB","1TB SSD","None","Magic Keyboard","None",{"$f":"_xlfn.XLOOKUP(Table14[[#This Row],[TDS SKU]],Sheet2!$B:$B,Sheet2!C:C)","v":"B"},{"$f":"_xlfn.XLOOKUP(Table14[[#This Row],[TDS SKU]],Sheet2!$B:$B,Sheet2!D:D)","v":"A"},{"$f":"_xlfn.XLOOKUP(Table14[[#This Row],[TDS SKU]],Sheet2!$B:$B,Sheet2!E:E)","v":"CTO BO"},{"$f":"LEFT(Table14[[#This Row],[Apple Part ]],4)","v":"Z1E4"}]
["Z1E4","14316797",1929,"CTO IMAC M4 8CPU 8GPU 24GB 1TB  GREEN GIG ETH ","SR1A2LL/A","Special Order","Green","M4 chip with 8‑core CPU, 8‑core GPU","24GB","1TB SSD","Gigabit","Magic Keyboard","None",{"$f":"_xlfn.XLOOKUP(Table14[[#This Row],[TDS SKU]],Sheet2!$B:$B,Sheet2!C:C)","v":"B"},{"$f":"_xlfn.XLOOKUP(Table14[[#This Row],[TDS SKU]],Sheet2!$B:$B,Sheet2!D:D)","v":"A"},{"$f":"_xlfn.XLOOKUP(Table14[[#This Row],[TDS SKU]],Sheet2!$B:$B,Sheet2!E:E)","v":"CTO BO"},{"$f":"LEFT(Table14[[#This Row],[Apple Part ]],4)","v":"Z1E4"}]
["Z1E4","14316782",1779,"CTO IMAC M4 8CPU 8GPU 24GB 512GB TID NK GREEN  ","SR1A2LL/A","Special Order","Green","M4 chip with 8‑core CPU, 8‑core GPU","24GB","512GB SSD","None","Magic Keyboard with Touch ID and Numeric Keypad","None",{"$f":"_xlfn.XLOOKUP(Table14[[#This Row],[TDS SKU]],Sheet2!$B:$B,Sheet2!C:C)","v":"B"},{"$f":"_xlfn.XLOOKUP(Table14[[#This Row],[TDS SKU]],Sheet2!$B:$B,Sheet2!D:D)","v":"A"},{"$f":"_xlfn.XLOOKUP(Table14[[#This Row],[TDS SKU]],Sheet2!$B:$B,Sheet2!E:E)","v":"CTO BO"},{"$f":"LEFT(Table14[[#This Row],[Apple Part ]],4)","v":"Z1E4"}]
["Z1E4","14316780",1579,"CTO IMAC M4 8CPU 8GPU 16GB 512GB TID NK GREEN  ","SR1A2LL/A","Special Order","Green","M4 chip with 8‑core CPU, 8‑core GPU","16GB","512GB SSD","None","Magic Keyboard with Touch ID and Numeric Keypad","None",{"$f":"_xlfn.XLOOKUP(Table14[[#This Row],[TDS SKU]],Sheet2!$B:$B,Sheet2!C:C)","v":"B"},{"$f":"_xlfn.XLOOKUP(Table14[[#This Row],[TDS SKU]],Sheet2!$B:$B,Sheet2!D:D)","v":"A"},{"$f":"_xlfn.XLOOKUP(Table14[[#This Row],[TDS SKU]],Sheet2!$B:$B,Sheet2!E:E)","v":"CTO BO"},{"$f":"LEFT(Table14[[#This Row],[Apple Part ]],4)","v":"Z1E4"}]
["Z1E4","14316773",1409,"CTO IMAC M4 8CPU 8GPU 16GB 256GB TID NK GREEN GIG ETH ","SR1A2LL/A","Special Order","Green","M4 chip with 8‑core CPU, 8‑core GPU","16GB","256GB SSD","Gigabit","Magic Keyboard with Touch ID and Numeric Keypad","None",{"$f":"_xlfn.XLOOKUP(Table14[[#This Row],[TDS SKU]],Sheet2!$B:$B,Sheet2!C:C)","v":"B"},{"$f":"_xlfn.XLOOKUP(Table14[[#This Row],[TDS SKU]],Sheet2!$B:$B,Sheet2!D:D)","v":"A"},{"$f":"_xlfn.XLOOKUP(Table14[[#This Row],[TDS SKU]],Sheet2!$B:$B,Sheet2!E:E)","v":"CTO BO"},{"$f":"LEFT(Table14[[#This Row],[Apple Part ]],4)","v":"Z1E4"}]
["Z1E4","14316781",1609,"CTO IMAC M4 8CPU 8GPU 16GB 512GB TID NK GREEN GIG ETH ","SR1A2LL/A","Special Order","Green","M4 chip with 8‑core CPU, 8‑core GPU","16GB","512GB SSD","Gigabit","Magic Keyboard with Touch ID and Numeric Keypad","None",{"$f":"_xlfn.XLOOKUP(Table14[[#This Row],[TDS SKU]],Sheet2!$B:$B,Sheet2!C:C)","v":"B"},{"$f":"_xlfn.XLOOKUP(Table14[[#This Row],[TDS SKU]],Sheet2!$B:$B,Sheet2!D:D)","v":"A"},{"$f":"_xlfn.XLOOKUP(Table14[[#This Row],[TDS SKU]],Sheet2!$B:$B,Sheet2!E:E)","v":"CTO BO"},{"$f":"LEFT(Table14[[#This Row],[Apple Part ]],4)","v":"Z1E4"}]
["Z1E4","14316774",1579,"CTO IMAC M4 8CPU 8GPU 24GB 256GB TID NK GREEN  ","SR1A2LL/A","Special Order","Green","M4 chip with 8‑core CPU, 8‑core GPU","24GB","256GB SSD","None","Magic Keyboard with Touch ID and Numeric Keypad","None",{"$f":"_xlfn.XLOOKUP(Table14[[#This Row],[TDS SKU]],Sheet2!$B:$B,Sheet2!C:C)","v":"B"},{"$f":"_xlfn.XLOOKUP(Table14[[#This Row],[TDS SKU]],Sheet2!$B:$B,Sheet2!D:D)","v":"A"},{"$f":"_xlfn.XLOOKUP(Table14[[#This Row],[TDS SKU]],Sheet2!$B:$B,Sheet2!E:E)","v":"CTO BO"},{"$f":"LEFT(Table14[[#This Row],[Apple Part ]],4)","v":"Z1E4"}]
["Z1E4","14316775",1609,"CTO IMAC M4 8CPU 8GPU 24GB 256GB TID NK GREEN GIG ETH ","SR1A2LL/A","Special Order","Green","M4 chip with 8‑core CPU, 8‑core GPU","24GB","256GB SSD","Gigabit","Magic Keyboard with Touch ID and Numeric Keypad","None",{"$f":"_xlfn.XLOOKUP(Table14[[#This Row],[TDS SKU]],Sheet2!$B:$B,Sheet2!C:C)","v":"B"},{"$f":"_xlfn.XLOOKUP(Table14[[#This Row],[TDS SKU]],Sheet2!$B:$B,Sheet2!D:D)","v":"A"},{"$f":"_xlfn.XLOOKUP(Table14[[#This Row],[TDS SKU]],Sheet2!$B:$B,Sheet2!E:E)","v":"CTO BO"},{"$f":"LEFT(Table14[[#This Row],[Apple Part ]],4)","v":"Z1E4"}]
["Z1E4","14316793",1809,"CTO IMAC M4 8CPU 8GPU 24GB 512GB TID NK GREEN GIG ETH ","SR1A2LL/A","Special Order","Green","M4 chip with 8‑core CPU, 8‑core GPU","24GB","512GB SSD","Gigabit","Magic Keyboard with Touch ID and Numeric Keypad","None",{"$f":"_xlfn.XLOOKUP(Table14[[#This Row],[TDS SKU]],Sheet2!$B:$B,Sheet2!C:C)","v":"B"},{"$f":"_xlfn.XLOOKUP(Table14[[#This Row],[TDS SKU]],Sheet2!$B:$B,Sheet2!D:D)","v":"A"},{"$f":"_xlfn.XLOOKUP(Table14[[#This Row],[TDS SKU]],Sheet2!$B:$B,Sheet2!E:E)","v":"CTO BO"},{"$f":"LEFT(Table14[[#This Row],[Apple Part ]],4)","v":"Z1E4"}]
["Z1E4","14316798",1779,"CTO IMAC M4 8CPU 8GPU 16GB 1TB TID NK GREEN  ","SR1A2LL/A","Special Order","Green","M4 chip with 8‑core CPU, 8‑core GPU","16GB","1TB SSD","None","Magic Keyboard with Touch ID and Numeric Keypad","None",{"$f":"_xlfn.XLOOKUP(Table14[[#This Row],[TDS SKU]],Sheet2!$B:$B,Sheet2!C:C)","v":"B"},{"$f":"_xlfn.XLOOKUP(Table14[[#This Row],[TDS SKU]],Sheet2!$B:$B,Sheet2!D:D)","v":"A"},{"$f":"_xlfn.XLOOKUP(Table14[[#This Row],[TDS SKU]],Sheet2!$B:$B,Sheet2!E:E)","v":"CTO BO"},{"$f":"LEFT(Table14[[#This Row],[Apple Part ]],4)","v":"Z1E4"}]
["Z1E4","14316799",1809,"CTO IMAC M4 8CPU 8GPU 16GB 1TB TID NK GREEN GIG ETH ","SR1A2LL/A","Special Order","Green","M4 chip with 8‑core CPU, 8‑core GPU","16GB","1TB SSD","Gigabit","Magic Keyboard with Touch ID and Numeric Keypad","None",{"$f":"_xlfn.XLOOKUP(Table14[[#This Row],[TDS SKU]],Sheet2!$B:$B,Sheet2!C:C)","v":"B"},{"$f":"_xlfn.XLOOKUP(Table14[[#This Row],[TDS SKU]],Sheet2!$B:$B,Sheet2!D:D)","v":"A"},{"$f":"_xlfn.XLOOKUP(Table14[[#This Row],[TDS SKU]],Sheet2!$B:$B,Sheet2!E:E)","v":"CTO BO"},{"$f":"LEFT(Table14[[#This Row],[Apple Part ]],4)","v":"Z1E4"}]
["Z1E4","14316800",1979,"CTO IMAC M4 8CPU 8GPU 24GB 1TB TID NK GREEN  ","SR1A2LL/A","Special Order","Green","M4 chip with 8‑core CPU, 8‑core GPU","24GB","1TB SSD","None","Magic Keyboard with Touch ID and Numeric Keypad","None",{"$f":"_xlfn.XLOOKUP(Table14[[#This Row],[TDS SKU]],Sheet2!$B:$B,Sheet2!C:C)","v":"B"},{"$f":"_xlfn.XLOOKUP(Table14[[#This Row],[TDS SKU]],Sheet2!$B:$B,Sheet2!D:D)","v":"A"},{"$f":"_xlfn.XLOOKUP(Table14[[#This Row],[TDS SKU]],Sheet2!$B:$B,Sheet2!E:E)","v":"CTO BO"},{"$f":"LEFT(Table14[[#This Row],[Apple Part ]],4)","v":"Z1E4"}]
["Z1E4","14316801",2009,"CTO IMAC M4 8CPU 8GPU 24GB 1TB TID NK GREEN GIG ETH ","SR1A2LL/A","Special Order","Green","M4 chip with 8‑core CPU, 8‑core GPU","24GB","1TB SSD","Gigabit","Magic Keyboard with Touch ID and Numeric Keypad","None",{"$f":"_xlfn.XLOOKUP(Table14[[#This Row],[TDS SKU]],Sheet2!$B:$B,Sheet2!C:C)","v":"B"},{"$f":"_xlfn.XLOOKUP(Table14[[#This Row],[TDS SKU]],Sheet2!$B:$B,Sheet2!D:D)","v":"A"},{"$f":"_xlfn.XLOOKUP(Table14[[#This Row],[TDS SKU]],Sheet2!$B:$B,Sheet2!E:E)","v":"CTO BO"},{"$f":"LEFT(Table14[[#This Row],[Apple Part ]],4)","v":"Z1E4"}]
["Z1E5","14316740",1499,"CTO IMAC M4 8CPU 8GPU 16GB 512GB  BLUE  ","SR1A2LL/A","Special Order","Blue","M4 chip with 8‑core CPU, 8‑core GPU","16GB","512GB SSD","None","Magic Keyboard","None",{"$f":"_xlfn.XLOOKUP(Table14[[#This Row],[TDS SKU]],Sheet2!$B:$B,Sheet2!C:C)","v":"B"},{"$f":"_xlfn.XLOOKUP(Table14[[#This Row],[TDS SKU]],Sheet2!$B:$B,Sheet2!D:D)","v":"A"},{"$f":"_xlfn.XLOOKUP(Table14[[#This Row],[TDS SKU]],Sheet2!$B:$B,Sheet2!E:E)","v":"CTO BO"},{"$f":"LEFT(Table14[[#This Row],[Apple Part ]],4)","v":"Z1E5"}]
["Z1E5","14316728",1699,"CTO IMAC M4 8CPU 8GPU 16GB 1TB  BLUE  ","SR1A2LL/A","Special Order","Blue","M4 chip with 8‑core CPU, 8‑core GPU","16GB","1TB SSD","None","Magic Keyboard","None",{"$f":"_xlfn.XLOOKUP(Table14[[#This Row],[TDS SKU]],Sheet2!$B:$B,Sheet2!C:C)","v":"B"},{"$f":"_xlfn.XLOOKUP(Table14[[#This Row],[TDS SKU]],Sheet2!$B:$B,Sheet2!D:D)","v":"A"},{"$f":"_xlfn.XLOOKUP(Table14[[#This Row],[TDS SKU]],Sheet2!$B:$B,Sheet2!E:E)","v":"CTO BO"},{"$f":"LEFT(Table14[[#This Row],[Apple Part ]],4)","v":"Z1E5"}]
["Z1E5","14316736",1379,"CTO IMAC M4 8CPU 8GPU 16GB 256GB TID NK BLUE  ","SR1A2LL/A","Special Order","Blue","M4 chip with 8‑core CPU, 8‑core GPU","16GB","256GB SSD","None","Magic Keyboard with Touch ID and Numeric Keypad","None",{"$f":"_xlfn.XLOOKUP(Table14[[#This Row],[TDS SKU]],Sheet2!$B:$B,Sheet2!C:C)","v":"B"},{"$f":"_xlfn.XLOOKUP(Table14[[#This Row],[TDS SKU]],Sheet2!$B:$B,Sheet2!D:D)","v":"A"},{"$f":"_xlfn.XLOOKUP(Table14[[#This Row],[TDS SKU]],Sheet2!$B:$B,Sheet2!E:E)","v":"CTO BO"},{"$f":"LEFT(Table14[[#This Row],[Apple Part ]],4)","v":"Z1E5"}]
["Z1E5","14316734",1499,"CTO IMAC M4 8CPU 8GPU 24GB 256GB  BLUE  ","SR1A2LL/A","Special Order","Blue","M4 chip with 8‑core CPU, 8‑core GPU","24GB","256GB SSD","None","Magic Keyboard","None",{"$f":"_xlfn.XLOOKUP(Table14[[#This Row],[TDS SKU]],Sheet2!$B:$B,Sheet2!C:C)","v":"B"},{"$f":"_xlfn.XLOOKUP(Table14[[#This Row],[TDS SKU]],Sheet2!$B:$B,Sheet2!D:D)","v":"A"},{"$f":"_xlfn.XLOOKUP(Table14[[#This Row],[TDS SKU]],Sheet2!$B:$B,Sheet2!E:E)","v":"CTO BO"},{"$f":"LEFT(Table14[[#This Row],[Apple Part ]],4)","v":"Z1E5"}]
["Z1E5","14316733",1329,"CTO IMAC M4 8CPU 8GPU 16GB 256GB  BLUE GIG ETH ","SR1A2LL/A","Special Order","Blue","M4 chip with 8‑core CPU, 8‑core GPU","16GB","256GB SSD","Gigabit","Magic Keyboard","None",{"$f":"_xlfn.XLOOKUP(Table14[[#This Row],[TDS SKU]],Sheet2!$B:$B,Sheet2!C:C)","v":"B"},{"$f":"_xlfn.XLOOKUP(Table14[[#This Row],[TDS SKU]],Sheet2!$B:$B,Sheet2!D:D)","v":"A"},{"$f":"_xlfn.XLOOKUP(Table14[[#This Row],[TDS SKU]],Sheet2!$B:$B,Sheet2!E:E)","v":"CTO BO"},{"$f":"LEFT(Table14[[#This Row],[Apple Part ]],4)","v":"Z1E5"}]
["Z1E5","14316735",1529,"CTO IMAC M4 8CPU 8GPU 24GB 256GB  BLUE GIG ETH ","SR1A2LL/A","Special Order","Blue","M4 chip with 8‑core CPU, 8‑core GPU","24GB","256GB SSD","Gigabit","Magic Keyboard","None",{"$f":"_xlfn.XLOOKUP(Table14[[#This Row],[TDS SKU]],Sheet2!$B:$B,Sheet2!C:C)","v":"B"},{"$f":"_xlfn.XLOOKUP(Table14[[#This Row],[TDS SKU]],Sheet2!$B:$B,Sheet2!D:D)","v":"A"},{"$f":"_xlfn.XLOOKUP(Table14[[#This Row],[TDS SKU]],Sheet2!$B:$B,Sheet2!E:E)","v":"CTO BO"},{"$f":"LEFT(Table14[[#This Row],[Apple Part ]],4)","v":"Z1E5"}]
["Z1E5","14316741",1529,"CTO IMAC M4 8CPU 8GPU 16GB 512GB  BLUE GIG ETH ","SR1A2LL/A","Special Order","Blue","M4 chip with 8‑core CPU, 8‑core GPU","16GB","512GB SSD","Gigabit","Magic Keyboard","None",{"$f":"_xlfn.XLOOKUP(Table14[[#This Row],[TDS SKU]],Sheet2!$B:$B,Sheet2!C:C)","v":"B"},{"$f":"_xlfn.XLOOKUP(Table14[[#This Row],[TDS SKU]],Sheet2!$B:$B,Sheet2!D:D)","v":"A"},{"$f":"_xlfn.XLOOKUP(Table14[[#This Row],[TDS SKU]],Sheet2!$B:$B,Sheet2!E:E)","v":"CTO BO"},{"$f":"LEFT(Table14[[#This Row],[Apple Part ]],4)","v":"Z1E5"}]
["Z1E5","14316742",1699,"CTO IMAC M4 8CPU 8GPU 24GB 512GB  BLUE  ","SR1A2LL/A","Special Order","Blue","M4 chip with 8‑core CPU, 8‑core GPU","24GB","512GB SSD","None","Magic Keyboard","None",{"$f":"_xlfn.XLOOKUP(Table14[[#This Row],[TDS SKU]],Sheet2!$B:$B,Sheet2!C:C)","v":"B"},{"$f":"_xlfn.XLOOKUP(Table14[[#This Row],[TDS SKU]],Sheet2!$B:$B,Sheet2!D:D)","v":"A"},{"$f":"_xlfn.XLOOKUP(Table14[[#This Row],[TDS SKU]],Sheet2!$B:$B,Sheet2!E:E)","v":"CTO BO"},{"$f":"LEFT(Table14[[#This Row],[Apple Part ]],4)","v":"Z1E5"}]
["Z1E5","14316723",1729,"CTO IMAC M4 8CPU 8GPU 24GB 512GB  BLUE GIG ETH ","SR1A2LL/A","Special Order","Blue","M4 chip with 8‑core CPU, 8‑core GPU","24GB","512GB SSD","Gigabit","Magic Keyboard","None",{"$f":"_xlfn.XLOOKUP(Table14[[#This Row],[TDS SKU]],Sheet2!$B:$B,Sheet2!C:C)","v":"B"},{"$f":"_xlfn.XLOOKUP(Table14[[#This Row],[TDS SKU]],Sheet2!$B:$B,Sheet2!D:D)","v":"A"},{"$f":"_xlfn.XLOOKUP(Table14[[#This Row],[TDS SKU]],Sheet2!$B:$B,Sheet2!E:E)","v":"CTO BO"},{"$f":"LEFT(Table14[[#This Row],[Apple Part ]],4)","v":"Z1E5"}]
["Z1E5","14316729",1729,"CTO IMAC M4 8CPU 8GPU 16GB 1TB  BLUE GIG ETH ","SR1A2LL/A","Special Order","Blue","M4 chip with 8‑core CPU, 8‑core GPU","16GB","1TB SSD","Gigabit","Magic Keyboard","None",{"$f":"_xlfn.XLOOKUP(Table14[[#This Row],[TDS SKU]],Sheet2!$B:$B,Sheet2!C:C)","v":"B"},{"$f":"_xlfn.XLOOKUP(Table14[[#This Row],[TDS SKU]],Sheet2!$B:$B,Sheet2!D:D)","v":"A"},{"$f":"_xlfn.XLOOKUP(Table14[[#This Row],[TDS SKU]],Sheet2!$B:$B,Sheet2!E:E)","v":"CTO BO"},{"$f":"LEFT(Table14[[#This Row],[Apple Part ]],4)","v":"Z1E5"}]
["Z1E5","14316730",1899,"CTO IMAC M4 8CPU 8GPU 24GB 1TB  BLUE  ","SR1A2LL/A","Special Order","Blue","M4 chip with 8‑core CPU, 8‑core GPU","24GB","1TB SSD","None","Magic Keyboard","None",{"$f":"_xlfn.XLOOKUP(Table14[[#This Row],[TDS SKU]],Sheet2!$B:$B,Sheet2!C:C)","v":"B"},{"$f":"_xlfn.XLOOKUP(Table14[[#This Row],[TDS SKU]],Sheet2!$B:$B,Sheet2!D:D)","v":"A"},{"$f":"_xlfn.XLOOKUP(Table14[[#This Row],[TDS SKU]],Sheet2!$B:$B,Sheet2!E:E)","v":"CTO BO"},{"$f":"LEFT(Table14[[#This Row],[Apple Part ]],4)","v":"Z1E5"}]
["Z1E5","14316731",1929,"CTO IMAC M4 8CPU 8GPU 24GB 1TB  BLUE GIG ETH ","SR1A2LL/A","Special Order","Blue","M4 chip with 8‑core CPU, 8‑core GPU","24GB","1TB SSD","Gigabit","Magic Keyboard","None",{"$f":"_xlfn.XLOOKUP(Table14[[#This Row],[TDS SKU]],Sheet2!$B:$B,Sheet2!C:C)","v":"B"},{"$f":"_xlfn.XLOOKUP(Table14[[#This Row],[TDS SKU]],Sheet2!$B:$B,Sheet2!D:D)","v":"A"},{"$f":"_xlfn.XLOOKUP(Table14[[#This Row],[TDS SKU]],Sheet2!$B:$B,Sheet2!E:E)","v":"CTO BO"},{"$f":"LEFT(Table14[[#This Row],[Apple Part ]],4)","v":"Z1E5"}]
["Z1E5","14316737",1409,"CTO IMAC M4 8CPU 8GPU 16GB 256GB TID NK BLUE GIG ETH ","SR1A2LL/A","Special Order","Blue","M4 chip with 8‑core CPU, 8‑core GPU","16GB","256GB SSD","Gigabit","Magic Keyboard with Touch ID and Numeric Keypad","None",{"$f":"_xlfn.XLOOKUP(Table14[[#This Row],[TDS SKU]],Sheet2!$B:$B,Sheet2!C:C)","v":"B"},{"$f":"_xlfn.XLOOKUP(Table14[[#This Row],[TDS SKU]],Sheet2!$B:$B,Sheet2!D:D)","v":"A"},{"$f":"_xlfn.XLOOKUP(Table14[[#This Row],[TDS SKU]],Sheet2!$B:$B,Sheet2!E:E)","v":"CTO BO"},{"$f":"LEFT(Table14[[#This Row],[Apple Part ]],4)","v":"Z1E5"}]
["Z1E5","14316724",1579,"CTO IMAC M4 8CPU 8GPU 16GB 512GB TID NK BLUE  ","SR1A2LL/A","Special Order","Blue","M4 chip with 8‑core CPU, 8‑core GPU","16GB","512GB SSD","None","Magic Keyboard with Touch ID and Numeric Keypad","None",{"$f":"_xlfn.XLOOKUP(Table14[[#This Row],[TDS SKU]],Sheet2!$B:$B,Sheet2!C:C)","v":"B"},{"$f":"_xlfn.XLOOKUP(Table14[[#This Row],[TDS SKU]],Sheet2!$B:$B,Sheet2!D:D)","v":"A"},{"$f":"_xlfn.XLOOKUP(Table14[[#This Row],[TDS SKU]],Sheet2!$B:$B,Sheet2!E:E)","v":"CTO BO"},{"$f":"LEFT(Table14[[#This Row],[Apple Part ]],4)","v":"Z1E5"}]
["Z1E5","14316743",1809,"CTO IMAC M4 8CPU 8GPU 16GB 1TB TID NK BLUE GIG ETH ","SR1A2LL/A","Special Order","Blue","M4 chip with 8‑core CPU, 8‑core GPU","16GB","1TB SSD","Gigabit","Magic Keyboard with Touch ID and Numeric Keypad","None",{"$f":"_xlfn.XLOOKUP(Table14[[#This Row],[TDS SKU]],Sheet2!$B:$B,Sheet2!C:C)","v":"B"},{"$f":"_xlfn.XLOOKUP(Table14[[#This Row],[TDS SKU]],Sheet2!$B:$B,Sheet2!D:D)","v":"A"},{"$f":"_xlfn.XLOOKUP(Table14[[#This Row],[TDS SKU]],Sheet2!$B:$B,Sheet2!E:E)","v":"CTO BO"},{"$f":"LEFT(Table14[[#This Row],[Apple Part ]],4)","v":"Z1E5"}]
["Z1E5","14316732",1779,"CTO IMAC M4 8CPU 8GPU 16GB 1TB TID NK BLUE  ","SR1A2LL/A","Special Order","Blue","M4 chip with 8‑core CPU, 8‑core GPU","16GB","1TB SSD","None","Magic Keyboard with Touch ID and Numeric Keypad","None",{"$f":"_xlfn.XLOOKUP(Table14[[#This Row],[TDS SKU]],Sheet2!$B:$B,Sheet2!C:C)","v":"B"},{"$f":"_xlfn.XLOOKUP(Table14[[#This Row],[TDS SKU]],Sheet2!$B:$B,Sheet2!D:D)","v":"A"},{"$f":"_xlfn.XLOOKUP(Table14[[#This Row],[TDS SKU]],Sheet2!$B:$B,Sheet2!E:E)","v":"CTO BO"},{"$f":"LEFT(Table14[[#This Row],[Apple Part ]],4)","v":"Z1E5"}]
["Z1E5","14316744",1979,"CTO IMAC M4 8CPU 8GPU 24GB 1TB TID NK BLUE  ","SR1A2LL/A","Special Order","Blue","M4 chip with 8‑core CPU, 8‑core GPU","24GB","1TB SSD","None","Magic Keyboard with Touch ID and Numeric Keypad","None",{"$f":"_xlfn.XLOOKUP(Table14[[#This Row],[TDS SKU]],Sheet2!$B:$B,Sheet2!C:C)","v":"B"},{"$f":"_xlfn.XLOOKUP(Table14[[#This Row],[TDS SKU]],Sheet2!$B:$B,Sheet2!D:D)","v":"A"},{"$f":"_xlfn.XLOOKUP(Table14[[#This Row],[TDS SKU]],Sheet2!$B:$B,Sheet2!E:E)","v":"CTO BO"},{"$f":"LEFT(Table14[[#This Row],[Apple Part ]],4)","v":"Z1E5"}]
["Z1E5","14316725",1609,"CTO IMAC M4 8CPU 8GPU 16GB 512GB TID NK BLUE GIG ETH ","SR1A2LL/A","Special Order","Blue","M4 chip with 8‑core CPU, 8‑core GPU","16GB","512GB SSD","Gigabit","Magic Keyboard with Touch ID and Numeric Keypad","None",{"$f":"_xlfn.XLOOKUP(Table14[[#This Row],[TDS SKU]],Sheet2!$B:$B,Sheet2!C:C)","v":"B"},{"$f":"_xlfn.XLOOKUP(Table14[[#This Row],[TDS SKU]],Sheet2!$B:$B,Sheet2!D:D)","v":"A"},{"$f":"_xlfn.XLOOKUP(Table14[[#This Row],[TDS SKU]],Sheet2!$B:$B,Sheet2!E:E)","v":"CTO BO"},{"$f":"LEFT(Table14[[#This Row],[Apple Part ]],4)","v":"Z1E5"}]
["Z1E5","14316738",1579,"CTO IMAC M4 8CPU 8GPU 24GB 256GB TID NK BLUE  ","SR1A2LL/A","Special Order","Blue","M4 chip with 8‑core CPU, 8‑core GPU","24GB","256GB SSD","None","Magic Keyboard with Touch ID and Numeric Keypad","None",{"$f":"_xlfn.XLOOKUP(Table14[[#This Row],[TDS SKU]],Sheet2!$B:$B,Sheet2!C:C)","v":"B"},{"$f":"_xlfn.XLOOKUP(Table14[[#This Row],[TDS SKU]],Sheet2!$B:$B,Sheet2!D:D)","v":"A"},{"$f":"_xlfn.XLOOKUP(Table14[[#This Row],[TDS SKU]],Sheet2!$B:$B,Sheet2!E:E)","v":"CTO BO"},{"$f":"LEFT(Table14[[#This Row],[Apple Part ]],4)","v":"Z1E5"}]
["Z1E5","14316739",1609,"CTO IMAC M4 8CPU 8GPU 24GB 256GB TID NK BLUE GIG ETH ","SR1A2LL/A","Special Order","Blue","M4 chip with 8‑core CPU, 8‑core GPU","24GB","256GB SSD","Gigabit","Magic Keyboard with Touch ID and Numeric Keypad","None",{"$f":"_xlfn.XLOOKUP(Table14[[#This Row],[TDS SKU]],Sheet2!$B:$B,Sheet2!C:C)","v":"B"},{"$f":"_xlfn.XLOOKUP(Table14[[#This Row],[TDS SKU]],Sheet2!$B:$B,Sheet2!D:D)","v":"A"},{"$f":"_xlfn.XLOOKUP(Table14[[#This Row],[TDS SKU]],Sheet2!$B:$B,Sheet2!E:E)","v":"CTO BO"},{"$f":"LEFT(Table14[[#This Row],[Apple Part ]],4)","v":"Z1E5"}]
["Z1E5","14316726",1779,"CTO IMAC M4 8CPU 8GPU 24GB 512GB TID NK BLUE  ","SR1A2LL/A","Special Order","Blue","M4 chip with 8‑core CPU, 8‑core GPU","24GB","512GB SSD","None","Magic Keyboard with Touch ID and Numeric Keypad","None",{"$f":"_xlfn.XLOOKUP(Table14[[#This Row],[TDS SKU]],Sheet2!$B:$B,Sheet2!C:C)","v":"B"},{"$f":"_xlfn.XLOOKUP(Table14[[#This Row],[TDS SKU]],Sheet2!$B:$B,Sheet2!D:D)","v":"A"},{"$f":"_xlfn.XLOOKUP(Table14[[#This Row],[TDS SKU]],Sheet2!$B:$B,Sheet2!E:E)","v":"CTO BO"},{"$f":"LEFT(Table14[[#This Row],[Apple Part ]],4)","v":"Z1E5"}]
["Z1E5","14316727",1809,"CTO IMAC M4 8CPU 8GPU 24GB 512GB TID NK BLUE GIG ETH ","SR1A2LL/A","Special Order","Blue","M4 chip with 8‑core CPU, 8‑core GPU","24GB","512GB SSD","Gigabit","Magic Keyboard with Touch ID and Numeric Keypad","None",{"$f":"_xlfn.XLOOKUP(Table14[[#This Row],[TDS SKU]],Sheet2!$B:$B,Sheet2!C:C)","v":"B"},{"$f":"_xlfn.XLOOKUP(Table14[[#This Row],[TDS SKU]],Sheet2!$B:$B,Sheet2!D:D)","v":"A"},{"$f":"_xlfn.XLOOKUP(Table14[[#This Row],[TDS SKU]],Sheet2!$B:$B,Sheet2!E:E)","v":"CTO BO"},{"$f":"LEFT(Table14[[#This Row],[Apple Part ]],4)","v":"Z1E5"}]
["Z1E5","14316745",2009,"CTO IMAC M4 8CPU 8GPU 24GB 1TB TID NK BLUE GIG ETH ","SR1A2LL/A","Special Order","Blue","M4 chip with 8‑core CPU, 8‑core GPU","24GB","1TB SSD","Gigabit","Magic Keyboard with Touch ID and Numeric Keypad","None",{"$f":"_xlfn.XLOOKUP(Table14[[#This Row],[TDS SKU]],Sheet2!$B:$B,Sheet2!C:C)","v":"B"},{"$f":"_xlfn.XLOOKUP(Table14[[#This Row],[TDS SKU]],Sheet2!$B:$B,Sheet2!D:D)","v":"A"},{"$f":"_xlfn.XLOOKUP(Table14[[#This Row],[TDS SKU]],Sheet2!$B:$B,Sheet2!E:E)","v":"CTO BO"},{"$f":"LEFT(Table14[[#This Row],[Apple Part ]],4)","v":"Z1E5"}]
["Z1E6","14316753",1499,"CTO IMAC M4 8CPU 8GPU 16GB 512GB  PINK  ","SR1A2LL/A","Special Order","Pink","M4 chip with 8‑core CPU, 8‑core GPU","16GB","512GB SSD","None","Magic Keyboard","None",{"$f":"_xlfn.XLOOKUP(Table14[[#This Row],[TDS SKU]],Sheet2!$B:$B,Sheet2!C:C)","v":"B"},{"$f":"_xlfn.XLOOKUP(Table14[[#This Row],[TDS SKU]],Sheet2!$B:$B,Sheet2!D:D)","v":"A"},{"$f":"_xlfn.XLOOKUP(Table14[[#This Row],[TDS SKU]],Sheet2!$B:$B,Sheet2!E:E)","v":"CTO BO"},{"$f":"LEFT(Table14[[#This Row],[Apple Part ]],4)","v":"Z1E6"}]
["Z1E6","14316761",1699,"CTO IMAC M4 8CPU 8GPU 16GB 1TB  PINK  ","SR1A2LL/A","Special Order","Pink","M4 chip with 8‑core CPU, 8‑core GPU","16GB","1TB SSD","None","Magic Keyboard","None",{"$f":"_xlfn.XLOOKUP(Table14[[#This Row],[TDS SKU]],Sheet2!$B:$B,Sheet2!C:C)","v":"B"},{"$f":"_xlfn.XLOOKUP(Table14[[#This Row],[TDS SKU]],Sheet2!$B:$B,Sheet2!D:D)","v":"A"},{"$f":"_xlfn.XLOOKUP(Table14[[#This Row],[TDS SKU]],Sheet2!$B:$B,Sheet2!E:E)","v":"CTO BO"},{"$f":"LEFT(Table14[[#This Row],[Apple Part ]],4)","v":"Z1E6"}]
["Z1E6","14316749",1379,"CTO IMAC M4 8CPU 8GPU 16GB 256GB TID NK PINK  ","SR1A2LL/A","Special Order","Pink","M4 chip with 8‑core CPU, 8‑core GPU","16GB","256GB SSD","None","Magic Keyboard with Touch ID and Numeric Keypad","None",{"$f":"_xlfn.XLOOKUP(Table14[[#This Row],[TDS SKU]],Sheet2!$B:$B,Sheet2!C:C)","v":"B"},{"$f":"_xlfn.XLOOKUP(Table14[[#This Row],[TDS SKU]],Sheet2!$B:$B,Sheet2!D:D)","v":"A"},{"$f":"_xlfn.XLOOKUP(Table14[[#This Row],[TDS SKU]],Sheet2!$B:$B,Sheet2!E:E)","v":"CTO BO"},{"$f":"LEFT(Table14[[#This Row],[Apple Part ]],4)","v":"Z1E6"}]
["Z1E6","14316747",1499,"CTO IMAC M4 8CPU 8GPU 24GB 256GB  PINK  ","SR1A2LL/A","Special Order","Pink","M4 chip with 8‑core CPU, 8‑core GPU","24GB","256GB SSD","None","Magic Keyboard","None",{"$f":"_xlfn.XLOOKUP(Table14[[#This Row],[TDS SKU]],Sheet2!$B:$B,Sheet2!C:C)","v":"B"},{"$f":"_xlfn.XLOOKUP(Table14[[#This Row],[TDS SKU]],Sheet2!$B:$B,Sheet2!D:D)","v":"A"},{"$f":"_xlfn.XLOOKUP(Table14[[#This Row],[TDS SKU]],Sheet2!$B:$B,Sheet2!E:E)","v":"CTO BO"},{"$f":"LEFT(Table14[[#This Row],[Apple Part ]],4)","v":"Z1E6"}]
["Z1E6","14316746",1329,"CTO IMAC M4 8CPU 8GPU 16GB 256GB  PINK GIG ETH ","SR1A2LL/A","Special Order","Pink","M4 chip with 8‑core CPU, 8‑core GPU","16GB","256GB SSD","Gigabit","Magic Keyboard","None",{"$f":"_xlfn.XLOOKUP(Table14[[#This Row],[TDS SKU]],Sheet2!$B:$B,Sheet2!C:C)","v":"B"},{"$f":"_xlfn.XLOOKUP(Table14[[#This Row],[TDS SKU]],Sheet2!$B:$B,Sheet2!D:D)","v":"A"},{"$f":"_xlfn.XLOOKUP(Table14[[#This Row],[TDS SKU]],Sheet2!$B:$B,Sheet2!E:E)","v":"CTO BO"},{"$f":"LEFT(Table14[[#This Row],[Apple Part ]],4)","v":"Z1E6"}]
["Z1E6","14316755",1699,"CTO IMAC M4 8CPU 8GPU 24GB 512GB  PINK  ","SR1A2LL/A","Special Order","Pink","M4 chip with 8‑core CPU, 8‑core GPU","24GB","512GB SSD","None","Magic Keyboard","None",{"$f":"_xlfn.XLOOKUP(Table14[[#This Row],[TDS SKU]],Sheet2!$B:$B,Sheet2!C:C)","v":"B"},{"$f":"_xlfn.XLOOKUP(Table14[[#This Row],[TDS SKU]],Sheet2!$B:$B,Sheet2!D:D)","v":"A"},{"$f":"_xlfn.XLOOKUP(Table14[[#This Row],[TDS SKU]],Sheet2!$B:$B,Sheet2!E:E)","v":"CTO BO"},{"$f":"LEFT(Table14[[#This Row],[Apple Part ]],4)","v":"Z1E6"}]
["Z1E6","14316763",1899,"CTO IMAC M4 8CPU 8GPU 24GB 1TB  PINK  ","SR1A2LL/A","Special Order","Pink","M4 chip with 8‑core CPU, 8‑core GPU","24GB","1TB SSD","None","Magic Keyboard","None",{"$f":"_xlfn.XLOOKUP(Table14[[#This Row],[TDS SKU]],Sheet2!$B:$B,Sheet2!C:C)","v":"B"},{"$f":"_xlfn.XLOOKUP(Table14[[#This Row],[TDS SKU]],Sheet2!$B:$B,Sheet2!D:D)","v":"A"},{"$f":"_xlfn.XLOOKUP(Table14[[#This Row],[TDS SKU]],Sheet2!$B:$B,Sheet2!E:E)","v":"CTO BO"},{"$f":"LEFT(Table14[[#This Row],[Apple Part ]],4)","v":"Z1E6"}]
["Z1E6","14316754",1529,"CTO IMAC M4 8CPU 8GPU 16GB 512GB  PINK GIG ETH ","SR1A2LL/A","Special Order","Pink","M4 chip with 8‑core CPU, 8‑core GPU","16GB","512GB SSD","Gigabit","Magic Keyboard","None",{"$f":"_xlfn.XLOOKUP(Table14[[#This Row],[TDS SKU]],Sheet2!$B:$B,Sheet2!C:C)","v":"B"},{"$f":"_xlfn.XLOOKUP(Table14[[#This Row],[TDS SKU]],Sheet2!$B:$B,Sheet2!D:D)","v":"A"},{"$f":"_xlfn.XLOOKUP(Table14[[#This Row],[TDS SKU]],Sheet2!$B:$B,Sheet2!E:E)","v":"CTO BO"},{"$f":"LEFT(Table14[[#This Row],[Apple Part ]],4)","v":"Z1E6"}]
["Z1E6","14316762",1729,"CTO IMAC M4 8CPU 8GPU 16GB 1TB  PINK GIG ETH ","SR1A2LL/A","Special Order","Pink","M4 chip with 8‑core CPU, 8‑core GPU","16GB","1TB SSD","Gigabit","Magic Keyboard","None",{"$f":"_xlfn.XLOOKUP(Table14[[#This Row],[TDS SKU]],Sheet2!$B:$B,Sheet2!C:C)","v":"B"},{"$f":"_xlfn.XLOOKUP(Table14[[#This Row],[TDS SKU]],Sheet2!$B:$B,Sheet2!D:D)","v":"A"},{"$f":"_xlfn.XLOOKUP(Table14[[#This Row],[TDS SKU]],Sheet2!$B:$B,Sheet2!E:E)","v":"CTO BO"},{"$f":"LEFT(Table14[[#This Row],[Apple Part ]],4)","v":"Z1E6"}]
["Z1E6","14316748",1529,"CTO IMAC M4 8CPU 8GPU 24GB 256GB  PINK GIG ETH ","SR1A2LL/A","Special Order","Pink","M4 chip with 8‑core CPU, 8‑core GPU","24GB","256GB SSD","Gigabit","Magic Keyboard","None",{"$f":"_xlfn.XLOOKUP(Table14[[#This Row],[TDS SKU]],Sheet2!$B:$B,Sheet2!C:C)","v":"B"},{"$f":"_xlfn.XLOOKUP(Table14[[#This Row],[TDS SKU]],Sheet2!$B:$B,Sheet2!D:D)","v":"A"},{"$f":"_xlfn.XLOOKUP(Table14[[#This Row],[TDS SKU]],Sheet2!$B:$B,Sheet2!E:E)","v":"CTO BO"},{"$f":"LEFT(Table14[[#This Row],[Apple Part ]],4)","v":"Z1E6"}]
["Z1E6","14316756",1729,"CTO IMAC M4 8CPU 8GPU 24GB 512GB  PINK GIG ETH ","SR1A2LL/A","Special Order","Pink","M4 chip with 8‑core CPU, 8‑core GPU","24GB","512GB SSD","Gigabit","Magic Keyboard","None",{"$f":"_xlfn.XLOOKUP(Table14[[#This Row],[TDS SKU]],Sheet2!$B:$B,Sheet2!C:C)","v":"B"},{"$f":"_xlfn.XLOOKUP(Table14[[#This Row],[TDS SKU]],Sheet2!$B:$B,Sheet2!D:D)","v":"A"},{"$f":"_xlfn.XLOOKUP(Table14[[#This Row],[TDS SKU]],Sheet2!$B:$B,Sheet2!E:E)","v":"CTO BO"},{"$f":"LEFT(Table14[[#This Row],[Apple Part ]],4)","v":"Z1E6"}]
["Z1E6","14316764",1929,"CTO IMAC M4 8CPU 8GPU 24GB 1TB  PINK GIG ETH ","SR1A2LL/A","Special Order","Pink","M4 chip with 8‑core CPU, 8‑core GPU","24GB","1TB SSD","Gigabit","Magic Keyboard","None",{"$f":"_xlfn.XLOOKUP(Table14[[#This Row],[TDS SKU]],Sheet2!$B:$B,Sheet2!C:C)","v":"B"},{"$f":"_xlfn.XLOOKUP(Table14[[#This Row],[TDS SKU]],Sheet2!$B:$B,Sheet2!D:D)","v":"A"},{"$f":"_xlfn.XLOOKUP(Table14[[#This Row],[TDS SKU]],Sheet2!$B:$B,Sheet2!E:E)","v":"CTO BO"},{"$f":"LEFT(Table14[[#This Row],[Apple Part ]],4)","v":"Z1E6"}]
["Z1E6","14316750",1409,"CTO IMAC M4 8CPU 8GPU 16GB 256GB TID NK PINK GIG ETH ","SR1A2LL/A","Special Order","Pink","M4 chip with 8‑core CPU, 8‑core GPU","16GB","256GB SSD","Gigabit","Magic Keyboard with Touch ID and Numeric Keypad","None",{"$f":"_xlfn.XLOOKUP(Table14[[#This Row],[TDS SKU]],Sheet2!$B:$B,Sheet2!C:C)","v":"B"},{"$f":"_xlfn.XLOOKUP(Table14[[#This Row],[TDS SKU]],Sheet2!$B:$B,Sheet2!D:D)","v":"A"},{"$f":"_xlfn.XLOOKUP(Table14[[#This Row],[TDS SKU]],Sheet2!$B:$B,Sheet2!E:E)","v":"CTO BO"},{"$f":"LEFT(Table14[[#This Row],[Apple Part ]],4)","v":"Z1E6"}]
["Z1E6","14316751",1579,"CTO IMAC M4 8CPU 8GPU 24GB 256GB TID NK PINK  ","SR1A2LL/A","Special Order","Pink","M4 chip with 8‑core CPU, 8‑core GPU","24GB","256GB SSD","None","Magic Keyboard with Touch ID and Numeric Keypad","None",{"$f":"_xlfn.XLOOKUP(Table14[[#This Row],[TDS SKU]],Sheet2!$B:$B,Sheet2!C:C)","v":"B"},{"$f":"_xlfn.XLOOKUP(Table14[[#This Row],[TDS SKU]],Sheet2!$B:$B,Sheet2!D:D)","v":"A"},{"$f":"_xlfn.XLOOKUP(Table14[[#This Row],[TDS SKU]],Sheet2!$B:$B,Sheet2!E:E)","v":"CTO BO"},{"$f":"LEFT(Table14[[#This Row],[Apple Part ]],4)","v":"Z1E6"}]
["Z1E6","14316752",1609,"CTO IMAC M4 8CPU 8GPU 24GB 256GB TID NK PINK GIG ETH ","SR1A2LL/A","Special Order","Pink","M4 chip with 8‑core CPU, 8‑core GPU","24GB","256GB SSD","Gigabit","Magic Keyboard with Touch ID and Numeric Keypad","None",{"$f":"_xlfn.XLOOKUP(Table14[[#This Row],[TDS SKU]],Sheet2!$B:$B,Sheet2!C:C)","v":"B"},{"$f":"_xlfn.XLOOKUP(Table14[[#This Row],[TDS SKU]],Sheet2!$B:$B,Sheet2!D:D)","v":"A"},{"$f":"_xlfn.XLOOKUP(Table14[[#This Row],[TDS SKU]],Sheet2!$B:$B,Sheet2!E:E)","v":"CTO BO"},{"$f":"LEFT(Table14[[#This Row],[Apple Part ]],4)","v":"Z1E6"}]
["Z1E6","14316757",1579,"CTO IMAC M4 8CPU 8GPU 16GB 512GB TID NK PINK  ","SR1A2LL/A",{"$f":"IF(OR(P149=\"CTO BO\",P149=\"ZPN BO\"),\"Special Order\",\"Stocked\")","v":"Special Order"},"Pink","M4 chip with 8‑core CPU, 8‑core GPU","16GB","512GB SSD","None","Magic Keyboard with Touch ID and Numeric Keypad","None",{"$f":"_xlfn.XLOOKUP(Table14[[#This Row],[TDS SKU]],Sheet2!$B:$B,Sheet2!C:C)","v":"B"},{"$f":"_xlfn.XLOOKUP(Table14[[#This Row],[TDS SKU]],Sheet2!$B:$B,Sheet2!D:D)","v":"A"},{"$f":"_xlfn.XLOOKUP(Table14[[#This Row],[TDS SKU]],Sheet2!$B:$B,Sheet2!E:E)","v":"CTO BO"},{"$f":"LEFT(Table14[[#This Row],[Apple Part ]],4)","v":"Z1E6"}]
["Z1E6","14316758",1609,"CTO IMAC M4 8CPU 8GPU 16GB 512GB TID NK PINK GIG ETH ","SR1A2LL/A","Special Order","Pink","M4 chip with 8‑core CPU, 8‑core GPU","16GB","512GB SSD","Gigabit","Magic Keyboard with Touch ID and Numeric Keypad","None",{"$f":"_xlfn.XLOOKUP(Table14[[#This Row],[TDS SKU]],Sheet2!$B:$B,Sheet2!C:C)","v":"B"},{"$f":"_xlfn.XLOOKUP(Table14[[#This Row],[TDS SKU]],Sheet2!$B:$B,Sheet2!D:D)","v":"A"},{"$f":"_xlfn.XLOOKUP(Table14[[#This Row],[TDS SKU]],Sheet2!$B:$B,Sheet2!E:E)","v":"CTO BO"},{"$f":"LEFT(Table14[[#This Row],[Apple Part ]],4)","v":"Z1E6"}]
["Z1E6","14316759",1779,"CTO IMAC M4 8CPU 8GPU 24GB 512GB TID NK PINK  ","SR1A2LL/A","Special Order","Pink","M4 chip with 8‑core CPU, 8‑core GPU","24GB","512GB SSD","None","Magic Keyboard with Touch ID and Numeric Keypad","None",{"$f":"_xlfn.XLOOKUP(Table14[[#This Row],[TDS SKU]],Sheet2!$B:$B,Sheet2!C:C)","v":"B"},{"$f":"_xlfn.XLOOKUP(Table14[[#This Row],[TDS SKU]],Sheet2!$B:$B,Sheet2!D:D)","v":"A"},{"$f":"_xlfn.XLOOKUP(Table14[[#This Row],[TDS SKU]],Sheet2!$B:$B,Sheet2!E:E)","v":"CTO BO"},{"$f":"LEFT(Table14[[#This Row],[Apple Part ]],4)","v":"Z1E6"}]
["Z1E6","14316760",1809,"CTO IMAC M4 8CPU 8GPU 24GB 512GB TID NK PINK GIG ETH ","SR1A2LL/A","Special Order","Pink","M4 chip with 8‑core CPU, 8‑core GPU","24GB","512GB SSD","Gigabit","Magic Keyboard with Touch ID and Numeric Keypad","None",{"$f":"_xlfn.XLOOKUP(Table14[[#This Row],[TDS SKU]],Sheet2!$B:$B,Sheet2!C:C)","v":"B"},{"$f":"_xlfn.XLOOKUP(Table14[[#This Row],[TDS SKU]],Sheet2!$B:$B,Sheet2!D:D)","v":"A"},{"$f":"_xlfn.XLOOKUP(Table14[[#This Row],[TDS SKU]],Sheet2!$B:$B,Sheet2!E:E)","v":"CTO BO"},{"$f":"LEFT(Table14[[#This Row],[Apple Part ]],4)","v":"Z1E6"}]
["Z1E6","14316765",1779,"CTO IMAC M4 8CPU 8GPU 16GB 1TB TID NK PINK  ","SR1A2LL/A","Special Order","Pink","M4 chip with 8‑core CPU, 8‑core GPU","16GB","1TB SSD","None","Magic Keyboard with Touch ID and Numeric Keypad","None",{"$f":"_xlfn.XLOOKUP(Table14[[#This Row],[TDS SKU]],Sheet2!$B:$B,Sheet2!C:C)","v":"B"},{"$f":"_xlfn.XLOOKUP(Table14[[#This Row],[TDS SKU]],Sheet2!$B:$B,Sheet2!D:D)","v":"A"},{"$f":"_xlfn.XLOOKUP(Table14[[#This Row],[TDS SKU]],Sheet2!$B:$B,Sheet2!E:E)","v":"CTO BO"},{"$f":"LEFT(Table14[[#This Row],[Apple Part ]],4)","v":"Z1E6"}]
["Z1E6","14316766",1809,"CTO IMAC M4 8CPU 8GPU 16GB 1TB TID NK PINK GIG ETH ","SR1A2LL/A","Special Order","Pink","M4 chip with 8‑core CPU, 8‑core GPU","16GB","1TB SSD","Gigabit","Magic Keyboard with Touch ID and Numeric Keypad","None",{"$f":"_xlfn.XLOOKUP(Table14[[#This Row],[TDS SKU]],Sheet2!$B:$B,Sheet2!C:C)","v":"B"},{"$f":"_xlfn.XLOOKUP(Table14[[#This Row],[TDS SKU]],Sheet2!$B:$B,Sheet2!D:D)","v":"A"},{"$f":"_xlfn.XLOOKUP(Table14[[#This Row],[TDS SKU]],Sheet2!$B:$B,Sheet2!E:E)","v":"CTO BO"},{"$f":"LEFT(Table14[[#This Row],[Apple Part ]],4)","v":"Z1E6"}]
["Z1E6","14316767",1979,"CTO IMAC M4 8CPU 8GPU 24GB 1TB TID NK PINK  ","SR1A2LL/A","Special Order","Pink","M4 chip with 8‑core CPU, 8‑core GPU","24GB","1TB SSD","None","Magic Keyboard with Touch ID and Numeric Keypad","None",{"$f":"_xlfn.XLOOKUP(Table14[[#This Row],[TDS SKU]],Sheet2!$B:$B,Sheet2!C:C)","v":"B"},{"$f":"_xlfn.XLOOKUP(Table14[[#This Row],[TDS SKU]],Sheet2!$B:$B,Sheet2!D:D)","v":"A"},{"$f":"_xlfn.XLOOKUP(Table14[[#This Row],[TDS SKU]],Sheet2!$B:$B,Sheet2!E:E)","v":"CTO BO"},{"$f":"LEFT(Table14[[#This Row],[Apple Part ]],4)","v":"Z1E6"}]
["Z1E6","14316768",2009,"CTO IMAC M4 8CPU 8GPU 24GB 1TB TID NK PINK GIG ETH ","SR1A2LL/A","Special Order","Pink","M4 chip with 8‑core CPU, 8‑core GPU","24GB","1TB SSD","Gigabit","Magic Keyboard with Touch ID and Numeric Keypad","None",{"$f":"_xlfn.XLOOKUP(Table14[[#This Row],[TDS SKU]],Sheet2!$B:$B,Sheet2!C:C)","v":"B"},{"$f":"_xlfn.XLOOKUP(Table14[[#This Row],[TDS SKU]],Sheet2!$B:$B,Sheet2!D:D)","v":"A"},{"$f":"_xlfn.XLOOKUP(Table14[[#This Row],[TDS SKU]],Sheet2!$B:$B,Sheet2!E:E)","v":"CTO BO"},{"$f":"LEFT(Table14[[#This Row],[Apple Part ]],4)","v":"Z1E6"}]
["Z1E7","14316804",1499,"CTO IMAC M4 8CPU 8GPU 16GB 512GB  PURPLE  ","SR1A2LL/A","Special Order","Purple","M4 chip with 8‑core CPU, 8‑core GPU","16GB","512GB SSD","None","Magic Keyboard","None",{"$f":"_xlfn.XLOOKUP(Table14[[#This Row],[TDS SKU]],Sheet2!$B:$B,Sheet2!C:C)","v":"B"},{"$f":"_xlfn.XLOOKUP(Table14[[#This Row],[TDS SKU]],Sheet2!$B:$B,Sheet2!D:D)","v":"A"},{"$f":"_xlfn.XLOOKUP(Table14[[#This Row],[TDS SKU]],Sheet2!$B:$B,Sheet2!E:E)","v":"CTO BO"},{"$f":"LEFT(Table14[[#This Row],[Apple Part ]],4)","v":"Z1E7"}]
["Z1E7","14316812",1699,"CTO IMAC M4 8CPU 8GPU 16GB 1TB  PURPLE  ","SR1A2LL/A","Special Order","Purple","M4 chip with 8‑core CPU, 8‑core GPU","16GB","1TB SSD","None","Magic Keyboard","None",{"$f":"_xlfn.XLOOKUP(Table14[[#This Row],[TDS SKU]],Sheet2!$B:$B,Sheet2!C:C)","v":"B"},{"$f":"_xlfn.XLOOKUP(Table14[[#This Row],[TDS SKU]],Sheet2!$B:$B,Sheet2!D:D)","v":"A"},{"$f":"_xlfn.XLOOKUP(Table14[[#This Row],[TDS SKU]],Sheet2!$B:$B,Sheet2!E:E)","v":"CTO BO"},{"$f":"LEFT(Table14[[#This Row],[Apple Part ]],4)","v":"Z1E7"}]
["Z1E7","14316790",1379,"CTO IMAC M4 8CPU 8GPU 16GB 256GB TID NK PURPLE  ","SR1A2LL/A","Special Order","Purple","M4 chip with 8‑core CPU, 8‑core GPU","16GB","256GB SSD","None","Magic Keyboard with Touch ID and Numeric Keypad","None",{"$f":"_xlfn.XLOOKUP(Table14[[#This Row],[TDS SKU]],Sheet2!$B:$B,Sheet2!C:C)","v":"B"},{"$f":"_xlfn.XLOOKUP(Table14[[#This Row],[TDS SKU]],Sheet2!$B:$B,Sheet2!D:D)","v":"A"},{"$f":"_xlfn.XLOOKUP(Table14[[#This Row],[TDS SKU]],Sheet2!$B:$B,Sheet2!E:E)","v":"CTO BO"},{"$f":"LEFT(Table14[[#This Row],[Apple Part ]],4)","v":"Z1E7"}]
["Z1E7","14316788",1499,"CTO IMAC M4 8CPU 8GPU 24GB 256GB  PURPLE  ","SR1A2LL/A","Special Order","Purple","M4 chip with 8‑core CPU, 8‑core GPU","24GB","256GB SSD","None","Magic Keyboard","None",{"$f":"_xlfn.XLOOKUP(Table14[[#This Row],[TDS SKU]],Sheet2!$B:$B,Sheet2!C:C)","v":"B"},{"$f":"_xlfn.XLOOKUP(Table14[[#This Row],[TDS SKU]],Sheet2!$B:$B,Sheet2!D:D)","v":"A"},{"$f":"_xlfn.XLOOKUP(Table14[[#This Row],[TDS SKU]],Sheet2!$B:$B,Sheet2!E:E)","v":"CTO BO"},{"$f":"LEFT(Table14[[#This Row],[Apple Part ]],4)","v":"Z1E7"}]
["Z1E7","14316787",1329,"CTO IMAC M4 8CPU 8GPU 16GB 256GB  PURPLE GIG ETH ","SR1A2LL/A","Special Order","Purple","M4 chip with 8‑core CPU, 8‑core GPU","16GB","256GB SSD","Gigabit","Magic Keyboard","None",{"$f":"_xlfn.XLOOKUP(Table14[[#This Row],[TDS SKU]],Sheet2!$B:$B,Sheet2!C:C)","v":"B"},{"$f":"_xlfn.XLOOKUP(Table14[[#This Row],[TDS SKU]],Sheet2!$B:$B,Sheet2!D:D)","v":"A"},{"$f":"_xlfn.XLOOKUP(Table14[[#This Row],[TDS SKU]],Sheet2!$B:$B,Sheet2!E:E)","v":"CTO BO"},{"$f":"LEFT(Table14[[#This Row],[Apple Part ]],4)","v":"Z1E7"}]
["Z1E7","14316806",1699,"CTO IMAC M4 8CPU 8GPU 24GB 512GB  PURPLE  ","SR1A2LL/A","Special Order","Purple","M4 chip with 8‑core CPU, 8‑core GPU","24GB","512GB SSD","None","Magic Keyboard","None",{"$f":"_xlfn.XLOOKUP(Table14[[#This Row],[TDS SKU]],Sheet2!$B:$B,Sheet2!C:C)","v":"B"},{"$f":"_xlfn.XLOOKUP(Table14[[#This Row],[TDS SKU]],Sheet2!$B:$B,Sheet2!D:D)","v":"A"},{"$f":"_xlfn.XLOOKUP(Table14[[#This Row],[TDS SKU]],Sheet2!$B:$B,Sheet2!E:E)","v":"CTO BO"},{"$f":"LEFT(Table14[[#This Row],[Apple Part ]],4)","v":"Z1E7"}]
["Z1E7","14316844",1899,"CTO IMAC M4 8CPU 8GPU 24GB 1TB  PURPLE  ","SR1A2LL/A","Special Order","Purple","M4 chip with 8‑core CPU, 8‑core GPU","24GB","1TB SSD","None","Magic Keyboard","None",{"$f":"_xlfn.XLOOKUP(Table14[[#This Row],[TDS SKU]],Sheet2!$B:$B,Sheet2!C:C)","v":"B"},{"$f":"_xlfn.XLOOKUP(Table14[[#This Row],[TDS SKU]],Sheet2!$B:$B,Sheet2!D:D)","v":"A"},{"$f":"_xlfn.XLOOKUP(Table14[[#This Row],[TDS SKU]],Sheet2!$B:$B,Sheet2!E:E)","v":"CTO BO"},{"$f":"LEFT(Table14[[#This Row],[Apple Part ]],4)","v":"Z1E7"}]
["Z1E7","14316789",1529,"CTO IMAC M4 8CPU 8GPU 24GB 256GB  PURPLE GIG ETH ","SR1A2LL/A","Special Order","Purple","M4 chip with 8‑core CPU, 8‑core GPU","24GB","256GB SSD","Gigabit","Magic Keyboard","None",{"$f":"_xlfn.XLOOKUP(Table14[[#This Row],[TDS SKU]],Sheet2!$B:$B,Sheet2!C:C)","v":"B"},{"$f":"_xlfn.XLOOKUP(Table14[[#This Row],[TDS SKU]],Sheet2!$B:$B,Sheet2!D:D)","v":"A"},{"$f":"_xlfn.XLOOKUP(Table14[[#This Row],[TDS SKU]],Sheet2!$B:$B,Sheet2!E:E)","v":"CTO BO"},{"$f":"LEFT(Table14[[#This Row],[Apple Part ]],4)","v":"Z1E7"}]
["Z1E7","14316805",1529,"CTO IMAC M4 8CPU 8GPU 16GB 512GB  PURPLE GIG ETH ","SR1A2LL/A","Special Order","Purple","M4 chip with 8‑core CPU, 8‑core GPU","16GB","512GB SSD","Gigabit","Magic Keyboard","None",{"$f":"_xlfn.XLOOKUP(Table14[[#This Row],[TDS SKU]],Sheet2!$B:$B,Sheet2!C:C)","v":"B"},{"$f":"_xlfn.XLOOKUP(Table14[[#This Row],[TDS SKU]],Sheet2!$B:$B,Sheet2!D:D)","v":"A"},{"$f":"_xlfn.XLOOKUP(Table14[[#This Row],[TDS SKU]],Sheet2!$B:$B,Sheet2!E:E)","v":"CTO BO"},{"$f":"LEFT(Table14[[#This Row],[Apple Part ]],4)","v":"Z1E7"}]
["Z1E7","14316807",1729,"CTO IMAC M4 8CPU 8GPU 24GB 512GB  PURPLE GIG ETH ","SR1A2LL/A","Special Order","Purple","M4 chip with 8‑core CPU, 8‑core GPU","24GB","512GB SSD","Gigabit","Magic Keyboard","None",{"$f":"_xlfn.XLOOKUP(Table14[[#This Row],[TDS SKU]],Sheet2!$B:$B,Sheet2!C:C)","v":"B"},{"$f":"_xlfn.XLOOKUP(Table14[[#This Row],[TDS SKU]],Sheet2!$B:$B,Sheet2!D:D)","v":"A"},{"$f":"_xlfn.XLOOKUP(Table14[[#This Row],[TDS SKU]],Sheet2!$B:$B,Sheet2!E:E)","v":"CTO BO"},{"$f":"LEFT(Table14[[#This Row],[Apple Part ]],4)","v":"Z1E7"}]
["Z1E7","14316843",1729,"CTO IMAC M4 8CPU 8GPU 16GB 1TB  PURPLE GIG ETH ","SR1A2LL/A","Special Order","Purple","M4 chip with 8‑core CPU, 8‑core GPU","16GB","1TB SSD","Gigabit","Magic Keyboard","None",{"$f":"_xlfn.XLOOKUP(Table14[[#This Row],[TDS SKU]],Sheet2!$B:$B,Sheet2!C:C)","v":"B"},{"$f":"_xlfn.XLOOKUP(Table14[[#This Row],[TDS SKU]],Sheet2!$B:$B,Sheet2!D:D)","v":"A"},{"$f":"_xlfn.XLOOKUP(Table14[[#This Row],[TDS SKU]],Sheet2!$B:$B,Sheet2!E:E)","v":"CTO BO"},{"$f":"LEFT(Table14[[#This Row],[Apple Part ]],4)","v":"Z1E7"}]
["Z1E7","14316845",1929,"CTO IMAC M4 8CPU 8GPU 24GB 1TB  PURPLE GIG ETH ","SR1A2LL/A","Special Order","Purple","M4 chip with 8‑core CPU, 8‑core GPU","24GB","1TB SSD","Gigabit","Magic Keyboard","None",{"$f":"_xlfn.XLOOKUP(Table14[[#This Row],[TDS SKU]],Sheet2!$B:$B,Sheet2!C:C)","v":"B"},{"$f":"_xlfn.XLOOKUP(Table14[[#This Row],[TDS SKU]],Sheet2!$B:$B,Sheet2!D:D)","v":"A"},{"$f":"_xlfn.XLOOKUP(Table14[[#This Row],[TDS SKU]],Sheet2!$B:$B,Sheet2!E:E)","v":"CTO BO"},{"$f":"LEFT(Table14[[#This Row],[Apple Part ]],4)","v":"Z1E7"}]
["Z1E7","14316810",1779,"CTO IMAC M4 8CPU 8GPU 24GB 512GB TID NK PURPLE  ","SR1A2LL/A","Special Order","Purple","M4 chip with 8‑core CPU, 8‑core GPU","24GB","512GB SSD","None","Magic Keyboard with Touch ID and Numeric Keypad","None",{"$f":"_xlfn.XLOOKUP(Table14[[#This Row],[TDS SKU]],Sheet2!$B:$B,Sheet2!C:C)","v":"B"},{"$f":"_xlfn.XLOOKUP(Table14[[#This Row],[TDS SKU]],Sheet2!$B:$B,Sheet2!D:D)","v":"A"},{"$f":"_xlfn.XLOOKUP(Table14[[#This Row],[TDS SKU]],Sheet2!$B:$B,Sheet2!E:E)","v":"CTO BO"},{"$f":"LEFT(Table14[[#This Row],[Apple Part ]],4)","v":"Z1E7"}]
["Z1E7","14316808",1579,"CTO IMAC M4 8CPU 8GPU 16GB 512GB TID NK PURPLE  ","SR1A2LL/A","Special Order","Purple","M4 chip with 8‑core CPU, 8‑core GPU","16GB","512GB SSD","None","Magic Keyboard with Touch ID and Numeric Keypad","None",{"$f":"_xlfn.XLOOKUP(Table14[[#This Row],[TDS SKU]],Sheet2!$B:$B,Sheet2!C:C)","v":"B"},{"$f":"_xlfn.XLOOKUP(Table14[[#This Row],[TDS SKU]],Sheet2!$B:$B,Sheet2!D:D)","v":"A"},{"$f":"_xlfn.XLOOKUP(Table14[[#This Row],[TDS SKU]],Sheet2!$B:$B,Sheet2!E:E)","v":"CTO BO"},{"$f":"LEFT(Table14[[#This Row],[Apple Part ]],4)","v":"Z1E7"}]
["Z1E7","14316849",2009,"CTO IMAC M4 8CPU 8GPU 24GB 1TB TID NK PURPLE GIG ETH ","SR1A2LL/A","Special Order","Purple","M4 chip with 8‑core CPU, 8‑core GPU","24GB","1TB SSD","Gigabit","Magic Keyboard with Touch ID and Numeric Keypad","None",{"$f":"_xlfn.XLOOKUP(Table14[[#This Row],[TDS SKU]],Sheet2!$B:$B,Sheet2!C:C)","v":"B"},{"$f":"_xlfn.XLOOKUP(Table14[[#This Row],[TDS SKU]],Sheet2!$B:$B,Sheet2!D:D)","v":"A"},{"$f":"_xlfn.XLOOKUP(Table14[[#This Row],[TDS SKU]],Sheet2!$B:$B,Sheet2!E:E)","v":"CTO BO"},{"$f":"LEFT(Table14[[#This Row],[Apple Part ]],4)","v":"Z1E7"}]
["Z1E7","14316791",1409,"CTO IMAC M4 8CPU 8GPU 16GB 256GB TID NK PURPLE GIG ETH ","SR1A2LL/A","Special Order","Purple","M4 chip with 8‑core CPU, 8‑core GPU","16GB","256GB SSD","Gigabit","Magic Keyboard with Touch ID and Numeric Keypad","None",{"$f":"_xlfn.XLOOKUP(Table14[[#This Row],[TDS SKU]],Sheet2!$B:$B,Sheet2!C:C)","v":"B"},{"$f":"_xlfn.XLOOKUP(Table14[[#This Row],[TDS SKU]],Sheet2!$B:$B,Sheet2!D:D)","v":"A"},{"$f":"_xlfn.XLOOKUP(Table14[[#This Row],[TDS SKU]],Sheet2!$B:$B,Sheet2!E:E)","v":"CTO BO"},{"$f":"LEFT(Table14[[#This Row],[Apple Part ]],4)","v":"Z1E7"}]
["Z1E7","14316792",1579,"CTO IMAC M4 8CPU 8GPU 24GB 256GB TID NK PURPLE  ","SR1A2LL/A","Special Order","Purple","M4 chip with 8‑core CPU, 8‑core GPU","24GB","256GB SSD","None","Magic Keyboard with Touch ID and Numeric Keypad","None",{"$f":"_xlfn.XLOOKUP(Table14[[#This Row],[TDS SKU]],Sheet2!$B:$B,Sheet2!C:C)","v":"B"},{"$f":"_xlfn.XLOOKUP(Table14[[#This Row],[TDS SKU]],Sheet2!$B:$B,Sheet2!D:D)","v":"A"},{"$f":"_xlfn.XLOOKUP(Table14[[#This Row],[TDS SKU]],Sheet2!$B:$B,Sheet2!E:E)","v":"CTO BO"},{"$f":"LEFT(Table14[[#This Row],[Apple Part ]],4)","v":"Z1E7"}]
["Z1E7","14316803",1609,"CTO IMAC M4 8CPU 8GPU 24GB 256GB TID NK PURPLE GIG ETH ","SR1A2LL/A","Special Order","Purple","M4 chip with 8‑core CPU, 8‑core GPU","24GB","256GB SSD","Gigabit","Magic Keyboard with Touch ID and Numeric Keypad","None",{"$f":"_xlfn.XLOOKUP(Table14[[#This Row],[TDS SKU]],Sheet2!$B:$B,Sheet2!C:C)","v":"B"},{"$f":"_xlfn.XLOOKUP(Table14[[#This Row],[TDS SKU]],Sheet2!$B:$B,Sheet2!D:D)","v":"A"},{"$f":"_xlfn.XLOOKUP(Table14[[#This Row],[TDS SKU]],Sheet2!$B:$B,Sheet2!E:E)","v":"CTO BO"},{"$f":"LEFT(Table14[[#This Row],[Apple Part ]],4)","v":"Z1E7"}]
["Z1E7","14316809",1609,"CTO IMAC M4 8CPU 8GPU 16GB 512GB TID NK PURPLE GIG ETH ","SR1A2LL/A","Special Order","Purple","M4 chip with 8‑core CPU, 8‑core GPU","16GB","512GB SSD","Gigabit","Magic Keyboard with Touch ID and Numeric Keypad","None",{"$f":"_xlfn.XLOOKUP(Table14[[#This Row],[TDS SKU]],Sheet2!$B:$B,Sheet2!C:C)","v":"B"},{"$f":"_xlfn.XLOOKUP(Table14[[#This Row],[TDS SKU]],Sheet2!$B:$B,Sheet2!D:D)","v":"A"},{"$f":"_xlfn.XLOOKUP(Table14[[#This Row],[TDS SKU]],Sheet2!$B:$B,Sheet2!E:E)","v":"CTO BO"},{"$f":"LEFT(Table14[[#This Row],[Apple Part ]],4)","v":"Z1E7"}]
["Z1E7","14316811",1809,"CTO IMAC M4 8CPU 8GPU 24GB 512GB TID NK PURPLE GIG ETH ","SR1A2LL/A","Special Order","Purple","M4 chip with 8‑core CPU, 8‑core GPU","24GB","512GB SSD","Gigabit","Magic Keyboard with Touch ID and Numeric Keypad","None",{"$f":"_xlfn.XLOOKUP(Table14[[#This Row],[TDS SKU]],Sheet2!$B:$B,Sheet2!C:C)","v":"B"},{"$f":"_xlfn.XLOOKUP(Table14[[#This Row],[TDS SKU]],Sheet2!$B:$B,Sheet2!D:D)","v":"A"},{"$f":"_xlfn.XLOOKUP(Table14[[#This Row],[TDS SKU]],Sheet2!$B:$B,Sheet2!E:E)","v":"CTO BO"},{"$f":"LEFT(Table14[[#This Row],[Apple Part ]],4)","v":"Z1E7"}]
["Z1E7","14316846",1779,"CTO IMAC M4 8CPU 8GPU 16GB 1TB TID NK PURPLE  ","SR1A2LL/A","Special Order","Purple","M4 chip with 8‑core CPU, 8‑core GPU","16GB","1TB SSD","None","Magic Keyboard with Touch ID and Numeric Keypad","None",{"$f":"_xlfn.XLOOKUP(Table14[[#This Row],[TDS SKU]],Sheet2!$B:$B,Sheet2!C:C)","v":"B"},{"$f":"_xlfn.XLOOKUP(Table14[[#This Row],[TDS SKU]],Sheet2!$B:$B,Sheet2!D:D)","v":"A"},{"$f":"_xlfn.XLOOKUP(Table14[[#This Row],[TDS SKU]],Sheet2!$B:$B,Sheet2!E:E)","v":"CTO BO"},{"$f":"LEFT(Table14[[#This Row],[Apple Part ]],4)","v":"Z1E7"}]
["Z1E7","14316847",1809,"CTO IMAC M4 8CPU 8GPU 16GB 1TB TID NK PURPLE GIG ETH ","SR1A2LL/A","Special Order","Purple","M4 chip with 8‑core CPU, 8‑core GPU","16GB","1TB SSD","Gigabit","Magic Keyboard with Touch ID and Numeric Keypad","None",{"$f":"_xlfn.XLOOKUP(Table14[[#This Row],[TDS SKU]],Sheet2!$B:$B,Sheet2!C:C)","v":"B"},{"$f":"_xlfn.XLOOKUP(Table14[[#This Row],[TDS SKU]],Sheet2!$B:$B,Sheet2!D:D)","v":"A"},{"$f":"_xlfn.XLOOKUP(Table14[[#This Row],[TDS SKU]],Sheet2!$B:$B,Sheet2!E:E)","v":"CTO BO"},{"$f":"LEFT(Table14[[#This Row],[Apple Part ]],4)","v":"Z1E7"}]
["Z1E7","14316848",1979,"CTO IMAC M4 8CPU 8GPU 24GB 1TB TID NK PURPLE  ","SR1A2LL/A","Special Order","Purple","M4 chip with 8‑core CPU, 8‑core GPU","24GB","1TB SSD","None","Magic Keyboard with Touch ID and Numeric Keypad","None",{"$f":"_xlfn.XLOOKUP(Table14[[#This Row],[TDS SKU]],Sheet2!$B:$B,Sheet2!C:C)","v":"B"},{"$f":"_xlfn.XLOOKUP(Table14[[#This Row],[TDS SKU]],Sheet2!$B:$B,Sheet2!D:D)","v":"A"},{"$f":"_xlfn.XLOOKUP(Table14[[#This Row],[TDS SKU]],Sheet2!$B:$B,Sheet2!E:E)","v":"CTO BO"},{"$f":"LEFT(Table14[[#This Row],[Apple Part ]],4)","v":"Z1E7"}]
["Z1E7","15132607",1299,"CTO IMAC M4 8CPU 8GPU 16GB 256GB  PURPLE  ","SR1A2LL/A","Special Order","Purple","M4 chip with 8‑core CPU, 8‑core GPU","16GB","256GB SSD","None","Magic Keyboard","None",{"$f":"_xlfn.XLOOKUP(Table14[[#This Row],[TDS SKU]],Sheet2!$B:$B,Sheet2!C:C)","v":"B"},{"$f":"_xlfn.XLOOKUP(Table14[[#This Row],[TDS SKU]],Sheet2!$B:$B,Sheet2!D:D)","v":"A"},{"$f":"_xlfn.XLOOKUP(Table14[[#This Row],[TDS SKU]],Sheet2!$B:$B,Sheet2!E:E)","v":"ZPN BO"},{"$f":"LEFT(Table14[[#This Row],[Apple Part ]],4)","v":"Z1E7"}]
["Z1E8","14316850",1299,"CTO IMAC M4 8CPU 8GPU 16GB 256GB  ORANGE  ","SR1A2LL/A","Special Order","Orange","M4 chip with 8‑core CPU, 8‑core GPU","16GB","256GB SSD","None","Magic Keyboard","None",{"$f":"_xlfn.XLOOKUP(Table14[[#This Row],[TDS SKU]],Sheet2!$B:$B,Sheet2!C:C)","v":"B"},{"$f":"_xlfn.XLOOKUP(Table14[[#This Row],[TDS SKU]],Sheet2!$B:$B,Sheet2!D:D)","v":"A"},{"$f":"_xlfn.XLOOKUP(Table14[[#This Row],[TDS SKU]],Sheet2!$B:$B,Sheet2!E:E)","v":"CTO BO"},{"$f":"LEFT(Table14[[#This Row],[Apple Part ]],4)","v":"Z1E8"}]
["Z1E8","14316838",1499,"CTO IMAC M4 8CPU 8GPU 16GB 512GB  ORANGE  ","SR1A2LL/A","Special Order","Orange","M4 chip with 8‑core CPU, 8‑core GPU","16GB","512GB SSD","None","Magic Keyboard","None",{"$f":"_xlfn.XLOOKUP(Table14[[#This Row],[TDS SKU]],Sheet2!$B:$B,Sheet2!C:C)","v":"B"},{"$f":"_xlfn.XLOOKUP(Table14[[#This Row],[TDS SKU]],Sheet2!$B:$B,Sheet2!D:D)","v":"A"},{"$f":"_xlfn.XLOOKUP(Table14[[#This Row],[TDS SKU]],Sheet2!$B:$B,Sheet2!E:E)","v":"CTO BO"},{"$f":"LEFT(Table14[[#This Row],[Apple Part ]],4)","v":"Z1E8"}]
["Z1E8","14316856",1699,"CTO IMAC M4 8CPU 8GPU 16GB 1TB  ORANGE  ","SR1A2LL/A","Special Order","Orange","M4 chip with 8‑core CPU, 8‑core GPU","16GB","1TB SSD","None","Magic Keyboard","None",{"$f":"_xlfn.XLOOKUP(Table14[[#This Row],[TDS SKU]],Sheet2!$B:$B,Sheet2!C:C)","v":"B"},{"$f":"_xlfn.XLOOKUP(Table14[[#This Row],[TDS SKU]],Sheet2!$B:$B,Sheet2!D:D)","v":"A"},{"$f":"_xlfn.XLOOKUP(Table14[[#This Row],[TDS SKU]],Sheet2!$B:$B,Sheet2!E:E)","v":"CTO BO"},{"$f":"LEFT(Table14[[#This Row],[Apple Part ]],4)","v":"Z1E8"}]
["Z1E8","14316834",1379,"CTO IMAC M4 8CPU 8GPU 16GB 256GB TID NK ORANGE  ","SR1A2LL/A","Special Order","Orange","M4 chip with 8‑core CPU, 8‑core GPU","16GB","256GB SSD","None","Magic Keyboard with Touch ID and Numeric Keypad","None",{"$f":"_xlfn.XLOOKUP(Table14[[#This Row],[TDS SKU]],Sheet2!$B:$B,Sheet2!C:C)","v":"B"},{"$f":"_xlfn.XLOOKUP(Table14[[#This Row],[TDS SKU]],Sheet2!$B:$B,Sheet2!D:D)","v":"A"},{"$f":"_xlfn.XLOOKUP(Table14[[#This Row],[TDS SKU]],Sheet2!$B:$B,Sheet2!E:E)","v":"CTO BO"},{"$f":"LEFT(Table14[[#This Row],[Apple Part ]],4)","v":"Z1E8"}]
["Z1E8","14316852",1499,"CTO IMAC M4 8CPU 8GPU 24GB 256GB  ORANGE  ","SR1A2LL/A","Special Order","Orange","M4 chip with 8‑core CPU, 8‑core GPU","24GB","256GB SSD","None","Magic Keyboard","None",{"$f":"_xlfn.XLOOKUP(Table14[[#This Row],[TDS SKU]],Sheet2!$B:$B,Sheet2!C:C)","v":"B"},{"$f":"_xlfn.XLOOKUP(Table14[[#This Row],[TDS SKU]],Sheet2!$B:$B,Sheet2!D:D)","v":"A"},{"$f":"_xlfn.XLOOKUP(Table14[[#This Row],[TDS SKU]],Sheet2!$B:$B,Sheet2!E:E)","v":"CTO BO"},{"$f":"LEFT(Table14[[#This Row],[Apple Part ]],4)","v":"Z1E8"}]
["Z1E8","14316851",1329,"CTO IMAC M4 8CPU 8GPU 16GB 256GB  ORANGE GIG ETH ","SR1A2LL/A","Special Order","Orange","M4 chip with 8‑core CPU, 8‑core GPU","16GB","256GB SSD","Gigabit","Magic Keyboard","None",{"$f":"_xlfn.XLOOKUP(Table14[[#This Row],[TDS SKU]],Sheet2!$B:$B,Sheet2!C:C)","v":"B"},{"$f":"_xlfn.XLOOKUP(Table14[[#This Row],[TDS SKU]],Sheet2!$B:$B,Sheet2!D:D)","v":"A"},{"$f":"_xlfn.XLOOKUP(Table14[[#This Row],[TDS SKU]],Sheet2!$B:$B,Sheet2!E:E)","v":"CTO BO"},{"$f":"LEFT(Table14[[#This Row],[Apple Part ]],4)","v":"Z1E8"}]
["Z1E8","14316839",1529,"CTO IMAC M4 8CPU 8GPU 16GB 512GB  ORANGE GIG ETH ","SR1A2LL/A","Special Order","Orange","M4 chip with 8‑core CPU, 8‑core GPU","16GB","512GB SSD","Gigabit","Magic Keyboard","None",{"$f":"_xlfn.XLOOKUP(Table14[[#This Row],[TDS SKU]],Sheet2!$B:$B,Sheet2!C:C)","v":"B"},{"$f":"_xlfn.XLOOKUP(Table14[[#This Row],[TDS SKU]],Sheet2!$B:$B,Sheet2!D:D)","v":"A"},{"$f":"_xlfn.XLOOKUP(Table14[[#This Row],[TDS SKU]],Sheet2!$B:$B,Sheet2!E:E)","v":"CTO BO"},{"$f":"LEFT(Table14[[#This Row],[Apple Part ]],4)","v":"Z1E8"}]
["Z1E8","14316857",1729,"CTO IMAC M4 8CPU 8GPU 16GB 1TB  ORANGE GIG ETH ","SR1A2LL/A","Special Order","Orange","M4 chip with 8‑core CPU, 8‑core GPU","16GB","1TB SSD","Gigabit","Magic Keyboard","None",{"$f":"_xlfn.XLOOKUP(Table14[[#This Row],[TDS SKU]],Sheet2!$B:$B,Sheet2!C:C)","v":"B"},{"$f":"_xlfn.XLOOKUP(Table14[[#This Row],[TDS SKU]],Sheet2!$B:$B,Sheet2!D:D)","v":"A"},{"$f":"_xlfn.XLOOKUP(Table14[[#This Row],[TDS SKU]],Sheet2!$B:$B,Sheet2!E:E)","v":"CTO BO"},{"$f":"LEFT(Table14[[#This Row],[Apple Part ]],4)","v":"Z1E8"}]
["Z1E8","14316833",1529,"CTO IMAC M4 8CPU 8GPU 24GB 256GB  ORANGE GIG ETH ","SR1A2LL/A","Special Order","Orange","M4 chip with 8‑core CPU, 8‑core GPU","24GB","256GB SSD","Gigabit","Magic Keyboard","None",{"$f":"_xlfn.XLOOKUP(Table14[[#This Row],[TDS SKU]],Sheet2!$B:$B,Sheet2!C:C)","v":"B"},{"$f":"_xlfn.XLOOKUP(Table14[[#This Row],[TDS SKU]],Sheet2!$B:$B,Sheet2!D:D)","v":"A"},{"$f":"_xlfn.XLOOKUP(Table14[[#This Row],[TDS SKU]],Sheet2!$B:$B,Sheet2!E:E)","v":"CTO BO"},{"$f":"LEFT(Table14[[#This Row],[Apple Part ]],4)","v":"Z1E8"}]
["Z1E8","14316840",1699,"CTO IMAC M4 8CPU 8GPU 24GB 512GB  ORANGE  ","SR1A2LL/A","Special Order","Orange","M4 chip with 8‑core CPU, 8‑core GPU","24GB","512GB SSD","None","Magic Keyboard","None",{"$f":"_xlfn.XLOOKUP(Table14[[#This Row],[TDS SKU]],Sheet2!$B:$B,Sheet2!C:C)","v":"B"},{"$f":"_xlfn.XLOOKUP(Table14[[#This Row],[TDS SKU]],Sheet2!$B:$B,Sheet2!D:D)","v":"A"},{"$f":"_xlfn.XLOOKUP(Table14[[#This Row],[TDS SKU]],Sheet2!$B:$B,Sheet2!E:E)","v":"CTO BO"},{"$f":"LEFT(Table14[[#This Row],[Apple Part ]],4)","v":"Z1E8"}]
["Z1E8","14316841",1729,"CTO IMAC M4 8CPU 8GPU 24GB 512GB  ORANGE GIG ETH ","SR1A2LL/A","Special Order","Orange","M4 chip with 8‑core CPU, 8‑core GPU","24GB","512GB SSD","Gigabit","Magic Keyboard","None",{"$f":"_xlfn.XLOOKUP(Table14[[#This Row],[TDS SKU]],Sheet2!$B:$B,Sheet2!C:C)","v":"B"},{"$f":"_xlfn.XLOOKUP(Table14[[#This Row],[TDS SKU]],Sheet2!$B:$B,Sheet2!D:D)","v":"A"},{"$f":"_xlfn.XLOOKUP(Table14[[#This Row],[TDS SKU]],Sheet2!$B:$B,Sheet2!E:E)","v":"CTO BO"},{"$f":"LEFT(Table14[[#This Row],[Apple Part ]],4)","v":"Z1E8"}]
["Z1E8","14316858",1899,"CTO IMAC M4 8CPU 8GPU 24GB 1TB  ORANGE  ","SR1A2LL/A","Special Order","Orange","M4 chip with 8‑core CPU, 8‑core GPU","24GB","1TB SSD","None","Magic Keyboard","None",{"$f":"_xlfn.XLOOKUP(Table14[[#This Row],[TDS SKU]],Sheet2!$B:$B,Sheet2!C:C)","v":"B"},{"$f":"_xlfn.XLOOKUP(Table14[[#This Row],[TDS SKU]],Sheet2!$B:$B,Sheet2!D:D)","v":"A"},{"$f":"_xlfn.XLOOKUP(Table14[[#This Row],[TDS SKU]],Sheet2!$B:$B,Sheet2!E:E)","v":"CTO BO"},{"$f":"LEFT(Table14[[#This Row],[Apple Part ]],4)","v":"Z1E8"}]
["Z1E8","14316859",1929,"CTO IMAC M4 8CPU 8GPU 24GB 1TB  ORANGE GIG ETH ","SR1A2LL/A","Special Order","Orange","M4 chip with 8‑core CPU, 8‑core GPU","24GB","1TB SSD","Gigabit","Magic Keyboard","None",{"$f":"_xlfn.XLOOKUP(Table14[[#This Row],[TDS SKU]],Sheet2!$B:$B,Sheet2!C:C)","v":"B"},{"$f":"_xlfn.XLOOKUP(Table14[[#This Row],[TDS SKU]],Sheet2!$B:$B,Sheet2!D:D)","v":"A"},{"$f":"_xlfn.XLOOKUP(Table14[[#This Row],[TDS SKU]],Sheet2!$B:$B,Sheet2!E:E)","v":"CTO BO"},{"$f":"LEFT(Table14[[#This Row],[Apple Part ]],4)","v":"Z1E8"}]
["Z1E8","14316835",1409,"CTO IMAC M4 8CPU 8GPU 16GB 256GB TID NK ORANGE GIG ETH ","SR1A2LL/A","Special Order","Orange","M4 chip with 8‑core CPU, 8‑core GPU","16GB","256GB SSD","Gigabit","Magic Keyboard with Touch ID and Numeric Keypad","None",{"$f":"_xlfn.XLOOKUP(Table14[[#This Row],[TDS SKU]],Sheet2!$B:$B,Sheet2!C:C)","v":"B"},{"$f":"_xlfn.XLOOKUP(Table14[[#This Row],[TDS SKU]],Sheet2!$B:$B,Sheet2!D:D)","v":"A"},{"$f":"_xlfn.XLOOKUP(Table14[[#This Row],[TDS SKU]],Sheet2!$B:$B,Sheet2!E:E)","v":"CTO BO"},{"$f":"LEFT(Table14[[#This Row],[Apple Part ]],4)","v":"Z1E8"}]
["Z1E8","14316836",1579,"CTO IMAC M4 8CPU 8GPU 24GB 256GB TID NK ORANGE  ","SR1A2LL/A","Special Order","Orange","M4 chip with 8‑core CPU, 8‑core GPU","24GB","256GB SSD","None","Magic Keyboard with Touch ID and Numeric Keypad","None",{"$f":"_xlfn.XLOOKUP(Table14[[#This Row],[TDS SKU]],Sheet2!$B:$B,Sheet2!C:C)","v":"B"},{"$f":"_xlfn.XLOOKUP(Table14[[#This Row],[TDS SKU]],Sheet2!$B:$B,Sheet2!D:D)","v":"A"},{"$f":"_xlfn.XLOOKUP(Table14[[#This Row],[TDS SKU]],Sheet2!$B:$B,Sheet2!E:E)","v":"CTO BO"},{"$f":"LEFT(Table14[[#This Row],[Apple Part ]],4)","v":"Z1E8"}]
["Z1E8","14316837",1609,"CTO IMAC M4 8CPU 8GPU 24GB 256GB TID NK ORANGE GIG ETH ","SR1A2LL/A","Special Order","Orange","M4 chip with 8‑core CPU, 8‑core GPU","24GB","256GB SSD","Gigabit","Magic Keyboard with Touch ID and Numeric Keypad","None",{"$f":"_xlfn.XLOOKUP(Table14[[#This Row],[TDS SKU]],Sheet2!$B:$B,Sheet2!C:C)","v":"B"},{"$f":"_xlfn.XLOOKUP(Table14[[#This Row],[TDS SKU]],Sheet2!$B:$B,Sheet2!D:D)","v":"A"},{"$f":"_xlfn.XLOOKUP(Table14[[#This Row],[TDS SKU]],Sheet2!$B:$B,Sheet2!E:E)","v":"CTO BO"},{"$f":"LEFT(Table14[[#This Row],[Apple Part ]],4)","v":"Z1E8"}]
["Z1E8","14316842",1579,"CTO IMAC M4 8CPU 8GPU 16GB 512GB TID NK ORANGE  ","SR1A2LL/A","Special Order","Orange","M4 chip with 8‑core CPU, 8‑core GPU","16GB","512GB SSD","None","Magic Keyboard with Touch ID and Numeric Keypad","None",{"$f":"_xlfn.XLOOKUP(Table14[[#This Row],[TDS SKU]],Sheet2!$B:$B,Sheet2!C:C)","v":"B"},{"$f":"_xlfn.XLOOKUP(Table14[[#This Row],[TDS SKU]],Sheet2!$B:$B,Sheet2!D:D)","v":"A"},{"$f":"_xlfn.XLOOKUP(Table14[[#This Row],[TDS SKU]],Sheet2!$B:$B,Sheet2!E:E)","v":"CTO BO"},{"$f":"LEFT(Table14[[#This Row],[Apple Part ]],4)","v":"Z1E8"}]
["Z1E8","14316853",1609,"CTO IMAC M4 8CPU 8GPU 16GB 512GB TID NK ORANGE GIG ETH ","SR1A2LL/A","Special Order","Orange","M4 chip with 8‑core CPU, 8‑core GPU","16GB","512GB SSD","Gigabit","Magic Keyboard with Touch ID and Numeric Keypad","None",{"$f":"_xlfn.XLOOKUP(Table14[[#This Row],[TDS SKU]],Sheet2!$B:$B,Sheet2!C:C)","v":"B"},{"$f":"_xlfn.XLOOKUP(Table14[[#This Row],[TDS SKU]],Sheet2!$B:$B,Sheet2!D:D)","v":"A"},{"$f":"_xlfn.XLOOKUP(Table14[[#This Row],[TDS SKU]],Sheet2!$B:$B,Sheet2!E:E)","v":"CTO BO"},{"$f":"LEFT(Table14[[#This Row],[Apple Part ]],4)","v":"Z1E8"}]
["Z1E8","14316854",1779,"CTO IMAC M4 8CPU 8GPU 24GB 512GB TID NK ORANGE  ","SR1A2LL/A","Special Order","Orange","M4 chip with 8‑core CPU, 8‑core GPU","24GB","512GB SSD","None","Magic Keyboard with Touch ID and Numeric Keypad","None",{"$f":"_xlfn.XLOOKUP(Table14[[#This Row],[TDS SKU]],Sheet2!$B:$B,Sheet2!C:C)","v":"B"},{"$f":"_xlfn.XLOOKUP(Table14[[#This Row],[TDS SKU]],Sheet2!$B:$B,Sheet2!D:D)","v":"A"},{"$f":"_xlfn.XLOOKUP(Table14[[#This Row],[TDS SKU]],Sheet2!$B:$B,Sheet2!E:E)","v":"CTO BO"},{"$f":"LEFT(Table14[[#This Row],[Apple Part ]],4)","v":"Z1E8"}]
["Z1E8","14316855",1809,"CTO IMAC M4 8CPU 8GPU 24GB 512GB TID NK ORANGE GIG ETH ","SR1A2LL/A","Special Order","Orange","M4 chip with 8‑core CPU, 8‑core GPU","24GB","512GB SSD","Gigabit","Magic Keyboard with Touch ID and Numeric Keypad","None",{"$f":"_xlfn.XLOOKUP(Table14[[#This Row],[TDS SKU]],Sheet2!$B:$B,Sheet2!C:C)","v":"B"},{"$f":"_xlfn.XLOOKUP(Table14[[#This Row],[TDS SKU]],Sheet2!$B:$B,Sheet2!D:D)","v":"A"},{"$f":"_xlfn.XLOOKUP(Table14[[#This Row],[TDS SKU]],Sheet2!$B:$B,Sheet2!E:E)","v":"CTO BO"},{"$f":"LEFT(Table14[[#This Row],[Apple Part ]],4)","v":"Z1E8"}]
["Z1E8","14316860",1779,"CTO IMAC M4 8CPU 8GPU 16GB 1TB TID NK ORANGE  ","SR1A2LL/A","Special Order","Orange","M4 chip with 8‑core CPU, 8‑core GPU","16GB","1TB SSD","None","Magic Keyboard with Touch ID and Numeric Keypad","None",{"$f":"_xlfn.XLOOKUP(Table14[[#This Row],[TDS SKU]],Sheet2!$B:$B,Sheet2!C:C)","v":"B"},{"$f":"_xlfn.XLOOKUP(Table14[[#This Row],[TDS SKU]],Sheet2!$B:$B,Sheet2!D:D)","v":"A"},{"$f":"_xlfn.XLOOKUP(Table14[[#This Row],[TDS SKU]],Sheet2!$B:$B,Sheet2!E:E)","v":"CTO BO"},{"$f":"LEFT(Table14[[#This Row],[Apple Part ]],4)","v":"Z1E8"}]
["Z1E8","14316861",1809,"CTO IMAC M4 8CPU 8GPU 16GB 1TB TID NK ORANGE GIG ETH ","SR1A2LL/A","Special Order","Orange","M4 chip with 8‑core CPU, 8‑core GPU","16GB","1TB SSD","Gigabit","Magic Keyboard with Touch ID and Numeric Keypad","None",{"$f":"_xlfn.XLOOKUP(Table14[[#This Row],[TDS SKU]],Sheet2!$B:$B,Sheet2!C:C)","v":"B"},{"$f":"_xlfn.XLOOKUP(Table14[[#This Row],[TDS SKU]],Sheet2!$B:$B,Sheet2!D:D)","v":"A"},{"$f":"_xlfn.XLOOKUP(Table14[[#This Row],[TDS SKU]],Sheet2!$B:$B,Sheet2!E:E)","v":"CTO BO"},{"$f":"LEFT(Table14[[#This Row],[Apple Part ]],4)","v":"Z1E8"}]
["Z1E8","14316862",1979,"CTO IMAC M4 8CPU 8GPU 24GB 1TB TID NK ORANGE  ","SR1A2LL/A","Special Order","Orange","M4 chip with 8‑core CPU, 8‑core GPU","24GB","1TB SSD","None","Magic Keyboard with Touch ID and Numeric Keypad","None",{"$f":"_xlfn.XLOOKUP(Table14[[#This Row],[TDS SKU]],Sheet2!$B:$B,Sheet2!C:C)","v":"B"},{"$f":"_xlfn.XLOOKUP(Table14[[#This Row],[TDS SKU]],Sheet2!$B:$B,Sheet2!D:D)","v":"A"},{"$f":"_xlfn.XLOOKUP(Table14[[#This Row],[TDS SKU]],Sheet2!$B:$B,Sheet2!E:E)","v":"CTO BO"},{"$f":"LEFT(Table14[[#This Row],[Apple Part ]],4)","v":"Z1E8"}]
["Z1E8","14316863",2009,"CTO IMAC M4 8CPU 8GPU 24GB 1TB TID NK ORANGE GIG ETH ","SR1A2LL/A","Special Order","Orange","M4 chip with 8‑core CPU, 8‑core GPU","24GB","1TB SSD","Gigabit","Magic Keyboard with Touch ID and Numeric Keypad","None",{"$f":"_xlfn.XLOOKUP(Table14[[#This Row],[TDS SKU]],Sheet2!$B:$B,Sheet2!C:C)","v":"B"},{"$f":"_xlfn.XLOOKUP(Table14[[#This Row],[TDS SKU]],Sheet2!$B:$B,Sheet2!D:D)","v":"A"},{"$f":"_xlfn.XLOOKUP(Table14[[#This Row],[TDS SKU]],Sheet2!$B:$B,Sheet2!E:E)","v":"CTO BO"},{"$f":"LEFT(Table14[[#This Row],[Apple Part ]],4)","v":"Z1E8"}]
["Z1EH","14309774",1529,"CTO IMAC M4 10CPU 10GPU 16GB 256GB TID NK SILVER  ","SR1A2LL/A","Special Order","Silver","M4 chip with 10‑core CPU, 10‑core GPU","16GB","256GB SSD","Gigabit","Magic Keyboard with Touch ID and Numeric Keypad","None",{"$f":"_xlfn.XLOOKUP(Table14[[#This Row],[TDS SKU]],Sheet2!$B:$B,Sheet2!C:C)","v":"B"},{"$f":"_xlfn.XLOOKUP(Table14[[#This Row],[TDS SKU]],Sheet2!$B:$B,Sheet2!D:D)","v":"A"},{"$f":"_xlfn.XLOOKUP(Table14[[#This Row],[TDS SKU]],Sheet2!$B:$B,Sheet2!E:E)","v":"CTO BO"},{"$f":"LEFT(Table14[[#This Row],[Apple Part ]],4)","v":"Z1EH"}]
["Z1EH","14309772",1699,"CTO IMAC M4 10CPU 10GPU 24GB 256GB TID SILVER  ","SR1A2LL/A","Special Order","Silver","M4 chip with 10‑core CPU, 10‑core GPU","24GB","256GB SSD","Gigabit","Magic Keyboard with Touch ID","None",{"$f":"_xlfn.XLOOKUP(Table14[[#This Row],[TDS SKU]],Sheet2!$B:$B,Sheet2!C:C)","v":"B"},{"$f":"_xlfn.XLOOKUP(Table14[[#This Row],[TDS SKU]],Sheet2!$B:$B,Sheet2!D:D)","v":"A"},{"$f":"_xlfn.XLOOKUP(Table14[[#This Row],[TDS SKU]],Sheet2!$B:$B,Sheet2!E:E)","v":"CTO BO"},{"$f":"LEFT(Table14[[#This Row],[Apple Part ]],4)","v":"Z1EH"}]
["Z1EH","14309773",1899,"CTO IMAC M4 10CPU 10GPU 24GB 256GB TID SILVER NANO ","SR1A2LL/A","Special Order","Silver","M4 chip with 10‑core CPU, 10‑core GPU","24GB","256GB SSD","Gigabit","Magic Keyboard with Touch ID","Nano-Texture",{"$f":"_xlfn.XLOOKUP(Table14[[#This Row],[TDS SKU]],Sheet2!$B:$B,Sheet2!C:C)","v":"B"},{"$f":"_xlfn.XLOOKUP(Table14[[#This Row],[TDS SKU]],Sheet2!$B:$B,Sheet2!D:D)","v":"A"},{"$f":"_xlfn.XLOOKUP(Table14[[#This Row],[TDS SKU]],Sheet2!$B:$B,Sheet2!E:E)","v":"CTO BO"},{"$f":"LEFT(Table14[[#This Row],[Apple Part ]],4)","v":"Z1EH"}]
["Z1EH","14309775",1729,"CTO IMAC M4 10CPU 10GPU 16GB 256GB TID NK SILVER NANO ","SR1A2LL/A","Special Order","Silver","M4 chip with 10‑core CPU, 10‑core GPU","16GB","256GB SSD","Gigabit","Magic Keyboard with Touch ID and Numeric Keypad","Nano-Texture",{"$f":"_xlfn.XLOOKUP(Table14[[#This Row],[TDS SKU]],Sheet2!$B:$B,Sheet2!C:C)","v":"B"},{"$f":"_xlfn.XLOOKUP(Table14[[#This Row],[TDS SKU]],Sheet2!$B:$B,Sheet2!D:D)","v":"A"},{"$f":"_xlfn.XLOOKUP(Table14[[#This Row],[TDS SKU]],Sheet2!$B:$B,Sheet2!E:E)","v":"CTO BO"},{"$f":"LEFT(Table14[[#This Row],[Apple Part ]],4)","v":"Z1EH"}]
["Z1EH","14309776",1729,"CTO IMAC M4 10CPU 10GPU 24GB 256GB TID NK SILVER  ","SR1A2LL/A","Special Order","Silver","M4 chip with 10‑core CPU, 10‑core GPU","24GB","256GB SSD","Gigabit","Magic Keyboard with Touch ID and Numeric Keypad","None",{"$f":"_xlfn.XLOOKUP(Table14[[#This Row],[TDS SKU]],Sheet2!$B:$B,Sheet2!C:C)","v":"B"},{"$f":"_xlfn.XLOOKUP(Table14[[#This Row],[TDS SKU]],Sheet2!$B:$B,Sheet2!D:D)","v":"A"},{"$f":"_xlfn.XLOOKUP(Table14[[#This Row],[TDS SKU]],Sheet2!$B:$B,Sheet2!E:E)","v":"CTO BO"},{"$f":"LEFT(Table14[[#This Row],[Apple Part ]],4)","v":"Z1EH"}]
["Z1EH","14309777",1929,"CTO IMAC M4 10CPU 10GPU 24GB 256GB TID NK SILVER NANO ","SR1A2LL/A","Special Order","Silver","M4 chip with 10‑core CPU, 10‑core GPU","24GB","256GB SSD","Gigabit","Magic Keyboard with Touch ID and Numeric Keypad","Nano-Texture",{"$f":"_xlfn.XLOOKUP(Table14[[#This Row],[TDS SKU]],Sheet2!$B:$B,Sheet2!C:C)","v":"B"},{"$f":"_xlfn.XLOOKUP(Table14[[#This Row],[TDS SKU]],Sheet2!$B:$B,Sheet2!D:D)","v":"A"},{"$f":"_xlfn.XLOOKUP(Table14[[#This Row],[TDS SKU]],Sheet2!$B:$B,Sheet2!E:E)","v":"CTO BO"},{"$f":"LEFT(Table14[[#This Row],[Apple Part ]],4)","v":"Z1EH"}]
["Z1EJ","14309778",1899,"CTO IMAC M4 10CPU 10GPU 16GB 512GB TID SILVER NANO ","SR1A2LL/A","Special Order","Silver","M4 chip with 10‑core CPU, 10‑core GPU","16GB","512GB SSD","Gigabit","Magic Keyboard with Touch ID","Nano-Texture",{"$f":"_xlfn.XLOOKUP(Table14[[#This Row],[TDS SKU]],Sheet2!$B:$B,Sheet2!C:C)","v":"B"},{"$f":"_xlfn.XLOOKUP(Table14[[#This Row],[TDS SKU]],Sheet2!$B:$B,Sheet2!D:D)","v":"A"},{"$f":"_xlfn.XLOOKUP(Table14[[#This Row],[TDS SKU]],Sheet2!$B:$B,Sheet2!E:E)","v":"CTO BO"},{"$f":"LEFT(Table14[[#This Row],[Apple Part ]],4)","v":"Z1EJ"}]
["Z1EJ","14309790",2299,"CTO IMAC M4 10CPU 10GPU 16GB 2TB TID SILVER  ","SR1A2LL/A","Special Order","Silver","M4 chip with 10‑core CPU, 10‑core GPU","16GB","2TB SSD","Gigabit","Magic Keyboard with Touch ID","None",{"$f":"_xlfn.XLOOKUP(Table14[[#This Row],[TDS SKU]],Sheet2!$B:$B,Sheet2!C:C)","v":"B"},{"$f":"_xlfn.XLOOKUP(Table14[[#This Row],[TDS SKU]],Sheet2!$B:$B,Sheet2!D:D)","v":"A"},{"$f":"_xlfn.XLOOKUP(Table14[[#This Row],[TDS SKU]],Sheet2!$B:$B,Sheet2!E:E)","v":"CTO BO"},{"$f":"LEFT(Table14[[#This Row],[Apple Part ]],4)","v":"Z1EJ"}]
["Z1EJ","14309750",2099,"CTO IMAC M4 10CPU 10GPU 32GB 512GB TID SILVER  ","SR1A2LL/A",{"$f":"IF(OR(P213=\"CTO BO\",P213=\"ZPN BO\"),\"Special Order\",\"Stocked\")","v":"Special Order"},"Silver","M4 chip with 10‑core CPU, 10‑core GPU","32GB","512GB SSD","Gigabit","Magic Keyboard with Touch ID","None",{"$f":"_xlfn.XLOOKUP(Table14[[#This Row],[TDS SKU]],Sheet2!$B:$B,Sheet2!C:C)","v":"B"},{"$f":"_xlfn.XLOOKUP(Table14[[#This Row],[TDS SKU]],Sheet2!$B:$B,Sheet2!D:D)","v":"A"},{"$f":"_xlfn.XLOOKUP(Table14[[#This Row],[TDS SKU]],Sheet2!$B:$B,Sheet2!E:E)","v":"CTO BO"},{"$f":"LEFT(Table14[[#This Row],[Apple Part ]],4)","v":"Z1EJ"}]
["Z1EJ","14309792",2499,"CTO IMAC M4 10CPU 10GPU 24GB 2TB TID SILVER  ","SR1A2LL/A","Special Order","Silver","M4 chip with 10‑core CPU, 10‑core GPU","24GB","2TB SSD","Gigabit","Magic Keyboard with Touch ID","None",{"$f":"_xlfn.XLOOKUP(Table14[[#This Row],[TDS SKU]],Sheet2!$B:$B,Sheet2!C:C)","v":"B"},{"$f":"_xlfn.XLOOKUP(Table14[[#This Row],[TDS SKU]],Sheet2!$B:$B,Sheet2!D:D)","v":"A"},{"$f":"_xlfn.XLOOKUP(Table14[[#This Row],[TDS SKU]],Sheet2!$B:$B,Sheet2!E:E)","v":"CTO BO"},{"$f":"LEFT(Table14[[#This Row],[Apple Part ]],4)","v":"Z1EJ"}]
["Z1EJ","14309794",2699,"CTO IMAC M4 10CPU 10GPU 32GB 2TB TID SILVER  ","SR1A2LL/A","Special Order","Silver","M4 chip with 10‑core CPU, 10‑core GPU","32GB","2TB SSD","Gigabit","Magic Keyboard with Touch ID","None",{"$f":"_xlfn.XLOOKUP(Table14[[#This Row],[TDS SKU]],Sheet2!$B:$B,Sheet2!C:C)","v":"B"},{"$f":"_xlfn.XLOOKUP(Table14[[#This Row],[TDS SKU]],Sheet2!$B:$B,Sheet2!D:D)","v":"A"},{"$f":"_xlfn.XLOOKUP(Table14[[#This Row],[TDS SKU]],Sheet2!$B:$B,Sheet2!E:E)","v":"CTO BO"},{"$f":"LEFT(Table14[[#This Row],[Apple Part ]],4)","v":"Z1EJ"}]
["Z1EJ","14309788",2329,"CTO IMAC M4 10CPU 10GPU 32GB 1TB TID NK SILVER  ","SR1A2LL/A","Special Order","Silver","M4 chip with 10‑core CPU, 10‑core GPU","32GB","1TB SSD","Gigabit","Magic Keyboard with Touch ID and Numeric Keypad","None",{"$f":"_xlfn.XLOOKUP(Table14[[#This Row],[TDS SKU]],Sheet2!$B:$B,Sheet2!C:C)","v":"B"},{"$f":"_xlfn.XLOOKUP(Table14[[#This Row],[TDS SKU]],Sheet2!$B:$B,Sheet2!D:D)","v":"A"},{"$f":"_xlfn.XLOOKUP(Table14[[#This Row],[TDS SKU]],Sheet2!$B:$B,Sheet2!E:E)","v":"CTO BO"},{"$f":"LEFT(Table14[[#This Row],[Apple Part ]],4)","v":"Z1EJ"}]
["Z1EJ","14309800",2729,"CTO IMAC M4 10CPU 10GPU 32GB 2TB TID NK SILVER  ","SR1A2LL/A","Special Order","Silver","M4 chip with 10‑core CPU, 10‑core GPU","32GB","2TB SSD","Gigabit","Magic Keyboard with Touch ID and Numeric Keypad","None",{"$f":"_xlfn.XLOOKUP(Table14[[#This Row],[TDS SKU]],Sheet2!$B:$B,Sheet2!C:C)","v":"B"},{"$f":"_xlfn.XLOOKUP(Table14[[#This Row],[TDS SKU]],Sheet2!$B:$B,Sheet2!D:D)","v":"A"},{"$f":"_xlfn.XLOOKUP(Table14[[#This Row],[TDS SKU]],Sheet2!$B:$B,Sheet2!E:E)","v":"CTO BO"},{"$f":"LEFT(Table14[[#This Row],[Apple Part ]],4)","v":"Z1EJ"}]
["Z1EJ","14309784",1929,"CTO IMAC M4 10CPU 10GPU 16GB 1TB TID NK SILVER  ","SR1A2LL/A","Special Order","Silver","M4 chip with 10‑core CPU, 10‑core GPU","16GB","1TB SSD","Gigabit","Magic Keyboard with Touch ID and Numeric Keypad","None",{"$f":"_xlfn.XLOOKUP(Table14[[#This Row],[TDS SKU]],Sheet2!$B:$B,Sheet2!C:C)","v":"B"},{"$f":"_xlfn.XLOOKUP(Table14[[#This Row],[TDS SKU]],Sheet2!$B:$B,Sheet2!D:D)","v":"A"},{"$f":"_xlfn.XLOOKUP(Table14[[#This Row],[TDS SKU]],Sheet2!$B:$B,Sheet2!E:E)","v":"CTO BO"},{"$f":"LEFT(Table14[[#This Row],[Apple Part ]],4)","v":"Z1EJ"}]
["Z1EJ","14309755",2129,"CTO IMAC M4 10CPU 10GPU 24GB 512GB TID NK SILVER NANO ","SR1A2LL/A","Special Order","Silver","M4 chip with 10‑core CPU, 10‑core GPU","24GB","512GB SSD","Gigabit","Magic Keyboard with Touch ID and Numeric Keypad","Nano-Texture",{"$f":"_xlfn.XLOOKUP(Table14[[#This Row],[TDS SKU]],Sheet2!$B:$B,Sheet2!C:C)","v":"B"},{"$f":"_xlfn.XLOOKUP(Table14[[#This Row],[TDS SKU]],Sheet2!$B:$B,Sheet2!D:D)","v":"A"},{"$f":"_xlfn.XLOOKUP(Table14[[#This Row],[TDS SKU]],Sheet2!$B:$B,Sheet2!E:E)","v":"CTO BO"},{"$f":"LEFT(Table14[[#This Row],[Apple Part ]],4)","v":"Z1EJ"}]
["Z1EJ","14309754",1929,"CTO IMAC M4 10CPU 10GPU 24GB 512GB TID NK SILVER  ","SR1A2LL/A","Special Order","Silver","M4 chip with 10‑core CPU, 10‑core GPU","24GB","512GB SSD","Gigabit","Magic Keyboard with Touch ID and Numeric Keypad","None",{"$f":"_xlfn.XLOOKUP(Table14[[#This Row],[TDS SKU]],Sheet2!$B:$B,Sheet2!C:C)","v":"B"},{"$f":"_xlfn.XLOOKUP(Table14[[#This Row],[TDS SKU]],Sheet2!$B:$B,Sheet2!D:D)","v":"A"},{"$f":"_xlfn.XLOOKUP(Table14[[#This Row],[TDS SKU]],Sheet2!$B:$B,Sheet2!E:E)","v":"CTO BO"},{"$f":"LEFT(Table14[[#This Row],[Apple Part ]],4)","v":"Z1EJ"}]
["Z1EJ","14309798",2529,"CTO IMAC M4 10CPU 10GPU 24GB 2TB TID NK SILVER  ","SR1A2LL/A","Special Order","Silver","M4 chip with 10‑core CPU, 10‑core GPU","24GB","2TB SSD","Gigabit","Magic Keyboard with Touch ID and Numeric Keypad","None",{"$f":"_xlfn.XLOOKUP(Table14[[#This Row],[TDS SKU]],Sheet2!$B:$B,Sheet2!C:C)","v":"B"},{"$f":"_xlfn.XLOOKUP(Table14[[#This Row],[TDS SKU]],Sheet2!$B:$B,Sheet2!D:D)","v":"A"},{"$f":"_xlfn.XLOOKUP(Table14[[#This Row],[TDS SKU]],Sheet2!$B:$B,Sheet2!E:E)","v":"CTO BO"},{"$f":"LEFT(Table14[[#This Row],[Apple Part ]],4)","v":"Z1EJ"}]
["Z1EJ","14309795",2899,"CTO IMAC M4 10CPU 10GPU 32GB 2TB TID SILVER NANO ","SR1A2LL/A","Special Order","Silver","M4 chip with 10‑core CPU, 10‑core GPU","32GB","2TB SSD","Gigabit","Magic Keyboard with Touch ID","Nano-Texture",{"$f":"_xlfn.XLOOKUP(Table14[[#This Row],[TDS SKU]],Sheet2!$B:$B,Sheet2!C:C)","v":"B"},{"$f":"_xlfn.XLOOKUP(Table14[[#This Row],[TDS SKU]],Sheet2!$B:$B,Sheet2!D:D)","v":"A"},{"$f":"_xlfn.XLOOKUP(Table14[[#This Row],[TDS SKU]],Sheet2!$B:$B,Sheet2!E:E)","v":"CTO BO"},{"$f":"LEFT(Table14[[#This Row],[Apple Part ]],4)","v":"Z1EJ"}]
["Z1EJ","14309801",2929,"CTO IMAC M4 10CPU 10GPU 32GB 2TB TID NK SILVER NANO ","SR1A2LL/A","Special Order","Silver","M4 chip with 10‑core CPU, 10‑core GPU","32GB","2TB SSD","Gigabit","Magic Keyboard with Touch ID and Numeric Keypad","Nano-Texture",{"$f":"_xlfn.XLOOKUP(Table14[[#This Row],[TDS SKU]],Sheet2!$B:$B,Sheet2!C:C)","v":"B"},{"$f":"_xlfn.XLOOKUP(Table14[[#This Row],[TDS SKU]],Sheet2!$B:$B,Sheet2!D:D)","v":"A"},{"$f":"_xlfn.XLOOKUP(Table14[[#This Row],[TDS SKU]],Sheet2!$B:$B,Sheet2!E:E)","v":"CTO BO"},{"$f":"LEFT(Table14[[#This Row],[Apple Part ]],4)","v":"Z1EJ"}]
["Z1EJ","14309785",2129,"CTO IMAC M4 10CPU 10GPU 16GB 1TB TID NK SILVER NANO ","SR1A2LL/A","Special Order","Silver","M4 chip with 10‑core CPU, 10‑core GPU","16GB","1TB SSD","Gigabit","Magic Keyboard with Touch ID and Numeric Keypad","Nano-Texture",{"$f":"_xlfn.XLOOKUP(Table14[[#This Row],[TDS SKU]],Sheet2!$B:$B,Sheet2!C:C)","v":"B"},{"$f":"_xlfn.XLOOKUP(Table14[[#This Row],[TDS SKU]],Sheet2!$B:$B,Sheet2!D:D)","v":"A"},{"$f":"_xlfn.XLOOKUP(Table14[[#This Row],[TDS SKU]],Sheet2!$B:$B,Sheet2!E:E)","v":"CTO BO"},{"$f":"LEFT(Table14[[#This Row],[Apple Part ]],4)","v":"Z1EJ"}]
["Z1EJ","14309789",2529,"CTO IMAC M4 10CPU 10GPU 32GB 1TB TID NK SILVER NANO ","SR1A2LL/A","Special Order","Silver","M4 chip with 10‑core CPU, 10‑core GPU","32GB","1TB SSD","Gigabit","Magic Keyboard with Touch ID and Numeric Keypad","Nano-Texture",{"$f":"_xlfn.XLOOKUP(Table14[[#This Row],[TDS SKU]],Sheet2!$B:$B,Sheet2!C:C)","v":"B"},{"$f":"_xlfn.XLOOKUP(Table14[[#This Row],[TDS SKU]],Sheet2!$B:$B,Sheet2!D:D)","v":"A"},{"$f":"_xlfn.XLOOKUP(Table14[[#This Row],[TDS SKU]],Sheet2!$B:$B,Sheet2!E:E)","v":"CTO BO"},{"$f":"LEFT(Table14[[#This Row],[Apple Part ]],4)","v":"Z1EJ"}]
["Z1EJ","14309786",2129,"CTO IMAC M4 10CPU 10GPU 24GB 1TB TID NK SILVER  ","SR1A2LL/A","Special Order","Silver","M4 chip with 10‑core CPU, 10‑core GPU","24GB","1TB SSD","Gigabit","Magic Keyboard with Touch ID and Numeric Keypad","None",{"$f":"_xlfn.XLOOKUP(Table14[[#This Row],[TDS SKU]],Sheet2!$B:$B,Sheet2!C:C)","v":"B"},{"$f":"_xlfn.XLOOKUP(Table14[[#This Row],[TDS SKU]],Sheet2!$B:$B,Sheet2!D:D)","v":"A"},{"$f":"_xlfn.XLOOKUP(Table14[[#This Row],[TDS SKU]],Sheet2!$B:$B,Sheet2!E:E)","v":"CTO BO"},{"$f":"LEFT(Table14[[#This Row],[Apple Part ]],4)","v":"Z1EJ"}]
["Z1EJ","14309781",2299,"CTO IMAC M4 10CPU 10GPU 24GB 1TB TID SILVER NANO ","SR1A2LL/A","Special Order","Silver","M4 chip with 10‑core CPU, 10‑core GPU","24GB","1TB SSD","Gigabit","Magic Keyboard with Touch ID","Nano-Texture",{"$f":"_xlfn.XLOOKUP(Table14[[#This Row],[TDS SKU]],Sheet2!$B:$B,Sheet2!C:C)","v":"B"},{"$f":"_xlfn.XLOOKUP(Table14[[#This Row],[TDS SKU]],Sheet2!$B:$B,Sheet2!D:D)","v":"A"},{"$f":"_xlfn.XLOOKUP(Table14[[#This Row],[TDS SKU]],Sheet2!$B:$B,Sheet2!E:E)","v":"CTO BO"},{"$f":"LEFT(Table14[[#This Row],[Apple Part ]],4)","v":"Z1EJ"}]
["Z1EJ","14309753",1929,"CTO IMAC M4 10CPU 10GPU 16GB 512GB TID NK SILVER NANO ","SR1A2LL/A","Special Order","Silver","M4 chip with 10‑core CPU, 10‑core GPU","16GB","512GB SSD","Gigabit","Magic Keyboard with Touch ID and Numeric Keypad","Nano-Texture",{"$f":"_xlfn.XLOOKUP(Table14[[#This Row],[TDS SKU]],Sheet2!$B:$B,Sheet2!C:C)","v":"B"},{"$f":"_xlfn.XLOOKUP(Table14[[#This Row],[TDS SKU]],Sheet2!$B:$B,Sheet2!D:D)","v":"A"},{"$f":"_xlfn.XLOOKUP(Table14[[#This Row],[TDS SKU]],Sheet2!$B:$B,Sheet2!E:E)","v":"CTO BO"},{"$f":"LEFT(Table14[[#This Row],[Apple Part ]],4)","v":"Z1EJ"}]
["Z1EJ","14309783",2499,"CTO IMAC M4 10CPU 10GPU 32GB 1TB TID SILVER NANO ","SR1A2LL/A","Special Order","Silver","M4 chip with 10‑core CPU, 10‑core GPU","32GB","1TB SSD","Gigabit","Magic Keyboard with Touch ID","Nano-Texture",{"$f":"_xlfn.XLOOKUP(Table14[[#This Row],[TDS SKU]],Sheet2!$B:$B,Sheet2!C:C)","v":"B"},{"$f":"_xlfn.XLOOKUP(Table14[[#This Row],[TDS SKU]],Sheet2!$B:$B,Sheet2!D:D)","v":"A"},{"$f":"_xlfn.XLOOKUP(Table14[[#This Row],[TDS SKU]],Sheet2!$B:$B,Sheet2!E:E)","v":"CTO BO"},{"$f":"LEFT(Table14[[#This Row],[Apple Part ]],4)","v":"Z1EJ"}]
["Z1EJ","14309779",2099,"CTO IMAC M4 10CPU 10GPU 16GB 1TB TID SILVER NANO ","SR1A2LL/A","Special Order","Silver","M4 chip with 10‑core CPU, 10‑core GPU","16GB","1TB SSD","Gigabit","Magic Keyboard with Touch ID","Nano-Texture",{"$f":"_xlfn.XLOOKUP(Table14[[#This Row],[TDS SKU]],Sheet2!$B:$B,Sheet2!C:C)","v":"B"},{"$f":"_xlfn.XLOOKUP(Table14[[#This Row],[TDS SKU]],Sheet2!$B:$B,Sheet2!D:D)","v":"A"},{"$f":"_xlfn.XLOOKUP(Table14[[#This Row],[TDS SKU]],Sheet2!$B:$B,Sheet2!E:E)","v":"CTO BO"},{"$f":"LEFT(Table14[[#This Row],[Apple Part ]],4)","v":"Z1EJ"}]
["Z1EJ","14309749",2099,"CTO IMAC M4 10CPU 10GPU 24GB 512GB TID SILVER NANO ","SR1A2LL/A","Special Order","Silver","M4 chip with 10‑core CPU, 10‑core GPU","24GB","512GB SSD","Gigabit","Magic Keyboard with Touch ID","Nano-Texture",{"$f":"_xlfn.XLOOKUP(Table14[[#This Row],[TDS SKU]],Sheet2!$B:$B,Sheet2!C:C)","v":"B"},{"$f":"_xlfn.XLOOKUP(Table14[[#This Row],[TDS SKU]],Sheet2!$B:$B,Sheet2!D:D)","v":"A"},{"$f":"_xlfn.XLOOKUP(Table14[[#This Row],[TDS SKU]],Sheet2!$B:$B,Sheet2!E:E)","v":"CTO BO"},{"$f":"LEFT(Table14[[#This Row],[Apple Part ]],4)","v":"Z1EJ"}]
["Z1EJ","14309751",2299,"CTO IMAC M4 10CPU 10GPU 32GB 512GB TID SILVER NANO ","SR1A2LL/A","Special Order","Silver","M4 chip with 10‑core CPU, 10‑core GPU","32GB","512GB SSD","Gigabit","Magic Keyboard with Touch ID","Nano-Texture",{"$f":"_xlfn.XLOOKUP(Table14[[#This Row],[TDS SKU]],Sheet2!$B:$B,Sheet2!C:C)","v":"B"},{"$f":"_xlfn.XLOOKUP(Table14[[#This Row],[TDS SKU]],Sheet2!$B:$B,Sheet2!D:D)","v":"A"},{"$f":"_xlfn.XLOOKUP(Table14[[#This Row],[TDS SKU]],Sheet2!$B:$B,Sheet2!E:E)","v":"CTO BO"},{"$f":"LEFT(Table14[[#This Row],[Apple Part ]],4)","v":"Z1EJ"}]
["Z1EJ","14309756",2129,"CTO IMAC M4 10CPU 10GPU 32GB 512GB TID NK SILVER  ","SR1A2LL/A","Special Order","Silver","M4 chip with 10‑core CPU, 10‑core GPU","32GB","512GB SSD","Gigabit","Magic Keyboard with Touch ID and Numeric Keypad","None",{"$f":"_xlfn.XLOOKUP(Table14[[#This Row],[TDS SKU]],Sheet2!$B:$B,Sheet2!C:C)","v":"B"},{"$f":"_xlfn.XLOOKUP(Table14[[#This Row],[TDS SKU]],Sheet2!$B:$B,Sheet2!D:D)","v":"A"},{"$f":"_xlfn.XLOOKUP(Table14[[#This Row],[TDS SKU]],Sheet2!$B:$B,Sheet2!E:E)","v":"CTO BO"},{"$f":"LEFT(Table14[[#This Row],[Apple Part ]],4)","v":"Z1EJ"}]
["Z1EJ","14309757",2329,"CTO IMAC M4 10CPU 10GPU 32GB 512GB TID NK SILVER NANO ","SR1A2LL/A","Special Order","Silver","M4 chip with 10‑core CPU, 10‑core GPU","32GB","512GB SSD","Gigabit","Magic Keyboard with Touch ID and Numeric Keypad","Nano-Texture",{"$f":"_xlfn.XLOOKUP(Table14[[#This Row],[TDS SKU]],Sheet2!$B:$B,Sheet2!C:C)","v":"B"},{"$f":"_xlfn.XLOOKUP(Table14[[#This Row],[TDS SKU]],Sheet2!$B:$B,Sheet2!D:D)","v":"A"},{"$f":"_xlfn.XLOOKUP(Table14[[#This Row],[TDS SKU]],Sheet2!$B:$B,Sheet2!E:E)","v":"CTO BO"},{"$f":"LEFT(Table14[[#This Row],[Apple Part ]],4)","v":"Z1EJ"}]
["Z1EJ","14309787",2329,"CTO IMAC M4 10CPU 10GPU 24GB 1TB TID NK SILVER NANO ","SR1A2LL/A","Special Order","Silver","M4 chip with 10‑core CPU, 10‑core GPU","24GB","1TB SSD","Gigabit","Magic Keyboard with Touch ID and Numeric Keypad","Nano-Texture",{"$f":"_xlfn.XLOOKUP(Table14[[#This Row],[TDS SKU]],Sheet2!$B:$B,Sheet2!C:C)","v":"B"},{"$f":"_xlfn.XLOOKUP(Table14[[#This Row],[TDS SKU]],Sheet2!$B:$B,Sheet2!D:D)","v":"A"},{"$f":"_xlfn.XLOOKUP(Table14[[#This Row],[TDS SKU]],Sheet2!$B:$B,Sheet2!E:E)","v":"CTO BO"},{"$f":"LEFT(Table14[[#This Row],[Apple Part ]],4)","v":"Z1EJ"}]
["Z1EJ","14309791",2499,"CTO IMAC M4 10CPU 10GPU 16GB 2TB TID SILVER NANO ","SR1A2LL/A","Special Order","Silver","M4 chip with 10‑core CPU, 10‑core GPU","16GB","2TB SSD","Gigabit","Magic Keyboard with Touch ID","Nano-Texture",{"$f":"_xlfn.XLOOKUP(Table14[[#This Row],[TDS SKU]],Sheet2!$B:$B,Sheet2!C:C)","v":"B"},{"$f":"_xlfn.XLOOKUP(Table14[[#This Row],[TDS SKU]],Sheet2!$B:$B,Sheet2!D:D)","v":"A"},{"$f":"_xlfn.XLOOKUP(Table14[[#This Row],[TDS SKU]],Sheet2!$B:$B,Sheet2!E:E)","v":"CTO BO"},{"$f":"LEFT(Table14[[#This Row],[Apple Part ]],4)","v":"Z1EJ"}]
["Z1EJ","14309793",2699,"CTO IMAC M4 10CPU 10GPU 24GB 2TB TID SILVER NANO ","SR1A2LL/A","Special Order","Silver","M4 chip with 10‑core CPU, 10‑core GPU","24GB","2TB SSD","Gigabit","Magic Keyboard with Touch ID","Nano-Texture",{"$f":"_xlfn.XLOOKUP(Table14[[#This Row],[TDS SKU]],Sheet2!$B:$B,Sheet2!C:C)","v":"B"},{"$f":"_xlfn.XLOOKUP(Table14[[#This Row],[TDS SKU]],Sheet2!$B:$B,Sheet2!D:D)","v":"A"},{"$f":"_xlfn.XLOOKUP(Table14[[#This Row],[TDS SKU]],Sheet2!$B:$B,Sheet2!E:E)","v":"CTO BO"},{"$f":"LEFT(Table14[[#This Row],[Apple Part ]],4)","v":"Z1EJ"}]
["Z1EJ","14309796",2329,"CTO IMAC M4 10CPU 10GPU 16GB 2TB TID NK SILVER  ","SR1A2LL/A","Special Order","Silver","M4 chip with 10‑core CPU, 10‑core GPU","16GB","2TB SSD","Gigabit","Magic Keyboard with Touch ID and Numeric Keypad","None",{"$f":"_xlfn.XLOOKUP(Table14[[#This Row],[TDS SKU]],Sheet2!$B:$B,Sheet2!C:C)","v":"B"},{"$f":"_xlfn.XLOOKUP(Table14[[#This Row],[TDS SKU]],Sheet2!$B:$B,Sheet2!D:D)","v":"A"},{"$f":"_xlfn.XLOOKUP(Table14[[#This Row],[TDS SKU]],Sheet2!$B:$B,Sheet2!E:E)","v":"CTO BO"},{"$f":"LEFT(Table14[[#This Row],[Apple Part ]],4)","v":"Z1EJ"}]
["Z1EJ","14309797",2529,"CTO IMAC M4 10CPU 10GPU 16GB 2TB TID NK SILVER NANO ","SR1A2LL/A","Special Order","Silver","M4 chip with 10‑core CPU, 10‑core GPU","16GB","2TB SSD","Gigabit","Magic Keyboard with Touch ID and Numeric Keypad","Nano-Texture",{"$f":"_xlfn.XLOOKUP(Table14[[#This Row],[TDS SKU]],Sheet2!$B:$B,Sheet2!C:C)","v":"B"},{"$f":"_xlfn.XLOOKUP(Table14[[#This Row],[TDS SKU]],Sheet2!$B:$B,Sheet2!D:D)","v":"A"},{"$f":"_xlfn.XLOOKUP(Table14[[#This Row],[TDS SKU]],Sheet2!$B:$B,Sheet2!E:E)","v":"CTO BO"},{"$f":"LEFT(Table14[[#This Row],[Apple Part ]],4)","v":"Z1EJ"}]
["Z1EJ","14309799",2729,"CTO IMAC M4 10CPU 10GPU 24GB 2TB TID NK SILVER NANO ","SR1A2LL/A","Special Order","Silver","M4 chip with 10‑core CPU, 10‑core GPU","24GB","2TB SSD","Gigabit","Magic Keyboard with Touch ID and Numeric Keypad","Nano-Texture",{"$f":"_xlfn.XLOOKUP(Table14[[#This Row],[TDS SKU]],Sheet2!$B:$B,Sheet2!C:C)","v":"B"},{"$f":"_xlfn.XLOOKUP(Table14[[#This Row],[TDS SKU]],Sheet2!$B:$B,Sheet2!D:D)","v":"A"},{"$f":"_xlfn.XLOOKUP(Table14[[#This Row],[TDS SKU]],Sheet2!$B:$B,Sheet2!E:E)","v":"CTO BO"},{"$f":"LEFT(Table14[[#This Row],[Apple Part ]],4)","v":"Z1EJ"}]
["Z1EJ","15132610",1899,"CTO IMAC M4 10CPU 10GPU 16GB 1TB TID SILVER  ","SR1A2LL/A","Special Order","Silver","M4 chip with 10‑core CPU, 10‑core GPU","16GB","1TB SSD","Gigabit","Magic Keyboard with Touch ID","None",{"$f":"_xlfn.XLOOKUP(Table14[[#This Row],[TDS SKU]],Sheet2!$B:$B,Sheet2!C:C)","v":"A"},{"$f":"_xlfn.XLOOKUP(Table14[[#This Row],[TDS SKU]],Sheet2!$B:$B,Sheet2!D:D)","v":"A"},{"$f":"_xlfn.XLOOKUP(Table14[[#This Row],[TDS SKU]],Sheet2!$B:$B,Sheet2!E:E)","v":"ZPN BO"},{"$f":"LEFT(Table14[[#This Row],[Apple Part ]],4)","v":"Z1EJ"}]
["Z1EJ","15132611",1729,"CTO IMAC M4 10CPU 10GPU 16GB 512GB TID NK SILVER  ","SR1A2LL/A","Special Order","Silver","M4 chip with 10‑core CPU, 10‑core GPU","16GB","512GB SSD","Gigabit","Magic Keyboard with Touch ID and Numeric Keypad","None",{"$f":"_xlfn.XLOOKUP(Table14[[#This Row],[TDS SKU]],Sheet2!$B:$B,Sheet2!C:C)","v":"B"},{"$f":"_xlfn.XLOOKUP(Table14[[#This Row],[TDS SKU]],Sheet2!$B:$B,Sheet2!D:D)","v":"A"},{"$f":"_xlfn.XLOOKUP(Table14[[#This Row],[TDS SKU]],Sheet2!$B:$B,Sheet2!E:E)","v":"ZPN BO"},{"$f":"LEFT(Table14[[#This Row],[Apple Part ]],4)","v":"Z1EJ"}]
["Z1EK","14324433",1699,"CTO IMAC M4 10CPU 10GPU 16GB 256GB TID YELLOW NANO ","SR1A2LL/A","Special Order","Yellow","M4 chip with 10‑core CPU, 10‑core GPU","16GB","256GB SSD","Gigabit","Magic Keyboard with Touch ID","Nano-Texture",{"$f":"_xlfn.XLOOKUP(Table14[[#This Row],[TDS SKU]],Sheet2!$B:$B,Sheet2!C:C)","v":"B"},{"$f":"_xlfn.XLOOKUP(Table14[[#This Row],[TDS SKU]],Sheet2!$B:$B,Sheet2!D:D)","v":"A"},{"$f":"_xlfn.XLOOKUP(Table14[[#This Row],[TDS SKU]],Sheet2!$B:$B,Sheet2!E:E)","v":"CTO BO"},{"$f":"LEFT(Table14[[#This Row],[Apple Part ]],4)","v":"Z1EK"}]
["Z1EK","14324436",1529,"CTO IMAC M4 10CPU 10GPU 16GB 256GB TID NK YELLOW  ","SR1A2LL/A","Special Order","Yellow","M4 chip with 10‑core CPU, 10‑core GPU","16GB","256GB SSD","Gigabit","Magic Keyboard with Touch ID and Numeric Keypad","None",{"$f":"_xlfn.XLOOKUP(Table14[[#This Row],[TDS SKU]],Sheet2!$B:$B,Sheet2!C:C)","v":"B"},{"$f":"_xlfn.XLOOKUP(Table14[[#This Row],[TDS SKU]],Sheet2!$B:$B,Sheet2!D:D)","v":"A"},{"$f":"_xlfn.XLOOKUP(Table14[[#This Row],[TDS SKU]],Sheet2!$B:$B,Sheet2!E:E)","v":"CTO BO"},{"$f":"LEFT(Table14[[#This Row],[Apple Part ]],4)","v":"Z1EK"}]
["Z1EK","14324434",1699,"CTO IMAC M4 10CPU 10GPU 24GB 256GB TID YELLOW  ","SR1A2LL/A","Special Order","Yellow","M4 chip with 10‑core CPU, 10‑core GPU","24GB","256GB SSD","Gigabit","Magic Keyboard with Touch ID","None",{"$f":"_xlfn.XLOOKUP(Table14[[#This Row],[TDS SKU]],Sheet2!$B:$B,Sheet2!C:C)","v":"B"},{"$f":"_xlfn.XLOOKUP(Table14[[#This Row],[TDS SKU]],Sheet2!$B:$B,Sheet2!D:D)","v":"A"},{"$f":"_xlfn.XLOOKUP(Table14[[#This Row],[TDS SKU]],Sheet2!$B:$B,Sheet2!E:E)","v":"CTO BO"},{"$f":"LEFT(Table14[[#This Row],[Apple Part ]],4)","v":"Z1EK"}]
["Z1EK","14324437",1729,"CTO IMAC M4 10CPU 10GPU 16GB 256GB TID NK YELLOW NANO ","SR1A2LL/A","Special Order","Yellow","M4 chip with 10‑core CPU, 10‑core GPU","16GB","256GB SSD","Gigabit","Magic Keyboard with Touch ID and Numeric Keypad","Nano-Texture",{"$f":"_xlfn.XLOOKUP(Table14[[#This Row],[TDS SKU]],Sheet2!$B:$B,Sheet2!C:C)","v":"B"},{"$f":"_xlfn.XLOOKUP(Table14[[#This Row],[TDS SKU]],Sheet2!$B:$B,Sheet2!D:D)","v":"A"},{"$f":"_xlfn.XLOOKUP(Table14[[#This Row],[TDS SKU]],Sheet2!$B:$B,Sheet2!E:E)","v":"CTO BO"},{"$f":"LEFT(Table14[[#This Row],[Apple Part ]],4)","v":"Z1EK"}]
["Z1EK","14324438",1729,"CTO IMAC M4 10CPU 10GPU 24GB 256GB TID NK YELLOW  ","SR1A2LL/A","Special Order","Yellow","M4 chip with 10‑core CPU, 10‑core GPU","24GB","256GB SSD","Gigabit","Magic Keyboard with Touch ID and Numeric Keypad","None",{"$f":"_xlfn.XLOOKUP(Table14[[#This Row],[TDS SKU]],Sheet2!$B:$B,Sheet2!C:C)","v":"B"},{"$f":"_xlfn.XLOOKUP(Table14[[#This Row],[TDS SKU]],Sheet2!$B:$B,Sheet2!D:D)","v":"A"},{"$f":"_xlfn.XLOOKUP(Table14[[#This Row],[TDS SKU]],Sheet2!$B:$B,Sheet2!E:E)","v":"CTO BO"},{"$f":"LEFT(Table14[[#This Row],[Apple Part ]],4)","v":"Z1EK"}]
["Z1EK","14324435",1899,"CTO IMAC M4 10CPU 10GPU 24GB 256GB TID YELLOW NANO ","SR1A2LL/A","Special Order","Yellow","M4 chip with 10‑core CPU, 10‑core GPU","24GB","256GB SSD","Gigabit","Magic Keyboard with Touch ID","Nano-Texture",{"$f":"_xlfn.XLOOKUP(Table14[[#This Row],[TDS SKU]],Sheet2!$B:$B,Sheet2!C:C)","v":"B"},{"$f":"_xlfn.XLOOKUP(Table14[[#This Row],[TDS SKU]],Sheet2!$B:$B,Sheet2!D:D)","v":"A"},{"$f":"_xlfn.XLOOKUP(Table14[[#This Row],[TDS SKU]],Sheet2!$B:$B,Sheet2!E:E)","v":"CTO BO"},{"$f":"LEFT(Table14[[#This Row],[Apple Part ]],4)","v":"Z1EK"}]
["Z1EK","14324398",1929,"CTO IMAC M4 10CPU 10GPU 24GB 256GB TID NK YELLOW NANO ","SR1A2LL/A","Special Order","Yellow","M4 chip with 10‑core CPU, 10‑core GPU","24GB","256GB SSD","Gigabit","Magic Keyboard with Touch ID and Numeric Keypad","Nano-Texture",{"$f":"_xlfn.XLOOKUP(Table14[[#This Row],[TDS SKU]],Sheet2!$B:$B,Sheet2!C:C)","v":"B"},{"$f":"_xlfn.XLOOKUP(Table14[[#This Row],[TDS SKU]],Sheet2!$B:$B,Sheet2!D:D)","v":"A"},{"$f":"_xlfn.XLOOKUP(Table14[[#This Row],[TDS SKU]],Sheet2!$B:$B,Sheet2!E:E)","v":"CTO BO"},{"$f":"LEFT(Table14[[#This Row],[Apple Part ]],4)","v":"Z1EK"}]
["Z1EL","14324389",1699,"CTO IMAC M4 10CPU 10GPU 16GB 512GB TID YELLOW  ","SR1A2LL/A","Special Order","Yellow","M4 chip with 10‑core CPU, 10‑core GPU","16GB","512GB SSD","Gigabit","Magic Keyboard with Touch ID","None",{"$f":"_xlfn.XLOOKUP(Table14[[#This Row],[TDS SKU]],Sheet2!$B:$B,Sheet2!C:C)","v":"B"},{"$f":"_xlfn.XLOOKUP(Table14[[#This Row],[TDS SKU]],Sheet2!$B:$B,Sheet2!D:D)","v":"A"},{"$f":"_xlfn.XLOOKUP(Table14[[#This Row],[TDS SKU]],Sheet2!$B:$B,Sheet2!E:E)","v":"CTO BO"},{"$f":"LEFT(Table14[[#This Row],[Apple Part ]],4)","v":"Z1EL"}]
["Z1EL","14324390",1899,"CTO IMAC M4 10CPU 10GPU 16GB 512GB TID YELLOW NANO ","SR1A2LL/A","Special Order","Yellow","M4 chip with 10‑core CPU, 10‑core GPU","16GB","512GB SSD","Gigabit","Magic Keyboard with Touch ID","Nano-Texture",{"$f":"_xlfn.XLOOKUP(Table14[[#This Row],[TDS SKU]],Sheet2!$B:$B,Sheet2!C:C)","v":"B"},{"$f":"_xlfn.XLOOKUP(Table14[[#This Row],[TDS SKU]],Sheet2!$B:$B,Sheet2!D:D)","v":"A"},{"$f":"_xlfn.XLOOKUP(Table14[[#This Row],[TDS SKU]],Sheet2!$B:$B,Sheet2!E:E)","v":"CTO BO"},{"$f":"LEFT(Table14[[#This Row],[Apple Part ]],4)","v":"Z1EL"}]
["Z1EL","14324422",1899,"CTO IMAC M4 10CPU 10GPU 16GB 1TB TID YELLOW  ","SR1A2LL/A","Special Order","Yellow","M4 chip with 10‑core CPU, 10‑core GPU","16GB","1TB SSD","Gigabit","Magic Keyboard with Touch ID","None",{"$f":"_xlfn.XLOOKUP(Table14[[#This Row],[TDS SKU]],Sheet2!$B:$B,Sheet2!C:C)","v":"B"},{"$f":"_xlfn.XLOOKUP(Table14[[#This Row],[TDS SKU]],Sheet2!$B:$B,Sheet2!D:D)","v":"A"},{"$f":"_xlfn.XLOOKUP(Table14[[#This Row],[TDS SKU]],Sheet2!$B:$B,Sheet2!E:E)","v":"CTO BO"},{"$f":"LEFT(Table14[[#This Row],[Apple Part ]],4)","v":"Z1EL"}]
["Z1EL","14324444",2299,"CTO IMAC M4 10CPU 10GPU 16GB 2TB TID YELLOW  ","SR1A2LL/A","Special Order","Yellow","M4 chip with 10‑core CPU, 10‑core GPU","16GB","2TB SSD","Gigabit","Magic Keyboard with Touch ID","None",{"$f":"_xlfn.XLOOKUP(Table14[[#This Row],[TDS SKU]],Sheet2!$B:$B,Sheet2!C:C)","v":"B"},{"$f":"_xlfn.XLOOKUP(Table14[[#This Row],[TDS SKU]],Sheet2!$B:$B,Sheet2!D:D)","v":"A"},{"$f":"_xlfn.XLOOKUP(Table14[[#This Row],[TDS SKU]],Sheet2!$B:$B,Sheet2!E:E)","v":"CTO BO"},{"$f":"LEFT(Table14[[#This Row],[Apple Part ]],4)","v":"Z1EL"}]
["Z1EL","14324395",1729,"CTO IMAC M4 10CPU 10GPU 16GB 512GB TID NK YELLOW  ","SR1A2LL/A","Special Order","Yellow","M4 chip with 10‑core CPU, 10‑core GPU","16GB","512GB SSD","Gigabit","Magic Keyboard with Touch ID and Numeric Keypad","None",{"$f":"_xlfn.XLOOKUP(Table14[[#This Row],[TDS SKU]],Sheet2!$B:$B,Sheet2!C:C)","v":"B"},{"$f":"_xlfn.XLOOKUP(Table14[[#This Row],[TDS SKU]],Sheet2!$B:$B,Sheet2!D:D)","v":"A"},{"$f":"_xlfn.XLOOKUP(Table14[[#This Row],[TDS SKU]],Sheet2!$B:$B,Sheet2!E:E)","v":"CTO BO"},{"$f":"LEFT(Table14[[#This Row],[Apple Part ]],4)","v":"Z1EL"}]
["Z1EL","14324391",1899,"CTO IMAC M4 10CPU 10GPU 24GB 512GB TID YELLOW  ","SR1A2LL/A","Special Order","Yellow","M4 chip with 10‑core CPU, 10‑core GPU","24GB","512GB SSD","Gigabit","Magic Keyboard with Touch ID","None",{"$f":"_xlfn.XLOOKUP(Table14[[#This Row],[TDS SKU]],Sheet2!$B:$B,Sheet2!C:C)","v":"B"},{"$f":"_xlfn.XLOOKUP(Table14[[#This Row],[TDS SKU]],Sheet2!$B:$B,Sheet2!D:D)","v":"A"},{"$f":"_xlfn.XLOOKUP(Table14[[#This Row],[TDS SKU]],Sheet2!$B:$B,Sheet2!E:E)","v":"CTO BO"},{"$f":"LEFT(Table14[[#This Row],[Apple Part ]],4)","v":"Z1EL"}]
["Z1EL","14324393",2099,"CTO IMAC M4 10CPU 10GPU 32GB 512GB TID YELLOW  ","SR1A2LL/A","Special Order","Yellow","M4 chip with 10‑core CPU, 10‑core GPU","32GB","512GB SSD","Gigabit","Magic Keyboard with Touch ID","None",{"$f":"_xlfn.XLOOKUP(Table14[[#This Row],[TDS SKU]],Sheet2!$B:$B,Sheet2!C:C)","v":"B"},{"$f":"_xlfn.XLOOKUP(Table14[[#This Row],[TDS SKU]],Sheet2!$B:$B,Sheet2!D:D)","v":"A"},{"$f":"_xlfn.XLOOKUP(Table14[[#This Row],[TDS SKU]],Sheet2!$B:$B,Sheet2!E:E)","v":"CTO BO"},{"$f":"LEFT(Table14[[#This Row],[Apple Part ]],4)","v":"Z1EL"}]
["Z1EL","14324424",2099,"CTO IMAC M4 10CPU 10GPU 24GB 1TB TID YELLOW  ","SR1A2LL/A","Special Order","Yellow","M4 chip with 10‑core CPU, 10‑core GPU","24GB","1TB SSD","Gigabit","Magic Keyboard with Touch ID","None",{"$f":"_xlfn.XLOOKUP(Table14[[#This Row],[TDS SKU]],Sheet2!$B:$B,Sheet2!C:C)","v":"B"},{"$f":"_xlfn.XLOOKUP(Table14[[#This Row],[TDS SKU]],Sheet2!$B:$B,Sheet2!D:D)","v":"A"},{"$f":"_xlfn.XLOOKUP(Table14[[#This Row],[TDS SKU]],Sheet2!$B:$B,Sheet2!E:E)","v":"CTO BO"},{"$f":"LEFT(Table14[[#This Row],[Apple Part ]],4)","v":"Z1EL"}]
["Z1EL","14324446",2499,"CTO IMAC M4 10CPU 10GPU 24GB 2TB TID YELLOW  ","SR1A2LL/A","Special Order","Yellow","M4 chip with 10‑core CPU, 10‑core GPU","24GB","2TB SSD","Gigabit","Magic Keyboard with Touch ID","None",{"$f":"_xlfn.XLOOKUP(Table14[[#This Row],[TDS SKU]],Sheet2!$B:$B,Sheet2!C:C)","v":"B"},{"$f":"_xlfn.XLOOKUP(Table14[[#This Row],[TDS SKU]],Sheet2!$B:$B,Sheet2!D:D)","v":"A"},{"$f":"_xlfn.XLOOKUP(Table14[[#This Row],[TDS SKU]],Sheet2!$B:$B,Sheet2!E:E)","v":"CTO BO"},{"$f":"LEFT(Table14[[#This Row],[Apple Part ]],4)","v":"Z1EL"}]
["Z1EL","14324426",2299,"CTO IMAC M4 10CPU 10GPU 32GB 1TB TID YELLOW  ","SR1A2LL/A","Special Order","Yellow","M4 chip with 10‑core CPU, 10‑core GPU","32GB","1TB SSD","Gigabit","Magic Keyboard with Touch ID","None",{"$f":"_xlfn.XLOOKUP(Table14[[#This Row],[TDS SKU]],Sheet2!$B:$B,Sheet2!C:C)","v":"B"},{"$f":"_xlfn.XLOOKUP(Table14[[#This Row],[TDS SKU]],Sheet2!$B:$B,Sheet2!D:D)","v":"A"},{"$f":"_xlfn.XLOOKUP(Table14[[#This Row],[TDS SKU]],Sheet2!$B:$B,Sheet2!E:E)","v":"CTO BO"},{"$f":"LEFT(Table14[[#This Row],[Apple Part ]],4)","v":"Z1EL"}]
["Z1EL","14324448",2699,"CTO IMAC M4 10CPU 10GPU 32GB 2TB TID YELLOW  ","SR1A2LL/A","Special Order","Yellow","M4 chip with 10‑core CPU, 10‑core GPU","32GB","2TB SSD","Gigabit","Magic Keyboard with Touch ID","None",{"$f":"_xlfn.XLOOKUP(Table14[[#This Row],[TDS SKU]],Sheet2!$B:$B,Sheet2!C:C)","v":"B"},{"$f":"_xlfn.XLOOKUP(Table14[[#This Row],[TDS SKU]],Sheet2!$B:$B,Sheet2!D:D)","v":"A"},{"$f":"_xlfn.XLOOKUP(Table14[[#This Row],[TDS SKU]],Sheet2!$B:$B,Sheet2!E:E)","v":"CTO BO"},{"$f":"LEFT(Table14[[#This Row],[Apple Part ]],4)","v":"Z1EL"}]
["Z1EL","14324428",1929,"CTO IMAC M4 10CPU 10GPU 16GB 1TB TID NK YELLOW  ","SR1A2LL/A","Special Order","Yellow","M4 chip with 10‑core CPU, 10‑core GPU","16GB","1TB SSD","Gigabit","Magic Keyboard with Touch ID and Numeric Keypad","None",{"$f":"_xlfn.XLOOKUP(Table14[[#This Row],[TDS SKU]],Sheet2!$B:$B,Sheet2!C:C)","v":"B"},{"$f":"_xlfn.XLOOKUP(Table14[[#This Row],[TDS SKU]],Sheet2!$B:$B,Sheet2!D:D)","v":"A"},{"$f":"_xlfn.XLOOKUP(Table14[[#This Row],[TDS SKU]],Sheet2!$B:$B,Sheet2!E:E)","v":"CTO BO"},{"$f":"LEFT(Table14[[#This Row],[Apple Part ]],4)","v":"Z1EL"}]
["Z1EL","14324420",2129,"CTO IMAC M4 10CPU 10GPU 32GB 512GB TID NK YELLOW  ","SR1A2LL/A","Special Order","Yellow","M4 chip with 10‑core CPU, 10‑core GPU","32GB","512GB SSD","Gigabit","Magic Keyboard with Touch ID and Numeric Keypad","None",{"$f":"_xlfn.XLOOKUP(Table14[[#This Row],[TDS SKU]],Sheet2!$B:$B,Sheet2!C:C)","v":"B"},{"$f":"_xlfn.XLOOKUP(Table14[[#This Row],[TDS SKU]],Sheet2!$B:$B,Sheet2!D:D)","v":"A"},{"$f":"_xlfn.XLOOKUP(Table14[[#This Row],[TDS SKU]],Sheet2!$B:$B,Sheet2!E:E)","v":"CTO BO"},{"$f":"LEFT(Table14[[#This Row],[Apple Part ]],4)","v":"Z1EL"}]
["Z1EL","14324462",2529,"CTO IMAC M4 10CPU 10GPU 24GB 2TB TID NK YELLOW  ","SR1A2LL/A","Special Order","Yellow","M4 chip with 10‑core CPU, 10‑core GPU","24GB","2TB SSD","Gigabit","Magic Keyboard with Touch ID and Numeric Keypad","None",{"$f":"_xlfn.XLOOKUP(Table14[[#This Row],[TDS SKU]],Sheet2!$B:$B,Sheet2!C:C)","v":"B"},{"$f":"_xlfn.XLOOKUP(Table14[[#This Row],[TDS SKU]],Sheet2!$B:$B,Sheet2!D:D)","v":"A"},{"$f":"_xlfn.XLOOKUP(Table14[[#This Row],[TDS SKU]],Sheet2!$B:$B,Sheet2!E:E)","v":"CTO BO"},{"$f":"LEFT(Table14[[#This Row],[Apple Part ]],4)","v":"Z1EL"}]
["Z1EL","14324460",2329,"CTO IMAC M4 10CPU 10GPU 16GB 2TB TID NK YELLOW  ","SR1A2LL/A","Special Order","Yellow","M4 chip with 10‑core CPU, 10‑core GPU","16GB","2TB SSD","Gigabit","Magic Keyboard with Touch ID and Numeric Keypad","None",{"$f":"_xlfn.XLOOKUP(Table14[[#This Row],[TDS SKU]],Sheet2!$B:$B,Sheet2!C:C)","v":"B"},{"$f":"_xlfn.XLOOKUP(Table14[[#This Row],[TDS SKU]],Sheet2!$B:$B,Sheet2!D:D)","v":"A"},{"$f":"_xlfn.XLOOKUP(Table14[[#This Row],[TDS SKU]],Sheet2!$B:$B,Sheet2!E:E)","v":"CTO BO"},{"$f":"LEFT(Table14[[#This Row],[Apple Part ]],4)","v":"Z1EL"}]
["Z1EL","14324396",1929,"CTO IMAC M4 10CPU 10GPU 16GB 512GB TID NK YELLOW NANO ","SR1A2LL/A","Special Order","Yellow","M4 chip with 10‑core CPU, 10‑core GPU","16GB","512GB SSD","Gigabit","Magic Keyboard with Touch ID and Numeric Keypad","Nano-Texture",{"$f":"_xlfn.XLOOKUP(Table14[[#This Row],[TDS SKU]],Sheet2!$B:$B,Sheet2!C:C)","v":"B"},{"$f":"_xlfn.XLOOKUP(Table14[[#This Row],[TDS SKU]],Sheet2!$B:$B,Sheet2!D:D)","v":"A"},{"$f":"_xlfn.XLOOKUP(Table14[[#This Row],[TDS SKU]],Sheet2!$B:$B,Sheet2!E:E)","v":"CTO BO"},{"$f":"LEFT(Table14[[#This Row],[Apple Part ]],4)","v":"Z1EL"}]
["Z1EL","14324442",2329,"CTO IMAC M4 10CPU 10GPU 32GB 1TB TID NK YELLOW  ","SR1A2LL/A","Special Order","Yellow","M4 chip with 10‑core CPU, 10‑core GPU","32GB","1TB SSD","Gigabit","Magic Keyboard with Touch ID and Numeric Keypad","None",{"$f":"_xlfn.XLOOKUP(Table14[[#This Row],[TDS SKU]],Sheet2!$B:$B,Sheet2!C:C)","v":"B"},{"$f":"_xlfn.XLOOKUP(Table14[[#This Row],[TDS SKU]],Sheet2!$B:$B,Sheet2!D:D)","v":"A"},{"$f":"_xlfn.XLOOKUP(Table14[[#This Row],[TDS SKU]],Sheet2!$B:$B,Sheet2!E:E)","v":"CTO BO"},{"$f":"LEFT(Table14[[#This Row],[Apple Part ]],4)","v":"Z1EL"}]
["Z1EL","14324439",2129,"CTO IMAC M4 10CPU 10GPU 16GB 1TB TID NK YELLOW NANO ","SR1A2LL/A","Special Order","Yellow","M4 chip with 10‑core CPU, 10‑core GPU","16GB","1TB SSD","Gigabit","Magic Keyboard with Touch ID and Numeric Keypad","Nano-Texture",{"$f":"_xlfn.XLOOKUP(Table14[[#This Row],[TDS SKU]],Sheet2!$B:$B,Sheet2!C:C)","v":"B"},{"$f":"_xlfn.XLOOKUP(Table14[[#This Row],[TDS SKU]],Sheet2!$B:$B,Sheet2!D:D)","v":"A"},{"$f":"_xlfn.XLOOKUP(Table14[[#This Row],[TDS SKU]],Sheet2!$B:$B,Sheet2!E:E)","v":"CTO BO"},{"$f":"LEFT(Table14[[#This Row],[Apple Part ]],4)","v":"Z1EL"}]
["Z1EL","14324392",2099,"CTO IMAC M4 10CPU 10GPU 24GB 512GB TID YELLOW NANO ","SR1A2LL/A","Special Order","Yellow","M4 chip with 10‑core CPU, 10‑core GPU","24GB","512GB SSD","Gigabit","Magic Keyboard with Touch ID","Nano-Texture",{"$f":"_xlfn.XLOOKUP(Table14[[#This Row],[TDS SKU]],Sheet2!$B:$B,Sheet2!C:C)","v":"B"},{"$f":"_xlfn.XLOOKUP(Table14[[#This Row],[TDS SKU]],Sheet2!$B:$B,Sheet2!D:D)","v":"A"},{"$f":"_xlfn.XLOOKUP(Table14[[#This Row],[TDS SKU]],Sheet2!$B:$B,Sheet2!E:E)","v":"CTO BO"},{"$f":"LEFT(Table14[[#This Row],[Apple Part ]],4)","v":"Z1EL"}]
["Z1EL","14324394",2299,"CTO IMAC M4 10CPU 10GPU 32GB 512GB TID YELLOW NANO ","SR1A2LL/A","Special Order","Yellow","M4 chip with 10‑core CPU, 10‑core GPU","32GB","512GB SSD","Gigabit","Magic Keyboard with Touch ID","Nano-Texture",{"$f":"_xlfn.XLOOKUP(Table14[[#This Row],[TDS SKU]],Sheet2!$B:$B,Sheet2!C:C)","v":"B"},{"$f":"_xlfn.XLOOKUP(Table14[[#This Row],[TDS SKU]],Sheet2!$B:$B,Sheet2!D:D)","v":"A"},{"$f":"_xlfn.XLOOKUP(Table14[[#This Row],[TDS SKU]],Sheet2!$B:$B,Sheet2!E:E)","v":"CTO BO"},{"$f":"LEFT(Table14[[#This Row],[Apple Part ]],4)","v":"Z1EL"}]
["Z1EL","14324397",1929,"CTO IMAC M4 10CPU 10GPU 24GB 512GB TID NK YELLOW  ","SR1A2LL/A","Special Order","Yellow","M4 chip with 10‑core CPU, 10‑core GPU","24GB","512GB SSD","Gigabit","Magic Keyboard with Touch ID and Numeric Keypad","None",{"$f":"_xlfn.XLOOKUP(Table14[[#This Row],[TDS SKU]],Sheet2!$B:$B,Sheet2!C:C)","v":"B"},{"$f":"_xlfn.XLOOKUP(Table14[[#This Row],[TDS SKU]],Sheet2!$B:$B,Sheet2!D:D)","v":"A"},{"$f":"_xlfn.XLOOKUP(Table14[[#This Row],[TDS SKU]],Sheet2!$B:$B,Sheet2!E:E)","v":"CTO BO"},{"$f":"LEFT(Table14[[#This Row],[Apple Part ]],4)","v":"Z1EL"}]
["Z1EL","14324419",2129,"CTO IMAC M4 10CPU 10GPU 24GB 512GB TID NK YELLOW NANO ","SR1A2LL/A","Special Order","Yellow","M4 chip with 10‑core CPU, 10‑core GPU","24GB","512GB SSD","Gigabit","Magic Keyboard with Touch ID and Numeric Keypad","Nano-Texture",{"$f":"_xlfn.XLOOKUP(Table14[[#This Row],[TDS SKU]],Sheet2!$B:$B,Sheet2!C:C)","v":"B"},{"$f":"_xlfn.XLOOKUP(Table14[[#This Row],[TDS SKU]],Sheet2!$B:$B,Sheet2!D:D)","v":"A"},{"$f":"_xlfn.XLOOKUP(Table14[[#This Row],[TDS SKU]],Sheet2!$B:$B,Sheet2!E:E)","v":"CTO BO"},{"$f":"LEFT(Table14[[#This Row],[Apple Part ]],4)","v":"Z1EL"}]
["Z1EL","14324421",2329,"CTO IMAC M4 10CPU 10GPU 32GB 512GB TID NK YELLOW NANO ","SR1A2LL/A","Special Order","Yellow","M4 chip with 10‑core CPU, 10‑core GPU","32GB","512GB SSD","Gigabit","Magic Keyboard with Touch ID and Numeric Keypad","Nano-Texture",{"$f":"_xlfn.XLOOKUP(Table14[[#This Row],[TDS SKU]],Sheet2!$B:$B,Sheet2!C:C)","v":"B"},{"$f":"_xlfn.XLOOKUP(Table14[[#This Row],[TDS SKU]],Sheet2!$B:$B,Sheet2!D:D)","v":"A"},{"$f":"_xlfn.XLOOKUP(Table14[[#This Row],[TDS SKU]],Sheet2!$B:$B,Sheet2!E:E)","v":"CTO BO"},{"$f":"LEFT(Table14[[#This Row],[Apple Part ]],4)","v":"Z1EL"}]
["Z1EL","14324423",2099,"CTO IMAC M4 10CPU 10GPU 16GB 1TB TID YELLOW NANO ","SR1A2LL/A","Special Order","Yellow","M4 chip with 10‑core CPU, 10‑core GPU","16GB","1TB SSD","Gigabit","Magic Keyboard with Touch ID","Nano-Texture",{"$f":"_xlfn.XLOOKUP(Table14[[#This Row],[TDS SKU]],Sheet2!$B:$B,Sheet2!C:C)","v":"B"},{"$f":"_xlfn.XLOOKUP(Table14[[#This Row],[TDS SKU]],Sheet2!$B:$B,Sheet2!D:D)","v":"A"},{"$f":"_xlfn.XLOOKUP(Table14[[#This Row],[TDS SKU]],Sheet2!$B:$B,Sheet2!E:E)","v":"CTO BO"},{"$f":"LEFT(Table14[[#This Row],[Apple Part ]],4)","v":"Z1EL"}]
["Z1EL","14324425",2299,"CTO IMAC M4 10CPU 10GPU 24GB 1TB TID YELLOW NANO ","SR1A2LL/A","Special Order","Yellow","M4 chip with 10‑core CPU, 10‑core GPU","24GB","1TB SSD","Gigabit","Magic Keyboard with Touch ID","Nano-Texture",{"$f":"_xlfn.XLOOKUP(Table14[[#This Row],[TDS SKU]],Sheet2!$B:$B,Sheet2!C:C)","v":"B"},{"$f":"_xlfn.XLOOKUP(Table14[[#This Row],[TDS SKU]],Sheet2!$B:$B,Sheet2!D:D)","v":"A"},{"$f":"_xlfn.XLOOKUP(Table14[[#This Row],[TDS SKU]],Sheet2!$B:$B,Sheet2!E:E)","v":"CTO BO"},{"$f":"LEFT(Table14[[#This Row],[Apple Part ]],4)","v":"Z1EL"}]
["Z1EL","14324427",2499,"CTO IMAC M4 10CPU 10GPU 32GB 1TB TID YELLOW NANO ","SR1A2LL/A","Special Order","Yellow","M4 chip with 10‑core CPU, 10‑core GPU","32GB","1TB SSD","Gigabit","Magic Keyboard with Touch ID","Nano-Texture",{"$f":"_xlfn.XLOOKUP(Table14[[#This Row],[TDS SKU]],Sheet2!$B:$B,Sheet2!C:C)","v":"B"},{"$f":"_xlfn.XLOOKUP(Table14[[#This Row],[TDS SKU]],Sheet2!$B:$B,Sheet2!D:D)","v":"A"},{"$f":"_xlfn.XLOOKUP(Table14[[#This Row],[TDS SKU]],Sheet2!$B:$B,Sheet2!E:E)","v":"CTO BO"},{"$f":"LEFT(Table14[[#This Row],[Apple Part ]],4)","v":"Z1EL"}]
["Z1EL","14324440",2129,"CTO IMAC M4 10CPU 10GPU 24GB 1TB TID NK YELLOW  ","SR1A2LL/A","Special Order","Yellow","M4 chip with 10‑core CPU, 10‑core GPU","24GB","1TB SSD","Gigabit","Magic Keyboard with Touch ID and Numeric Keypad","None",{"$f":"_xlfn.XLOOKUP(Table14[[#This Row],[TDS SKU]],Sheet2!$B:$B,Sheet2!C:C)","v":"B"},{"$f":"_xlfn.XLOOKUP(Table14[[#This Row],[TDS SKU]],Sheet2!$B:$B,Sheet2!D:D)","v":"A"},{"$f":"_xlfn.XLOOKUP(Table14[[#This Row],[TDS SKU]],Sheet2!$B:$B,Sheet2!E:E)","v":"CTO BO"},{"$f":"LEFT(Table14[[#This Row],[Apple Part ]],4)","v":"Z1EL"}]
["Z1EL","14324441",2329,"CTO IMAC M4 10CPU 10GPU 24GB 1TB TID NK YELLOW NANO ","SR1A2LL/A",{"$f":"IF(OR(P277=\"CTO BO\",P277=\"ZPN BO\"),\"Special Order\",\"Stocked\")","v":"Special Order"},"Yellow","M4 chip with 10‑core CPU, 10‑core GPU","24GB","1TB SSD","Gigabit","Magic Keyboard with Touch ID and Numeric Keypad","Nano-Texture",{"$f":"_xlfn.XLOOKUP(Table14[[#This Row],[TDS SKU]],Sheet2!$B:$B,Sheet2!C:C)","v":"B"},{"$f":"_xlfn.XLOOKUP(Table14[[#This Row],[TDS SKU]],Sheet2!$B:$B,Sheet2!D:D)","v":"A"},{"$f":"_xlfn.XLOOKUP(Table14[[#This Row],[TDS SKU]],Sheet2!$B:$B,Sheet2!E:E)","v":"CTO BO"},{"$f":"LEFT(Table14[[#This Row],[Apple Part ]],4)","v":"Z1EL"}]
["Z1EL","14324443",2529,"CTO IMAC M4 10CPU 10GPU 32GB 1TB TID NK YELLOW NANO ","SR1A2LL/A","Special Order","Yellow","M4 chip with 10‑core CPU, 10‑core GPU","32GB","1TB SSD","Gigabit","Magic Keyboard with Touch ID and Numeric Keypad","Nano-Texture",{"$f":"_xlfn.XLOOKUP(Table14[[#This Row],[TDS SKU]],Sheet2!$B:$B,Sheet2!C:C)","v":"B"},{"$f":"_xlfn.XLOOKUP(Table14[[#This Row],[TDS SKU]],Sheet2!$B:$B,Sheet2!D:D)","v":"A"},{"$f":"_xlfn.XLOOKUP(Table14[[#This Row],[TDS SKU]],Sheet2!$B:$B,Sheet2!E:E)","v":"CTO BO"},{"$f":"LEFT(Table14[[#This Row],[Apple Part ]],4)","v":"Z1EL"}]
["Z1EL","14324445",2499,"CTO IMAC M4 10CPU 10GPU 16GB 2TB TID YELLOW NANO ","SR1A2LL/A","Special Order","Yellow","M4 chip with 10‑core CPU, 10‑core GPU","16GB","2TB SSD","Gigabit","Magic Keyboard with Touch ID","Nano-Texture",{"$f":"_xlfn.XLOOKUP(Table14[[#This Row],[TDS SKU]],Sheet2!$B:$B,Sheet2!C:C)","v":"B"},{"$f":"_xlfn.XLOOKUP(Table14[[#This Row],[TDS SKU]],Sheet2!$B:$B,Sheet2!D:D)","v":"A"},{"$f":"_xlfn.XLOOKUP(Table14[[#This Row],[TDS SKU]],Sheet2!$B:$B,Sheet2!E:E)","v":"CTO BO"},{"$f":"LEFT(Table14[[#This Row],[Apple Part ]],4)","v":"Z1EL"}]
["Z1EL","14324447",2699,"CTO IMAC M4 10CPU 10GPU 24GB 2TB TID YELLOW NANO ","SR1A2LL/A","Special Order","Yellow","M4 chip with 10‑core CPU, 10‑core GPU","24GB","2TB SSD","Gigabit","Magic Keyboard with Touch ID","Nano-Texture",{"$f":"_xlfn.XLOOKUP(Table14[[#This Row],[TDS SKU]],Sheet2!$B:$B,Sheet2!C:C)","v":"B"},{"$f":"_xlfn.XLOOKUP(Table14[[#This Row],[TDS SKU]],Sheet2!$B:$B,Sheet2!D:D)","v":"A"},{"$f":"_xlfn.XLOOKUP(Table14[[#This Row],[TDS SKU]],Sheet2!$B:$B,Sheet2!E:E)","v":"CTO BO"},{"$f":"LEFT(Table14[[#This Row],[Apple Part ]],4)","v":"Z1EL"}]
["Z1EL","14324459",2899,"CTO IMAC M4 10CPU 10GPU 32GB 2TB TID YELLOW NANO ","SR1A2LL/A","Special Order","Yellow","M4 chip with 10‑core CPU, 10‑core GPU","32GB","2TB SSD","Gigabit","Magic Keyboard with Touch ID","Nano-Texture",{"$f":"_xlfn.XLOOKUP(Table14[[#This Row],[TDS SKU]],Sheet2!$B:$B,Sheet2!C:C)","v":"B"},{"$f":"_xlfn.XLOOKUP(Table14[[#This Row],[TDS SKU]],Sheet2!$B:$B,Sheet2!D:D)","v":"A"},{"$f":"_xlfn.XLOOKUP(Table14[[#This Row],[TDS SKU]],Sheet2!$B:$B,Sheet2!E:E)","v":"CTO BO"},{"$f":"LEFT(Table14[[#This Row],[Apple Part ]],4)","v":"Z1EL"}]
["Z1EL","14324461",2529,"CTO IMAC M4 10CPU 10GPU 16GB 2TB TID NK YELLOW NANO ","SR1A2LL/A","Special Order","Yellow","M4 chip with 10‑core CPU, 10‑core GPU","16GB","2TB SSD","Gigabit","Magic Keyboard with Touch ID and Numeric Keypad","Nano-Texture",{"$f":"_xlfn.XLOOKUP(Table14[[#This Row],[TDS SKU]],Sheet2!$B:$B,Sheet2!C:C)","v":"B"},{"$f":"_xlfn.XLOOKUP(Table14[[#This Row],[TDS SKU]],Sheet2!$B:$B,Sheet2!D:D)","v":"A"},{"$f":"_xlfn.XLOOKUP(Table14[[#This Row],[TDS SKU]],Sheet2!$B:$B,Sheet2!E:E)","v":"CTO BO"},{"$f":"LEFT(Table14[[#This Row],[Apple Part ]],4)","v":"Z1EL"}]
["Z1EL","14324463",2729,"CTO IMAC M4 10CPU 10GPU 24GB 2TB TID NK YELLOW NANO ","SR1A2LL/A","Special Order","Yellow","M4 chip with 10‑core CPU, 10‑core GPU","24GB","2TB SSD","Gigabit","Magic Keyboard with Touch ID and Numeric Keypad","Nano-Texture",{"$f":"_xlfn.XLOOKUP(Table14[[#This Row],[TDS SKU]],Sheet2!$B:$B,Sheet2!C:C)","v":"B"},{"$f":"_xlfn.XLOOKUP(Table14[[#This Row],[TDS SKU]],Sheet2!$B:$B,Sheet2!D:D)","v":"A"},{"$f":"_xlfn.XLOOKUP(Table14[[#This Row],[TDS SKU]],Sheet2!$B:$B,Sheet2!E:E)","v":"CTO BO"},{"$f":"LEFT(Table14[[#This Row],[Apple Part ]],4)","v":"Z1EL"}]
["Z1EL","14324464",2729,"CTO IMAC M4 10CPU 10GPU 32GB 2TB TID NK YELLOW  ","SR1A2LL/A","Special Order","Yellow","M4 chip with 10‑core CPU, 10‑core GPU","32GB","2TB SSD","Gigabit","Magic Keyboard with Touch ID and Numeric Keypad","None",{"$f":"_xlfn.XLOOKUP(Table14[[#This Row],[TDS SKU]],Sheet2!$B:$B,Sheet2!C:C)","v":"B"},{"$f":"_xlfn.XLOOKUP(Table14[[#This Row],[TDS SKU]],Sheet2!$B:$B,Sheet2!D:D)","v":"A"},{"$f":"_xlfn.XLOOKUP(Table14[[#This Row],[TDS SKU]],Sheet2!$B:$B,Sheet2!E:E)","v":"CTO BO"},{"$f":"LEFT(Table14[[#This Row],[Apple Part ]],4)","v":"Z1EL"}]
["Z1EL","14324465",2929,"CTO IMAC M4 10CPU 10GPU 32GB 2TB TID NK YELLOW NANO ","SR1A2LL/A","Special Order","Yellow","M4 chip with 10‑core CPU, 10‑core GPU","32GB","2TB SSD","Gigabit","Magic Keyboard with Touch ID and Numeric Keypad","Nano-Texture",{"$f":"_xlfn.XLOOKUP(Table14[[#This Row],[TDS SKU]],Sheet2!$B:$B,Sheet2!C:C)","v":"B"},{"$f":"_xlfn.XLOOKUP(Table14[[#This Row],[TDS SKU]],Sheet2!$B:$B,Sheet2!D:D)","v":"A"},{"$f":"_xlfn.XLOOKUP(Table14[[#This Row],[TDS SKU]],Sheet2!$B:$B,Sheet2!E:E)","v":"CTO BO"},{"$f":"LEFT(Table14[[#This Row],[Apple Part ]],4)","v":"Z1EL"}]
["Z1EM","14324352",1699,"CTO IMAC M4 10CPU 10GPU 16GB 256GB TID GREEN NANO ","SR1A2LL/A","Special Order","Green","M4 chip with 10‑core CPU, 10‑core GPU","16GB","256GB SSD","Gigabit","Magic Keyboard with Touch ID","Nano-Texture",{"$f":"_xlfn.XLOOKUP(Table14[[#This Row],[TDS SKU]],Sheet2!$B:$B,Sheet2!C:C)","v":"B"},{"$f":"_xlfn.XLOOKUP(Table14[[#This Row],[TDS SKU]],Sheet2!$B:$B,Sheet2!D:D)","v":"A"},{"$f":"_xlfn.XLOOKUP(Table14[[#This Row],[TDS SKU]],Sheet2!$B:$B,Sheet2!E:E)","v":"CTO BO"},{"$f":"LEFT(Table14[[#This Row],[Apple Part ]],4)","v":"Z1EM"}]
["Z1EM","14324355",1529,"CTO IMAC M4 10CPU 10GPU 16GB 256GB TID NK GREEN  ","SR1A2LL/A","Special Order","Green","M4 chip with 10‑core CPU, 10‑core GPU","16GB","256GB SSD","Gigabit","Magic Keyboard with Touch ID and Numeric Keypad","None",{"$f":"_xlfn.XLOOKUP(Table14[[#This Row],[TDS SKU]],Sheet2!$B:$B,Sheet2!C:C)","v":"B"},{"$f":"_xlfn.XLOOKUP(Table14[[#This Row],[TDS SKU]],Sheet2!$B:$B,Sheet2!D:D)","v":"A"},{"$f":"_xlfn.XLOOKUP(Table14[[#This Row],[TDS SKU]],Sheet2!$B:$B,Sheet2!E:E)","v":"CTO BO"},{"$f":"LEFT(Table14[[#This Row],[Apple Part ]],4)","v":"Z1EM"}]
["Z1EM","14324353",1699,"CTO IMAC M4 10CPU 10GPU 24GB 256GB TID GREEN  ","SR1A2LL/A","Special Order","Green","M4 chip with 10‑core CPU, 10‑core GPU","24GB","256GB SSD","Gigabit","Magic Keyboard with Touch ID","None",{"$f":"_xlfn.XLOOKUP(Table14[[#This Row],[TDS SKU]],Sheet2!$B:$B,Sheet2!C:C)","v":"B"},{"$f":"_xlfn.XLOOKUP(Table14[[#This Row],[TDS SKU]],Sheet2!$B:$B,Sheet2!D:D)","v":"A"},{"$f":"_xlfn.XLOOKUP(Table14[[#This Row],[TDS SKU]],Sheet2!$B:$B,Sheet2!E:E)","v":"CTO BO"},{"$f":"LEFT(Table14[[#This Row],[Apple Part ]],4)","v":"Z1EM"}]
["Z1EM","14324354",1899,"CTO IMAC M4 10CPU 10GPU 24GB 256GB TID GREEN NANO ","SR1A2LL/A","Special Order","Green","M4 chip with 10‑core CPU, 10‑core GPU","24GB","256GB SSD","Gigabit","Magic Keyboard with Touch ID","Nano-Texture",{"$f":"_xlfn.XLOOKUP(Table14[[#This Row],[TDS SKU]],Sheet2!$B:$B,Sheet2!C:C)","v":"B"},{"$f":"_xlfn.XLOOKUP(Table14[[#This Row],[TDS SKU]],Sheet2!$B:$B,Sheet2!D:D)","v":"A"},{"$f":"_xlfn.XLOOKUP(Table14[[#This Row],[TDS SKU]],Sheet2!$B:$B,Sheet2!E:E)","v":"CTO BO"},{"$f":"LEFT(Table14[[#This Row],[Apple Part ]],4)","v":"Z1EM"}]
["Z1EM","14324357",1729,"CTO IMAC M4 10CPU 10GPU 24GB 256GB TID NK GREEN  ","SR1A2LL/A","Special Order","Green","M4 chip with 10‑core CPU, 10‑core GPU","24GB","256GB SSD","Gigabit","Magic Keyboard with Touch ID and Numeric Keypad","None",{"$f":"_xlfn.XLOOKUP(Table14[[#This Row],[TDS SKU]],Sheet2!$B:$B,Sheet2!C:C)","v":"B"},{"$f":"_xlfn.XLOOKUP(Table14[[#This Row],[TDS SKU]],Sheet2!$B:$B,Sheet2!D:D)","v":"A"},{"$f":"_xlfn.XLOOKUP(Table14[[#This Row],[TDS SKU]],Sheet2!$B:$B,Sheet2!E:E)","v":"CTO BO"},{"$f":"LEFT(Table14[[#This Row],[Apple Part ]],4)","v":"Z1EM"}]
["Z1EM","14324356",1729,"CTO IMAC M4 10CPU 10GPU 16GB 256GB TID NK GREEN NANO ","SR1A2LL/A","Special Order","Green","M4 chip with 10‑core CPU, 10‑core GPU","16GB","256GB SSD","Gigabit","Magic Keyboard with Touch ID and Numeric Keypad","Nano-Texture",{"$f":"_xlfn.XLOOKUP(Table14[[#This Row],[TDS SKU]],Sheet2!$B:$B,Sheet2!C:C)","v":"B"},{"$f":"_xlfn.XLOOKUP(Table14[[#This Row],[TDS SKU]],Sheet2!$B:$B,Sheet2!D:D)","v":"A"},{"$f":"_xlfn.XLOOKUP(Table14[[#This Row],[TDS SKU]],Sheet2!$B:$B,Sheet2!E:E)","v":"CTO BO"},{"$f":"LEFT(Table14[[#This Row],[Apple Part ]],4)","v":"Z1EM"}]
["Z1EM","14324358",1929,"CTO IMAC M4 10CPU 10GPU 24GB 256GB TID NK GREEN NANO ","SR1A2LL/A","Special Order","Green","M4 chip with 10‑core CPU, 10‑core GPU","24GB","256GB SSD","Gigabit","Magic Keyboard with Touch ID and Numeric Keypad","Nano-Texture",{"$f":"_xlfn.XLOOKUP(Table14[[#This Row],[TDS SKU]],Sheet2!$B:$B,Sheet2!C:C)","v":"B"},{"$f":"_xlfn.XLOOKUP(Table14[[#This Row],[TDS SKU]],Sheet2!$B:$B,Sheet2!D:D)","v":"A"},{"$f":"_xlfn.XLOOKUP(Table14[[#This Row],[TDS SKU]],Sheet2!$B:$B,Sheet2!E:E)","v":"CTO BO"},{"$f":"LEFT(Table14[[#This Row],[Apple Part ]],4)","v":"Z1EM"}]
["Z1EN","14324399",1899,"CTO IMAC M4 10CPU 10GPU 16GB 512GB TID GREEN NANO ","SR1A2LL/A","Special Order","Green","M4 chip with 10‑core CPU, 10‑core GPU","16GB","512GB SSD","Gigabit","Magic Keyboard with Touch ID","Nano-Texture",{"$f":"_xlfn.XLOOKUP(Table14[[#This Row],[TDS SKU]],Sheet2!$B:$B,Sheet2!C:C)","v":"B"},{"$f":"_xlfn.XLOOKUP(Table14[[#This Row],[TDS SKU]],Sheet2!$B:$B,Sheet2!D:D)","v":"A"},{"$f":"_xlfn.XLOOKUP(Table14[[#This Row],[TDS SKU]],Sheet2!$B:$B,Sheet2!E:E)","v":"CTO BO"},{"$f":"LEFT(Table14[[#This Row],[Apple Part ]],4)","v":"Z1EN"}]
["Z1EN","14324369",1899,"CTO IMAC M4 10CPU 10GPU 16GB 1TB TID GREEN  ","SR1A2LL/A","Special Order","Green","M4 chip with 10‑core CPU, 10‑core GPU","16GB","1TB SSD","Gigabit","Magic Keyboard with Touch ID","None",{"$f":"_xlfn.XLOOKUP(Table14[[#This Row],[TDS SKU]],Sheet2!$B:$B,Sheet2!C:C)","v":"B"},{"$f":"_xlfn.XLOOKUP(Table14[[#This Row],[TDS SKU]],Sheet2!$B:$B,Sheet2!D:D)","v":"A"},{"$f":"_xlfn.XLOOKUP(Table14[[#This Row],[TDS SKU]],Sheet2!$B:$B,Sheet2!E:E)","v":"CTO BO"},{"$f":"LEFT(Table14[[#This Row],[Apple Part ]],4)","v":"Z1EN"}]
["Z1EN","14324411",2299,"CTO IMAC M4 10CPU 10GPU 16GB 2TB TID GREEN  ","SR1A2LL/A","Special Order","Green","M4 chip with 10‑core CPU, 10‑core GPU","16GB","2TB SSD","Gigabit","Magic Keyboard with Touch ID","None",{"$f":"_xlfn.XLOOKUP(Table14[[#This Row],[TDS SKU]],Sheet2!$B:$B,Sheet2!C:C)","v":"B"},{"$f":"_xlfn.XLOOKUP(Table14[[#This Row],[TDS SKU]],Sheet2!$B:$B,Sheet2!D:D)","v":"A"},{"$f":"_xlfn.XLOOKUP(Table14[[#This Row],[TDS SKU]],Sheet2!$B:$B,Sheet2!E:E)","v":"CTO BO"},{"$f":"LEFT(Table14[[#This Row],[Apple Part ]],4)","v":"Z1EN"}]
["Z1EN","14324403",1729,"CTO IMAC M4 10CPU 10GPU 16GB 512GB TID NK GREEN  ","SR1A2LL/A","Special Order","Green","M4 chip with 10‑core CPU, 10‑core GPU","16GB","512GB SSD","Gigabit","Magic Keyboard with Touch ID and Numeric Keypad","None",{"$f":"_xlfn.XLOOKUP(Table14[[#This Row],[TDS SKU]],Sheet2!$B:$B,Sheet2!C:C)","v":"B"},{"$f":"_xlfn.XLOOKUP(Table14[[#This Row],[TDS SKU]],Sheet2!$B:$B,Sheet2!D:D)","v":"A"},{"$f":"_xlfn.XLOOKUP(Table14[[#This Row],[TDS SKU]],Sheet2!$B:$B,Sheet2!E:E)","v":"CTO BO"},{"$f":"LEFT(Table14[[#This Row],[Apple Part ]],4)","v":"Z1EN"}]
["Z1EN","14324401",2099,"CTO IMAC M4 10CPU 10GPU 32GB 512GB TID GREEN  ","SR1A2LL/A","Special Order","Green","M4 chip with 10‑core CPU, 10‑core GPU","32GB","512GB SSD","Gigabit","Magic Keyboard with Touch ID","None",{"$f":"_xlfn.XLOOKUP(Table14[[#This Row],[TDS SKU]],Sheet2!$B:$B,Sheet2!C:C)","v":"B"},{"$f":"_xlfn.XLOOKUP(Table14[[#This Row],[TDS SKU]],Sheet2!$B:$B,Sheet2!D:D)","v":"A"},{"$f":"_xlfn.XLOOKUP(Table14[[#This Row],[TDS SKU]],Sheet2!$B:$B,Sheet2!E:E)","v":"CTO BO"},{"$f":"LEFT(Table14[[#This Row],[Apple Part ]],4)","v":"Z1EN"}]
["Z1EN","14324371",2099,"CTO IMAC M4 10CPU 10GPU 24GB 1TB TID GREEN  ","SR1A2LL/A","Special Order","Green","M4 chip with 10‑core CPU, 10‑core GPU","24GB","1TB SSD","Gigabit","Magic Keyboard with Touch ID","None",{"$f":"_xlfn.XLOOKUP(Table14[[#This Row],[TDS SKU]],Sheet2!$B:$B,Sheet2!C:C)","v":"B"},{"$f":"_xlfn.XLOOKUP(Table14[[#This Row],[TDS SKU]],Sheet2!$B:$B,Sheet2!D:D)","v":"A"},{"$f":"_xlfn.XLOOKUP(Table14[[#This Row],[TDS SKU]],Sheet2!$B:$B,Sheet2!E:E)","v":"CTO BO"},{"$f":"LEFT(Table14[[#This Row],[Apple Part ]],4)","v":"Z1EN"}]
["Z1EN","14324413",2499,"CTO IMAC M4 10CPU 10GPU 24GB 2TB TID GREEN  ","SR1A2LL/A","Special Order","Green","M4 chip with 10‑core CPU, 10‑core GPU","24GB","2TB SSD","Gigabit","Magic Keyboard with Touch ID","None",{"$f":"_xlfn.XLOOKUP(Table14[[#This Row],[TDS SKU]],Sheet2!$B:$B,Sheet2!C:C)","v":"B"},{"$f":"_xlfn.XLOOKUP(Table14[[#This Row],[TDS SKU]],Sheet2!$B:$B,Sheet2!D:D)","v":"A"},{"$f":"_xlfn.XLOOKUP(Table14[[#This Row],[TDS SKU]],Sheet2!$B:$B,Sheet2!E:E)","v":"CTO BO"},{"$f":"LEFT(Table14[[#This Row],[Apple Part ]],4)","v":"Z1EN"}]
["Z1EN","14324373",2299,"CTO IMAC M4 10CPU 10GPU 32GB 1TB TID GREEN  ","SR1A2LL/A","Special Order","Green","M4 chip with 10‑core CPU, 10‑core GPU","32GB","1TB SSD","Gigabit","Magic Keyboard with Touch ID","None",{"$f":"_xlfn.XLOOKUP(Table14[[#This Row],[TDS SKU]],Sheet2!$B:$B,Sheet2!C:C)","v":"B"},{"$f":"_xlfn.XLOOKUP(Table14[[#This Row],[TDS SKU]],Sheet2!$B:$B,Sheet2!D:D)","v":"A"},{"$f":"_xlfn.XLOOKUP(Table14[[#This Row],[TDS SKU]],Sheet2!$B:$B,Sheet2!E:E)","v":"CTO BO"},{"$f":"LEFT(Table14[[#This Row],[Apple Part ]],4)","v":"Z1EN"}]
["Z1EN","14324415",2699,"CTO IMAC M4 10CPU 10GPU 32GB 2TB TID GREEN  ","SR1A2LL/A","Special Order","Green","M4 chip with 10‑core CPU, 10‑core GPU","32GB","2TB SSD","Gigabit","Magic Keyboard with Touch ID","None",{"$f":"_xlfn.XLOOKUP(Table14[[#This Row],[TDS SKU]],Sheet2!$B:$B,Sheet2!C:C)","v":"B"},{"$f":"_xlfn.XLOOKUP(Table14[[#This Row],[TDS SKU]],Sheet2!$B:$B,Sheet2!D:D)","v":"A"},{"$f":"_xlfn.XLOOKUP(Table14[[#This Row],[TDS SKU]],Sheet2!$B:$B,Sheet2!E:E)","v":"CTO BO"},{"$f":"LEFT(Table14[[#This Row],[Apple Part ]],4)","v":"Z1EN"}]
["Z1EN","14324377",2129,"CTO IMAC M4 10CPU 10GPU 24GB 1TB TID NK GREEN  ","SR1A2LL/A","Special Order","Green","M4 chip with 10‑core CPU, 10‑core GPU","24GB","1TB SSD","Gigabit","Magic Keyboard with Touch ID and Numeric Keypad","None",{"$f":"_xlfn.XLOOKUP(Table14[[#This Row],[TDS SKU]],Sheet2!$B:$B,Sheet2!C:C)","v":"B"},{"$f":"_xlfn.XLOOKUP(Table14[[#This Row],[TDS SKU]],Sheet2!$B:$B,Sheet2!D:D)","v":"A"},{"$f":"_xlfn.XLOOKUP(Table14[[#This Row],[TDS SKU]],Sheet2!$B:$B,Sheet2!E:E)","v":"CTO BO"},{"$f":"LEFT(Table14[[#This Row],[Apple Part ]],4)","v":"Z1EN"}]
["Z1EN","14324416",2899,"CTO IMAC M4 10CPU 10GPU 32GB 2TB TID GREEN NANO ","SR1A2LL/A","Special Order","Green","M4 chip with 10‑core CPU, 10‑core GPU","32GB","2TB SSD","Gigabit","Magic Keyboard with Touch ID","Nano-Texture",{"$f":"_xlfn.XLOOKUP(Table14[[#This Row],[TDS SKU]],Sheet2!$B:$B,Sheet2!C:C)","v":"B"},{"$f":"_xlfn.XLOOKUP(Table14[[#This Row],[TDS SKU]],Sheet2!$B:$B,Sheet2!D:D)","v":"A"},{"$f":"_xlfn.XLOOKUP(Table14[[#This Row],[TDS SKU]],Sheet2!$B:$B,Sheet2!E:E)","v":"CTO BO"},{"$f":"LEFT(Table14[[#This Row],[Apple Part ]],4)","v":"Z1EN"}]
["Z1EN","14324405",1929,"CTO IMAC M4 10CPU 10GPU 24GB 512GB TID NK GREEN  ","SR1A2LL/A","Special Order","Green","M4 chip with 10‑core CPU, 10‑core GPU","24GB","512GB SSD","Gigabit","Magic Keyboard with Touch ID and Numeric Keypad","None",{"$f":"_xlfn.XLOOKUP(Table14[[#This Row],[TDS SKU]],Sheet2!$B:$B,Sheet2!C:C)","v":"B"},{"$f":"_xlfn.XLOOKUP(Table14[[#This Row],[TDS SKU]],Sheet2!$B:$B,Sheet2!D:D)","v":"A"},{"$f":"_xlfn.XLOOKUP(Table14[[#This Row],[TDS SKU]],Sheet2!$B:$B,Sheet2!E:E)","v":"CTO BO"},{"$f":"LEFT(Table14[[#This Row],[Apple Part ]],4)","v":"Z1EN"}]
["Z1EN","14324375",1929,"CTO IMAC M4 10CPU 10GPU 16GB 1TB TID NK GREEN  ","SR1A2LL/A","Special Order","Green","M4 chip with 10‑core CPU, 10‑core GPU","16GB","1TB SSD","Gigabit","Magic Keyboard with Touch ID and Numeric Keypad","None",{"$f":"_xlfn.XLOOKUP(Table14[[#This Row],[TDS SKU]],Sheet2!$B:$B,Sheet2!C:C)","v":"B"},{"$f":"_xlfn.XLOOKUP(Table14[[#This Row],[TDS SKU]],Sheet2!$B:$B,Sheet2!D:D)","v":"A"},{"$f":"_xlfn.XLOOKUP(Table14[[#This Row],[TDS SKU]],Sheet2!$B:$B,Sheet2!E:E)","v":"CTO BO"},{"$f":"LEFT(Table14[[#This Row],[Apple Part ]],4)","v":"Z1EN"}]
["Z1EN","14324404",1929,"CTO IMAC M4 10CPU 10GPU 16GB 512GB TID NK GREEN NANO ","SR1A2LL/A","Special Order","Green","M4 chip with 10‑core CPU, 10‑core GPU","16GB","512GB SSD","Gigabit","Magic Keyboard with Touch ID and Numeric Keypad","Nano-Texture",{"$f":"_xlfn.XLOOKUP(Table14[[#This Row],[TDS SKU]],Sheet2!$B:$B,Sheet2!C:C)","v":"B"},{"$f":"_xlfn.XLOOKUP(Table14[[#This Row],[TDS SKU]],Sheet2!$B:$B,Sheet2!D:D)","v":"A"},{"$f":"_xlfn.XLOOKUP(Table14[[#This Row],[TDS SKU]],Sheet2!$B:$B,Sheet2!E:E)","v":"CTO BO"},{"$f":"LEFT(Table14[[#This Row],[Apple Part ]],4)","v":"Z1EN"}]
["Z1EN","14324432",2929,"CTO IMAC M4 10CPU 10GPU 32GB 2TB TID NK GREEN NANO ","SR1A2LL/A","Special Order","Green","M4 chip with 10‑core CPU, 10‑core GPU","32GB","2TB SSD","Gigabit","Magic Keyboard with Touch ID and Numeric Keypad","Nano-Texture",{"$f":"_xlfn.XLOOKUP(Table14[[#This Row],[TDS SKU]],Sheet2!$B:$B,Sheet2!C:C)","v":"B"},{"$f":"_xlfn.XLOOKUP(Table14[[#This Row],[TDS SKU]],Sheet2!$B:$B,Sheet2!D:D)","v":"A"},{"$f":"_xlfn.XLOOKUP(Table14[[#This Row],[TDS SKU]],Sheet2!$B:$B,Sheet2!E:E)","v":"CTO BO"},{"$f":"LEFT(Table14[[#This Row],[Apple Part ]],4)","v":"Z1EN"}]
["Z1EN","14324429",2529,"CTO IMAC M4 10CPU 10GPU 24GB 2TB TID NK GREEN  ","SR1A2LL/A","Special Order","Green","M4 chip with 10‑core CPU, 10‑core GPU","24GB","2TB SSD","Gigabit","Magic Keyboard with Touch ID and Numeric Keypad","None",{"$f":"_xlfn.XLOOKUP(Table14[[#This Row],[TDS SKU]],Sheet2!$B:$B,Sheet2!C:C)","v":"B"},{"$f":"_xlfn.XLOOKUP(Table14[[#This Row],[TDS SKU]],Sheet2!$B:$B,Sheet2!D:D)","v":"A"},{"$f":"_xlfn.XLOOKUP(Table14[[#This Row],[TDS SKU]],Sheet2!$B:$B,Sheet2!E:E)","v":"CTO BO"},{"$f":"LEFT(Table14[[#This Row],[Apple Part ]],4)","v":"Z1EN"}]
["Z1EN","14324406",2129,"CTO IMAC M4 10CPU 10GPU 24GB 512GB TID NK GREEN NANO ","SR1A2LL/A","Special Order","Green","M4 chip with 10‑core CPU, 10‑core GPU","24GB","512GB SSD","Gigabit","Magic Keyboard with Touch ID and Numeric Keypad","Nano-Texture",{"$f":"_xlfn.XLOOKUP(Table14[[#This Row],[TDS SKU]],Sheet2!$B:$B,Sheet2!C:C)","v":"B"},{"$f":"_xlfn.XLOOKUP(Table14[[#This Row],[TDS SKU]],Sheet2!$B:$B,Sheet2!D:D)","v":"A"},{"$f":"_xlfn.XLOOKUP(Table14[[#This Row],[TDS SKU]],Sheet2!$B:$B,Sheet2!E:E)","v":"CTO BO"},{"$f":"LEFT(Table14[[#This Row],[Apple Part ]],4)","v":"Z1EN"}]
["Z1EN","14324378",2329,"CTO IMAC M4 10CPU 10GPU 24GB 1TB TID NK GREEN NANO ","SR1A2LL/A","Special Order","Green","M4 chip with 10‑core CPU, 10‑core GPU","24GB","1TB SSD","Gigabit","Magic Keyboard with Touch ID and Numeric Keypad","Nano-Texture",{"$f":"_xlfn.XLOOKUP(Table14[[#This Row],[TDS SKU]],Sheet2!$B:$B,Sheet2!C:C)","v":"B"},{"$f":"_xlfn.XLOOKUP(Table14[[#This Row],[TDS SKU]],Sheet2!$B:$B,Sheet2!D:D)","v":"A"},{"$f":"_xlfn.XLOOKUP(Table14[[#This Row],[TDS SKU]],Sheet2!$B:$B,Sheet2!E:E)","v":"CTO BO"},{"$f":"LEFT(Table14[[#This Row],[Apple Part ]],4)","v":"Z1EN"}]
["Z1EN","14324372",2299,"CTO IMAC M4 10CPU 10GPU 24GB 1TB TID GREEN NANO ","SR1A2LL/A","Special Order","Green","M4 chip with 10‑core CPU, 10‑core GPU","24GB","1TB SSD","Gigabit","Magic Keyboard with Touch ID","Nano-Texture",{"$f":"_xlfn.XLOOKUP(Table14[[#This Row],[TDS SKU]],Sheet2!$B:$B,Sheet2!C:C)","v":"B"},{"$f":"_xlfn.XLOOKUP(Table14[[#This Row],[TDS SKU]],Sheet2!$B:$B,Sheet2!D:D)","v":"A"},{"$f":"_xlfn.XLOOKUP(Table14[[#This Row],[TDS SKU]],Sheet2!$B:$B,Sheet2!E:E)","v":"CTO BO"},{"$f":"LEFT(Table14[[#This Row],[Apple Part ]],4)","v":"Z1EN"}]
["Z1EN","14324431",2729,"CTO IMAC M4 10CPU 10GPU 32GB 2TB TID NK GREEN  ","SR1A2LL/A","Special Order","Green","M4 chip with 10‑core CPU, 10‑core GPU","32GB","2TB SSD","Gigabit","Magic Keyboard with Touch ID and Numeric Keypad","None",{"$f":"_xlfn.XLOOKUP(Table14[[#This Row],[TDS SKU]],Sheet2!$B:$B,Sheet2!C:C)","v":"B"},{"$f":"_xlfn.XLOOKUP(Table14[[#This Row],[TDS SKU]],Sheet2!$B:$B,Sheet2!D:D)","v":"A"},{"$f":"_xlfn.XLOOKUP(Table14[[#This Row],[TDS SKU]],Sheet2!$B:$B,Sheet2!E:E)","v":"CTO BO"},{"$f":"LEFT(Table14[[#This Row],[Apple Part ]],4)","v":"Z1EN"}]
["Z1EN","14324417",2329,"CTO IMAC M4 10CPU 10GPU 16GB 2TB TID NK GREEN  ","SR1A2LL/A","Special Order","Green","M4 chip with 10‑core CPU, 10‑core GPU","16GB","2TB SSD","Gigabit","Magic Keyboard with Touch ID and Numeric Keypad","None",{"$f":"_xlfn.XLOOKUP(Table14[[#This Row],[TDS SKU]],Sheet2!$B:$B,Sheet2!C:C)","v":"B"},{"$f":"_xlfn.XLOOKUP(Table14[[#This Row],[TDS SKU]],Sheet2!$B:$B,Sheet2!D:D)","v":"A"},{"$f":"_xlfn.XLOOKUP(Table14[[#This Row],[TDS SKU]],Sheet2!$B:$B,Sheet2!E:E)","v":"CTO BO"},{"$f":"LEFT(Table14[[#This Row],[Apple Part ]],4)","v":"Z1EN"}]
["Z1EN","14324409",2329,"CTO IMAC M4 10CPU 10GPU 32GB 1TB TID NK GREEN  ","SR1A2LL/A","Special Order","Green","M4 chip with 10‑core CPU, 10‑core GPU","32GB","1TB SSD","Gigabit","Magic Keyboard with Touch ID and Numeric Keypad","None",{"$f":"_xlfn.XLOOKUP(Table14[[#This Row],[TDS SKU]],Sheet2!$B:$B,Sheet2!C:C)","v":"B"},{"$f":"_xlfn.XLOOKUP(Table14[[#This Row],[TDS SKU]],Sheet2!$B:$B,Sheet2!D:D)","v":"A"},{"$f":"_xlfn.XLOOKUP(Table14[[#This Row],[TDS SKU]],Sheet2!$B:$B,Sheet2!E:E)","v":"CTO BO"},{"$f":"LEFT(Table14[[#This Row],[Apple Part ]],4)","v":"Z1EN"}]
["Z1EN","14324410",2529,"CTO IMAC M4 10CPU 10GPU 32GB 1TB TID NK GREEN NANO ","SR1A2LL/A","Special Order","Green","M4 chip with 10‑core CPU, 10‑core GPU","32GB","1TB SSD","Gigabit","Magic Keyboard with Touch ID and Numeric Keypad","Nano-Texture",{"$f":"_xlfn.XLOOKUP(Table14[[#This Row],[TDS SKU]],Sheet2!$B:$B,Sheet2!C:C)","v":"B"},{"$f":"_xlfn.XLOOKUP(Table14[[#This Row],[TDS SKU]],Sheet2!$B:$B,Sheet2!D:D)","v":"A"},{"$f":"_xlfn.XLOOKUP(Table14[[#This Row],[TDS SKU]],Sheet2!$B:$B,Sheet2!E:E)","v":"CTO BO"},{"$f":"LEFT(Table14[[#This Row],[Apple Part ]],4)","v":"Z1EN"}]
["Z1EN","14324376",2129,"CTO IMAC M4 10CPU 10GPU 16GB 1TB TID NK GREEN NANO ","SR1A2LL/A","Special Order","Green","M4 chip with 10‑core CPU, 10‑core GPU","16GB","1TB SSD","Gigabit","Magic Keyboard with Touch ID and Numeric Keypad","Nano-Texture",{"$f":"_xlfn.XLOOKUP(Table14[[#This Row],[TDS SKU]],Sheet2!$B:$B,Sheet2!C:C)","v":"B"},{"$f":"_xlfn.XLOOKUP(Table14[[#This Row],[TDS SKU]],Sheet2!$B:$B,Sheet2!D:D)","v":"A"},{"$f":"_xlfn.XLOOKUP(Table14[[#This Row],[TDS SKU]],Sheet2!$B:$B,Sheet2!E:E)","v":"CTO BO"},{"$f":"LEFT(Table14[[#This Row],[Apple Part ]],4)","v":"Z1EN"}]
["Z1EN","14324400",2099,"CTO IMAC M4 10CPU 10GPU 24GB 512GB TID GREEN NANO ","SR1A2LL/A","Special Order","Green","M4 chip with 10‑core CPU, 10‑core GPU","24GB","512GB SSD","Gigabit","Magic Keyboard with Touch ID","Nano-Texture",{"$f":"_xlfn.XLOOKUP(Table14[[#This Row],[TDS SKU]],Sheet2!$B:$B,Sheet2!C:C)","v":"B"},{"$f":"_xlfn.XLOOKUP(Table14[[#This Row],[TDS SKU]],Sheet2!$B:$B,Sheet2!D:D)","v":"A"},{"$f":"_xlfn.XLOOKUP(Table14[[#This Row],[TDS SKU]],Sheet2!$B:$B,Sheet2!E:E)","v":"CTO BO"},{"$f":"LEFT(Table14[[#This Row],[Apple Part ]],4)","v":"Z1EN"}]
["Z1EN","14324374",2499,"CTO IMAC M4 10CPU 10GPU 32GB 1TB TID GREEN NANO ","SR1A2LL/A","Special Order","Green","M4 chip with 10‑core CPU, 10‑core GPU","32GB","1TB SSD","Gigabit","Magic Keyboard with Touch ID","Nano-Texture",{"$f":"_xlfn.XLOOKUP(Table14[[#This Row],[TDS SKU]],Sheet2!$B:$B,Sheet2!C:C)","v":"B"},{"$f":"_xlfn.XLOOKUP(Table14[[#This Row],[TDS SKU]],Sheet2!$B:$B,Sheet2!D:D)","v":"A"},{"$f":"_xlfn.XLOOKUP(Table14[[#This Row],[TDS SKU]],Sheet2!$B:$B,Sheet2!E:E)","v":"CTO BO"},{"$f":"LEFT(Table14[[#This Row],[Apple Part ]],4)","v":"Z1EN"}]
["Z1EN","14324402",2299,"CTO IMAC M4 10CPU 10GPU 32GB 512GB TID GREEN NANO ","SR1A2LL/A","Special Order","Green","M4 chip with 10‑core CPU, 10‑core GPU","32GB","512GB SSD","Gigabit","Magic Keyboard with Touch ID","Nano-Texture",{"$f":"_xlfn.XLOOKUP(Table14[[#This Row],[TDS SKU]],Sheet2!$B:$B,Sheet2!C:C)","v":"B"},{"$f":"_xlfn.XLOOKUP(Table14[[#This Row],[TDS SKU]],Sheet2!$B:$B,Sheet2!D:D)","v":"A"},{"$f":"_xlfn.XLOOKUP(Table14[[#This Row],[TDS SKU]],Sheet2!$B:$B,Sheet2!E:E)","v":"CTO BO"},{"$f":"LEFT(Table14[[#This Row],[Apple Part ]],4)","v":"Z1EN"}]
["Z1EN","14324407",2129,"CTO IMAC M4 10CPU 10GPU 32GB 512GB TID NK GREEN  ","SR1A2LL/A","Special Order","Green","M4 chip with 10‑core CPU, 10‑core GPU","32GB","512GB SSD","Gigabit","Magic Keyboard with Touch ID and Numeric Keypad","None",{"$f":"_xlfn.XLOOKUP(Table14[[#This Row],[TDS SKU]],Sheet2!$B:$B,Sheet2!C:C)","v":"B"},{"$f":"_xlfn.XLOOKUP(Table14[[#This Row],[TDS SKU]],Sheet2!$B:$B,Sheet2!D:D)","v":"A"},{"$f":"_xlfn.XLOOKUP(Table14[[#This Row],[TDS SKU]],Sheet2!$B:$B,Sheet2!E:E)","v":"CTO BO"},{"$f":"LEFT(Table14[[#This Row],[Apple Part ]],4)","v":"Z1EN"}]
["Z1EN","14324408",2329,"CTO IMAC M4 10CPU 10GPU 32GB 512GB TID NK GREEN NANO ","SR1A2LL/A","Special Order","Green","M4 chip with 10‑core CPU, 10‑core GPU","32GB","512GB SSD","Gigabit","Magic Keyboard with Touch ID and Numeric Keypad","Nano-Texture",{"$f":"_xlfn.XLOOKUP(Table14[[#This Row],[TDS SKU]],Sheet2!$B:$B,Sheet2!C:C)","v":"B"},{"$f":"_xlfn.XLOOKUP(Table14[[#This Row],[TDS SKU]],Sheet2!$B:$B,Sheet2!D:D)","v":"A"},{"$f":"_xlfn.XLOOKUP(Table14[[#This Row],[TDS SKU]],Sheet2!$B:$B,Sheet2!E:E)","v":"CTO BO"},{"$f":"LEFT(Table14[[#This Row],[Apple Part ]],4)","v":"Z1EN"}]
["Z1EN","14324370",2099,"CTO IMAC M4 10CPU 10GPU 16GB 1TB TID GREEN NANO ","SR1A2LL/A","Special Order","Green","M4 chip with 10‑core CPU, 10‑core GPU","16GB","1TB SSD","Gigabit","Magic Keyboard with Touch ID","Nano-Texture",{"$f":"_xlfn.XLOOKUP(Table14[[#This Row],[TDS SKU]],Sheet2!$B:$B,Sheet2!C:C)","v":"B"},{"$f":"_xlfn.XLOOKUP(Table14[[#This Row],[TDS SKU]],Sheet2!$B:$B,Sheet2!D:D)","v":"A"},{"$f":"_xlfn.XLOOKUP(Table14[[#This Row],[TDS SKU]],Sheet2!$B:$B,Sheet2!E:E)","v":"CTO BO"},{"$f":"LEFT(Table14[[#This Row],[Apple Part ]],4)","v":"Z1EN"}]
["Z1EN","14324412",2499,"CTO IMAC M4 10CPU 10GPU 16GB 2TB TID GREEN NANO ","SR1A2LL/A","Special Order","Green","M4 chip with 10‑core CPU, 10‑core GPU","16GB","2TB SSD","Gigabit","Magic Keyboard with Touch ID","Nano-Texture",{"$f":"_xlfn.XLOOKUP(Table14[[#This Row],[TDS SKU]],Sheet2!$B:$B,Sheet2!C:C)","v":"B"},{"$f":"_xlfn.XLOOKUP(Table14[[#This Row],[TDS SKU]],Sheet2!$B:$B,Sheet2!D:D)","v":"A"},{"$f":"_xlfn.XLOOKUP(Table14[[#This Row],[TDS SKU]],Sheet2!$B:$B,Sheet2!E:E)","v":"CTO BO"},{"$f":"LEFT(Table14[[#This Row],[Apple Part ]],4)","v":"Z1EN"}]
["Z1EN","14324414",2699,"CTO IMAC M4 10CPU 10GPU 24GB 2TB TID GREEN NANO ","SR1A2LL/A","Special Order","Green","M4 chip with 10‑core CPU, 10‑core GPU","24GB","2TB SSD","Gigabit","Magic Keyboard with Touch ID","Nano-Texture",{"$f":"_xlfn.XLOOKUP(Table14[[#This Row],[TDS SKU]],Sheet2!$B:$B,Sheet2!C:C)","v":"B"},{"$f":"_xlfn.XLOOKUP(Table14[[#This Row],[TDS SKU]],Sheet2!$B:$B,Sheet2!D:D)","v":"A"},{"$f":"_xlfn.XLOOKUP(Table14[[#This Row],[TDS SKU]],Sheet2!$B:$B,Sheet2!E:E)","v":"CTO BO"},{"$f":"LEFT(Table14[[#This Row],[Apple Part ]],4)","v":"Z1EN"}]
["Z1EN","14324418",2529,"CTO IMAC M4 10CPU 10GPU 16GB 2TB TID NK GREEN NANO ","SR1A2LL/A","Special Order","Green","M4 chip with 10‑core CPU, 10‑core GPU","16GB","2TB SSD","Gigabit","Magic Keyboard with Touch ID and Numeric Keypad","Nano-Texture",{"$f":"_xlfn.XLOOKUP(Table14[[#This Row],[TDS SKU]],Sheet2!$B:$B,Sheet2!C:C)","v":"B"},{"$f":"_xlfn.XLOOKUP(Table14[[#This Row],[TDS SKU]],Sheet2!$B:$B,Sheet2!D:D)","v":"A"},{"$f":"_xlfn.XLOOKUP(Table14[[#This Row],[TDS SKU]],Sheet2!$B:$B,Sheet2!E:E)","v":"CTO BO"},{"$f":"LEFT(Table14[[#This Row],[Apple Part ]],4)","v":"Z1EN"}]
["Z1EN","14324430",2729,"CTO IMAC M4 10CPU 10GPU 24GB 2TB TID NK GREEN NANO ","SR1A2LL/A","Special Order","Green","M4 chip with 10‑core CPU, 10‑core GPU","24GB","2TB SSD","Gigabit","Magic Keyboard with Touch ID and Numeric Keypad","Nano-Texture",{"$f":"_xlfn.XLOOKUP(Table14[[#This Row],[TDS SKU]],Sheet2!$B:$B,Sheet2!C:C)","v":"B"},{"$f":"_xlfn.XLOOKUP(Table14[[#This Row],[TDS SKU]],Sheet2!$B:$B,Sheet2!D:D)","v":"A"},{"$f":"_xlfn.XLOOKUP(Table14[[#This Row],[TDS SKU]],Sheet2!$B:$B,Sheet2!E:E)","v":"CTO BO"},{"$f":"LEFT(Table14[[#This Row],[Apple Part ]],4)","v":"Z1EN"}]
["Z1EP","14324290",1699,"CTO IMAC M4 10CPU 10GPU 16GB 256GB TID BLUE NANO ","SR1A2LL/A","Special Order","Blue","M4 chip with 10‑core CPU, 10‑core GPU","16GB","256GB SSD","Gigabit","Magic Keyboard with Touch ID","Nano-Texture",{"$f":"_xlfn.XLOOKUP(Table14[[#This Row],[TDS SKU]],Sheet2!$B:$B,Sheet2!C:C)","v":"B"},{"$f":"_xlfn.XLOOKUP(Table14[[#This Row],[TDS SKU]],Sheet2!$B:$B,Sheet2!D:D)","v":"A"},{"$f":"_xlfn.XLOOKUP(Table14[[#This Row],[TDS SKU]],Sheet2!$B:$B,Sheet2!E:E)","v":"CTO BO"},{"$f":"LEFT(Table14[[#This Row],[Apple Part ]],4)","v":"Z1EP"}]
["Z1EP","14324293",1529,"CTO IMAC M4 10CPU 10GPU 16GB 256GB TID NK BLUE  ","SR1A2LL/A","Special Order","Blue","M4 chip with 10‑core CPU, 10‑core GPU","16GB","256GB SSD","Gigabit","Magic Keyboard with Touch ID and Numeric Keypad","None",{"$f":"_xlfn.XLOOKUP(Table14[[#This Row],[TDS SKU]],Sheet2!$B:$B,Sheet2!C:C)","v":"B"},{"$f":"_xlfn.XLOOKUP(Table14[[#This Row],[TDS SKU]],Sheet2!$B:$B,Sheet2!D:D)","v":"A"},{"$f":"_xlfn.XLOOKUP(Table14[[#This Row],[TDS SKU]],Sheet2!$B:$B,Sheet2!E:E)","v":"CTO BO"},{"$f":"LEFT(Table14[[#This Row],[Apple Part ]],4)","v":"Z1EP"}]
["Z1EP","14324291",1699,"CTO IMAC M4 10CPU 10GPU 24GB 256GB TID BLUE  ","SR1A2LL/A","Special Order","Blue","M4 chip with 10‑core CPU, 10‑core GPU","24GB","256GB SSD","Gigabit","Magic Keyboard with Touch ID","None",{"$f":"_xlfn.XLOOKUP(Table14[[#This Row],[TDS SKU]],Sheet2!$B:$B,Sheet2!C:C)","v":"B"},{"$f":"_xlfn.XLOOKUP(Table14[[#This Row],[TDS SKU]],Sheet2!$B:$B,Sheet2!D:D)","v":"A"},{"$f":"_xlfn.XLOOKUP(Table14[[#This Row],[TDS SKU]],Sheet2!$B:$B,Sheet2!E:E)","v":"CTO BO"},{"$f":"LEFT(Table14[[#This Row],[Apple Part ]],4)","v":"Z1EP"}]
["Z1EP","14324295",1729,"CTO IMAC M4 10CPU 10GPU 24GB 256GB TID NK BLUE  ","SR1A2LL/A","Special Order","Blue","M4 chip with 10‑core CPU, 10‑core GPU","24GB","256GB SSD","Gigabit","Magic Keyboard with Touch ID and Numeric Keypad","None",{"$f":"_xlfn.XLOOKUP(Table14[[#This Row],[TDS SKU]],Sheet2!$B:$B,Sheet2!C:C)","v":"B"},{"$f":"_xlfn.XLOOKUP(Table14[[#This Row],[TDS SKU]],Sheet2!$B:$B,Sheet2!D:D)","v":"A"},{"$f":"_xlfn.XLOOKUP(Table14[[#This Row],[TDS SKU]],Sheet2!$B:$B,Sheet2!E:E)","v":"CTO BO"},{"$f":"LEFT(Table14[[#This Row],[Apple Part ]],4)","v":"Z1EP"}]
["Z1EP","14324294",1729,"CTO IMAC M4 10CPU 10GPU 16GB 256GB TID NK BLUE NANO ","SR1A2LL/A","Special Order","Blue","M4 chip with 10‑core CPU, 10‑core GPU","16GB","256GB SSD","Gigabit","Magic Keyboard with Touch ID and Numeric Keypad","Nano-Texture",{"$f":"_xlfn.XLOOKUP(Table14[[#This Row],[TDS SKU]],Sheet2!$B:$B,Sheet2!C:C)","v":"B"},{"$f":"_xlfn.XLOOKUP(Table14[[#This Row],[TDS SKU]],Sheet2!$B:$B,Sheet2!D:D)","v":"A"},{"$f":"_xlfn.XLOOKUP(Table14[[#This Row],[TDS SKU]],Sheet2!$B:$B,Sheet2!E:E)","v":"CTO BO"},{"$f":"LEFT(Table14[[#This Row],[Apple Part ]],4)","v":"Z1EP"}]
["Z1EP","14324292",1899,"CTO IMAC M4 10CPU 10GPU 24GB 256GB TID BLUE NANO ","SR1A2LL/A","Special Order","Blue","M4 chip with 10‑core CPU, 10‑core GPU","24GB","256GB SSD","Gigabit","Magic Keyboard with Touch ID","Nano-Texture",{"$f":"_xlfn.XLOOKUP(Table14[[#This Row],[TDS SKU]],Sheet2!$B:$B,Sheet2!C:C)","v":"B"},{"$f":"_xlfn.XLOOKUP(Table14[[#This Row],[TDS SKU]],Sheet2!$B:$B,Sheet2!D:D)","v":"A"},{"$f":"_xlfn.XLOOKUP(Table14[[#This Row],[TDS SKU]],Sheet2!$B:$B,Sheet2!E:E)","v":"CTO BO"},{"$f":"LEFT(Table14[[#This Row],[Apple Part ]],4)","v":"Z1EP"}]
["Z1EP","14324296",1929,"CTO IMAC M4 10CPU 10GPU 24GB 256GB TID NK BLUE NANO ","SR1A2LL/A","Special Order","Blue","M4 chip with 10‑core CPU, 10‑core GPU","24GB","256GB SSD","Gigabit","Magic Keyboard with Touch ID and Numeric Keypad","Nano-Texture",{"$f":"_xlfn.XLOOKUP(Table14[[#This Row],[TDS SKU]],Sheet2!$B:$B,Sheet2!C:C)","v":"B"},{"$f":"_xlfn.XLOOKUP(Table14[[#This Row],[TDS SKU]],Sheet2!$B:$B,Sheet2!D:D)","v":"A"},{"$f":"_xlfn.XLOOKUP(Table14[[#This Row],[TDS SKU]],Sheet2!$B:$B,Sheet2!E:E)","v":"CTO BO"},{"$f":"LEFT(Table14[[#This Row],[Apple Part ]],4)","v":"Z1EP"}]
["Z1EQ","14324297",1899,"CTO IMAC M4 10CPU 10GPU 16GB 512GB TID BLUE NANO ","SR1A2LL/A","Special Order","Blue","M4 chip with 10‑core CPU, 10‑core GPU","16GB","512GB SSD","Gigabit","Magic Keyboard with Touch ID","Nano-Texture",{"$f":"_xlfn.XLOOKUP(Table14[[#This Row],[TDS SKU]],Sheet2!$B:$B,Sheet2!C:C)","v":"B"},{"$f":"_xlfn.XLOOKUP(Table14[[#This Row],[TDS SKU]],Sheet2!$B:$B,Sheet2!D:D)","v":"A"},{"$f":"_xlfn.XLOOKUP(Table14[[#This Row],[TDS SKU]],Sheet2!$B:$B,Sheet2!E:E)","v":"CTO BO"},{"$f":"LEFT(Table14[[#This Row],[Apple Part ]],4)","v":"Z1EQ"}]
["Z1EQ","14324317",1899,"CTO IMAC M4 10CPU 10GPU 16GB 1TB TID BLUE  ","SR1A2LL/A","Special Order","Blue","M4 chip with 10‑core CPU, 10‑core GPU","16GB","1TB SSD","Gigabit","Magic Keyboard with Touch ID","None",{"$f":"_xlfn.XLOOKUP(Table14[[#This Row],[TDS SKU]],Sheet2!$B:$B,Sheet2!C:C)","v":"B"},{"$f":"_xlfn.XLOOKUP(Table14[[#This Row],[TDS SKU]],Sheet2!$B:$B,Sheet2!D:D)","v":"A"},{"$f":"_xlfn.XLOOKUP(Table14[[#This Row],[TDS SKU]],Sheet2!$B:$B,Sheet2!E:E)","v":"CTO BO"},{"$f":"LEFT(Table14[[#This Row],[Apple Part ]],4)","v":"Z1EQ"}]
["Z1EQ","14324299",2299,"CTO IMAC M4 10CPU 10GPU 16GB 2TB TID BLUE  ","SR1A2LL/A","Special Order","Blue","M4 chip with 10‑core CPU, 10‑core GPU","16GB","2TB SSD","Gigabit","Magic Keyboard with Touch ID","None",{"$f":"_xlfn.XLOOKUP(Table14[[#This Row],[TDS SKU]],Sheet2!$B:$B,Sheet2!C:C)","v":"B"},{"$f":"_xlfn.XLOOKUP(Table14[[#This Row],[TDS SKU]],Sheet2!$B:$B,Sheet2!D:D)","v":"A"},{"$f":"_xlfn.XLOOKUP(Table14[[#This Row],[TDS SKU]],Sheet2!$B:$B,Sheet2!E:E)","v":"CTO BO"},{"$f":"LEFT(Table14[[#This Row],[Apple Part ]],4)","v":"Z1EQ"}]
["Z1EQ","14324311",1729,"CTO IMAC M4 10CPU 10GPU 16GB 512GB TID NK BLUE  ","SR1A2LL/A","Special Order","Blue","M4 chip with 10‑core CPU, 10‑core GPU","16GB","512GB SSD","Gigabit","Magic Keyboard with Touch ID and Numeric Keypad","None",{"$f":"_xlfn.XLOOKUP(Table14[[#This Row],[TDS SKU]],Sheet2!$B:$B,Sheet2!C:C)","v":"B"},{"$f":"_xlfn.XLOOKUP(Table14[[#This Row],[TDS SKU]],Sheet2!$B:$B,Sheet2!D:D)","v":"A"},{"$f":"_xlfn.XLOOKUP(Table14[[#This Row],[TDS SKU]],Sheet2!$B:$B,Sheet2!E:E)","v":"CTO BO"},{"$f":"LEFT(Table14[[#This Row],[Apple Part ]],4)","v":"Z1EQ"}]
["Z1EQ","14324309",2099,"CTO IMAC M4 10CPU 10GPU 32GB 512GB TID BLUE  ","SR1A2LL/A","Special Order","Blue","M4 chip with 10‑core CPU, 10‑core GPU","32GB","512GB SSD","Gigabit","Magic Keyboard with Touch ID","None",{"$f":"_xlfn.XLOOKUP(Table14[[#This Row],[TDS SKU]],Sheet2!$B:$B,Sheet2!C:C)","v":"B"},{"$f":"_xlfn.XLOOKUP(Table14[[#This Row],[TDS SKU]],Sheet2!$B:$B,Sheet2!D:D)","v":"A"},{"$f":"_xlfn.XLOOKUP(Table14[[#This Row],[TDS SKU]],Sheet2!$B:$B,Sheet2!E:E)","v":"CTO BO"},{"$f":"LEFT(Table14[[#This Row],[Apple Part ]],4)","v":"Z1EQ"}]
["Z1EQ","14324339",2099,"CTO IMAC M4 10CPU 10GPU 24GB 1TB TID BLUE  ","SR1A2LL/A","Special Order","Blue","M4 chip with 10‑core CPU, 10‑core GPU","24GB","1TB SSD","Gigabit","Magic Keyboard with Touch ID","None",{"$f":"_xlfn.XLOOKUP(Table14[[#This Row],[TDS SKU]],Sheet2!$B:$B,Sheet2!C:C)","v":"B"},{"$f":"_xlfn.XLOOKUP(Table14[[#This Row],[TDS SKU]],Sheet2!$B:$B,Sheet2!D:D)","v":"A"},{"$f":"_xlfn.XLOOKUP(Table14[[#This Row],[TDS SKU]],Sheet2!$B:$B,Sheet2!E:E)","v":"CTO BO"},{"$f":"LEFT(Table14[[#This Row],[Apple Part ]],4)","v":"Z1EQ"}]
["Z1EQ","14324301",2499,"CTO IMAC M4 10CPU 10GPU 24GB 2TB TID BLUE  ","SR1A2LL/A","Special Order","Blue","M4 chip with 10‑core CPU, 10‑core GPU","24GB","2TB SSD","Gigabit","Magic Keyboard with Touch ID","None",{"$f":"_xlfn.XLOOKUP(Table14[[#This Row],[TDS SKU]],Sheet2!$B:$B,Sheet2!C:C)","v":"B"},{"$f":"_xlfn.XLOOKUP(Table14[[#This Row],[TDS SKU]],Sheet2!$B:$B,Sheet2!D:D)","v":"A"},{"$f":"_xlfn.XLOOKUP(Table14[[#This Row],[TDS SKU]],Sheet2!$B:$B,Sheet2!E:E)","v":"CTO BO"},{"$f":"LEFT(Table14[[#This Row],[Apple Part ]],4)","v":"Z1EQ"}]
["Z1EQ","14324341",2299,"CTO IMAC M4 10CPU 10GPU 32GB 1TB TID BLUE  ","SR1A2LL/A",{"$f":"IF(OR(P341=\"CTO BO\",P341=\"ZPN BO\"),\"Special Order\",\"Stocked\")","v":"Special Order"},"Blue","M4 chip with 10‑core CPU, 10‑core GPU","32GB","1TB SSD","Gigabit","Magic Keyboard with Touch ID","None",{"$f":"_xlfn.XLOOKUP(Table14[[#This Row],[TDS SKU]],Sheet2!$B:$B,Sheet2!C:C)","v":"B"},{"$f":"_xlfn.XLOOKUP(Table14[[#This Row],[TDS SKU]],Sheet2!$B:$B,Sheet2!D:D)","v":"A"},{"$f":"_xlfn.XLOOKUP(Table14[[#This Row],[TDS SKU]],Sheet2!$B:$B,Sheet2!E:E)","v":"CTO BO"},{"$f":"LEFT(Table14[[#This Row],[Apple Part ]],4)","v":"Z1EQ"}]
["Z1EQ","14324303",2699,"CTO IMAC M4 10CPU 10GPU 32GB 2TB TID BLUE  ","SR1A2LL/A","Special Order","Blue","M4 chip with 10‑core CPU, 10‑core GPU","32GB","2TB SSD","Gigabit","Magic Keyboard with Touch ID","None",{"$f":"_xlfn.XLOOKUP(Table14[[#This Row],[TDS SKU]],Sheet2!$B:$B,Sheet2!C:C)","v":"B"},{"$f":"_xlfn.XLOOKUP(Table14[[#This Row],[TDS SKU]],Sheet2!$B:$B,Sheet2!D:D)","v":"A"},{"$f":"_xlfn.XLOOKUP(Table14[[#This Row],[TDS SKU]],Sheet2!$B:$B,Sheet2!E:E)","v":"CTO BO"},{"$f":"LEFT(Table14[[#This Row],[Apple Part ]],4)","v":"Z1EQ"}]
["Z1EQ","14324348",2529,"CTO IMAC M4 10CPU 10GPU 32GB 1TB TID NK BLUE NANO ","SR1A2LL/A","Special Order","Blue","M4 chip with 10‑core CPU, 10‑core GPU","32GB","1TB SSD","Gigabit","Magic Keyboard with Touch ID and Numeric Keypad","Nano-Texture",{"$f":"_xlfn.XLOOKUP(Table14[[#This Row],[TDS SKU]],Sheet2!$B:$B,Sheet2!C:C)","v":"B"},{"$f":"_xlfn.XLOOKUP(Table14[[#This Row],[TDS SKU]],Sheet2!$B:$B,Sheet2!D:D)","v":"A"},{"$f":"_xlfn.XLOOKUP(Table14[[#This Row],[TDS SKU]],Sheet2!$B:$B,Sheet2!E:E)","v":"CTO BO"},{"$f":"LEFT(Table14[[#This Row],[Apple Part ]],4)","v":"Z1EQ"}]
["Z1EQ","14324300",2499,"CTO IMAC M4 10CPU 10GPU 16GB 2TB TID BLUE NANO ","SR1A2LL/A","Special Order","Blue","M4 chip with 10‑core CPU, 10‑core GPU","16GB","2TB SSD","Gigabit","Magic Keyboard with Touch ID","Nano-Texture",{"$f":"_xlfn.XLOOKUP(Table14[[#This Row],[TDS SKU]],Sheet2!$B:$B,Sheet2!C:C)","v":"B"},{"$f":"_xlfn.XLOOKUP(Table14[[#This Row],[TDS SKU]],Sheet2!$B:$B,Sheet2!D:D)","v":"A"},{"$f":"_xlfn.XLOOKUP(Table14[[#This Row],[TDS SKU]],Sheet2!$B:$B,Sheet2!E:E)","v":"CTO BO"},{"$f":"LEFT(Table14[[#This Row],[Apple Part ]],4)","v":"Z1EQ"}]
["Z1EQ","14324320",2929,"CTO IMAC M4 10CPU 10GPU 32GB 2TB TID NK BLUE NANO ","SR1A2LL/A","Special Order","Blue","M4 chip with 10‑core CPU, 10‑core GPU","32GB","2TB SSD","Gigabit","Magic Keyboard with Touch ID and Numeric Keypad","Nano-Texture",{"$f":"_xlfn.XLOOKUP(Table14[[#This Row],[TDS SKU]],Sheet2!$B:$B,Sheet2!C:C)","v":"B"},{"$f":"_xlfn.XLOOKUP(Table14[[#This Row],[TDS SKU]],Sheet2!$B:$B,Sheet2!D:D)","v":"A"},{"$f":"_xlfn.XLOOKUP(Table14[[#This Row],[TDS SKU]],Sheet2!$B:$B,Sheet2!E:E)","v":"CTO BO"},{"$f":"LEFT(Table14[[#This Row],[Apple Part ]],4)","v":"Z1EQ"}]
["Z1EQ","14324316",2329,"CTO IMAC M4 10CPU 10GPU 32GB 512GB TID NK BLUE NANO ","SR1A2LL/A","Special Order","Blue","M4 chip with 10‑core CPU, 10‑core GPU","32GB","512GB SSD","Gigabit","Magic Keyboard with Touch ID and Numeric Keypad","Nano-Texture",{"$f":"_xlfn.XLOOKUP(Table14[[#This Row],[TDS SKU]],Sheet2!$B:$B,Sheet2!C:C)","v":"B"},{"$f":"_xlfn.XLOOKUP(Table14[[#This Row],[TDS SKU]],Sheet2!$B:$B,Sheet2!D:D)","v":"A"},{"$f":"_xlfn.XLOOKUP(Table14[[#This Row],[TDS SKU]],Sheet2!$B:$B,Sheet2!E:E)","v":"CTO BO"},{"$f":"LEFT(Table14[[#This Row],[Apple Part ]],4)","v":"Z1EQ"}]
["Z1EQ","14324347",2329,"CTO IMAC M4 10CPU 10GPU 32GB 1TB TID NK BLUE  ","SR1A2LL/A","Special Order","Blue","M4 chip with 10‑core CPU, 10‑core GPU","32GB","1TB SSD","Gigabit","Magic Keyboard with Touch ID and Numeric Keypad","None",{"$f":"_xlfn.XLOOKUP(Table14[[#This Row],[TDS SKU]],Sheet2!$B:$B,Sheet2!C:C)","v":"B"},{"$f":"_xlfn.XLOOKUP(Table14[[#This Row],[TDS SKU]],Sheet2!$B:$B,Sheet2!D:D)","v":"A"},{"$f":"_xlfn.XLOOKUP(Table14[[#This Row],[TDS SKU]],Sheet2!$B:$B,Sheet2!E:E)","v":"CTO BO"},{"$f":"LEFT(Table14[[#This Row],[Apple Part ]],4)","v":"Z1EQ"}]
["Z1EQ","14324304",2899,"CTO IMAC M4 10CPU 10GPU 32GB 2TB TID BLUE NANO ","SR1A2LL/A","Special Order","Blue","M4 chip with 10‑core CPU, 10‑core GPU","32GB","2TB SSD","Gigabit","Magic Keyboard with Touch ID","Nano-Texture",{"$f":"_xlfn.XLOOKUP(Table14[[#This Row],[TDS SKU]],Sheet2!$B:$B,Sheet2!C:C)","v":"B"},{"$f":"_xlfn.XLOOKUP(Table14[[#This Row],[TDS SKU]],Sheet2!$B:$B,Sheet2!D:D)","v":"A"},{"$f":"_xlfn.XLOOKUP(Table14[[#This Row],[TDS SKU]],Sheet2!$B:$B,Sheet2!E:E)","v":"CTO BO"},{"$f":"LEFT(Table14[[#This Row],[Apple Part ]],4)","v":"Z1EQ"}]
["Z1EQ","14324313",1929,"CTO IMAC M4 10CPU 10GPU 24GB 512GB TID NK BLUE  ","SR1A2LL/A","Special Order","Blue","M4 chip with 10‑core CPU, 10‑core GPU","24GB","512GB SSD","Gigabit","Magic Keyboard with Touch ID and Numeric Keypad","None",{"$f":"_xlfn.XLOOKUP(Table14[[#This Row],[TDS SKU]],Sheet2!$B:$B,Sheet2!C:C)","v":"B"},{"$f":"_xlfn.XLOOKUP(Table14[[#This Row],[TDS SKU]],Sheet2!$B:$B,Sheet2!D:D)","v":"A"},{"$f":"_xlfn.XLOOKUP(Table14[[#This Row],[TDS SKU]],Sheet2!$B:$B,Sheet2!E:E)","v":"CTO BO"},{"$f":"LEFT(Table14[[#This Row],[Apple Part ]],4)","v":"Z1EQ"}]
["Z1EQ","14324345",2129,"CTO IMAC M4 10CPU 10GPU 24GB 1TB TID NK BLUE  ","SR1A2LL/A","Special Order","Blue","M4 chip with 10‑core CPU, 10‑core GPU","24GB","1TB SSD","Gigabit","Magic Keyboard with Touch ID and Numeric Keypad","None",{"$f":"_xlfn.XLOOKUP(Table14[[#This Row],[TDS SKU]],Sheet2!$B:$B,Sheet2!C:C)","v":"B"},{"$f":"_xlfn.XLOOKUP(Table14[[#This Row],[TDS SKU]],Sheet2!$B:$B,Sheet2!D:D)","v":"A"},{"$f":"_xlfn.XLOOKUP(Table14[[#This Row],[TDS SKU]],Sheet2!$B:$B,Sheet2!E:E)","v":"CTO BO"},{"$f":"LEFT(Table14[[#This Row],[Apple Part ]],4)","v":"Z1EQ"}]
["Z1EQ","14324343",1929,"CTO IMAC M4 10CPU 10GPU 16GB 1TB TID NK BLUE  ","SR1A2LL/A","Special Order","Blue","M4 chip with 10‑core CPU, 10‑core GPU","16GB","1TB SSD","Gigabit","Magic Keyboard with Touch ID and Numeric Keypad","None",{"$f":"_xlfn.XLOOKUP(Table14[[#This Row],[TDS SKU]],Sheet2!$B:$B,Sheet2!C:C)","v":"B"},{"$f":"_xlfn.XLOOKUP(Table14[[#This Row],[TDS SKU]],Sheet2!$B:$B,Sheet2!D:D)","v":"A"},{"$f":"_xlfn.XLOOKUP(Table14[[#This Row],[TDS SKU]],Sheet2!$B:$B,Sheet2!E:E)","v":"CTO BO"},{"$f":"LEFT(Table14[[#This Row],[Apple Part ]],4)","v":"Z1EQ"}]
["Z1EQ","14324342",2499,"CTO IMAC M4 10CPU 10GPU 32GB 1TB TID BLUE NANO ","SR1A2LL/A","Special Order","Blue","M4 chip with 10‑core CPU, 10‑core GPU","32GB","1TB SSD","Gigabit","Magic Keyboard with Touch ID","Nano-Texture",{"$f":"_xlfn.XLOOKUP(Table14[[#This Row],[TDS SKU]],Sheet2!$B:$B,Sheet2!C:C)","v":"B"},{"$f":"_xlfn.XLOOKUP(Table14[[#This Row],[TDS SKU]],Sheet2!$B:$B,Sheet2!D:D)","v":"A"},{"$f":"_xlfn.XLOOKUP(Table14[[#This Row],[TDS SKU]],Sheet2!$B:$B,Sheet2!E:E)","v":"CTO BO"},{"$f":"LEFT(Table14[[#This Row],[Apple Part ]],4)","v":"Z1EQ"}]
["Z1EQ","14324314",2129,"CTO IMAC M4 10CPU 10GPU 24GB 512GB TID NK BLUE NANO ","SR1A2LL/A","Special Order","Blue","M4 chip with 10‑core CPU, 10‑core GPU","24GB","512GB SSD","Gigabit","Magic Keyboard with Touch ID and Numeric Keypad","Nano-Texture",{"$f":"_xlfn.XLOOKUP(Table14[[#This Row],[TDS SKU]],Sheet2!$B:$B,Sheet2!C:C)","v":"B"},{"$f":"_xlfn.XLOOKUP(Table14[[#This Row],[TDS SKU]],Sheet2!$B:$B,Sheet2!D:D)","v":"A"},{"$f":"_xlfn.XLOOKUP(Table14[[#This Row],[TDS SKU]],Sheet2!$B:$B,Sheet2!E:E)","v":"CTO BO"},{"$f":"LEFT(Table14[[#This Row],[Apple Part ]],4)","v":"Z1EQ"}]
["Z1EQ","14324312",1929,"CTO IMAC M4 10CPU 10GPU 16GB 512GB TID NK BLUE NANO ","SR1A2LL/A","Special Order","Blue","M4 chip with 10‑core CPU, 10‑core GPU","16GB","512GB SSD","Gigabit","Magic Keyboard with Touch ID and Numeric Keypad","Nano-Texture",{"$f":"_xlfn.XLOOKUP(Table14[[#This Row],[TDS SKU]],Sheet2!$B:$B,Sheet2!C:C)","v":"B"},{"$f":"_xlfn.XLOOKUP(Table14[[#This Row],[TDS SKU]],Sheet2!$B:$B,Sheet2!D:D)","v":"A"},{"$f":"_xlfn.XLOOKUP(Table14[[#This Row],[TDS SKU]],Sheet2!$B:$B,Sheet2!E:E)","v":"CTO BO"},{"$f":"LEFT(Table14[[#This Row],[Apple Part ]],4)","v":"Z1EQ"}]
["Z1EQ","14324305",2329,"CTO IMAC M4 10CPU 10GPU 16GB 2TB TID NK BLUE  ","SR1A2LL/A","Special Order","Blue","M4 chip with 10‑core CPU, 10‑core GPU","16GB","2TB SSD","Gigabit","Magic Keyboard with Touch ID and Numeric Keypad","None",{"$f":"_xlfn.XLOOKUP(Table14[[#This Row],[TDS SKU]],Sheet2!$B:$B,Sheet2!C:C)","v":"B"},{"$f":"_xlfn.XLOOKUP(Table14[[#This Row],[TDS SKU]],Sheet2!$B:$B,Sheet2!D:D)","v":"A"},{"$f":"_xlfn.XLOOKUP(Table14[[#This Row],[TDS SKU]],Sheet2!$B:$B,Sheet2!E:E)","v":"CTO BO"},{"$f":"LEFT(Table14[[#This Row],[Apple Part ]],4)","v":"Z1EQ"}]
["Z1EQ","14324307",2529,"CTO IMAC M4 10CPU 10GPU 24GB 2TB TID NK BLUE  ","SR1A2LL/A","Special Order","Blue","M4 chip with 10‑core CPU, 10‑core GPU","24GB","2TB SSD","Gigabit","Magic Keyboard with Touch ID and Numeric Keypad","None",{"$f":"_xlfn.XLOOKUP(Table14[[#This Row],[TDS SKU]],Sheet2!$B:$B,Sheet2!C:C)","v":"B"},{"$f":"_xlfn.XLOOKUP(Table14[[#This Row],[TDS SKU]],Sheet2!$B:$B,Sheet2!D:D)","v":"A"},{"$f":"_xlfn.XLOOKUP(Table14[[#This Row],[TDS SKU]],Sheet2!$B:$B,Sheet2!E:E)","v":"CTO BO"},{"$f":"LEFT(Table14[[#This Row],[Apple Part ]],4)","v":"Z1EQ"}]
["Z1EQ","14324315",2129,"CTO IMAC M4 10CPU 10GPU 32GB 512GB TID NK BLUE  ","SR1A2LL/A","Special Order","Blue","M4 chip with 10‑core CPU, 10‑core GPU","32GB","512GB SSD","Gigabit","Magic Keyboard with Touch ID and Numeric Keypad","None",{"$f":"_xlfn.XLOOKUP(Table14[[#This Row],[TDS SKU]],Sheet2!$B:$B,Sheet2!C:C)","v":"B"},{"$f":"_xlfn.XLOOKUP(Table14[[#This Row],[TDS SKU]],Sheet2!$B:$B,Sheet2!D:D)","v":"A"},{"$f":"_xlfn.XLOOKUP(Table14[[#This Row],[TDS SKU]],Sheet2!$B:$B,Sheet2!E:E)","v":"CTO BO"},{"$f":"LEFT(Table14[[#This Row],[Apple Part ]],4)","v":"Z1EQ"}]
["Z1EQ","14324340",2299,"CTO IMAC M4 10CPU 10GPU 24GB 1TB TID BLUE NANO ","SR1A2LL/A","Special Order","Blue","M4 chip with 10‑core CPU, 10‑core GPU","24GB","1TB SSD","Gigabit","Magic Keyboard with Touch ID","Nano-Texture",{"$f":"_xlfn.XLOOKUP(Table14[[#This Row],[TDS SKU]],Sheet2!$B:$B,Sheet2!C:C)","v":"B"},{"$f":"_xlfn.XLOOKUP(Table14[[#This Row],[TDS SKU]],Sheet2!$B:$B,Sheet2!D:D)","v":"A"},{"$f":"_xlfn.XLOOKUP(Table14[[#This Row],[TDS SKU]],Sheet2!$B:$B,Sheet2!E:E)","v":"CTO BO"},{"$f":"LEFT(Table14[[#This Row],[Apple Part ]],4)","v":"Z1EQ"}]
["Z1EQ","14324302",2699,"CTO IMAC M4 10CPU 10GPU 24GB 2TB TID BLUE NANO ","SR1A2LL/A","Special Order","Blue","M4 chip with 10‑core CPU, 10‑core GPU","24GB","2TB SSD","Gigabit","Magic Keyboard with Touch ID","Nano-Texture",{"$f":"_xlfn.XLOOKUP(Table14[[#This Row],[TDS SKU]],Sheet2!$B:$B,Sheet2!C:C)","v":"B"},{"$f":"_xlfn.XLOOKUP(Table14[[#This Row],[TDS SKU]],Sheet2!$B:$B,Sheet2!D:D)","v":"A"},{"$f":"_xlfn.XLOOKUP(Table14[[#This Row],[TDS SKU]],Sheet2!$B:$B,Sheet2!E:E)","v":"CTO BO"},{"$f":"LEFT(Table14[[#This Row],[Apple Part ]],4)","v":"Z1EQ"}]
["Z1EQ","14324319",2729,"CTO IMAC M4 10CPU 10GPU 32GB 2TB TID NK BLUE  ","SR1A2LL/A","Special Order","Blue","M4 chip with 10‑core CPU, 10‑core GPU","32GB","2TB SSD","Gigabit","Magic Keyboard with Touch ID and Numeric Keypad","None",{"$f":"_xlfn.XLOOKUP(Table14[[#This Row],[TDS SKU]],Sheet2!$B:$B,Sheet2!C:C)","v":"B"},{"$f":"_xlfn.XLOOKUP(Table14[[#This Row],[TDS SKU]],Sheet2!$B:$B,Sheet2!D:D)","v":"A"},{"$f":"_xlfn.XLOOKUP(Table14[[#This Row],[TDS SKU]],Sheet2!$B:$B,Sheet2!E:E)","v":"CTO BO"},{"$f":"LEFT(Table14[[#This Row],[Apple Part ]],4)","v":"Z1EQ"}]
["Z1EQ","14324308",2729,"CTO IMAC M4 10CPU 10GPU 24GB 2TB TID NK BLUE NANO ","SR1A2LL/A","Special Order","Blue","M4 chip with 10‑core CPU, 10‑core GPU","24GB","2TB SSD","Gigabit","Magic Keyboard with Touch ID and Numeric Keypad","Nano-Texture",{"$f":"_xlfn.XLOOKUP(Table14[[#This Row],[TDS SKU]],Sheet2!$B:$B,Sheet2!C:C)","v":"B"},{"$f":"_xlfn.XLOOKUP(Table14[[#This Row],[TDS SKU]],Sheet2!$B:$B,Sheet2!D:D)","v":"A"},{"$f":"_xlfn.XLOOKUP(Table14[[#This Row],[TDS SKU]],Sheet2!$B:$B,Sheet2!E:E)","v":"CTO BO"},{"$f":"LEFT(Table14[[#This Row],[Apple Part ]],4)","v":"Z1EQ"}]
["Z1EQ","14324344",2129,"CTO IMAC M4 10CPU 10GPU 16GB 1TB TID NK BLUE NANO ","SR1A2LL/A","Special Order","Blue","M4 chip with 10‑core CPU, 10‑core GPU","16GB","1TB SSD","Gigabit","Magic Keyboard with Touch ID and Numeric Keypad","Nano-Texture",{"$f":"_xlfn.XLOOKUP(Table14[[#This Row],[TDS SKU]],Sheet2!$B:$B,Sheet2!C:C)","v":"B"},{"$f":"_xlfn.XLOOKUP(Table14[[#This Row],[TDS SKU]],Sheet2!$B:$B,Sheet2!D:D)","v":"A"},{"$f":"_xlfn.XLOOKUP(Table14[[#This Row],[TDS SKU]],Sheet2!$B:$B,Sheet2!E:E)","v":"CTO BO"},{"$f":"LEFT(Table14[[#This Row],[Apple Part ]],4)","v":"Z1EQ"}]
["Z1EQ","14324346",2329,"CTO IMAC M4 10CPU 10GPU 24GB 1TB TID NK BLUE NANO ","SR1A2LL/A","Special Order","Blue","M4 chip with 10‑core CPU, 10‑core GPU","24GB","1TB SSD","Gigabit","Magic Keyboard with Touch ID and Numeric Keypad","Nano-Texture",{"$f":"_xlfn.XLOOKUP(Table14[[#This Row],[TDS SKU]],Sheet2!$B:$B,Sheet2!C:C)","v":"B"},{"$f":"_xlfn.XLOOKUP(Table14[[#This Row],[TDS SKU]],Sheet2!$B:$B,Sheet2!D:D)","v":"A"},{"$f":"_xlfn.XLOOKUP(Table14[[#This Row],[TDS SKU]],Sheet2!$B:$B,Sheet2!E:E)","v":"CTO BO"},{"$f":"LEFT(Table14[[#This Row],[Apple Part ]],4)","v":"Z1EQ"}]
["Z1EQ","14324306",2529,"CTO IMAC M4 10CPU 10GPU 16GB 2TB TID NK BLUE NANO ","SR1A2LL/A","Special Order","Blue","M4 chip with 10‑core CPU, 10‑core GPU","16GB","2TB SSD","Gigabit","Magic Keyboard with Touch ID and Numeric Keypad","Nano-Texture",{"$f":"_xlfn.XLOOKUP(Table14[[#This Row],[TDS SKU]],Sheet2!$B:$B,Sheet2!C:C)","v":"B"},{"$f":"_xlfn.XLOOKUP(Table14[[#This Row],[TDS SKU]],Sheet2!$B:$B,Sheet2!D:D)","v":"A"},{"$f":"_xlfn.XLOOKUP(Table14[[#This Row],[TDS SKU]],Sheet2!$B:$B,Sheet2!E:E)","v":"CTO BO"},{"$f":"LEFT(Table14[[#This Row],[Apple Part ]],4)","v":"Z1EQ"}]
["Z1EQ","14324310",2299,"CTO IMAC M4 10CPU 10GPU 32GB 512GB TID BLUE NANO ","SR1A2LL/A","Special Order","Blue","M4 chip with 10‑core CPU, 10‑core GPU","32GB","512GB SSD","Gigabit","Magic Keyboard with Touch ID","Nano-Texture",{"$f":"_xlfn.XLOOKUP(Table14[[#This Row],[TDS SKU]],Sheet2!$B:$B,Sheet2!C:C)","v":"B"},{"$f":"_xlfn.XLOOKUP(Table14[[#This Row],[TDS SKU]],Sheet2!$B:$B,Sheet2!D:D)","v":"A"},{"$f":"_xlfn.XLOOKUP(Table14[[#This Row],[TDS SKU]],Sheet2!$B:$B,Sheet2!E:E)","v":"CTO BO"},{"$f":"LEFT(Table14[[#This Row],[Apple Part ]],4)","v":"Z1EQ"}]
["Z1EQ","14324318",2099,"CTO IMAC M4 10CPU 10GPU 16GB 1TB TID BLUE NANO ","SR1A2LL/A","Special Order","Blue","M4 chip with 10‑core CPU, 10‑core GPU","16GB","1TB SSD","Gigabit","Magic Keyboard with Touch ID","Nano-Texture",{"$f":"_xlfn.XLOOKUP(Table14[[#This Row],[TDS SKU]],Sheet2!$B:$B,Sheet2!C:C)","v":"B"},{"$f":"_xlfn.XLOOKUP(Table14[[#This Row],[TDS SKU]],Sheet2!$B:$B,Sheet2!D:D)","v":"A"},{"$f":"_xlfn.XLOOKUP(Table14[[#This Row],[TDS SKU]],Sheet2!$B:$B,Sheet2!E:E)","v":"CTO BO"},{"$f":"LEFT(Table14[[#This Row],[Apple Part ]],4)","v":"Z1EQ"}]
["Z1EQ","14324298",2099,"CTO IMAC M4 10CPU 10GPU 24GB 512GB TID BLUE NANO ","SR1A2LL/A","Special Order","Blue","M4 chip with 10‑core CPU, 10‑core GPU","24GB","512GB SSD","Gigabit","Magic Keyboard with Touch ID","Nano-Texture",{"$f":"_xlfn.XLOOKUP(Table14[[#This Row],[TDS SKU]],Sheet2!$B:$B,Sheet2!C:C)","v":"B"},{"$f":"_xlfn.XLOOKUP(Table14[[#This Row],[TDS SKU]],Sheet2!$B:$B,Sheet2!D:D)","v":"A"},{"$f":"_xlfn.XLOOKUP(Table14[[#This Row],[TDS SKU]],Sheet2!$B:$B,Sheet2!E:E)","v":"CTO BO"},{"$f":"LEFT(Table14[[#This Row],[Apple Part ]],4)","v":"Z1EQ"}]
["Z1ER","14324321",1699,"CTO IMAC M4 10CPU 10GPU 16GB 256GB TID PINK NANO ","SR1A2LL/A","Special Order","Pink","M4 chip with 10‑core CPU, 10‑core GPU","16GB","256GB SSD","Gigabit","Magic Keyboard with Touch ID","Nano-Texture",{"$f":"_xlfn.XLOOKUP(Table14[[#This Row],[TDS SKU]],Sheet2!$B:$B,Sheet2!C:C)","v":"B"},{"$f":"_xlfn.XLOOKUP(Table14[[#This Row],[TDS SKU]],Sheet2!$B:$B,Sheet2!D:D)","v":"A"},{"$f":"_xlfn.XLOOKUP(Table14[[#This Row],[TDS SKU]],Sheet2!$B:$B,Sheet2!E:E)","v":"CTO BO"},{"$f":"LEFT(Table14[[#This Row],[Apple Part ]],4)","v":"Z1ER"}]
["Z1ER","14324324",1529,"CTO IMAC M4 10CPU 10GPU 16GB 256GB TID NK PINK  ","SR1A2LL/A","Special Order","Pink","M4 chip with 10‑core CPU, 10‑core GPU","16GB","256GB SSD","Gigabit","Magic Keyboard with Touch ID and Numeric Keypad","None",{"$f":"_xlfn.XLOOKUP(Table14[[#This Row],[TDS SKU]],Sheet2!$B:$B,Sheet2!C:C)","v":"B"},{"$f":"_xlfn.XLOOKUP(Table14[[#This Row],[TDS SKU]],Sheet2!$B:$B,Sheet2!D:D)","v":"A"},{"$f":"_xlfn.XLOOKUP(Table14[[#This Row],[TDS SKU]],Sheet2!$B:$B,Sheet2!E:E)","v":"CTO BO"},{"$f":"LEFT(Table14[[#This Row],[Apple Part ]],4)","v":"Z1ER"}]
["Z1ER","14324322",1699,"CTO IMAC M4 10CPU 10GPU 24GB 256GB TID PINK  ","SR1A2LL/A","Special Order","Pink","M4 chip with 10‑core CPU, 10‑core GPU","24GB","256GB SSD","Gigabit","Magic Keyboard with Touch ID","None",{"$f":"_xlfn.XLOOKUP(Table14[[#This Row],[TDS SKU]],Sheet2!$B:$B,Sheet2!C:C)","v":"B"},{"$f":"_xlfn.XLOOKUP(Table14[[#This Row],[TDS SKU]],Sheet2!$B:$B,Sheet2!D:D)","v":"A"},{"$f":"_xlfn.XLOOKUP(Table14[[#This Row],[TDS SKU]],Sheet2!$B:$B,Sheet2!E:E)","v":"CTO BO"},{"$f":"LEFT(Table14[[#This Row],[Apple Part ]],4)","v":"Z1ER"}]
["Z1ER","14324326",1729,"CTO IMAC M4 10CPU 10GPU 24GB 256GB TID NK PINK  ","SR1A2LL/A","Special Order","Pink","M4 chip with 10‑core CPU, 10‑core GPU","24GB","256GB SSD","Gigabit","Magic Keyboard with Touch ID and Numeric Keypad","None",{"$f":"_xlfn.XLOOKUP(Table14[[#This Row],[TDS SKU]],Sheet2!$B:$B,Sheet2!C:C)","v":"B"},{"$f":"_xlfn.XLOOKUP(Table14[[#This Row],[TDS SKU]],Sheet2!$B:$B,Sheet2!D:D)","v":"A"},{"$f":"_xlfn.XLOOKUP(Table14[[#This Row],[TDS SKU]],Sheet2!$B:$B,Sheet2!E:E)","v":"CTO BO"},{"$f":"LEFT(Table14[[#This Row],[Apple Part ]],4)","v":"Z1ER"}]
["Z1ER","14324325",1729,"CTO IMAC M4 10CPU 10GPU 16GB 256GB TID NK PINK NANO ","SR1A2LL/A","Special Order","Pink","M4 chip with 10‑core CPU, 10‑core GPU","16GB","256GB SSD","Gigabit","Magic Keyboard with Touch ID and Numeric Keypad","Nano-Texture",{"$f":"_xlfn.XLOOKUP(Table14[[#This Row],[TDS SKU]],Sheet2!$B:$B,Sheet2!C:C)","v":"B"},{"$f":"_xlfn.XLOOKUP(Table14[[#This Row],[TDS SKU]],Sheet2!$B:$B,Sheet2!D:D)","v":"A"},{"$f":"_xlfn.XLOOKUP(Table14[[#This Row],[TDS SKU]],Sheet2!$B:$B,Sheet2!E:E)","v":"CTO BO"},{"$f":"LEFT(Table14[[#This Row],[Apple Part ]],4)","v":"Z1ER"}]
["Z1ER","14324323",1899,"CTO IMAC M4 10CPU 10GPU 24GB 256GB TID PINK NANO ","SR1A2LL/A","Special Order","Pink","M4 chip with 10‑core CPU, 10‑core GPU","24GB","256GB SSD","Gigabit","Magic Keyboard with Touch ID","Nano-Texture",{"$f":"_xlfn.XLOOKUP(Table14[[#This Row],[TDS SKU]],Sheet2!$B:$B,Sheet2!C:C)","v":"B"},{"$f":"_xlfn.XLOOKUP(Table14[[#This Row],[TDS SKU]],Sheet2!$B:$B,Sheet2!D:D)","v":"A"},{"$f":"_xlfn.XLOOKUP(Table14[[#This Row],[TDS SKU]],Sheet2!$B:$B,Sheet2!E:E)","v":"CTO BO"},{"$f":"LEFT(Table14[[#This Row],[Apple Part ]],4)","v":"Z1ER"}]
["Z1ER","14324327",1929,"CTO IMAC M4 10CPU 10GPU 24GB 256GB TID NK PINK NANO ","SR1A2LL/A","Special Order","Pink","M4 chip with 10‑core CPU, 10‑core GPU","24GB","256GB SSD","Gigabit","Magic Keyboard with Touch ID and Numeric Keypad","Nano-Texture",{"$f":"_xlfn.XLOOKUP(Table14[[#This Row],[TDS SKU]],Sheet2!$B:$B,Sheet2!C:C)","v":"B"},{"$f":"_xlfn.XLOOKUP(Table14[[#This Row],[TDS SKU]],Sheet2!$B:$B,Sheet2!D:D)","v":"A"},{"$f":"_xlfn.XLOOKUP(Table14[[#This Row],[TDS SKU]],Sheet2!$B:$B,Sheet2!E:E)","v":"CTO BO"},{"$f":"LEFT(Table14[[#This Row],[Apple Part ]],4)","v":"Z1ER"}]
["Z1ES","14324328",1899,"CTO IMAC M4 10CPU 10GPU 16GB 512GB TID PINK NANO ","SR1A2LL/A","Special Order","Pink","M4 chip with 10‑core CPU, 10‑core GPU","16GB","512GB SSD","Gigabit","Magic Keyboard with Touch ID","Nano-Texture",{"$f":"_xlfn.XLOOKUP(Table14[[#This Row],[TDS SKU]],Sheet2!$B:$B,Sheet2!C:C)","v":"B"},{"$f":"_xlfn.XLOOKUP(Table14[[#This Row],[TDS SKU]],Sheet2!$B:$B,Sheet2!D:D)","v":"A"},{"$f":"_xlfn.XLOOKUP(Table14[[#This Row],[TDS SKU]],Sheet2!$B:$B,Sheet2!E:E)","v":"CTO BO"},{"$f":"LEFT(Table14[[#This Row],[Apple Part ]],4)","v":"Z1ES"}]
["Z1ES","14324368",1899,"CTO IMAC M4 10CPU 10GPU 16GB 1TB TID PINK  ","SR1A2LL/A","Special Order","Pink","M4 chip with 10‑core CPU, 10‑core GPU","16GB","1TB SSD","Gigabit","Magic Keyboard with Touch ID","None",{"$f":"_xlfn.XLOOKUP(Table14[[#This Row],[TDS SKU]],Sheet2!$B:$B,Sheet2!C:C)","v":"B"},{"$f":"_xlfn.XLOOKUP(Table14[[#This Row],[TDS SKU]],Sheet2!$B:$B,Sheet2!D:D)","v":"A"},{"$f":"_xlfn.XLOOKUP(Table14[[#This Row],[TDS SKU]],Sheet2!$B:$B,Sheet2!E:E)","v":"CTO BO"},{"$f":"LEFT(Table14[[#This Row],[Apple Part ]],4)","v":"Z1ES"}]
["Z1ES","14324380",2299,"CTO IMAC M4 10CPU 10GPU 16GB 2TB TID PINK  ","SR1A2LL/A","Special Order","Pink","M4 chip with 10‑core CPU, 10‑core GPU","16GB","2TB SSD","Gigabit","Magic Keyboard with Touch ID","None",{"$f":"_xlfn.XLOOKUP(Table14[[#This Row],[TDS SKU]],Sheet2!$B:$B,Sheet2!C:C)","v":"B"},{"$f":"_xlfn.XLOOKUP(Table14[[#This Row],[TDS SKU]],Sheet2!$B:$B,Sheet2!D:D)","v":"A"},{"$f":"_xlfn.XLOOKUP(Table14[[#This Row],[TDS SKU]],Sheet2!$B:$B,Sheet2!E:E)","v":"CTO BO"},{"$f":"LEFT(Table14[[#This Row],[Apple Part ]],4)","v":"Z1ES"}]
["Z1ES","14324362",1729,"CTO IMAC M4 10CPU 10GPU 16GB 512GB TID NK PINK  ","SR1A2LL/A","Special Order","Pink","M4 chip with 10‑core CPU, 10‑core GPU","16GB","512GB SSD","Gigabit","Magic Keyboard with Touch ID and Numeric Keypad","None",{"$f":"_xlfn.XLOOKUP(Table14[[#This Row],[TDS SKU]],Sheet2!$B:$B,Sheet2!C:C)","v":"B"},{"$f":"_xlfn.XLOOKUP(Table14[[#This Row],[TDS SKU]],Sheet2!$B:$B,Sheet2!D:D)","v":"A"},{"$f":"_xlfn.XLOOKUP(Table14[[#This Row],[TDS SKU]],Sheet2!$B:$B,Sheet2!E:E)","v":"CTO BO"},{"$f":"LEFT(Table14[[#This Row],[Apple Part ]],4)","v":"Z1ES"}]
["Z1ES","14324360",2099,"CTO IMAC M4 10CPU 10GPU 32GB 512GB TID PINK  ","SR1A2LL/A","Special Order","Pink","M4 chip with 10‑core CPU, 10‑core GPU","32GB","512GB SSD","Gigabit","Magic Keyboard with Touch ID","None",{"$f":"_xlfn.XLOOKUP(Table14[[#This Row],[TDS SKU]],Sheet2!$B:$B,Sheet2!C:C)","v":"B"},{"$f":"_xlfn.XLOOKUP(Table14[[#This Row],[TDS SKU]],Sheet2!$B:$B,Sheet2!D:D)","v":"A"},{"$f":"_xlfn.XLOOKUP(Table14[[#This Row],[TDS SKU]],Sheet2!$B:$B,Sheet2!E:E)","v":"CTO BO"},{"$f":"LEFT(Table14[[#This Row],[Apple Part ]],4)","v":"Z1ES"}]
["Z1ES","14324330",2099,"CTO IMAC M4 10CPU 10GPU 24GB 1TB TID PINK  ","SR1A2LL/A","Special Order","Pink","M4 chip with 10‑core CPU, 10‑core GPU","24GB","1TB SSD","Gigabit","Magic Keyboard with Touch ID","None",{"$f":"_xlfn.XLOOKUP(Table14[[#This Row],[TDS SKU]],Sheet2!$B:$B,Sheet2!C:C)","v":"B"},{"$f":"_xlfn.XLOOKUP(Table14[[#This Row],[TDS SKU]],Sheet2!$B:$B,Sheet2!D:D)","v":"A"},{"$f":"_xlfn.XLOOKUP(Table14[[#This Row],[TDS SKU]],Sheet2!$B:$B,Sheet2!E:E)","v":"CTO BO"},{"$f":"LEFT(Table14[[#This Row],[Apple Part ]],4)","v":"Z1ES"}]
["Z1ES","14324332",2299,"CTO IMAC M4 10CPU 10GPU 32GB 1TB TID PINK  ","SR1A2LL/A","Special Order","Pink","M4 chip with 10‑core CPU, 10‑core GPU","32GB","1TB SSD","Gigabit","Magic Keyboard with Touch ID","None",{"$f":"_xlfn.XLOOKUP(Table14[[#This Row],[TDS SKU]],Sheet2!$B:$B,Sheet2!C:C)","v":"B"},{"$f":"_xlfn.XLOOKUP(Table14[[#This Row],[TDS SKU]],Sheet2!$B:$B,Sheet2!D:D)","v":"A"},{"$f":"_xlfn.XLOOKUP(Table14[[#This Row],[TDS SKU]],Sheet2!$B:$B,Sheet2!E:E)","v":"CTO BO"},{"$f":"LEFT(Table14[[#This Row],[Apple Part ]],4)","v":"Z1ES"}]
["Z1ES","14324382",2499,"CTO IMAC M4 10CPU 10GPU 24GB 2TB TID PINK  ","SR1A2LL/A","Special Order","Pink","M4 chip with 10‑core CPU, 10‑core GPU","24GB","2TB SSD","Gigabit","Magic Keyboard with Touch ID","None",{"$f":"_xlfn.XLOOKUP(Table14[[#This Row],[TDS SKU]],Sheet2!$B:$B,Sheet2!C:C)","v":"B"},{"$f":"_xlfn.XLOOKUP(Table14[[#This Row],[TDS SKU]],Sheet2!$B:$B,Sheet2!D:D)","v":"A"},{"$f":"_xlfn.XLOOKUP(Table14[[#This Row],[TDS SKU]],Sheet2!$B:$B,Sheet2!E:E)","v":"CTO BO"},{"$f":"LEFT(Table14[[#This Row],[Apple Part ]],4)","v":"Z1ES"}]
["Z1ES","14324384",2699,"CTO IMAC M4 10CPU 10GPU 32GB 2TB TID PINK  ","SR1A2LL/A","Special Order","Pink","M4 chip with 10‑core CPU, 10‑core GPU","32GB","2TB SSD","Gigabit","Magic Keyboard with Touch ID","None",{"$f":"_xlfn.XLOOKUP(Table14[[#This Row],[TDS SKU]],Sheet2!$B:$B,Sheet2!C:C)","v":"B"},{"$f":"_xlfn.XLOOKUP(Table14[[#This Row],[TDS SKU]],Sheet2!$B:$B,Sheet2!D:D)","v":"A"},{"$f":"_xlfn.XLOOKUP(Table14[[#This Row],[TDS SKU]],Sheet2!$B:$B,Sheet2!E:E)","v":"CTO BO"},{"$f":"LEFT(Table14[[#This Row],[Apple Part ]],4)","v":"Z1ES"}]
["Z1ES","14324334",1929,"CTO IMAC M4 10CPU 10GPU 16GB 1TB TID NK PINK  ","SR1A2LL/A","Special Order","Pink","M4 chip with 10‑core CPU, 10‑core GPU","16GB","1TB SSD","Gigabit","Magic Keyboard with Touch ID and Numeric Keypad","None",{"$f":"_xlfn.XLOOKUP(Table14[[#This Row],[TDS SKU]],Sheet2!$B:$B,Sheet2!C:C)","v":"B"},{"$f":"_xlfn.XLOOKUP(Table14[[#This Row],[TDS SKU]],Sheet2!$B:$B,Sheet2!D:D)","v":"A"},{"$f":"_xlfn.XLOOKUP(Table14[[#This Row],[TDS SKU]],Sheet2!$B:$B,Sheet2!E:E)","v":"CTO BO"},{"$f":"LEFT(Table14[[#This Row],[Apple Part ]],4)","v":"Z1ES"}]
["Z1ES","14324386",2329,"CTO IMAC M4 10CPU 10GPU 16GB 2TB TID NK PINK  ","SR1A2LL/A","Special Order","Pink","M4 chip with 10‑core CPU, 10‑core GPU","16GB","2TB SSD","Gigabit","Magic Keyboard with Touch ID and Numeric Keypad","None",{"$f":"_xlfn.XLOOKUP(Table14[[#This Row],[TDS SKU]],Sheet2!$B:$B,Sheet2!C:C)","v":"B"},{"$f":"_xlfn.XLOOKUP(Table14[[#This Row],[TDS SKU]],Sheet2!$B:$B,Sheet2!D:D)","v":"A"},{"$f":"_xlfn.XLOOKUP(Table14[[#This Row],[TDS SKU]],Sheet2!$B:$B,Sheet2!E:E)","v":"CTO BO"},{"$f":"LEFT(Table14[[#This Row],[Apple Part ]],4)","v":"Z1ES"}]
["Z1ES","14324363",1929,"CTO IMAC M4 10CPU 10GPU 16GB 512GB TID NK PINK NANO ","SR1A2LL/A","Special Order","Pink","M4 chip with 10‑core CPU, 10‑core GPU","16GB","512GB SSD","Gigabit","Magic Keyboard with Touch ID and Numeric Keypad","Nano-Texture",{"$f":"_xlfn.XLOOKUP(Table14[[#This Row],[TDS SKU]],Sheet2!$B:$B,Sheet2!C:C)","v":"B"},{"$f":"_xlfn.XLOOKUP(Table14[[#This Row],[TDS SKU]],Sheet2!$B:$B,Sheet2!D:D)","v":"A"},{"$f":"_xlfn.XLOOKUP(Table14[[#This Row],[TDS SKU]],Sheet2!$B:$B,Sheet2!E:E)","v":"CTO BO"},{"$f":"LEFT(Table14[[#This Row],[Apple Part ]],4)","v":"Z1ES"}]
["Z1ES","14324336",2129,"CTO IMAC M4 10CPU 10GPU 24GB 1TB TID NK PINK  ","SR1A2LL/A","Special Order","Pink","M4 chip with 10‑core CPU, 10‑core GPU","24GB","1TB SSD","Gigabit","Magic Keyboard with Touch ID and Numeric Keypad","None",{"$f":"_xlfn.XLOOKUP(Table14[[#This Row],[TDS SKU]],Sheet2!$B:$B,Sheet2!C:C)","v":"B"},{"$f":"_xlfn.XLOOKUP(Table14[[#This Row],[TDS SKU]],Sheet2!$B:$B,Sheet2!D:D)","v":"A"},{"$f":"_xlfn.XLOOKUP(Table14[[#This Row],[TDS SKU]],Sheet2!$B:$B,Sheet2!E:E)","v":"CTO BO"},{"$f":"LEFT(Table14[[#This Row],[Apple Part ]],4)","v":"Z1ES"}]
["Z1ES","14324388",2529,"CTO IMAC M4 10CPU 10GPU 24GB 2TB TID NK PINK  ","SR1A2LL/A","Special Order","Pink","M4 chip with 10‑core CPU, 10‑core GPU","24GB","2TB SSD","Gigabit","Magic Keyboard with Touch ID and Numeric Keypad","None",{"$f":"_xlfn.XLOOKUP(Table14[[#This Row],[TDS SKU]],Sheet2!$B:$B,Sheet2!C:C)","v":"B"},{"$f":"_xlfn.XLOOKUP(Table14[[#This Row],[TDS SKU]],Sheet2!$B:$B,Sheet2!D:D)","v":"A"},{"$f":"_xlfn.XLOOKUP(Table14[[#This Row],[TDS SKU]],Sheet2!$B:$B,Sheet2!E:E)","v":"CTO BO"},{"$f":"LEFT(Table14[[#This Row],[Apple Part ]],4)","v":"Z1ES"}]
["Z1ES","14324364",1929,"CTO IMAC M4 10CPU 10GPU 24GB 512GB TID NK PINK  ","SR1A2LL/A","Special Order","Pink","M4 chip with 10‑core CPU, 10‑core GPU","24GB","512GB SSD","Gigabit","Magic Keyboard with Touch ID and Numeric Keypad","None",{"$f":"_xlfn.XLOOKUP(Table14[[#This Row],[TDS SKU]],Sheet2!$B:$B,Sheet2!C:C)","v":"B"},{"$f":"_xlfn.XLOOKUP(Table14[[#This Row],[TDS SKU]],Sheet2!$B:$B,Sheet2!D:D)","v":"A"},{"$f":"_xlfn.XLOOKUP(Table14[[#This Row],[TDS SKU]],Sheet2!$B:$B,Sheet2!E:E)","v":"CTO BO"},{"$f":"LEFT(Table14[[#This Row],[Apple Part ]],4)","v":"Z1ES"}]
["Z1ES","14324387",2529,"CTO IMAC M4 10CPU 10GPU 16GB 2TB TID NK PINK NANO ","SR1A2LL/A","Special Order","Pink","M4 chip with 10‑core CPU, 10‑core GPU","16GB","2TB SSD","Gigabit","Magic Keyboard with Touch ID and Numeric Keypad","Nano-Texture",{"$f":"_xlfn.XLOOKUP(Table14[[#This Row],[TDS SKU]],Sheet2!$B:$B,Sheet2!C:C)","v":"B"},{"$f":"_xlfn.XLOOKUP(Table14[[#This Row],[TDS SKU]],Sheet2!$B:$B,Sheet2!D:D)","v":"A"},{"$f":"_xlfn.XLOOKUP(Table14[[#This Row],[TDS SKU]],Sheet2!$B:$B,Sheet2!E:E)","v":"CTO BO"},{"$f":"LEFT(Table14[[#This Row],[Apple Part ]],4)","v":"Z1ES"}]
["Z1ES","14324359",2099,"CTO IMAC M4 10CPU 10GPU 24GB 512GB TID PINK NANO ","SR1A2LL/A","Special Order","Pink","M4 chip with 10‑core CPU, 10‑core GPU","24GB","512GB SSD","Gigabit","Magic Keyboard with Touch ID","Nano-Texture",{"$f":"_xlfn.XLOOKUP(Table14[[#This Row],[TDS SKU]],Sheet2!$B:$B,Sheet2!C:C)","v":"B"},{"$f":"_xlfn.XLOOKUP(Table14[[#This Row],[TDS SKU]],Sheet2!$B:$B,Sheet2!D:D)","v":"A"},{"$f":"_xlfn.XLOOKUP(Table14[[#This Row],[TDS SKU]],Sheet2!$B:$B,Sheet2!E:E)","v":"CTO BO"},{"$f":"LEFT(Table14[[#This Row],[Apple Part ]],4)","v":"Z1ES"}]
["Z1ES","14324361",2299,"CTO IMAC M4 10CPU 10GPU 32GB 512GB TID PINK NANO ","SR1A2LL/A","Special Order","Pink","M4 chip with 10‑core CPU, 10‑core GPU","32GB","512GB SSD","Gigabit","Magic Keyboard with Touch ID","Nano-Texture",{"$f":"_xlfn.XLOOKUP(Table14[[#This Row],[TDS SKU]],Sheet2!$B:$B,Sheet2!C:C)","v":"B"},{"$f":"_xlfn.XLOOKUP(Table14[[#This Row],[TDS SKU]],Sheet2!$B:$B,Sheet2!D:D)","v":"A"},{"$f":"_xlfn.XLOOKUP(Table14[[#This Row],[TDS SKU]],Sheet2!$B:$B,Sheet2!E:E)","v":"CTO BO"},{"$f":"LEFT(Table14[[#This Row],[Apple Part ]],4)","v":"Z1ES"}]
["Z1ES","14324365",2129,"CTO IMAC M4 10CPU 10GPU 24GB 512GB TID NK PINK NANO ","SR1A2LL/A","Special Order","Pink","M4 chip with 10‑core CPU, 10‑core GPU","24GB","512GB SSD","Gigabit","Magic Keyboard with Touch ID and Numeric Keypad","Nano-Texture",{"$f":"_xlfn.XLOOKUP(Table14[[#This Row],[TDS SKU]],Sheet2!$B:$B,Sheet2!C:C)","v":"B"},{"$f":"_xlfn.XLOOKUP(Table14[[#This Row],[TDS SKU]],Sheet2!$B:$B,Sheet2!D:D)","v":"A"},{"$f":"_xlfn.XLOOKUP(Table14[[#This Row],[TDS SKU]],Sheet2!$B:$B,Sheet2!E:E)","v":"CTO BO"},{"$f":"LEFT(Table14[[#This Row],[Apple Part ]],4)","v":"Z1ES"}]
["Z1ES","14324366",2129,"CTO IMAC M4 10CPU 10GPU 32GB 512GB TID NK PINK  ","SR1A2LL/A","Special Order","Pink","M4 chip with 10‑core CPU, 10‑core GPU","32GB","512GB SSD","Gigabit","Magic Keyboard with Touch ID and Numeric Keypad","None",{"$f":"_xlfn.XLOOKUP(Table14[[#This Row],[TDS SKU]],Sheet2!$B:$B,Sheet2!C:C)","v":"B"},{"$f":"_xlfn.XLOOKUP(Table14[[#This Row],[TDS SKU]],Sheet2!$B:$B,Sheet2!D:D)","v":"A"},{"$f":"_xlfn.XLOOKUP(Table14[[#This Row],[TDS SKU]],Sheet2!$B:$B,Sheet2!E:E)","v":"CTO BO"},{"$f":"LEFT(Table14[[#This Row],[Apple Part ]],4)","v":"Z1ES"}]
["Z1ES","14324367",2329,"CTO IMAC M4 10CPU 10GPU 32GB 512GB TID NK PINK NANO ","SR1A2LL/A","Special Order","Pink","M4 chip with 10‑core CPU, 10‑core GPU","32GB","512GB SSD","Gigabit","Magic Keyboard with Touch ID and Numeric Keypad","Nano-Texture",{"$f":"_xlfn.XLOOKUP(Table14[[#This Row],[TDS SKU]],Sheet2!$B:$B,Sheet2!C:C)","v":"B"},{"$f":"_xlfn.XLOOKUP(Table14[[#This Row],[TDS SKU]],Sheet2!$B:$B,Sheet2!D:D)","v":"A"},{"$f":"_xlfn.XLOOKUP(Table14[[#This Row],[TDS SKU]],Sheet2!$B:$B,Sheet2!E:E)","v":"CTO BO"},{"$f":"LEFT(Table14[[#This Row],[Apple Part ]],4)","v":"Z1ES"}]
["Z1ES","14324329",2099,"CTO IMAC M4 10CPU 10GPU 16GB 1TB TID PINK NANO ","SR1A2LL/A","Special Order","Pink","M4 chip with 10‑core CPU, 10‑core GPU","16GB","1TB SSD","Gigabit","Magic Keyboard with Touch ID","Nano-Texture",{"$f":"_xlfn.XLOOKUP(Table14[[#This Row],[TDS SKU]],Sheet2!$B:$B,Sheet2!C:C)","v":"B"},{"$f":"_xlfn.XLOOKUP(Table14[[#This Row],[TDS SKU]],Sheet2!$B:$B,Sheet2!D:D)","v":"A"},{"$f":"_xlfn.XLOOKUP(Table14[[#This Row],[TDS SKU]],Sheet2!$B:$B,Sheet2!E:E)","v":"CTO BO"},{"$f":"LEFT(Table14[[#This Row],[Apple Part ]],4)","v":"Z1ES"}]
["Z1ES","14324331",2299,"CTO IMAC M4 10CPU 10GPU 24GB 1TB TID PINK NANO ","SR1A2LL/A","Special Order","Pink","M4 chip with 10‑core CPU, 10‑core GPU","24GB","1TB SSD","Gigabit","Magic Keyboard with Touch ID","Nano-Texture",{"$f":"_xlfn.XLOOKUP(Table14[[#This Row],[TDS SKU]],Sheet2!$B:$B,Sheet2!C:C)","v":"B"},{"$f":"_xlfn.XLOOKUP(Table14[[#This Row],[TDS SKU]],Sheet2!$B:$B,Sheet2!D:D)","v":"A"},{"$f":"_xlfn.XLOOKUP(Table14[[#This Row],[TDS SKU]],Sheet2!$B:$B,Sheet2!E:E)","v":"CTO BO"},{"$f":"LEFT(Table14[[#This Row],[Apple Part ]],4)","v":"Z1ES"}]
["Z1ES","14324333",2499,"CTO IMAC M4 10CPU 10GPU 32GB 1TB TID PINK NANO ","SR1A2LL/A","Special Order","Pink","M4 chip with 10‑core CPU, 10‑core GPU","32GB","1TB SSD","Gigabit","Magic Keyboard with Touch ID","Nano-Texture",{"$f":"_xlfn.XLOOKUP(Table14[[#This Row],[TDS SKU]],Sheet2!$B:$B,Sheet2!C:C)","v":"B"},{"$f":"_xlfn.XLOOKUP(Table14[[#This Row],[TDS SKU]],Sheet2!$B:$B,Sheet2!D:D)","v":"A"},{"$f":"_xlfn.XLOOKUP(Table14[[#This Row],[TDS SKU]],Sheet2!$B:$B,Sheet2!E:E)","v":"CTO BO"},{"$f":"LEFT(Table14[[#This Row],[Apple Part ]],4)","v":"Z1ES"}]
["Z1ES","14324335",2129,"CTO IMAC M4 10CPU 10GPU 16GB 1TB TID NK PINK NANO ","SR1A2LL/A","Special Order","Pink","M4 chip with 10‑core CPU, 10‑core GPU","16GB","1TB SSD","Gigabit","Magic Keyboard with Touch ID and Numeric Keypad","Nano-Texture",{"$f":"_xlfn.XLOOKUP(Table14[[#This Row],[TDS SKU]],Sheet2!$B:$B,Sheet2!C:C)","v":"B"},{"$f":"_xlfn.XLOOKUP(Table14[[#This Row],[TDS SKU]],Sheet2!$B:$B,Sheet2!D:D)","v":"A"},{"$f":"_xlfn.XLOOKUP(Table14[[#This Row],[TDS SKU]],Sheet2!$B:$B,Sheet2!E:E)","v":"CTO BO"},{"$f":"LEFT(Table14[[#This Row],[Apple Part ]],4)","v":"Z1ES"}]
["Z1ES","14324337",2329,"CTO IMAC M4 10CPU 10GPU 24GB 1TB TID NK PINK NANO ","SR1A2LL/A","Special Order","Pink","M4 chip with 10‑core CPU, 10‑core GPU","24GB","1TB SSD","Gigabit","Magic Keyboard with Touch ID and Numeric Keypad","Nano-Texture",{"$f":"_xlfn.XLOOKUP(Table14[[#This Row],[TDS SKU]],Sheet2!$B:$B,Sheet2!C:C)","v":"B"},{"$f":"_xlfn.XLOOKUP(Table14[[#This Row],[TDS SKU]],Sheet2!$B:$B,Sheet2!D:D)","v":"A"},{"$f":"_xlfn.XLOOKUP(Table14[[#This Row],[TDS SKU]],Sheet2!$B:$B,Sheet2!E:E)","v":"CTO BO"},{"$f":"LEFT(Table14[[#This Row],[Apple Part ]],4)","v":"Z1ES"}]
["Z1ES","14324338",2329,"CTO IMAC M4 10CPU 10GPU 32GB 1TB TID NK PINK  ","SR1A2LL/A","Special Order","Pink","M4 chip with 10‑core CPU, 10‑core GPU","32GB","1TB SSD","Gigabit","Magic Keyboard with Touch ID and Numeric Keypad","None",{"$f":"_xlfn.XLOOKUP(Table14[[#This Row],[TDS SKU]],Sheet2!$B:$B,Sheet2!C:C)","v":"B"},{"$f":"_xlfn.XLOOKUP(Table14[[#This Row],[TDS SKU]],Sheet2!$B:$B,Sheet2!D:D)","v":"A"},{"$f":"_xlfn.XLOOKUP(Table14[[#This Row],[TDS SKU]],Sheet2!$B:$B,Sheet2!E:E)","v":"CTO BO"},{"$f":"LEFT(Table14[[#This Row],[Apple Part ]],4)","v":"Z1ES"}]
["Z1ES","14324379",2529,"CTO IMAC M4 10CPU 10GPU 32GB 1TB TID NK PINK NANO ","SR1A2LL/A","Special Order","Pink","M4 chip with 10‑core CPU, 10‑core GPU","32GB","1TB SSD","Gigabit","Magic Keyboard with Touch ID and Numeric Keypad","Nano-Texture",{"$f":"_xlfn.XLOOKUP(Table14[[#This Row],[TDS SKU]],Sheet2!$B:$B,Sheet2!C:C)","v":"B"},{"$f":"_xlfn.XLOOKUP(Table14[[#This Row],[TDS SKU]],Sheet2!$B:$B,Sheet2!D:D)","v":"A"},{"$f":"_xlfn.XLOOKUP(Table14[[#This Row],[TDS SKU]],Sheet2!$B:$B,Sheet2!E:E)","v":"CTO BO"},{"$f":"LEFT(Table14[[#This Row],[Apple Part ]],4)","v":"Z1ES"}]
["Z1ES","14324381",2499,"CTO IMAC M4 10CPU 10GPU 16GB 2TB TID PINK NANO ","SR1A2LL/A","Special Order","Pink","M4 chip with 10‑core CPU, 10‑core GPU","16GB","2TB SSD","Gigabit","Magic Keyboard with Touch ID","Nano-Texture",{"$f":"_xlfn.XLOOKUP(Table14[[#This Row],[TDS SKU]],Sheet2!$B:$B,Sheet2!C:C)","v":"B"},{"$f":"_xlfn.XLOOKUP(Table14[[#This Row],[TDS SKU]],Sheet2!$B:$B,Sheet2!D:D)","v":"A"},{"$f":"_xlfn.XLOOKUP(Table14[[#This Row],[TDS SKU]],Sheet2!$B:$B,Sheet2!E:E)","v":"CTO BO"},{"$f":"LEFT(Table14[[#This Row],[Apple Part ]],4)","v":"Z1ES"}]
["Z1ES","14324383",2699,"CTO IMAC M4 10CPU 10GPU 24GB 2TB TID PINK NANO ","SR1A2LL/A","Special Order","Pink","M4 chip with 10‑core CPU, 10‑core GPU","24GB","2TB SSD","Gigabit","Magic Keyboard with Touch ID","Nano-Texture",{"$f":"_xlfn.XLOOKUP(Table14[[#This Row],[TDS SKU]],Sheet2!$B:$B,Sheet2!C:C)","v":"B"},{"$f":"_xlfn.XLOOKUP(Table14[[#This Row],[TDS SKU]],Sheet2!$B:$B,Sheet2!D:D)","v":"A"},{"$f":"_xlfn.XLOOKUP(Table14[[#This Row],[TDS SKU]],Sheet2!$B:$B,Sheet2!E:E)","v":"CTO BO"},{"$f":"LEFT(Table14[[#This Row],[Apple Part ]],4)","v":"Z1ES"}]
["Z1ES","14324385",2899,"CTO IMAC M4 10CPU 10GPU 32GB 2TB TID PINK NANO ","SR1A2LL/A",{"$f":"IF(OR(P405=\"CTO BO\",P405=\"ZPN BO\"),\"Special Order\",\"Stocked\")","v":"Special Order"},"Pink","M4 chip with 10‑core CPU, 10‑core GPU","32GB","2TB SSD","Gigabit","Magic Keyboard with Touch ID","Nano-Texture",{"$f":"_xlfn.XLOOKUP(Table14[[#This Row],[TDS SKU]],Sheet2!$B:$B,Sheet2!C:C)","v":"B"},{"$f":"_xlfn.XLOOKUP(Table14[[#This Row],[TDS SKU]],Sheet2!$B:$B,Sheet2!D:D)","v":"A"},{"$f":"_xlfn.XLOOKUP(Table14[[#This Row],[TDS SKU]],Sheet2!$B:$B,Sheet2!E:E)","v":"CTO BO"},{"$f":"LEFT(Table14[[#This Row],[Apple Part ]],4)","v":"Z1ES"}]
["Z1ES","14324349",2729,"CTO IMAC M4 10CPU 10GPU 24GB 2TB TID NK PINK NANO ","SR1A2LL/A","Special Order","Pink","M4 chip with 10‑core CPU, 10‑core GPU","24GB","2TB SSD","Gigabit","Magic Keyboard with Touch ID and Numeric Keypad","Nano-Texture",{"$f":"_xlfn.XLOOKUP(Table14[[#This Row],[TDS SKU]],Sheet2!$B:$B,Sheet2!C:C)","v":"B"},{"$f":"_xlfn.XLOOKUP(Table14[[#This Row],[TDS SKU]],Sheet2!$B:$B,Sheet2!D:D)","v":"A"},{"$f":"_xlfn.XLOOKUP(Table14[[#This Row],[TDS SKU]],Sheet2!$B:$B,Sheet2!E:E)","v":"CTO BO"},{"$f":"LEFT(Table14[[#This Row],[Apple Part ]],4)","v":"Z1ES"}]
["Z1ES","14324350",2729,"CTO IMAC M4 10CPU 10GPU 32GB 2TB TID NK PINK  ","SR1A2LL/A","Special Order","Pink","M4 chip with 10‑core CPU, 10‑core GPU","32GB","2TB SSD","Gigabit","Magic Keyboard with Touch ID and Numeric Keypad","None",{"$f":"_xlfn.XLOOKUP(Table14[[#This Row],[TDS SKU]],Sheet2!$B:$B,Sheet2!C:C)","v":"B"},{"$f":"_xlfn.XLOOKUP(Table14[[#This Row],[TDS SKU]],Sheet2!$B:$B,Sheet2!D:D)","v":"A"},{"$f":"_xlfn.XLOOKUP(Table14[[#This Row],[TDS SKU]],Sheet2!$B:$B,Sheet2!E:E)","v":"CTO BO"},{"$f":"LEFT(Table14[[#This Row],[Apple Part ]],4)","v":"Z1ES"}]
["Z1ES","14324351",2929,"CTO IMAC M4 10CPU 10GPU 32GB 2TB TID NK PINK NANO ","SR1A2LL/A","Special Order","Pink","M4 chip with 10‑core CPU, 10‑core GPU","32GB","2TB SSD","Gigabit","Magic Keyboard with Touch ID and Numeric Keypad","Nano-Texture",{"$f":"_xlfn.XLOOKUP(Table14[[#This Row],[TDS SKU]],Sheet2!$B:$B,Sheet2!C:C)","v":"B"},{"$f":"_xlfn.XLOOKUP(Table14[[#This Row],[TDS SKU]],Sheet2!$B:$B,Sheet2!D:D)","v":"A"},{"$f":"_xlfn.XLOOKUP(Table14[[#This Row],[TDS SKU]],Sheet2!$B:$B,Sheet2!E:E)","v":"CTO BO"},{"$f":"LEFT(Table14[[#This Row],[Apple Part ]],4)","v":"Z1ES"}]
["Z1ET","14324466",1699,"CTO IMAC M4 10CPU 10GPU 16GB 256GB TID PURPLE NANO ","SR1A2LL/A","Special Order","Purple","M4 chip with 10‑core CPU, 10‑core GPU","16GB","256GB SSD","Gigabit","Magic Keyboard with Touch ID","Nano-Texture",{"$f":"_xlfn.XLOOKUP(Table14[[#This Row],[TDS SKU]],Sheet2!$B:$B,Sheet2!C:C)","v":"B"},{"$f":"_xlfn.XLOOKUP(Table14[[#This Row],[TDS SKU]],Sheet2!$B:$B,Sheet2!D:D)","v":"A"},{"$f":"_xlfn.XLOOKUP(Table14[[#This Row],[TDS SKU]],Sheet2!$B:$B,Sheet2!E:E)","v":"CTO BO"},{"$f":"LEFT(Table14[[#This Row],[Apple Part ]],4)","v":"Z1ET"}]
["Z1ET","14324479",1529,"CTO IMAC M4 10CPU 10GPU 16GB 256GB TID NK PURPLE  ","SR1A2LL/A","Special Order","Purple","M4 chip with 10‑core CPU, 10‑core GPU","16GB","256GB SSD","Gigabit","Magic Keyboard with Touch ID and Numeric Keypad","None",{"$f":"_xlfn.XLOOKUP(Table14[[#This Row],[TDS SKU]],Sheet2!$B:$B,Sheet2!C:C)","v":"B"},{"$f":"_xlfn.XLOOKUP(Table14[[#This Row],[TDS SKU]],Sheet2!$B:$B,Sheet2!D:D)","v":"A"},{"$f":"_xlfn.XLOOKUP(Table14[[#This Row],[TDS SKU]],Sheet2!$B:$B,Sheet2!E:E)","v":"CTO BO"},{"$f":"LEFT(Table14[[#This Row],[Apple Part ]],4)","v":"Z1ET"}]
["Z1ET","14324467",1699,"CTO IMAC M4 10CPU 10GPU 24GB 256GB TID PURPLE  ","SR1A2LL/A","Special Order","Purple","M4 chip with 10‑core CPU, 10‑core GPU","24GB","256GB SSD","Gigabit","Magic Keyboard with Touch ID","None",{"$f":"_xlfn.XLOOKUP(Table14[[#This Row],[TDS SKU]],Sheet2!$B:$B,Sheet2!C:C)","v":"B"},{"$f":"_xlfn.XLOOKUP(Table14[[#This Row],[TDS SKU]],Sheet2!$B:$B,Sheet2!D:D)","v":"A"},{"$f":"_xlfn.XLOOKUP(Table14[[#This Row],[TDS SKU]],Sheet2!$B:$B,Sheet2!E:E)","v":"CTO BO"},{"$f":"LEFT(Table14[[#This Row],[Apple Part ]],4)","v":"Z1ET"}]
["Z1ET","14324481",1729,"CTO IMAC M4 10CPU 10GPU 24GB 256GB TID NK PURPLE  ","SR1A2LL/A","Special Order","Purple","M4 chip with 10‑core CPU, 10‑core GPU","24GB","256GB SSD","Gigabit","Magic Keyboard with Touch ID and Numeric Keypad","None",{"$f":"_xlfn.XLOOKUP(Table14[[#This Row],[TDS SKU]],Sheet2!$B:$B,Sheet2!C:C)","v":"B"},{"$f":"_xlfn.XLOOKUP(Table14[[#This Row],[TDS SKU]],Sheet2!$B:$B,Sheet2!D:D)","v":"A"},{"$f":"_xlfn.XLOOKUP(Table14[[#This Row],[TDS SKU]],Sheet2!$B:$B,Sheet2!E:E)","v":"CTO BO"},{"$f":"LEFT(Table14[[#This Row],[Apple Part ]],4)","v":"Z1ET"}]
["Z1ET","14324480",1729,"CTO IMAC M4 10CPU 10GPU 16GB 256GB TID NK PURPLE NANO ","SR1A2LL/A","Special Order","Purple","M4 chip with 10‑core CPU, 10‑core GPU","16GB","256GB SSD","Gigabit","Magic Keyboard with Touch ID and Numeric Keypad","Nano-Texture",{"$f":"_xlfn.XLOOKUP(Table14[[#This Row],[TDS SKU]],Sheet2!$B:$B,Sheet2!C:C)","v":"B"},{"$f":"_xlfn.XLOOKUP(Table14[[#This Row],[TDS SKU]],Sheet2!$B:$B,Sheet2!D:D)","v":"A"},{"$f":"_xlfn.XLOOKUP(Table14[[#This Row],[TDS SKU]],Sheet2!$B:$B,Sheet2!E:E)","v":"CTO BO"},{"$f":"LEFT(Table14[[#This Row],[Apple Part ]],4)","v":"Z1ET"}]
["Z1ET","14324468",1899,"CTO IMAC M4 10CPU 10GPU 24GB 256GB TID PURPLE NANO ","SR1A2LL/A","Special Order","Purple","M4 chip with 10‑core CPU, 10‑core GPU","24GB","256GB SSD","Gigabit","Magic Keyboard with Touch ID","Nano-Texture",{"$f":"_xlfn.XLOOKUP(Table14[[#This Row],[TDS SKU]],Sheet2!$B:$B,Sheet2!C:C)","v":"B"},{"$f":"_xlfn.XLOOKUP(Table14[[#This Row],[TDS SKU]],Sheet2!$B:$B,Sheet2!D:D)","v":"A"},{"$f":"_xlfn.XLOOKUP(Table14[[#This Row],[TDS SKU]],Sheet2!$B:$B,Sheet2!E:E)","v":"CTO BO"},{"$f":"LEFT(Table14[[#This Row],[Apple Part ]],4)","v":"Z1ET"}]
["Z1ET","14324482",1929,"CTO IMAC M4 10CPU 10GPU 24GB 256GB TID NK PURPLE NANO ","SR1A2LL/A","Special Order","Purple","M4 chip with 10‑core CPU, 10‑core GPU","24GB","256GB SSD","Gigabit","Magic Keyboard with Touch ID and Numeric Keypad","Nano-Texture",{"$f":"_xlfn.XLOOKUP(Table14[[#This Row],[TDS SKU]],Sheet2!$B:$B,Sheet2!C:C)","v":"B"},{"$f":"_xlfn.XLOOKUP(Table14[[#This Row],[TDS SKU]],Sheet2!$B:$B,Sheet2!D:D)","v":"A"},{"$f":"_xlfn.XLOOKUP(Table14[[#This Row],[TDS SKU]],Sheet2!$B:$B,Sheet2!E:E)","v":"CTO BO"},{"$f":"LEFT(Table14[[#This Row],[Apple Part ]],4)","v":"Z1ET"}]
["Z1EU","14324483",1699,"CTO IMAC M4 10CPU 10GPU 16GB 512GB TID PURPLE  ","SR1A2LL/A","Special Order","Purple","M4 chip with 10‑core CPU, 10‑core GPU","16GB","512GB SSD","Gigabit","Magic Keyboard with Touch ID","None",{"$f":"_xlfn.XLOOKUP(Table14[[#This Row],[TDS SKU]],Sheet2!$B:$B,Sheet2!C:C)","v":"B"},{"$f":"_xlfn.XLOOKUP(Table14[[#This Row],[TDS SKU]],Sheet2!$B:$B,Sheet2!D:D)","v":"A"},{"$f":"_xlfn.XLOOKUP(Table14[[#This Row],[TDS SKU]],Sheet2!$B:$B,Sheet2!E:E)","v":"CTO BO"},{"$f":"LEFT(Table14[[#This Row],[Apple Part ]],4)","v":"Z1EU"}]
["Z1EU","14324484",1899,"CTO IMAC M4 10CPU 10GPU 16GB 512GB TID PURPLE NANO ","SR1A2LL/A","Special Order","Purple","M4 chip with 10‑core CPU, 10‑core GPU","16GB","512GB SSD","Gigabit","Magic Keyboard with Touch ID","Nano-Texture",{"$f":"_xlfn.XLOOKUP(Table14[[#This Row],[TDS SKU]],Sheet2!$B:$B,Sheet2!C:C)","v":"B"},{"$f":"_xlfn.XLOOKUP(Table14[[#This Row],[TDS SKU]],Sheet2!$B:$B,Sheet2!D:D)","v":"A"},{"$f":"_xlfn.XLOOKUP(Table14[[#This Row],[TDS SKU]],Sheet2!$B:$B,Sheet2!E:E)","v":"CTO BO"},{"$f":"LEFT(Table14[[#This Row],[Apple Part ]],4)","v":"Z1EU"}]
["Z1EU","14324505",1899,"CTO IMAC M4 10CPU 10GPU 16GB 1TB TID PURPLE  ","SR1A2LL/A","Special Order","Purple","M4 chip with 10‑core CPU, 10‑core GPU","16GB","1TB SSD","Gigabit","Magic Keyboard with Touch ID","None",{"$f":"_xlfn.XLOOKUP(Table14[[#This Row],[TDS SKU]],Sheet2!$B:$B,Sheet2!C:C)","v":"B"},{"$f":"_xlfn.XLOOKUP(Table14[[#This Row],[TDS SKU]],Sheet2!$B:$B,Sheet2!D:D)","v":"A"},{"$f":"_xlfn.XLOOKUP(Table14[[#This Row],[TDS SKU]],Sheet2!$B:$B,Sheet2!E:E)","v":"CTO BO"},{"$f":"LEFT(Table14[[#This Row],[Apple Part ]],4)","v":"Z1EU"}]
["Z1EU","14324457",2299,"CTO IMAC M4 10CPU 10GPU 16GB 2TB TID PURPLE  ","SR1A2LL/A","Special Order","Purple","M4 chip with 10‑core CPU, 10‑core GPU","16GB","2TB SSD","Gigabit","Magic Keyboard with Touch ID","None",{"$f":"_xlfn.XLOOKUP(Table14[[#This Row],[TDS SKU]],Sheet2!$B:$B,Sheet2!C:C)","v":"B"},{"$f":"_xlfn.XLOOKUP(Table14[[#This Row],[TDS SKU]],Sheet2!$B:$B,Sheet2!D:D)","v":"A"},{"$f":"_xlfn.XLOOKUP(Table14[[#This Row],[TDS SKU]],Sheet2!$B:$B,Sheet2!E:E)","v":"CTO BO"},{"$f":"LEFT(Table14[[#This Row],[Apple Part ]],4)","v":"Z1EU"}]
["Z1EU","14324499",1729,"CTO IMAC M4 10CPU 10GPU 16GB 512GB TID NK PURPLE  ","SR1A2LL/A","Special Order","Purple","M4 chip with 10‑core CPU, 10‑core GPU","16GB","512GB SSD","Gigabit","Magic Keyboard with Touch ID and Numeric Keypad","None",{"$f":"_xlfn.XLOOKUP(Table14[[#This Row],[TDS SKU]],Sheet2!$B:$B,Sheet2!C:C)","v":"B"},{"$f":"_xlfn.XLOOKUP(Table14[[#This Row],[TDS SKU]],Sheet2!$B:$B,Sheet2!D:D)","v":"A"},{"$f":"_xlfn.XLOOKUP(Table14[[#This Row],[TDS SKU]],Sheet2!$B:$B,Sheet2!E:E)","v":"CTO BO"},{"$f":"LEFT(Table14[[#This Row],[Apple Part ]],4)","v":"Z1EU"}]
["Z1EU","14324485",1899,"CTO IMAC M4 10CPU 10GPU 24GB 512GB TID PURPLE  ","SR1A2LL/A","Special Order","Purple","M4 chip with 10‑core CPU, 10‑core GPU","24GB","512GB SSD","Gigabit","Magic Keyboard with Touch ID","None",{"$f":"_xlfn.XLOOKUP(Table14[[#This Row],[TDS SKU]],Sheet2!$B:$B,Sheet2!C:C)","v":"B"},{"$f":"_xlfn.XLOOKUP(Table14[[#This Row],[TDS SKU]],Sheet2!$B:$B,Sheet2!D:D)","v":"A"},{"$f":"_xlfn.XLOOKUP(Table14[[#This Row],[TDS SKU]],Sheet2!$B:$B,Sheet2!E:E)","v":"CTO BO"},{"$f":"LEFT(Table14[[#This Row],[Apple Part ]],4)","v":"Z1EU"}]
["Z1EU","14324487",2099,"CTO IMAC M4 10CPU 10GPU 32GB 512GB TID PURPLE  ","SR1A2LL/A","Special Order","Purple","M4 chip with 10‑core CPU, 10‑core GPU","32GB","512GB SSD","Gigabit","Magic Keyboard with Touch ID","None",{"$f":"_xlfn.XLOOKUP(Table14[[#This Row],[TDS SKU]],Sheet2!$B:$B,Sheet2!C:C)","v":"B"},{"$f":"_xlfn.XLOOKUP(Table14[[#This Row],[TDS SKU]],Sheet2!$B:$B,Sheet2!D:D)","v":"A"},{"$f":"_xlfn.XLOOKUP(Table14[[#This Row],[TDS SKU]],Sheet2!$B:$B,Sheet2!E:E)","v":"CTO BO"},{"$f":"LEFT(Table14[[#This Row],[Apple Part ]],4)","v":"Z1EU"}]
["Z1EU","14324507",2099,"CTO IMAC M4 10CPU 10GPU 24GB 1TB TID PURPLE  ","SR1A2LL/A","Special Order","Purple","M4 chip with 10‑core CPU, 10‑core GPU","24GB","1TB SSD","Gigabit","Magic Keyboard with Touch ID","None",{"$f":"_xlfn.XLOOKUP(Table14[[#This Row],[TDS SKU]],Sheet2!$B:$B,Sheet2!C:C)","v":"B"},{"$f":"_xlfn.XLOOKUP(Table14[[#This Row],[TDS SKU]],Sheet2!$B:$B,Sheet2!D:D)","v":"A"},{"$f":"_xlfn.XLOOKUP(Table14[[#This Row],[TDS SKU]],Sheet2!$B:$B,Sheet2!E:E)","v":"CTO BO"},{"$f":"LEFT(Table14[[#This Row],[Apple Part ]],4)","v":"Z1EU"}]
["Z1EU","14324469",2499,"CTO IMAC M4 10CPU 10GPU 24GB 2TB TID PURPLE  ","SR1A2LL/A","Special Order","Purple","M4 chip with 10‑core CPU, 10‑core GPU","24GB","2TB SSD","Gigabit","Magic Keyboard with Touch ID","None",{"$f":"_xlfn.XLOOKUP(Table14[[#This Row],[TDS SKU]],Sheet2!$B:$B,Sheet2!C:C)","v":"B"},{"$f":"_xlfn.XLOOKUP(Table14[[#This Row],[TDS SKU]],Sheet2!$B:$B,Sheet2!D:D)","v":"A"},{"$f":"_xlfn.XLOOKUP(Table14[[#This Row],[TDS SKU]],Sheet2!$B:$B,Sheet2!E:E)","v":"CTO BO"},{"$f":"LEFT(Table14[[#This Row],[Apple Part ]],4)","v":"Z1EU"}]
["Z1EU","14324449",2299,"CTO IMAC M4 10CPU 10GPU 32GB 1TB TID PURPLE  ","SR1A2LL/A","Special Order","Purple","M4 chip with 10‑core CPU, 10‑core GPU","32GB","1TB SSD","Gigabit","Magic Keyboard with Touch ID","None",{"$f":"_xlfn.XLOOKUP(Table14[[#This Row],[TDS SKU]],Sheet2!$B:$B,Sheet2!C:C)","v":"B"},{"$f":"_xlfn.XLOOKUP(Table14[[#This Row],[TDS SKU]],Sheet2!$B:$B,Sheet2!D:D)","v":"A"},{"$f":"_xlfn.XLOOKUP(Table14[[#This Row],[TDS SKU]],Sheet2!$B:$B,Sheet2!E:E)","v":"CTO BO"},{"$f":"LEFT(Table14[[#This Row],[Apple Part ]],4)","v":"Z1EU"}]
["Z1EU","14324471",2699,"CTO IMAC M4 10CPU 10GPU 32GB 2TB TID PURPLE  ","SR1A2LL/A","Special Order","Purple","M4 chip with 10‑core CPU, 10‑core GPU","32GB","2TB SSD","Gigabit","Magic Keyboard with Touch ID","None",{"$f":"_xlfn.XLOOKUP(Table14[[#This Row],[TDS SKU]],Sheet2!$B:$B,Sheet2!C:C)","v":"B"},{"$f":"_xlfn.XLOOKUP(Table14[[#This Row],[TDS SKU]],Sheet2!$B:$B,Sheet2!D:D)","v":"A"},{"$f":"_xlfn.XLOOKUP(Table14[[#This Row],[TDS SKU]],Sheet2!$B:$B,Sheet2!E:E)","v":"CTO BO"},{"$f":"LEFT(Table14[[#This Row],[Apple Part ]],4)","v":"Z1EU"}]
["Z1EU","14324486",2099,"CTO IMAC M4 10CPU 10GPU 24GB 512GB TID PURPLE NANO ","SR1A2LL/A","Special Order","Purple","M4 chip with 10‑core CPU, 10‑core GPU","24GB","512GB SSD","Gigabit","Magic Keyboard with Touch ID","Nano-Texture",{"$f":"_xlfn.XLOOKUP(Table14[[#This Row],[TDS SKU]],Sheet2!$B:$B,Sheet2!C:C)","v":"B"},{"$f":"_xlfn.XLOOKUP(Table14[[#This Row],[TDS SKU]],Sheet2!$B:$B,Sheet2!D:D)","v":"A"},{"$f":"_xlfn.XLOOKUP(Table14[[#This Row],[TDS SKU]],Sheet2!$B:$B,Sheet2!E:E)","v":"CTO BO"},{"$f":"LEFT(Table14[[#This Row],[Apple Part ]],4)","v":"Z1EU"}]
["Z1EU","14324453",2129,"CTO IMAC M4 10CPU 10GPU 24GB 1TB TID NK PURPLE  ","SR1A2LL/A","Special Order","Purple","M4 chip with 10‑core CPU, 10‑core GPU","24GB","1TB SSD","Gigabit","Magic Keyboard with Touch ID and Numeric Keypad","None",{"$f":"_xlfn.XLOOKUP(Table14[[#This Row],[TDS SKU]],Sheet2!$B:$B,Sheet2!C:C)","v":"B"},{"$f":"_xlfn.XLOOKUP(Table14[[#This Row],[TDS SKU]],Sheet2!$B:$B,Sheet2!D:D)","v":"A"},{"$f":"_xlfn.XLOOKUP(Table14[[#This Row],[TDS SKU]],Sheet2!$B:$B,Sheet2!E:E)","v":"CTO BO"},{"$f":"LEFT(Table14[[#This Row],[Apple Part ]],4)","v":"Z1EU"}]
["Z1EU","14324475",2529,"CTO IMAC M4 10CPU 10GPU 24GB 2TB TID NK PURPLE  ","SR1A2LL/A","Special Order","Purple","M4 chip with 10‑core CPU, 10‑core GPU","24GB","2TB SSD","Gigabit","Magic Keyboard with Touch ID and Numeric Keypad","None",{"$f":"_xlfn.XLOOKUP(Table14[[#This Row],[TDS SKU]],Sheet2!$B:$B,Sheet2!C:C)","v":"B"},{"$f":"_xlfn.XLOOKUP(Table14[[#This Row],[TDS SKU]],Sheet2!$B:$B,Sheet2!D:D)","v":"A"},{"$f":"_xlfn.XLOOKUP(Table14[[#This Row],[TDS SKU]],Sheet2!$B:$B,Sheet2!E:E)","v":"CTO BO"},{"$f":"LEFT(Table14[[#This Row],[Apple Part ]],4)","v":"Z1EU"}]
["Z1EU","14324456",2529,"CTO IMAC M4 10CPU 10GPU 32GB 1TB TID NK PURPLE NANO ","SR1A2LL/A","Special Order","Purple","M4 chip with 10‑core CPU, 10‑core GPU","32GB","1TB SSD","Gigabit","Magic Keyboard with Touch ID and Numeric Keypad","Nano-Texture",{"$f":"_xlfn.XLOOKUP(Table14[[#This Row],[TDS SKU]],Sheet2!$B:$B,Sheet2!C:C)","v":"B"},{"$f":"_xlfn.XLOOKUP(Table14[[#This Row],[TDS SKU]],Sheet2!$B:$B,Sheet2!D:D)","v":"A"},{"$f":"_xlfn.XLOOKUP(Table14[[#This Row],[TDS SKU]],Sheet2!$B:$B,Sheet2!E:E)","v":"CTO BO"},{"$f":"LEFT(Table14[[#This Row],[Apple Part ]],4)","v":"Z1EU"}]
["Z1EU","14324472",2899,"CTO IMAC M4 10CPU 10GPU 32GB 2TB TID PURPLE NANO ","SR1A2LL/A","Special Order","Purple","M4 chip with 10‑core CPU, 10‑core GPU","32GB","2TB SSD","Gigabit","Magic Keyboard with Touch ID","Nano-Texture",{"$f":"_xlfn.XLOOKUP(Table14[[#This Row],[TDS SKU]],Sheet2!$B:$B,Sheet2!C:C)","v":"B"},{"$f":"_xlfn.XLOOKUP(Table14[[#This Row],[TDS SKU]],Sheet2!$B:$B,Sheet2!D:D)","v":"A"},{"$f":"_xlfn.XLOOKUP(Table14[[#This Row],[TDS SKU]],Sheet2!$B:$B,Sheet2!E:E)","v":"CTO BO"},{"$f":"LEFT(Table14[[#This Row],[Apple Part ]],4)","v":"Z1EU"}]
["Z1EU","14324451",1929,"CTO IMAC M4 10CPU 10GPU 16GB 1TB TID NK PURPLE  ","SR1A2LL/A","Special Order","Purple","M4 chip with 10‑core CPU, 10‑core GPU","16GB","1TB SSD","Gigabit","Magic Keyboard with Touch ID and Numeric Keypad","None",{"$f":"_xlfn.XLOOKUP(Table14[[#This Row],[TDS SKU]],Sheet2!$B:$B,Sheet2!C:C)","v":"B"},{"$f":"_xlfn.XLOOKUP(Table14[[#This Row],[TDS SKU]],Sheet2!$B:$B,Sheet2!D:D)","v":"A"},{"$f":"_xlfn.XLOOKUP(Table14[[#This Row],[TDS SKU]],Sheet2!$B:$B,Sheet2!E:E)","v":"CTO BO"},{"$f":"LEFT(Table14[[#This Row],[Apple Part ]],4)","v":"Z1EU"}]
["Z1EU","14324473",2329,"CTO IMAC M4 10CPU 10GPU 16GB 2TB TID NK PURPLE  ","SR1A2LL/A","Special Order","Purple","M4 chip with 10‑core CPU, 10‑core GPU","16GB","2TB SSD","Gigabit","Magic Keyboard with Touch ID and Numeric Keypad","None",{"$f":"_xlfn.XLOOKUP(Table14[[#This Row],[TDS SKU]],Sheet2!$B:$B,Sheet2!C:C)","v":"B"},{"$f":"_xlfn.XLOOKUP(Table14[[#This Row],[TDS SKU]],Sheet2!$B:$B,Sheet2!D:D)","v":"A"},{"$f":"_xlfn.XLOOKUP(Table14[[#This Row],[TDS SKU]],Sheet2!$B:$B,Sheet2!E:E)","v":"CTO BO"},{"$f":"LEFT(Table14[[#This Row],[Apple Part ]],4)","v":"Z1EU"}]
["Z1EU","14324477",2729,"CTO IMAC M4 10CPU 10GPU 32GB 2TB TID NK PURPLE  ","SR1A2LL/A","Special Order","Purple","M4 chip with 10‑core CPU, 10‑core GPU","32GB","2TB SSD","Gigabit","Magic Keyboard with Touch ID and Numeric Keypad","None",{"$f":"_xlfn.XLOOKUP(Table14[[#This Row],[TDS SKU]],Sheet2!$B:$B,Sheet2!C:C)","v":"B"},{"$f":"_xlfn.XLOOKUP(Table14[[#This Row],[TDS SKU]],Sheet2!$B:$B,Sheet2!D:D)","v":"A"},{"$f":"_xlfn.XLOOKUP(Table14[[#This Row],[TDS SKU]],Sheet2!$B:$B,Sheet2!E:E)","v":"CTO BO"},{"$f":"LEFT(Table14[[#This Row],[Apple Part ]],4)","v":"Z1EU"}]
["Z1EU","14324508",2299,"CTO IMAC M4 10CPU 10GPU 24GB 1TB TID PURPLE NANO ","SR1A2LL/A","Special Order","Purple","M4 chip with 10‑core CPU, 10‑core GPU","24GB","1TB SSD","Gigabit","Magic Keyboard with Touch ID","Nano-Texture",{"$f":"_xlfn.XLOOKUP(Table14[[#This Row],[TDS SKU]],Sheet2!$B:$B,Sheet2!C:C)","v":"B"},{"$f":"_xlfn.XLOOKUP(Table14[[#This Row],[TDS SKU]],Sheet2!$B:$B,Sheet2!D:D)","v":"A"},{"$f":"_xlfn.XLOOKUP(Table14[[#This Row],[TDS SKU]],Sheet2!$B:$B,Sheet2!E:E)","v":"CTO BO"},{"$f":"LEFT(Table14[[#This Row],[Apple Part ]],4)","v":"Z1EU"}]
["Z1EU","14324455",2329,"CTO IMAC M4 10CPU 10GPU 32GB 1TB TID NK PURPLE  ","SR1A2LL/A","Special Order","Purple","M4 chip with 10‑core CPU, 10‑core GPU","32GB","1TB SSD","Gigabit","Magic Keyboard with Touch ID and Numeric Keypad","None",{"$f":"_xlfn.XLOOKUP(Table14[[#This Row],[TDS SKU]],Sheet2!$B:$B,Sheet2!C:C)","v":"B"},{"$f":"_xlfn.XLOOKUP(Table14[[#This Row],[TDS SKU]],Sheet2!$B:$B,Sheet2!D:D)","v":"A"},{"$f":"_xlfn.XLOOKUP(Table14[[#This Row],[TDS SKU]],Sheet2!$B:$B,Sheet2!E:E)","v":"CTO BO"},{"$f":"LEFT(Table14[[#This Row],[Apple Part ]],4)","v":"Z1EU"}]
["Z1EU","14324476",2729,"CTO IMAC M4 10CPU 10GPU 24GB 2TB TID NK PURPLE NANO ","SR1A2LL/A","Special Order","Purple","M4 chip with 10‑core CPU, 10‑core GPU","24GB","2TB SSD","Gigabit","Magic Keyboard with Touch ID and Numeric Keypad","Nano-Texture",{"$f":"_xlfn.XLOOKUP(Table14[[#This Row],[TDS SKU]],Sheet2!$B:$B,Sheet2!C:C)","v":"B"},{"$f":"_xlfn.XLOOKUP(Table14[[#This Row],[TDS SKU]],Sheet2!$B:$B,Sheet2!D:D)","v":"A"},{"$f":"_xlfn.XLOOKUP(Table14[[#This Row],[TDS SKU]],Sheet2!$B:$B,Sheet2!E:E)","v":"CTO BO"},{"$f":"LEFT(Table14[[#This Row],[Apple Part ]],4)","v":"Z1EU"}]
["Z1EU","14324500",1929,"CTO IMAC M4 10CPU 10GPU 16GB 512GB TID NK PURPLE NANO ","SR1A2LL/A","Special Order","Purple","M4 chip with 10‑core CPU, 10‑core GPU","16GB","512GB SSD","Gigabit","Magic Keyboard with Touch ID and Numeric Keypad","Nano-Texture",{"$f":"_xlfn.XLOOKUP(Table14[[#This Row],[TDS SKU]],Sheet2!$B:$B,Sheet2!C:C)","v":"B"},{"$f":"_xlfn.XLOOKUP(Table14[[#This Row],[TDS SKU]],Sheet2!$B:$B,Sheet2!D:D)","v":"A"},{"$f":"_xlfn.XLOOKUP(Table14[[#This Row],[TDS SKU]],Sheet2!$B:$B,Sheet2!E:E)","v":"CTO BO"},{"$f":"LEFT(Table14[[#This Row],[Apple Part ]],4)","v":"Z1EU"}]
["Z1EU","14324452",2129,"CTO IMAC M4 10CPU 10GPU 16GB 1TB TID NK PURPLE NANO ","SR1A2LL/A","Special Order","Purple","M4 chip with 10‑core CPU, 10‑core GPU","16GB","1TB SSD","Gigabit","Magic Keyboard with Touch ID and Numeric Keypad","Nano-Texture",{"$f":"_xlfn.XLOOKUP(Table14[[#This Row],[TDS SKU]],Sheet2!$B:$B,Sheet2!C:C)","v":"B"},{"$f":"_xlfn.XLOOKUP(Table14[[#This Row],[TDS SKU]],Sheet2!$B:$B,Sheet2!D:D)","v":"A"},{"$f":"_xlfn.XLOOKUP(Table14[[#This Row],[TDS SKU]],Sheet2!$B:$B,Sheet2!E:E)","v":"CTO BO"},{"$f":"LEFT(Table14[[#This Row],[Apple Part ]],4)","v":"Z1EU"}]
["Z1EU","14324506",2399,"CTO IMAC M4 10CPU 10GPU 16GB 1TB TID PURPLE NANO ","SR1A2LL/A","Special Order","Purple","M4 chip with 10‑core CPU, 10‑core GPU","16GB","1TB SSD","Gigabit","Magic Keyboard with Touch ID","Nano-Texture",{"$f":"_xlfn.XLOOKUP(Table14[[#This Row],[TDS SKU]],Sheet2!$B:$B,Sheet2!C:C)","v":"B"},{"$f":"_xlfn.XLOOKUP(Table14[[#This Row],[TDS SKU]],Sheet2!$B:$B,Sheet2!D:D)","v":"A"},{"$f":"_xlfn.XLOOKUP(Table14[[#This Row],[TDS SKU]],Sheet2!$B:$B,Sheet2!E:E)","v":"CTO BO"},{"$f":"LEFT(Table14[[#This Row],[Apple Part ]],4)","v":"Z1EU"}]
["Z1EU","14324478",3329,"CTO IMAC M4 10CPU 10GPU 32GB 2TB TID NK PURPLE NANO ","SR1A2LL/A","Special Order","Purple","M4 chip with 10‑core CPU, 10‑core GPU","32GB","2TB SSD","Gigabit","Magic Keyboard with Touch ID and Numeric Keypad","Nano-Texture",{"$f":"_xlfn.XLOOKUP(Table14[[#This Row],[TDS SKU]],Sheet2!$B:$B,Sheet2!C:C)","v":"B"},{"$f":"_xlfn.XLOOKUP(Table14[[#This Row],[TDS SKU]],Sheet2!$B:$B,Sheet2!D:D)","v":"A"},{"$f":"_xlfn.XLOOKUP(Table14[[#This Row],[TDS SKU]],Sheet2!$B:$B,Sheet2!E:E)","v":"CTO BO"},{"$f":"LEFT(Table14[[#This Row],[Apple Part ]],4)","v":"Z1EU"}]
["Z1EU","14324450",2799,"CTO IMAC M4 10CPU 10GPU 32GB 1TB TID PURPLE NANO ","SR1A2LL/A","Special Order","Purple","M4 chip with 10‑core CPU, 10‑core GPU","32GB","1TB SSD","Gigabit","Magic Keyboard with Touch ID","Nano-Texture",{"$f":"_xlfn.XLOOKUP(Table14[[#This Row],[TDS SKU]],Sheet2!$B:$B,Sheet2!C:C)","v":"B"},{"$f":"_xlfn.XLOOKUP(Table14[[#This Row],[TDS SKU]],Sheet2!$B:$B,Sheet2!D:D)","v":"A"},{"$f":"_xlfn.XLOOKUP(Table14[[#This Row],[TDS SKU]],Sheet2!$B:$B,Sheet2!E:E)","v":"CTO BO"},{"$f":"LEFT(Table14[[#This Row],[Apple Part ]],4)","v":"Z1EU"}]
["Z1EU","14324488",2499,"CTO IMAC M4 10CPU 10GPU 32GB 512GB TID PURPLE NANO ","SR1A2LL/A","Special Order","Purple","M4 chip with 10‑core CPU, 10‑core GPU","32GB","512GB SSD","Gigabit","Magic Keyboard with Touch ID","Nano-Texture",{"$f":"_xlfn.XLOOKUP(Table14[[#This Row],[TDS SKU]],Sheet2!$B:$B,Sheet2!C:C)","v":"B"},{"$f":"_xlfn.XLOOKUP(Table14[[#This Row],[TDS SKU]],Sheet2!$B:$B,Sheet2!D:D)","v":"A"},{"$f":"_xlfn.XLOOKUP(Table14[[#This Row],[TDS SKU]],Sheet2!$B:$B,Sheet2!E:E)","v":"CTO BO"},{"$f":"LEFT(Table14[[#This Row],[Apple Part ]],4)","v":"Z1EU"}]
["Z1EU","14324501",2129,"CTO IMAC M4 10CPU 10GPU 24GB 512GB TID NK PURPLE  ","SR1A2LL/A","Special Order","Purple","M4 chip with 10‑core CPU, 10‑core GPU","24GB","512GB SSD","Gigabit","Magic Keyboard with Touch ID and Numeric Keypad","None",{"$f":"_xlfn.XLOOKUP(Table14[[#This Row],[TDS SKU]],Sheet2!$B:$B,Sheet2!C:C)","v":"B"},{"$f":"_xlfn.XLOOKUP(Table14[[#This Row],[TDS SKU]],Sheet2!$B:$B,Sheet2!D:D)","v":"A"},{"$f":"_xlfn.XLOOKUP(Table14[[#This Row],[TDS SKU]],Sheet2!$B:$B,Sheet2!E:E)","v":"CTO BO"},{"$f":"LEFT(Table14[[#This Row],[Apple Part ]],4)","v":"Z1EU"}]
["Z1EU","14324502",2329,"CTO IMAC M4 10CPU 10GPU 24GB 512GB TID NK PURPLE NANO ","SR1A2LL/A","Special Order","Purple","M4 chip with 10‑core CPU, 10‑core GPU","24GB","512GB SSD","Gigabit","Magic Keyboard with Touch ID and Numeric Keypad","Nano-Texture",{"$f":"_xlfn.XLOOKUP(Table14[[#This Row],[TDS SKU]],Sheet2!$B:$B,Sheet2!C:C)","v":"B"},{"$f":"_xlfn.XLOOKUP(Table14[[#This Row],[TDS SKU]],Sheet2!$B:$B,Sheet2!D:D)","v":"A"},{"$f":"_xlfn.XLOOKUP(Table14[[#This Row],[TDS SKU]],Sheet2!$B:$B,Sheet2!E:E)","v":"CTO BO"},{"$f":"LEFT(Table14[[#This Row],[Apple Part ]],4)","v":"Z1EU"}]
["Z1EU","14324503",2329,"CTO IMAC M4 10CPU 10GPU 32GB 512GB TID NK PURPLE  ","SR1A2LL/A","Special Order","Purple","M4 chip with 10‑core CPU, 10‑core GPU","32GB","512GB SSD","Gigabit","Magic Keyboard with Touch ID and Numeric Keypad","None",{"$f":"_xlfn.XLOOKUP(Table14[[#This Row],[TDS SKU]],Sheet2!$B:$B,Sheet2!C:C)","v":"B"},{"$f":"_xlfn.XLOOKUP(Table14[[#This Row],[TDS SKU]],Sheet2!$B:$B,Sheet2!D:D)","v":"A"},{"$f":"_xlfn.XLOOKUP(Table14[[#This Row],[TDS SKU]],Sheet2!$B:$B,Sheet2!E:E)","v":"CTO BO"},{"$f":"LEFT(Table14[[#This Row],[Apple Part ]],4)","v":"Z1EU"}]
["Z1EU","14324504",2529,"CTO IMAC M4 10CPU 10GPU 32GB 512GB TID NK PURPLE NANO ","SR1A2LL/A","Special Order","Purple","M4 chip with 10‑core CPU, 10‑core GPU","32GB","512GB SSD","Gigabit","Magic Keyboard with Touch ID and Numeric Keypad","Nano-Texture",{"$f":"_xlfn.XLOOKUP(Table14[[#This Row],[TDS SKU]],Sheet2!$B:$B,Sheet2!C:C)","v":"B"},{"$f":"_xlfn.XLOOKUP(Table14[[#This Row],[TDS SKU]],Sheet2!$B:$B,Sheet2!D:D)","v":"A"},{"$f":"_xlfn.XLOOKUP(Table14[[#This Row],[TDS SKU]],Sheet2!$B:$B,Sheet2!E:E)","v":"CTO BO"},{"$f":"LEFT(Table14[[#This Row],[Apple Part ]],4)","v":"Z1EU"}]
["Z1EU","14324454",2629,"CTO IMAC M4 10CPU 10GPU 24GB 1TB TID NK PURPLE NANO ","SR1A2LL/A","Special Order","Purple","M4 chip with 10‑core CPU, 10‑core GPU","24GB","1TB SSD","Gigabit","Magic Keyboard with Touch ID and Numeric Keypad","Nano-Texture",{"$f":"_xlfn.XLOOKUP(Table14[[#This Row],[TDS SKU]],Sheet2!$B:$B,Sheet2!C:C)","v":"B"},{"$f":"_xlfn.XLOOKUP(Table14[[#This Row],[TDS SKU]],Sheet2!$B:$B,Sheet2!D:D)","v":"A"},{"$f":"_xlfn.XLOOKUP(Table14[[#This Row],[TDS SKU]],Sheet2!$B:$B,Sheet2!E:E)","v":"CTO BO"},{"$f":"LEFT(Table14[[#This Row],[Apple Part ]],4)","v":"Z1EU"}]
["Z1EU","14324458",2899,"CTO IMAC M4 10CPU 10GPU 16GB 2TB TID PURPLE NANO ","SR1A2LL/A","Special Order","Purple","M4 chip with 10‑core CPU, 10‑core GPU","16GB","2TB SSD","Gigabit","Magic Keyboard with Touch ID","Nano-Texture",{"$f":"_xlfn.XLOOKUP(Table14[[#This Row],[TDS SKU]],Sheet2!$B:$B,Sheet2!C:C)","v":"B"},{"$f":"_xlfn.XLOOKUP(Table14[[#This Row],[TDS SKU]],Sheet2!$B:$B,Sheet2!D:D)","v":"A"},{"$f":"_xlfn.XLOOKUP(Table14[[#This Row],[TDS SKU]],Sheet2!$B:$B,Sheet2!E:E)","v":"CTO BO"},{"$f":"LEFT(Table14[[#This Row],[Apple Part ]],4)","v":"Z1EU"}]
["Z1EU","14324470",3099,"CTO IMAC M4 10CPU 10GPU 24GB 2TB TID PURPLE NANO ","SR1A2LL/A","Special Order","Purple","M4 chip with 10‑core CPU, 10‑core GPU","24GB","2TB SSD","Gigabit","Magic Keyboard with Touch ID","Nano-Texture",{"$f":"_xlfn.XLOOKUP(Table14[[#This Row],[TDS SKU]],Sheet2!$B:$B,Sheet2!C:C)","v":"B"},{"$f":"_xlfn.XLOOKUP(Table14[[#This Row],[TDS SKU]],Sheet2!$B:$B,Sheet2!D:D)","v":"A"},{"$f":"_xlfn.XLOOKUP(Table14[[#This Row],[TDS SKU]],Sheet2!$B:$B,Sheet2!E:E)","v":"CTO BO"},{"$f":"LEFT(Table14[[#This Row],[Apple Part ]],4)","v":"Z1EU"}]
["Z1EU","14324474",2929,"CTO IMAC M4 10CPU 10GPU 16GB 2TB TID NK PURPLE NANO ","SR1A2LL/A","Special Order","Purple","M4 chip with 10‑core CPU, 10‑core GPU","16GB","2TB SSD","Gigabit","Magic Keyboard with Touch ID and Numeric Keypad","Nano-Texture",{"$f":"_xlfn.XLOOKUP(Table14[[#This Row],[TDS SKU]],Sheet2!$B:$B,Sheet2!C:C)","v":"B"},{"$f":"_xlfn.XLOOKUP(Table14[[#This Row],[TDS SKU]],Sheet2!$B:$B,Sheet2!D:D)","v":"A"},{"$f":"_xlfn.XLOOKUP(Table14[[#This Row],[TDS SKU]],Sheet2!$B:$B,Sheet2!E:E)","v":"CTO BO"},{"$f":"LEFT(Table14[[#This Row],[Apple Part ]],4)","v":"Z1EU"}]
["Z1EV","14324519",1899,"CTO IMAC M4 10CPU 10GPU 16GB 256GB TID ORANGE NANO ","SR1A2LL/A","Special Order","Orange","M4 chip with 10‑core CPU, 10‑core GPU","16GB","256GB SSD","Gigabit","Magic Keyboard with Touch ID","Nano-Texture",{"$f":"_xlfn.XLOOKUP(Table14[[#This Row],[TDS SKU]],Sheet2!$B:$B,Sheet2!C:C)","v":"B"},{"$f":"_xlfn.XLOOKUP(Table14[[#This Row],[TDS SKU]],Sheet2!$B:$B,Sheet2!D:D)","v":"A"},{"$f":"_xlfn.XLOOKUP(Table14[[#This Row],[TDS SKU]],Sheet2!$B:$B,Sheet2!E:E)","v":"CTO BO"},{"$f":"LEFT(Table14[[#This Row],[Apple Part ]],4)","v":"Z1EV"}]
["Z1EV","14324522",1729,"CTO IMAC M4 10CPU 10GPU 16GB 256GB TID NK ORANGE  ","SR1A2LL/A","Special Order","Orange","M4 chip with 10‑core CPU, 10‑core GPU","16GB","256GB SSD","Gigabit","Magic Keyboard with Touch ID and Numeric Keypad","None",{"$f":"_xlfn.XLOOKUP(Table14[[#This Row],[TDS SKU]],Sheet2!$B:$B,Sheet2!C:C)","v":"B"},{"$f":"_xlfn.XLOOKUP(Table14[[#This Row],[TDS SKU]],Sheet2!$B:$B,Sheet2!D:D)","v":"A"},{"$f":"_xlfn.XLOOKUP(Table14[[#This Row],[TDS SKU]],Sheet2!$B:$B,Sheet2!E:E)","v":"CTO BO"},{"$f":"LEFT(Table14[[#This Row],[Apple Part ]],4)","v":"Z1EV"}]
["Z1EV","14324520",1899,"CTO IMAC M4 10CPU 10GPU 24GB 256GB TID ORANGE  ","SR1A2LL/A","Special Order","Orange","M4 chip with 10‑core CPU, 10‑core GPU","24GB","256GB SSD","Gigabit","Magic Keyboard with Touch ID","None",{"$f":"_xlfn.XLOOKUP(Table14[[#This Row],[TDS SKU]],Sheet2!$B:$B,Sheet2!C:C)","v":"B"},{"$f":"_xlfn.XLOOKUP(Table14[[#This Row],[TDS SKU]],Sheet2!$B:$B,Sheet2!D:D)","v":"A"},{"$f":"_xlfn.XLOOKUP(Table14[[#This Row],[TDS SKU]],Sheet2!$B:$B,Sheet2!E:E)","v":"CTO BO"},{"$f":"LEFT(Table14[[#This Row],[Apple Part ]],4)","v":"Z1EV"}]
["Z1EV","14324524",1929,"CTO IMAC M4 10CPU 10GPU 24GB 256GB TID NK ORANGE  ","SR1A2LL/A","Special Order","Orange","M4 chip with 10‑core CPU, 10‑core GPU","24GB","256GB SSD","Gigabit","Magic Keyboard with Touch ID and Numeric Keypad","None",{"$f":"_xlfn.XLOOKUP(Table14[[#This Row],[TDS SKU]],Sheet2!$B:$B,Sheet2!C:C)","v":"B"},{"$f":"_xlfn.XLOOKUP(Table14[[#This Row],[TDS SKU]],Sheet2!$B:$B,Sheet2!D:D)","v":"A"},{"$f":"_xlfn.XLOOKUP(Table14[[#This Row],[TDS SKU]],Sheet2!$B:$B,Sheet2!E:E)","v":"CTO BO"},{"$f":"LEFT(Table14[[#This Row],[Apple Part ]],4)","v":"Z1EV"}]
["Z1EV","14324521",2099,"CTO IMAC M4 10CPU 10GPU 24GB 256GB TID ORANGE NANO ","SR1A2LL/A","Special Order","Orange","M4 chip with 10‑core CPU, 10‑core GPU","24GB","256GB SSD","Gigabit","Magic Keyboard with Touch ID","Nano-Texture",{"$f":"_xlfn.XLOOKUP(Table14[[#This Row],[TDS SKU]],Sheet2!$B:$B,Sheet2!C:C)","v":"B"},{"$f":"_xlfn.XLOOKUP(Table14[[#This Row],[TDS SKU]],Sheet2!$B:$B,Sheet2!D:D)","v":"A"},{"$f":"_xlfn.XLOOKUP(Table14[[#This Row],[TDS SKU]],Sheet2!$B:$B,Sheet2!E:E)","v":"CTO BO"},{"$f":"LEFT(Table14[[#This Row],[Apple Part ]],4)","v":"Z1EV"}]
["Z1EV","14324523",1929,"CTO IMAC M4 10CPU 10GPU 16GB 256GB TID NK ORANGE NANO ","SR1A2LL/A","Special Order","Orange","M4 chip with 10‑core CPU, 10‑core GPU","16GB","256GB SSD","Gigabit","Magic Keyboard with Touch ID and Numeric Keypad","Nano-Texture",{"$f":"_xlfn.XLOOKUP(Table14[[#This Row],[TDS SKU]],Sheet2!$B:$B,Sheet2!C:C)","v":"B"},{"$f":"_xlfn.XLOOKUP(Table14[[#This Row],[TDS SKU]],Sheet2!$B:$B,Sheet2!D:D)","v":"A"},{"$f":"_xlfn.XLOOKUP(Table14[[#This Row],[TDS SKU]],Sheet2!$B:$B,Sheet2!E:E)","v":"CTO BO"},{"$f":"LEFT(Table14[[#This Row],[Apple Part ]],4)","v":"Z1EV"}]
["Z1EV","14324525",2129,"CTO IMAC M4 10CPU 10GPU 24GB 256GB TID NK ORANGE NANO ","SR1A2LL/A","Special Order","Orange","M4 chip with 10‑core CPU, 10‑core GPU","24GB","256GB SSD","Gigabit","Magic Keyboard with Touch ID and Numeric Keypad","Nano-Texture",{"$f":"_xlfn.XLOOKUP(Table14[[#This Row],[TDS SKU]],Sheet2!$B:$B,Sheet2!C:C)","v":"B"},{"$f":"_xlfn.XLOOKUP(Table14[[#This Row],[TDS SKU]],Sheet2!$B:$B,Sheet2!D:D)","v":"A"},{"$f":"_xlfn.XLOOKUP(Table14[[#This Row],[TDS SKU]],Sheet2!$B:$B,Sheet2!E:E)","v":"CTO BO"},{"$f":"LEFT(Table14[[#This Row],[Apple Part ]],4)","v":"Z1EV"}]
["Z1EW","14324526",1899,"CTO IMAC M4 10CPU 10GPU 16GB 512GB TID ORANGE  ","SR1A2LL/A","Special Order","Orange","M4 chip with 10‑core CPU, 10‑core GPU","16GB","512GB SSD","Gigabit","Magic Keyboard with Touch ID","None",{"$f":"_xlfn.XLOOKUP(Table14[[#This Row],[TDS SKU]],Sheet2!$B:$B,Sheet2!C:C)","v":"B"},{"$f":"_xlfn.XLOOKUP(Table14[[#This Row],[TDS SKU]],Sheet2!$B:$B,Sheet2!D:D)","v":"A"},{"$f":"_xlfn.XLOOKUP(Table14[[#This Row],[TDS SKU]],Sheet2!$B:$B,Sheet2!E:E)","v":"CTO BO"},{"$f":"LEFT(Table14[[#This Row],[Apple Part ]],4)","v":"Z1EW"}]
["Z1EW","14324527",2099,"CTO IMAC M4 10CPU 10GPU 16GB 512GB TID ORANGE NANO ","SR1A2LL/A","Special Order","Orange","M4 chip with 10‑core CPU, 10‑core GPU","16GB","512GB SSD","Gigabit","Magic Keyboard with Touch ID","Nano-Texture",{"$f":"_xlfn.XLOOKUP(Table14[[#This Row],[TDS SKU]],Sheet2!$B:$B,Sheet2!C:C)","v":"B"},{"$f":"_xlfn.XLOOKUP(Table14[[#This Row],[TDS SKU]],Sheet2!$B:$B,Sheet2!D:D)","v":"A"},{"$f":"_xlfn.XLOOKUP(Table14[[#This Row],[TDS SKU]],Sheet2!$B:$B,Sheet2!E:E)","v":"CTO BO"},{"$f":"LEFT(Table14[[#This Row],[Apple Part ]],4)","v":"Z1EW"}]
["Z1EW","14324538",2199,"CTO IMAC M4 10CPU 10GPU 16GB 1TB TID ORANGE  ","SR1A2LL/A","Special Order","Orange","M4 chip with 10‑core CPU, 10‑core GPU","16GB","1TB SSD","Gigabit","Magic Keyboard with Touch ID","None",{"$f":"_xlfn.XLOOKUP(Table14[[#This Row],[TDS SKU]],Sheet2!$B:$B,Sheet2!C:C)","v":"B"},{"$f":"_xlfn.XLOOKUP(Table14[[#This Row],[TDS SKU]],Sheet2!$B:$B,Sheet2!D:D)","v":"A"},{"$f":"_xlfn.XLOOKUP(Table14[[#This Row],[TDS SKU]],Sheet2!$B:$B,Sheet2!E:E)","v":"CTO BO"},{"$f":"LEFT(Table14[[#This Row],[Apple Part ]],4)","v":"Z1EW"}]
["Z1EW","14324510",2699,"CTO IMAC M4 10CPU 10GPU 16GB 2TB TID ORANGE  ","SR1A2LL/A","Special Order","Orange","M4 chip with 10‑core CPU, 10‑core GPU","16GB","2TB SSD","Gigabit","Magic Keyboard with Touch ID","None",{"$f":"_xlfn.XLOOKUP(Table14[[#This Row],[TDS SKU]],Sheet2!$B:$B,Sheet2!C:C)","v":"B"},{"$f":"_xlfn.XLOOKUP(Table14[[#This Row],[TDS SKU]],Sheet2!$B:$B,Sheet2!D:D)","v":"A"},{"$f":"_xlfn.XLOOKUP(Table14[[#This Row],[TDS SKU]],Sheet2!$B:$B,Sheet2!E:E)","v":"CTO BO"},{"$f":"LEFT(Table14[[#This Row],[Apple Part ]],4)","v":"Z1EW"}]
["Z1EW","14324532",1929,"CTO IMAC M4 10CPU 10GPU 16GB 512GB TID NK ORANGE  ","SR1A2LL/A","Special Order","Orange","M4 chip with 10‑core CPU, 10‑core GPU","16GB","512GB SSD","Gigabit","Magic Keyboard with Touch ID and Numeric Keypad","None",{"$f":"_xlfn.XLOOKUP(Table14[[#This Row],[TDS SKU]],Sheet2!$B:$B,Sheet2!C:C)","v":"B"},{"$f":"_xlfn.XLOOKUP(Table14[[#This Row],[TDS SKU]],Sheet2!$B:$B,Sheet2!D:D)","v":"A"},{"$f":"_xlfn.XLOOKUP(Table14[[#This Row],[TDS SKU]],Sheet2!$B:$B,Sheet2!E:E)","v":"CTO BO"},{"$f":"LEFT(Table14[[#This Row],[Apple Part ]],4)","v":"Z1EW"}]
["Z1EW","14324528",2099,"CTO IMAC M4 10CPU 10GPU 24GB 512GB TID ORANGE  ","SR1A2LL/A","Special Order","Orange","M4 chip with 10‑core CPU, 10‑core GPU","24GB","512GB SSD","Gigabit","Magic Keyboard with Touch ID","None",{"$f":"_xlfn.XLOOKUP(Table14[[#This Row],[TDS SKU]],Sheet2!$B:$B,Sheet2!C:C)","v":"B"},{"$f":"_xlfn.XLOOKUP(Table14[[#This Row],[TDS SKU]],Sheet2!$B:$B,Sheet2!D:D)","v":"A"},{"$f":"_xlfn.XLOOKUP(Table14[[#This Row],[TDS SKU]],Sheet2!$B:$B,Sheet2!E:E)","v":"CTO BO"},{"$f":"LEFT(Table14[[#This Row],[Apple Part ]],4)","v":"Z1EW"}]
["Z1EW","14324530",2299,"CTO IMAC M4 10CPU 10GPU 32GB 512GB TID ORANGE  ","SR1A2LL/A","Special Order","Orange","M4 chip with 10‑core CPU, 10‑core GPU","32GB","512GB SSD","Gigabit","Magic Keyboard with Touch ID","None",{"$f":"_xlfn.XLOOKUP(Table14[[#This Row],[TDS SKU]],Sheet2!$B:$B,Sheet2!C:C)","v":"B"},{"$f":"_xlfn.XLOOKUP(Table14[[#This Row],[TDS SKU]],Sheet2!$B:$B,Sheet2!D:D)","v":"A"},{"$f":"_xlfn.XLOOKUP(Table14[[#This Row],[TDS SKU]],Sheet2!$B:$B,Sheet2!E:E)","v":"CTO BO"},{"$f":"LEFT(Table14[[#This Row],[Apple Part ]],4)","v":"Z1EW"}]
["Z1EW","14324490",2399,"CTO IMAC M4 10CPU 10GPU 24GB 1TB TID ORANGE  ","SR1A2LL/A","Special Order","Orange","M4 chip with 10‑core CPU, 10‑core GPU","24GB","1TB SSD","Gigabit","Magic Keyboard with Touch ID","None",{"$f":"_xlfn.XLOOKUP(Table14[[#This Row],[TDS SKU]],Sheet2!$B:$B,Sheet2!C:C)","v":"B"},{"$f":"_xlfn.XLOOKUP(Table14[[#This Row],[TDS SKU]],Sheet2!$B:$B,Sheet2!D:D)","v":"A"},{"$f":"_xlfn.XLOOKUP(Table14[[#This Row],[TDS SKU]],Sheet2!$B:$B,Sheet2!E:E)","v":"CTO BO"},{"$f":"LEFT(Table14[[#This Row],[Apple Part ]],4)","v":"Z1EW"}]
["Z1EW","14324492",2599,"CTO IMAC M4 10CPU 10GPU 32GB 1TB TID ORANGE  ","SR1A2LL/A","Special Order","Orange","M4 chip with 10‑core CPU, 10‑core GPU","32GB","1TB SSD","Gigabit","Magic Keyboard with Touch ID","None",{"$f":"_xlfn.XLOOKUP(Table14[[#This Row],[TDS SKU]],Sheet2!$B:$B,Sheet2!C:C)","v":"B"},{"$f":"_xlfn.XLOOKUP(Table14[[#This Row],[TDS SKU]],Sheet2!$B:$B,Sheet2!D:D)","v":"A"},{"$f":"_xlfn.XLOOKUP(Table14[[#This Row],[TDS SKU]],Sheet2!$B:$B,Sheet2!E:E)","v":"CTO BO"},{"$f":"LEFT(Table14[[#This Row],[Apple Part ]],4)","v":"Z1EW"}]
["Z1EW","14324512",2899,"CTO IMAC M4 10CPU 10GPU 24GB 2TB TID ORANGE  ","SR1A2LL/A","Special Order","Orange","M4 chip with 10‑core CPU, 10‑core GPU","24GB","2TB SSD","Gigabit","Magic Keyboard with Touch ID","None",{"$f":"_xlfn.XLOOKUP(Table14[[#This Row],[TDS SKU]],Sheet2!$B:$B,Sheet2!C:C)","v":"B"},{"$f":"_xlfn.XLOOKUP(Table14[[#This Row],[TDS SKU]],Sheet2!$B:$B,Sheet2!D:D)","v":"A"},{"$f":"_xlfn.XLOOKUP(Table14[[#This Row],[TDS SKU]],Sheet2!$B:$B,Sheet2!E:E)","v":"CTO BO"},{"$f":"LEFT(Table14[[#This Row],[Apple Part ]],4)","v":"Z1EW"}]
["Z1EW","14324514",3099,"CTO IMAC M4 10CPU 10GPU 32GB 2TB TID ORANGE  ","SR1A2LL/A",{"$f":"IF(OR(P469=\"CTO BO\",P469=\"ZPN BO\"),\"Special Order\",\"Stocked\")","v":"Special Order"},"Orange","M4 chip with 10‑core CPU, 10‑core GPU","32GB","2TB SSD","Gigabit","Magic Keyboard with Touch ID","None",{"$f":"_xlfn.XLOOKUP(Table14[[#This Row],[TDS SKU]],Sheet2!$B:$B,Sheet2!C:C)","v":"B"},{"$f":"_xlfn.XLOOKUP(Table14[[#This Row],[TDS SKU]],Sheet2!$B:$B,Sheet2!D:D)","v":"A"},{"$f":"_xlfn.XLOOKUP(Table14[[#This Row],[TDS SKU]],Sheet2!$B:$B,Sheet2!E:E)","v":"CTO BO"},{"$f":"LEFT(Table14[[#This Row],[Apple Part ]],4)","v":"Z1EW"}]
["Z1EW","14324540",3129,"CTO IMAC M4 10CPU 10GPU 32GB 2TB TID NK ORANGE  ","SR1A2LL/A","Special Order","Orange","M4 chip with 10‑core CPU, 10‑core GPU","32GB","2TB SSD","Gigabit","Magic Keyboard with Touch ID and Numeric Keypad","None",{"$f":"_xlfn.XLOOKUP(Table14[[#This Row],[TDS SKU]],Sheet2!$B:$B,Sheet2!C:C)","v":"B"},{"$f":"_xlfn.XLOOKUP(Table14[[#This Row],[TDS SKU]],Sheet2!$B:$B,Sheet2!D:D)","v":"A"},{"$f":"_xlfn.XLOOKUP(Table14[[#This Row],[TDS SKU]],Sheet2!$B:$B,Sheet2!E:E)","v":"CTO BO"},{"$f":"LEFT(Table14[[#This Row],[Apple Part ]],4)","v":"Z1EW"}]
["Z1EW","14324536",2329,"CTO IMAC M4 10CPU 10GPU 32GB 512GB TID NK ORANGE  ","SR1A2LL/A","Special Order","Orange","M4 chip with 10‑core CPU, 10‑core GPU","32GB","512GB SSD","Gigabit","Magic Keyboard with Touch ID and Numeric Keypad","None",{"$f":"_xlfn.XLOOKUP(Table14[[#This Row],[TDS SKU]],Sheet2!$B:$B,Sheet2!C:C)","v":"B"},{"$f":"_xlfn.XLOOKUP(Table14[[#This Row],[TDS SKU]],Sheet2!$B:$B,Sheet2!D:D)","v":"A"},{"$f":"_xlfn.XLOOKUP(Table14[[#This Row],[TDS SKU]],Sheet2!$B:$B,Sheet2!E:E)","v":"CTO BO"},{"$f":"LEFT(Table14[[#This Row],[Apple Part ]],4)","v":"Z1EW"}]
["Z1EW","14324498",2629,"CTO IMAC M4 10CPU 10GPU 32GB 1TB TID NK ORANGE  ","SR1A2LL/A","Special Order","Orange","M4 chip with 10‑core CPU, 10‑core GPU","32GB","1TB SSD","Gigabit","Magic Keyboard with Touch ID and Numeric Keypad","None",{"$f":"_xlfn.XLOOKUP(Table14[[#This Row],[TDS SKU]],Sheet2!$B:$B,Sheet2!C:C)","v":"B"},{"$f":"_xlfn.XLOOKUP(Table14[[#This Row],[TDS SKU]],Sheet2!$B:$B,Sheet2!D:D)","v":"A"},{"$f":"_xlfn.XLOOKUP(Table14[[#This Row],[TDS SKU]],Sheet2!$B:$B,Sheet2!E:E)","v":"CTO BO"},{"$f":"LEFT(Table14[[#This Row],[Apple Part ]],4)","v":"Z1EW"}]
["Z1EW","14324496",2429,"CTO IMAC M4 10CPU 10GPU 24GB 1TB TID NK ORANGE  ","SR1A2LL/A","Special Order","Orange","M4 chip with 10‑core CPU, 10‑core GPU","24GB","1TB SSD","Gigabit","Magic Keyboard with Touch ID and Numeric Keypad","None",{"$f":"_xlfn.XLOOKUP(Table14[[#This Row],[TDS SKU]],Sheet2!$B:$B,Sheet2!C:C)","v":"B"},{"$f":"_xlfn.XLOOKUP(Table14[[#This Row],[TDS SKU]],Sheet2!$B:$B,Sheet2!D:D)","v":"A"},{"$f":"_xlfn.XLOOKUP(Table14[[#This Row],[TDS SKU]],Sheet2!$B:$B,Sheet2!E:E)","v":"CTO BO"},{"$f":"LEFT(Table14[[#This Row],[Apple Part ]],4)","v":"Z1EW"}]
["Z1EW","14324494",2229,"CTO IMAC M4 10CPU 10GPU 16GB 1TB TID NK ORANGE  ","SR1A2LL/A","Special Order","Orange","M4 chip with 10‑core CPU, 10‑core GPU","16GB","1TB SSD","Gigabit","Magic Keyboard with Touch ID and Numeric Keypad","None",{"$f":"_xlfn.XLOOKUP(Table14[[#This Row],[TDS SKU]],Sheet2!$B:$B,Sheet2!C:C)","v":"B"},{"$f":"_xlfn.XLOOKUP(Table14[[#This Row],[TDS SKU]],Sheet2!$B:$B,Sheet2!D:D)","v":"A"},{"$f":"_xlfn.XLOOKUP(Table14[[#This Row],[TDS SKU]],Sheet2!$B:$B,Sheet2!E:E)","v":"CTO BO"},{"$f":"LEFT(Table14[[#This Row],[Apple Part ]],4)","v":"Z1EW"}]
["Z1EW","14324516",2729,"CTO IMAC M4 10CPU 10GPU 16GB 2TB TID NK ORANGE  ","SR1A2LL/A","Special Order","Orange","M4 chip with 10‑core CPU, 10‑core GPU","16GB","2TB SSD","Gigabit","Magic Keyboard with Touch ID and Numeric Keypad","None",{"$f":"_xlfn.XLOOKUP(Table14[[#This Row],[TDS SKU]],Sheet2!$B:$B,Sheet2!C:C)","v":"B"},{"$f":"_xlfn.XLOOKUP(Table14[[#This Row],[TDS SKU]],Sheet2!$B:$B,Sheet2!D:D)","v":"A"},{"$f":"_xlfn.XLOOKUP(Table14[[#This Row],[TDS SKU]],Sheet2!$B:$B,Sheet2!E:E)","v":"CTO BO"},{"$f":"LEFT(Table14[[#This Row],[Apple Part ]],4)","v":"Z1EW"}]
["Z1EW","14324515",3299,"CTO IMAC M4 10CPU 10GPU 32GB 2TB TID ORANGE NANO ","SR1A2LL/A","Special Order","Orange","M4 chip with 10‑core CPU, 10‑core GPU","32GB","2TB SSD","Gigabit","Magic Keyboard with Touch ID","Nano-Texture",{"$f":"_xlfn.XLOOKUP(Table14[[#This Row],[TDS SKU]],Sheet2!$B:$B,Sheet2!C:C)","v":"B"},{"$f":"_xlfn.XLOOKUP(Table14[[#This Row],[TDS SKU]],Sheet2!$B:$B,Sheet2!D:D)","v":"A"},{"$f":"_xlfn.XLOOKUP(Table14[[#This Row],[TDS SKU]],Sheet2!$B:$B,Sheet2!E:E)","v":"CTO BO"},{"$f":"LEFT(Table14[[#This Row],[Apple Part ]],4)","v":"Z1EW"}]
["Z1EW","14324541",3329,"CTO IMAC M4 10CPU 10GPU 32GB 2TB TID NK ORANGE NANO ","SR1A2LL/A","Special Order","Orange","M4 chip with 10‑core CPU, 10‑core GPU","32GB","2TB SSD","Gigabit","Magic Keyboard with Touch ID and Numeric Keypad","Nano-Texture",{"$f":"_xlfn.XLOOKUP(Table14[[#This Row],[TDS SKU]],Sheet2!$B:$B,Sheet2!C:C)","v":"B"},{"$f":"_xlfn.XLOOKUP(Table14[[#This Row],[TDS SKU]],Sheet2!$B:$B,Sheet2!D:D)","v":"A"},{"$f":"_xlfn.XLOOKUP(Table14[[#This Row],[TDS SKU]],Sheet2!$B:$B,Sheet2!E:E)","v":"CTO BO"},{"$f":"LEFT(Table14[[#This Row],[Apple Part ]],4)","v":"Z1EW"}]
["Z1EW","14324489",2399,"CTO IMAC M4 10CPU 10GPU 16GB 1TB TID ORANGE NANO ","SR1A2LL/A","Special Order","Orange","M4 chip with 10‑core CPU, 10‑core GPU","16GB","1TB SSD","Gigabit","Magic Keyboard with Touch ID","Nano-Texture",{"$f":"_xlfn.XLOOKUP(Table14[[#This Row],[TDS SKU]],Sheet2!$B:$B,Sheet2!C:C)","v":"B"},{"$f":"_xlfn.XLOOKUP(Table14[[#This Row],[TDS SKU]],Sheet2!$B:$B,Sheet2!D:D)","v":"A"},{"$f":"_xlfn.XLOOKUP(Table14[[#This Row],[TDS SKU]],Sheet2!$B:$B,Sheet2!E:E)","v":"CTO BO"},{"$f":"LEFT(Table14[[#This Row],[Apple Part ]],4)","v":"Z1EW"}]
["Z1EW","14324529",2299,"CTO IMAC M4 10CPU 10GPU 24GB 512GB TID ORANGE NANO ","SR1A2LL/A","Special Order","Orange","M4 chip with 10‑core CPU, 10‑core GPU","24GB","512GB SSD","Gigabit","Magic Keyboard with Touch ID","Nano-Texture",{"$f":"_xlfn.XLOOKUP(Table14[[#This Row],[TDS SKU]],Sheet2!$B:$B,Sheet2!C:C)","v":"B"},{"$f":"_xlfn.XLOOKUP(Table14[[#This Row],[TDS SKU]],Sheet2!$B:$B,Sheet2!D:D)","v":"A"},{"$f":"_xlfn.XLOOKUP(Table14[[#This Row],[TDS SKU]],Sheet2!$B:$B,Sheet2!E:E)","v":"CTO BO"},{"$f":"LEFT(Table14[[#This Row],[Apple Part ]],4)","v":"Z1EW"}]
["Z1EW","14324531",2499,"CTO IMAC M4 10CPU 10GPU 32GB 512GB TID ORANGE NANO ","SR1A2LL/A","Special Order","Orange","M4 chip with 10‑core CPU, 10‑core GPU","32GB","512GB SSD","Gigabit","Magic Keyboard with Touch ID","Nano-Texture",{"$f":"_xlfn.XLOOKUP(Table14[[#This Row],[TDS SKU]],Sheet2!$B:$B,Sheet2!C:C)","v":"B"},{"$f":"_xlfn.XLOOKUP(Table14[[#This Row],[TDS SKU]],Sheet2!$B:$B,Sheet2!D:D)","v":"A"},{"$f":"_xlfn.XLOOKUP(Table14[[#This Row],[TDS SKU]],Sheet2!$B:$B,Sheet2!E:E)","v":"CTO BO"},{"$f":"LEFT(Table14[[#This Row],[Apple Part ]],4)","v":"Z1EW"}]
["Z1EW","14324533",2129,"CTO IMAC M4 10CPU 10GPU 16GB 512GB TID NK ORANGE NANO ","SR1A2LL/A","Special Order","Orange","M4 chip with 10‑core CPU, 10‑core GPU","16GB","512GB SSD","Gigabit","Magic Keyboard with Touch ID and Numeric Keypad","Nano-Texture",{"$f":"_xlfn.XLOOKUP(Table14[[#This Row],[TDS SKU]],Sheet2!$B:$B,Sheet2!C:C)","v":"B"},{"$f":"_xlfn.XLOOKUP(Table14[[#This Row],[TDS SKU]],Sheet2!$B:$B,Sheet2!D:D)","v":"A"},{"$f":"_xlfn.XLOOKUP(Table14[[#This Row],[TDS SKU]],Sheet2!$B:$B,Sheet2!E:E)","v":"CTO BO"},{"$f":"LEFT(Table14[[#This Row],[Apple Part ]],4)","v":"Z1EW"}]
["Z1EW","14324534",2129,"CTO IMAC M4 10CPU 10GPU 24GB 512GB TID NK ORANGE  ","SR1A2LL/A","Special Order","Orange","M4 chip with 10‑core CPU, 10‑core GPU","24GB","512GB SSD","Gigabit","Magic Keyboard with Touch ID and Numeric Keypad","None",{"$f":"_xlfn.XLOOKUP(Table14[[#This Row],[TDS SKU]],Sheet2!$B:$B,Sheet2!C:C)","v":"B"},{"$f":"_xlfn.XLOOKUP(Table14[[#This Row],[TDS SKU]],Sheet2!$B:$B,Sheet2!D:D)","v":"A"},{"$f":"_xlfn.XLOOKUP(Table14[[#This Row],[TDS SKU]],Sheet2!$B:$B,Sheet2!E:E)","v":"CTO BO"},{"$f":"LEFT(Table14[[#This Row],[Apple Part ]],4)","v":"Z1EW"}]
["Z1EW","14324535",2329,"CTO IMAC M4 10CPU 10GPU 24GB 512GB TID NK ORANGE NANO ","SR1A2LL/A","Special Order","Orange","M4 chip with 10‑core CPU, 10‑core GPU","24GB","512GB SSD","Gigabit","Magic Keyboard with Touch ID and Numeric Keypad","Nano-Texture",{"$f":"_xlfn.XLOOKUP(Table14[[#This Row],[TDS SKU]],Sheet2!$B:$B,Sheet2!C:C)","v":"B"},{"$f":"_xlfn.XLOOKUP(Table14[[#This Row],[TDS SKU]],Sheet2!$B:$B,Sheet2!D:D)","v":"A"},{"$f":"_xlfn.XLOOKUP(Table14[[#This Row],[TDS SKU]],Sheet2!$B:$B,Sheet2!E:E)","v":"CTO BO"},{"$f":"LEFT(Table14[[#This Row],[Apple Part ]],4)","v":"Z1EW"}]
["Z1EW","14324537",2529,"CTO IMAC M4 10CPU 10GPU 32GB 512GB TID NK ORANGE NANO ","SR1A2LL/A","Special Order","Orange","M4 chip with 10‑core CPU, 10‑core GPU","32GB","512GB SSD","Gigabit","Magic Keyboard with Touch ID and Numeric Keypad","Nano-Texture",{"$f":"_xlfn.XLOOKUP(Table14[[#This Row],[TDS SKU]],Sheet2!$B:$B,Sheet2!C:C)","v":"B"},{"$f":"_xlfn.XLOOKUP(Table14[[#This Row],[TDS SKU]],Sheet2!$B:$B,Sheet2!D:D)","v":"A"},{"$f":"_xlfn.XLOOKUP(Table14[[#This Row],[TDS SKU]],Sheet2!$B:$B,Sheet2!E:E)","v":"CTO BO"},{"$f":"LEFT(Table14[[#This Row],[Apple Part ]],4)","v":"Z1EW"}]
["Z1EW","14324491",2599,"CTO IMAC M4 10CPU 10GPU 24GB 1TB TID ORANGE NANO ","SR1A2LL/A","Special Order","Orange","M4 chip with 10‑core CPU, 10‑core GPU","24GB","1TB SSD","Gigabit","Magic Keyboard with Touch ID","Nano-Texture",{"$f":"_xlfn.XLOOKUP(Table14[[#This Row],[TDS SKU]],Sheet2!$B:$B,Sheet2!C:C)","v":"B"},{"$f":"_xlfn.XLOOKUP(Table14[[#This Row],[TDS SKU]],Sheet2!$B:$B,Sheet2!D:D)","v":"A"},{"$f":"_xlfn.XLOOKUP(Table14[[#This Row],[TDS SKU]],Sheet2!$B:$B,Sheet2!E:E)","v":"CTO BO"},{"$f":"LEFT(Table14[[#This Row],[Apple Part ]],4)","v":"Z1EW"}]
["Z1EW","14324493",2799,"CTO IMAC M4 10CPU 10GPU 32GB 1TB TID ORANGE NANO ","SR1A2LL/A","Special Order","Orange","M4 chip with 10‑core CPU, 10‑core GPU","32GB","1TB SSD","Gigabit","Magic Keyboard with Touch ID","Nano-Texture",{"$f":"_xlfn.XLOOKUP(Table14[[#This Row],[TDS SKU]],Sheet2!$B:$B,Sheet2!C:C)","v":"B"},{"$f":"_xlfn.XLOOKUP(Table14[[#This Row],[TDS SKU]],Sheet2!$B:$B,Sheet2!D:D)","v":"A"},{"$f":"_xlfn.XLOOKUP(Table14[[#This Row],[TDS SKU]],Sheet2!$B:$B,Sheet2!E:E)","v":"CTO BO"},{"$f":"LEFT(Table14[[#This Row],[Apple Part ]],4)","v":"Z1EW"}]
["Z1EW","14324495",2429,"CTO IMAC M4 10CPU 10GPU 16GB 1TB TID NK ORANGE NANO ","SR1A2LL/A","Special Order","Orange","M4 chip with 10‑core CPU, 10‑core GPU","16GB","1TB SSD","Gigabit","Magic Keyboard with Touch ID and Numeric Keypad","Nano-Texture",{"$f":"_xlfn.XLOOKUP(Table14[[#This Row],[TDS SKU]],Sheet2!$B:$B,Sheet2!C:C)","v":"B"},{"$f":"_xlfn.XLOOKUP(Table14[[#This Row],[TDS SKU]],Sheet2!$B:$B,Sheet2!D:D)","v":"A"},{"$f":"_xlfn.XLOOKUP(Table14[[#This Row],[TDS SKU]],Sheet2!$B:$B,Sheet2!E:E)","v":"CTO BO"},{"$f":"LEFT(Table14[[#This Row],[Apple Part ]],4)","v":"Z1EW"}]
["Z1EW","14324497",2629,"CTO IMAC M4 10CPU 10GPU 24GB 1TB TID NK ORANGE NANO ","SR1A2LL/A","Special Order","Orange","M4 chip with 10‑core CPU, 10‑core GPU","24GB","1TB SSD","Gigabit","Magic Keyboard with Touch ID and Numeric Keypad","Nano-Texture",{"$f":"_xlfn.XLOOKUP(Table14[[#This Row],[TDS SKU]],Sheet2!$B:$B,Sheet2!C:C)","v":"B"},{"$f":"_xlfn.XLOOKUP(Table14[[#This Row],[TDS SKU]],Sheet2!$B:$B,Sheet2!D:D)","v":"A"},{"$f":"_xlfn.XLOOKUP(Table14[[#This Row],[TDS SKU]],Sheet2!$B:$B,Sheet2!E:E)","v":"CTO BO"},{"$f":"LEFT(Table14[[#This Row],[Apple Part ]],4)","v":"Z1EW"}]
["Z1EW","14324509",2829,"CTO IMAC M4 10CPU 10GPU 32GB 1TB TID NK ORANGE NANO ","SR1A2LL/A","Special Order","Orange","M4 chip with 10‑core CPU, 10‑core GPU","32GB","1TB SSD","Gigabit","Magic Keyboard with Touch ID and Numeric Keypad","Nano-Texture",{"$f":"_xlfn.XLOOKUP(Table14[[#This Row],[TDS SKU]],Sheet2!$B:$B,Sheet2!C:C)","v":"B"},{"$f":"_xlfn.XLOOKUP(Table14[[#This Row],[TDS SKU]],Sheet2!$B:$B,Sheet2!D:D)","v":"A"},{"$f":"_xlfn.XLOOKUP(Table14[[#This Row],[TDS SKU]],Sheet2!$B:$B,Sheet2!E:E)","v":"CTO BO"},{"$f":"LEFT(Table14[[#This Row],[Apple Part ]],4)","v":"Z1EW"}]
["Z1EW","14324511",2899,"CTO IMAC M4 10CPU 10GPU 16GB 2TB TID ORANGE NANO ","SR1A2LL/A","Special Order","Orange","M4 chip with 10‑core CPU, 10‑core GPU","16GB","2TB SSD","Gigabit","Magic Keyboard with Touch ID","Nano-Texture",{"$f":"_xlfn.XLOOKUP(Table14[[#This Row],[TDS SKU]],Sheet2!$B:$B,Sheet2!C:C)","v":"B"},{"$f":"_xlfn.XLOOKUP(Table14[[#This Row],[TDS SKU]],Sheet2!$B:$B,Sheet2!D:D)","v":"A"},{"$f":"_xlfn.XLOOKUP(Table14[[#This Row],[TDS SKU]],Sheet2!$B:$B,Sheet2!E:E)","v":"CTO BO"},{"$f":"LEFT(Table14[[#This Row],[Apple Part ]],4)","v":"Z1EW"}]
["Z1EW","14324513",3099,"CTO IMAC M4 10CPU 10GPU 24GB 2TB TID ORANGE NANO ","SR1A2LL/A","Special Order","Orange","M4 chip with 10‑core CPU, 10‑core GPU","24GB","2TB SSD","Gigabit","Magic Keyboard with Touch ID","Nano-Texture",{"$f":"_xlfn.XLOOKUP(Table14[[#This Row],[TDS SKU]],Sheet2!$B:$B,Sheet2!C:C)","v":"B"},{"$f":"_xlfn.XLOOKUP(Table14[[#This Row],[TDS SKU]],Sheet2!$B:$B,Sheet2!D:D)","v":"A"},{"$f":"_xlfn.XLOOKUP(Table14[[#This Row],[TDS SKU]],Sheet2!$B:$B,Sheet2!E:E)","v":"CTO BO"},{"$f":"LEFT(Table14[[#This Row],[Apple Part ]],4)","v":"Z1EW"}]
["Z1EW","14324517",2929,"CTO IMAC M4 10CPU 10GPU 16GB 2TB TID NK ORANGE NANO ","SR1A2LL/A","Special Order","Orange","M4 chip with 10‑core CPU, 10‑core GPU","16GB","2TB SSD","Gigabit","Magic Keyboard with Touch ID and Numeric Keypad","Nano-Texture",{"$f":"_xlfn.XLOOKUP(Table14[[#This Row],[TDS SKU]],Sheet2!$B:$B,Sheet2!C:C)","v":"B"},{"$f":"_xlfn.XLOOKUP(Table14[[#This Row],[TDS SKU]],Sheet2!$B:$B,Sheet2!D:D)","v":"A"},{"$f":"_xlfn.XLOOKUP(Table14[[#This Row],[TDS SKU]],Sheet2!$B:$B,Sheet2!E:E)","v":"CTO BO"},{"$f":"LEFT(Table14[[#This Row],[Apple Part ]],4)","v":"Z1EW"}]
["Z1EW","14324518",2929,"CTO IMAC M4 10CPU 10GPU 24GB 2TB TID NK ORANGE  ","SR1A2LL/A","Special Order","Orange","M4 chip with 10‑core CPU, 10‑core GPU","24GB","2TB SSD","Gigabit","Magic Keyboard with Touch ID and Numeric Keypad","None",{"$f":"_xlfn.XLOOKUP(Table14[[#This Row],[TDS SKU]],Sheet2!$B:$B,Sheet2!C:C)","v":"B"},{"$f":"_xlfn.XLOOKUP(Table14[[#This Row],[TDS SKU]],Sheet2!$B:$B,Sheet2!D:D)","v":"A"},{"$f":"_xlfn.XLOOKUP(Table14[[#This Row],[TDS SKU]],Sheet2!$B:$B,Sheet2!E:E)","v":"CTO BO"},{"$f":"LEFT(Table14[[#This Row],[Apple Part ]],4)","v":"Z1EW"}]
["Z1EW","14324539",3129,"CTO IMAC M4 10CPU 10GPU 24GB 2TB TID NK ORANGE NANO ","SR1A2LL/A","Special Order","Orange","M4 chip with 10‑core CPU, 10‑core GPU","24GB","2TB SSD","Gigabit","Magic Keyboard with Touch ID and Numeric Keypad","Nano-Texture",{"$f":"_xlfn.XLOOKUP(Table14[[#This Row],[TDS SKU]],Sheet2!$B:$B,Sheet2!C:C)","v":"B"},{"$f":"_xlfn.XLOOKUP(Table14[[#This Row],[TDS SKU]],Sheet2!$B:$B,Sheet2!D:D)","v":"A"},{"$f":"_xlfn.XLOOKUP(Table14[[#This Row],[TDS SKU]],Sheet2!$B:$B,Sheet2!E:E)","v":"CTO BO"},{"$f":"LEFT(Table14[[#This Row],[Apple Part ]],4)","v":"Z1EW"}]
["Z1K1","15132612",2399,"CTO IMAC M4 10CPU 10GPU 24GB 1TB TID SILVER  ","SR1A2LL/A","Special Order","Silver","M4 chip with 10‑core CPU, 10‑core GPU","24GB","1TB SSD","Gigabit","Magic Keyboard with Touch ID","None",{"$f":"_xlfn.XLOOKUP(Table14[[#This Row],[TDS SKU]],Sheet2!$B:$B,Sheet2!C:C)","v":"B"},{"$f":"_xlfn.XLOOKUP(Table14[[#This Row],[TDS SKU]],Sheet2!$B:$B,Sheet2!D:D)","v":"A"},{"$f":"_xlfn.XLOOKUP(Table14[[#This Row],[TDS SKU]],Sheet2!$B:$B,Sheet2!E:E)","v":"ZPN BO"},{"$f":"LEFT(Table14[[#This Row],[Apple Part ]],4)","v":"Z1K1"}]
["Z1K1","15132613",2599,"CTO IMAC M4 10CPU 10GPU 32GB 1TB TID SILVER  ","SR1A2LL/A","Stocked","Silver","M4 chip with 10‑core CPU, 10‑core GPU","32GB","1TB SSD","Gigabit","Magic Keyboard with Touch ID","None",{"$f":"_xlfn.XLOOKUP(Table14[[#This Row],[TDS SKU]],Sheet2!$B:$B,Sheet2!C:C)","v":"B"},{"$f":"_xlfn.XLOOKUP(Table14[[#This Row],[TDS SKU]],Sheet2!$B:$B,Sheet2!D:D)","v":"A"},{"$f":"_xlfn.XLOOKUP(Table14[[#This Row],[TDS SKU]],Sheet2!$B:$B,Sheet2!E:E)","v":"ZPN STOCKED"},{"$f":"LEFT(Table14[[#This Row],[Apple Part ]],4)","v":"Z1K1"}]

{"sheet":"iPad","index":8,"n_rows":178,"n_cols":15,"rows_kept":178,"cut":false,"hidden":false,"merged":[]}
[]
[]
[]
[]
[]
[]
[]
[]
[]
[]
[]
[]
[]
[]
[]
[]
["*Red text denotes EOL product"]
["Apple Part ","TDS SKU","MSRP","Description","AppleCare","Pencil","Magic Keyboard","Model","Color","Storage","Cellular","Nano Texture",null,"ABC Code","Active Status"]
["MXN63LL/A","14290288",599,"iPad Mini (A17 Pro) Wi-Fi 128GB - Space Gray","SNGN2LL/A","MUWA3AM/A or MX2D3AM/A","N/A","iPad Mini (A17 Pro)","Space Gray","128GB","No","No",null,{"$f":"_xlfn.XLOOKUP(Table4[[#This Row],[TDS SKU]],Sheet2!B:B,Sheet2!C:C)","v":"A"},{"$f":"_xlfn.XLOOKUP(Table4[[#This Row],[TDS SKU]],Sheet2!B:B,Sheet2!D:D)","v":"A"}]
["MXN73LL/A","14290289",599,"iPad Mini (A17 Pro) Wi-Fi 128GB - Blue","SNGN2LL/A","MUWA3AM/A or MX2D3AM/A","N/A","iPad Mini (A17 Pro)","Blue","128GB","No","No",null,{"$f":"_xlfn.XLOOKUP(Table4[[#This Row],[TDS SKU]],Sheet2!B:B,Sheet2!C:C)","v":"A"},{"$f":"_xlfn.XLOOKUP(Table4[[#This Row],[TDS SKU]],Sheet2!B:B,Sheet2!D:D)","v":"A"}]
["MXN83LL/A","14290290",599,"iPad Mini (A17 Pro) Wi-Fi 128GB - Starlight","SNGN2LL/A","MUWA3AM/A or MX2D3AM/A","N/A","iPad Mini (A17 Pro)","Starlight","128GB","No","No",null,{"$f":"_xlfn.XLOOKUP(Table4[[#This Row],[TDS SKU]],Sheet2!B:B,Sheet2!C:C)","v":"A"},{"$f":"_xlfn.XLOOKUP(Table4[[#This Row],[TDS SKU]],Sheet2!B:B,Sheet2!D:D)","v":"A"}]
["MXN93LL/A","14290291",599,"iPad Mini (A17 Pro) Wi-Fi 128GB - Purple","SNGN2LL/A","MUWA3AM/A or MX2D3AM/A","N/A","iPad Mini (A17 Pro)","Purple","128GB","No","No",null,{"$f":"_xlfn.XLOOKUP(Table4[[#This Row],[TDS SKU]],Sheet2!B:B,Sheet2!C:C)","v":"A"},{"$f":"_xlfn.XLOOKUP(Table4[[#This Row],[TDS SKU]],Sheet2!B:B,Sheet2!D:D)","v":"A"}]
["MXNA3LL/A","14290292",699,"iPad Mini (A17 Pro) Wi-Fi 256GB - Space Gray","SNGN2LL/A","MUWA3AM/A or MX2D3AM/A","N/A","iPad Mini (A17 Pro)","Space Gray","256GB","No","No",null,{"$f":"_xlfn.XLOOKUP(Table4[[#This Row],[TDS SKU]],Sheet2!B:B,Sheet2!C:C)","v":"A"},{"$f":"_xlfn.XLOOKUP(Table4[[#This Row],[TDS SKU]],Sheet2!B:B,Sheet2!D:D)","v":"A"}]
["MXNC3LL/A","14290293",699,"iPad Mini (A17 Pro) Wi-Fi 256GB - Blue","SNGN2LL/A","MUWA3AM/A or MX2D3AM/A","N/A","iPad Mini (A17 Pro)","Blue","256GB","No","No",null,{"$f":"_xlfn.XLOOKUP(Table4[[#This Row],[TDS SKU]],Sheet2!B:B,Sheet2!C:C)","v":"B"},{"$f":"_xlfn.XLOOKUP(Table4[[#This Row],[TDS SKU]],Sheet2!B:B,Sheet2!D:D)","v":"A"}]
["MXND3LL/A","14290294",699,"iPad Mini (A17 Pro) Wi-Fi 256GB - Starlight","SNGN2LL/A","MUWA3AM/A or MX2D3AM/A","N/A","iPad Mini (A17 Pro)","Starlight","256GB","No","No",null,{"$f":"_xlfn.XLOOKUP(Table4[[#This Row],[TDS SKU]],Sheet2!B:B,Sheet2!C:C)","v":"B"},{"$f":"_xlfn.XLOOKUP(Table4[[#This Row],[TDS SKU]],Sheet2!B:B,Sheet2!D:D)","v":"A"}]
["MXNE3LL/A","14290295",699,"iPad Mini (A17 Pro) Wi-Fi 256GB - Purple","SNGN2LL/A","MUWA3AM/A or MX2D3AM/A","N/A","iPad Mini (A17 Pro)","Purple","256GB","No","No",null,{"$f":"_xlfn.XLOOKUP(Table4[[#This Row],[TDS SKU]],Sheet2!B:B,Sheet2!C:C)","v":"B"},{"$f":"_xlfn.XLOOKUP(Table4[[#This Row],[TDS SKU]],Sheet2!B:B,Sheet2!D:D)","v":"A"}]
["MXPN3LL/A","14290296",749,"iPad Mini (A17 Pro) Wi-Fi + Cellular 128GB - Space Gray","SNGN2LL/A","MUWA3AM/A or MX2D3AM/A","N/A","iPad Mini (A17 Pro)","Space Gray","128GB","Yes","No",null,{"$f":"_xlfn.XLOOKUP(Table4[[#This Row],[TDS SKU]],Sheet2!B:B,Sheet2!C:C)","v":"A"},{"$f":"_xlfn.XLOOKUP(Table4[[#This Row],[TDS SKU]],Sheet2!B:B,Sheet2!D:D)","v":"A"}]
["MXPP3LL/A","14290297",749,"iPad Mini (A17 Pro) Wi-Fi + Cellular 128GB - Blue","SNGN2LL/A","MUWA3AM/A or MX2D3AM/A","N/A","iPad Mini (A17 Pro)","Blue","128GB","Yes","No",null,{"$f":"_xlfn.XLOOKUP(Table4[[#This Row],[TDS SKU]],Sheet2!B:B,Sheet2!C:C)","v":"B"},{"$f":"_xlfn.XLOOKUP(Table4[[#This Row],[TDS SKU]],Sheet2!B:B,Sheet2!D:D)","v":"A"}]
["MXPQ3LL/A","14290298",749,"iPad Mini (A17 Pro) Wi-Fi + Cellular 128GB - Starlight","SNGN2LL/A","MUWA3AM/A or MX2D3AM/A","N/A","iPad Mini (A17 Pro)","Starlight","128GB","Yes","No",null,{"$f":"_xlfn.XLOOKUP(Table4[[#This Row],[TDS SKU]],Sheet2!B:B,Sheet2!C:C)","v":"B"},{"$f":"_xlfn.XLOOKUP(Table4[[#This Row],[TDS SKU]],Sheet2!B:B,Sheet2!D:D)","v":"A"}]
["MXPR3LL/A","14290299",749,"iPad Mini (A17 Pro) Wi-Fi + Cellular 128GB - Purple","SNGN2LL/A","MUWA3AM/A or MX2D3AM/A","N/A","iPad Mini (A17 Pro)","Purple","128GB","Yes","No",null,{"$f":"_xlfn.XLOOKUP(Table4[[#This Row],[TDS SKU]],Sheet2!B:B,Sheet2!C:C)","v":"B"},{"$f":"_xlfn.XLOOKUP(Table4[[#This Row],[TDS SKU]],Sheet2!B:B,Sheet2!D:D)","v":"A"}]
["MXPT3LL/A","14290300",849,"iPad Mini (A17 Pro) Wi-Fi + Cellular 256GB - Space Gray","SNGN2LL/A","MUWA3AM/A or MX2D3AM/A","N/A","iPad Mini (A17 Pro)","Space Gray","256GB","Yes","No",null,{"$f":"_xlfn.XLOOKUP(Table4[[#This Row],[TDS SKU]],Sheet2!B:B,Sheet2!C:C)","v":"A"},{"$f":"_xlfn.XLOOKUP(Table4[[#This Row],[TDS SKU]],Sheet2!B:B,Sheet2!D:D)","v":"A"}]
["MXPW3LL/A","14290301",849,"iPad Mini (A17 Pro) Wi-Fi + Cellular 256GB - Blue","SNGN2LL/A","MUWA3AM/A or MX2D3AM/A","N/A","iPad Mini (A17 Pro)","Blue","256GB","Yes","No",null,{"$f":"_xlfn.XLOOKUP(Table4[[#This Row],[TDS SKU]],Sheet2!B:B,Sheet2!C:C)","v":"B"},{"$f":"_xlfn.XLOOKUP(Table4[[#This Row],[TDS SKU]],Sheet2!B:B,Sheet2!D:D)","v":"A"}]
["MXPX3LL/A","14290302",849,"iPad Mini (A17 Pro) Wi-Fi + Cellular 256GB - Starlight","SNGN2LL/A","MUWA3AM/A or MX2D3AM/A","N/A","iPad Mini (A17 Pro)","Starlight","256GB","Yes","No",null,{"$f":"_xlfn.XLOOKUP(Table4[[#This Row],[TDS SKU]],Sheet2!B:B,Sheet2!C:C)","v":"B"},{"$f":"_xlfn.XLOOKUP(Table4[[#This Row],[TDS SKU]],Sheet2!B:B,Sheet2!D:D)","v":"A"}]
["MXPY3LL/A","14290303",849,"iPad Mini (A17 Pro) Wi-Fi + Cellular 256GB - Purple","SNGN2LL/A","MUWA3AM/A or MX2D3AM/A","N/A","iPad Mini (A17 Pro)","Purple","256GB","Yes","No",null,{"$f":"_xlfn.XLOOKUP(Table4[[#This Row],[TDS SKU]],Sheet2!B:B,Sheet2!C:C)","v":"B"},{"$f":"_xlfn.XLOOKUP(Table4[[#This Row],[TDS SKU]],Sheet2!B:B,Sheet2!D:D)","v":"A"}]
["MYGY3LL/A","14290304",899,"iPad Mini (A17 Pro) Wi-Fi 512GB - Space Gray","SNGN2LL/A","MUWA3AM/A or MX2D3AM/A","N/A","iPad Mini (A17 Pro)","Space Gray","512GB","No","No",null,{"$f":"_xlfn.XLOOKUP(Table4[[#This Row],[TDS SKU]],Sheet2!B:B,Sheet2!C:C)","v":"B"},{"$f":"_xlfn.XLOOKUP(Table4[[#This Row],[TDS SKU]],Sheet2!B:B,Sheet2!D:D)","v":"A"}]
["MYH13LL/A","14290305",899,"iPad Mini (A17 Pro) Wi-Fi 512GB - Blue","SNGN2LL/A","MUWA3AM/A or MX2D3AM/A","N/A","iPad Mini (A17 Pro)","Blue","512GB","No","No",null,{"$f":"_xlfn.XLOOKUP(Table4[[#This Row],[TDS SKU]],Sheet2!B:B,Sheet2!C:C)","v":"B"},{"$f":"_xlfn.XLOOKUP(Table4[[#This Row],[TDS SKU]],Sheet2!B:B,Sheet2!D:D)","v":"A"}]
["MYH23LL/A","14290306",899,"iPad Mini (A17 Pro) Wi-Fi 512GB - Starlight","SNGN2LL/A","MUWA3AM/A or MX2D3AM/A","N/A","iPad Mini (A17 Pro)","Starlight","512GB","No","No",null,{"$f":"_xlfn.XLOOKUP(Table4[[#This Row],[TDS SKU]],Sheet2!B:B,Sheet2!C:C)","v":"B"},{"$f":"_xlfn.XLOOKUP(Table4[[#This Row],[TDS SKU]],Sheet2!B:B,Sheet2!D:D)","v":"A"}]
["MYH33LL/A","14290307",899,"iPad Mini (A17 Pro) Wi-Fi 512GB - Purple","SNGN2LL/A","MUWA3AM/A or MX2D3AM/A","N/A","iPad Mini (A17 Pro)","Purple","512GB","No","No",null,{"$f":"_xlfn.XLOOKUP(Table4[[#This Row],[TDS SKU]],Sheet2!B:B,Sheet2!C:C)","v":"B"},{"$f":"_xlfn.XLOOKUP(Table4[[#This Row],[TDS SKU]],Sheet2!B:B,Sheet2!D:D)","v":"A"}]
["MYHC3LL/A","14290308",1049,"iPad Mini (A17 Pro) Wi-Fi + Cellular 512GB - Space Gray","SNGN2LL/A","MUWA3AM/A or MX2D3AM/A","N/A","iPad Mini (A17 Pro)","Space Gray","512GB","Yes","No",null,{"$f":"_xlfn.XLOOKUP(Table4[[#This Row],[TDS SKU]],Sheet2!B:B,Sheet2!C:C)","v":"B"},{"$f":"_xlfn.XLOOKUP(Table4[[#This Row],[TDS SKU]],Sheet2!B:B,Sheet2!D:D)","v":"A"}]
["MYHD3LL/A","14290309",1049,"iPad Mini (A17 Pro) Wi-Fi + Cellular 512GB - Blue","SNGN2LL/A","MUWA3AM/A or MX2D3AM/A","N/A","iPad Mini (A17 Pro)","Blue","512GB","Yes","No",null,{"$f":"_xlfn.XLOOKUP(Table4[[#This Row],[TDS SKU]],Sheet2!B:B,Sheet2!C:C)","v":"B"},{"$f":"_xlfn.XLOOKUP(Table4[[#This Row],[TDS SKU]],Sheet2!B:B,Sheet2!D:D)","v":"A"}]
["MYHE3LL/A","14290310",1049,"iPad Mini (A17 Pro) Wi-Fi + Cellular 512GB - Starlight","SNGN2LL/A","MUWA3AM/A or MX2D3AM/A","N/A","iPad Mini (A17 Pro)","Starlight","512GB","Yes","No",null,{"$f":"_xlfn.XLOOKUP(Table4[[#This Row],[TDS SKU]],Sheet2!B:B,Sheet2!C:C)","v":"B"},{"$f":"_xlfn.XLOOKUP(Table4[[#This Row],[TDS SKU]],Sheet2!B:B,Sheet2!D:D)","v":"A"}]
["MYHF3LL/A","14290311",1049,"iPad Mini (A17 Pro) Wi-Fi + Cellular 512GB - Purple","SNGN2LL/A","MUWA3AM/A or MX2D3AM/A","N/A","iPad Mini (A17 Pro)","Purple","512GB","Yes","No",null,{"$f":"_xlfn.XLOOKUP(Table4[[#This Row],[TDS SKU]],Sheet2!B:B,Sheet2!C:C)","v":"B"},{"$f":"_xlfn.XLOOKUP(Table4[[#This Row],[TDS SKU]],Sheet2!B:B,Sheet2!D:D)","v":"A"}]
["MD3Y4LL/A","14569093",449,"iPad (A16) Wi-Fi 128GB - Silver","SUYD2LL/A","MUWA3AM/A or MYQW3AM/A","MQDP3LL/A","iPad (A16)","Silver","128GB","No","No",null,{"$f":"_xlfn.XLOOKUP(Table4[[#This Row],[TDS SKU]],Sheet2!B:B,Sheet2!C:C)","v":"A"},{"$f":"_xlfn.XLOOKUP(Table4[[#This Row],[TDS SKU]],Sheet2!B:B,Sheet2!D:D)","v":"A"}]
["MD4A4LL/A","14569094",449,"iPad (A16) Wi-Fi 128GB - Blue","SUYD2LL/A","MUWA3AM/A or MYQW3AM/A","MQDP3LL/A","iPad (A16)","Blue","128GB","No","No",null,{"$f":"_xlfn.XLOOKUP(Table4[[#This Row],[TDS SKU]],Sheet2!B:B,Sheet2!C:C)","v":"A"},{"$f":"_xlfn.XLOOKUP(Table4[[#This Row],[TDS SKU]],Sheet2!B:B,Sheet2!D:D)","v":"A"}]
["MD4D4LL/A","14569095",449,"iPad (A16) Wi-Fi 128GB - Yellow","SUYD2LL/A","MUWA3AM/A or MYQW3AM/A","MQDP3LL/A","iPad (A16)","Yellow","128GB","No","No",null,{"$f":"_xlfn.XLOOKUP(Table4[[#This Row],[TDS SKU]],Sheet2!B:B,Sheet2!C:C)","v":"A"},{"$f":"_xlfn.XLOOKUP(Table4[[#This Row],[TDS SKU]],Sheet2!B:B,Sheet2!D:D)","v":"A"}]
["MD4E4LL/A","14569096",449,"iPad (A16) Wi-Fi 128GB - Pink","SUYD2LL/A","MUWA3AM/A or MYQW3AM/A","MQDP3LL/A","iPad (A16)","Pink","128GB","No","No",null,{"$f":"_xlfn.XLOOKUP(Table4[[#This Row],[TDS SKU]],Sheet2!B:B,Sheet2!C:C)","v":"A"},{"$f":"_xlfn.XLOOKUP(Table4[[#This Row],[TDS SKU]],Sheet2!B:B,Sheet2!D:D)","v":"A"}]
["MD4G4LL/A","14569097",549,"iPad (A16) Wi-Fi 256GB - Silver","SUYD2LL/A","MUWA3AM/A or MYQW3AM/A","MQDP3LL/A","iPad (A16)","Silver","256GB","No","No",null,{"$f":"_xlfn.XLOOKUP(Table4[[#This Row],[TDS SKU]],Sheet2!B:B,Sheet2!C:C)","v":"A"},{"$f":"_xlfn.XLOOKUP(Table4[[#This Row],[TDS SKU]],Sheet2!B:B,Sheet2!D:D)","v":"A"}]
["MD4H4LL/A","14569098",549,"iPad (A16) Wi-Fi 256GB - Blue","SUYD2LL/A","MUWA3AM/A or MYQW3AM/A","MQDP3LL/A","iPad (A16)","Blue","256GB","No","No",null,{"$f":"_xlfn.XLOOKUP(Table4[[#This Row],[TDS SKU]],Sheet2!B:B,Sheet2!C:C)","v":"A"},{"$f":"_xlfn.XLOOKUP(Table4[[#This Row],[TDS SKU]],Sheet2!B:B,Sheet2!D:D)","v":"A"}]
["MD4J4LL/A","14569212",549,"iPad (A16) Wi-Fi 256GB - Yellow","SUYD2LL/A","MUWA3AM/A or MYQW3AM/A","MQDP3LL/A","iPad (A16)","Yellow","256GB","No","No",null,{"$f":"_xlfn.XLOOKUP(Table4[[#This Row],[TDS SKU]],Sheet2!B:B,Sheet2!C:C)","v":"A"},{"$f":"_xlfn.XLOOKUP(Table4[[#This Row],[TDS SKU]],Sheet2!B:B,Sheet2!D:D)","v":"A"}]
["MD4P4LL/A","14569109",549,"iPad (A16) Wi-Fi 256GB - Pink","SUYD2LL/A","MUWA3AM/A or MYQW3AM/A","MQDP3LL/A","iPad (A16)","Pink","256GB","No","No",null,{"$f":"_xlfn.XLOOKUP(Table4[[#This Row],[TDS SKU]],Sheet2!B:B,Sheet2!C:C)","v":"A"},{"$f":"_xlfn.XLOOKUP(Table4[[#This Row],[TDS SKU]],Sheet2!B:B,Sheet2!D:D)","v":"A"}]
["MD4Q4LL/A","14569110",749,"iPad (A16) Wi-Fi 512GB - Silver","SUYD2LL/A","MUWA3AM/A or MYQW3AM/A","MQDP3LL/A","iPad (A16)","Silver","512GB","No","No",null,{"$f":"_xlfn.XLOOKUP(Table4[[#This Row],[TDS SKU]],Sheet2!B:B,Sheet2!C:C)","v":"A"},{"$f":"_xlfn.XLOOKUP(Table4[[#This Row],[TDS SKU]],Sheet2!B:B,Sheet2!D:D)","v":"A"}]
["MD4Y4LL/A","14569111",749,"iPad (A16) Wi-Fi 512GB - Blue","SUYD2LL/A","MUWA3AM/A or MYQW3AM/A","MQDP3LL/A","iPad (A16)","Blue","512GB","No","No",null,{"$f":"_xlfn.XLOOKUP(Table4[[#This Row],[TDS SKU]],Sheet2!B:B,Sheet2!C:C)","v":"B"},{"$f":"_xlfn.XLOOKUP(Table4[[#This Row],[TDS SKU]],Sheet2!B:B,Sheet2!D:D)","v":"A"}]
["MD5A4LL/A","14569112",749,"iPad (A16) Wi-Fi 512GB - Yellow","SUYD2LL/A","MUWA3AM/A or MYQW3AM/A","MQDP3LL/A","iPad (A16)","Yellow","512GB","No","No",null,{"$f":"_xlfn.XLOOKUP(Table4[[#This Row],[TDS SKU]],Sheet2!B:B,Sheet2!C:C)","v":"B"},{"$f":"_xlfn.XLOOKUP(Table4[[#This Row],[TDS SKU]],Sheet2!B:B,Sheet2!D:D)","v":"A"}]
["MD5C4LL/A","14569113",749,"iPad (A16) Wi-Fi 512GB - Pink","SUYD2LL/A","MUWA3AM/A or MYQW3AM/A","MQDP3LL/A","iPad (A16)","Pink","512GB","No","No",null,{"$f":"_xlfn.XLOOKUP(Table4[[#This Row],[TDS SKU]],Sheet2!B:B,Sheet2!C:C)","v":"B"},{"$f":"_xlfn.XLOOKUP(Table4[[#This Row],[TDS SKU]],Sheet2!B:B,Sheet2!D:D)","v":"A"}]
["MD7F4LL/A","14569114",599,"iPad (A16) Wi-Fi + Cellular 128GB - Silver","SUYD2LL/A","MUWA3AM/A or MYQW3AM/A","MQDP3LL/A","iPad (A16)","Silver","128GB","Yes","No",null,{"$f":"_xlfn.XLOOKUP(Table4[[#This Row],[TDS SKU]],Sheet2!B:B,Sheet2!C:C)","v":"A"},{"$f":"_xlfn.XLOOKUP(Table4[[#This Row],[TDS SKU]],Sheet2!B:B,Sheet2!D:D)","v":"A"}]
["MD7G4LL/A","14569115",599,"iPad (A16) Wi-Fi + Cellular 128GB - Blue","SUYD2LL/A","MUWA3AM/A or MYQW3AM/A","MQDP3LL/A","iPad (A16)","Blue","128GB","Yes","No",null,{"$f":"_xlfn.XLOOKUP(Table4[[#This Row],[TDS SKU]],Sheet2!B:B,Sheet2!C:C)","v":"A"},{"$f":"_xlfn.XLOOKUP(Table4[[#This Row],[TDS SKU]],Sheet2!B:B,Sheet2!D:D)","v":"A"}]
["MD7H4LL/A","14569116",599,"iPad (A16) Wi-Fi + Cellular 128GB - Yellow","SUYD2LL/A","MUWA3AM/A or MYQW3AM/A","MQDP3LL/A","iPad (A16)","Yellow","128GB","Yes","No",null,{"$f":"_xlfn.XLOOKUP(Table4[[#This Row],[TDS SKU]],Sheet2!B:B,Sheet2!C:C)","v":"B"},{"$f":"_xlfn.XLOOKUP(Table4[[#This Row],[TDS SKU]],Sheet2!B:B,Sheet2!D:D)","v":"A"}]
["MD7J4LL/A","14569117",599,"iPad (A16) Wi-Fi + Cellular 128GB - Pink","SUYD2LL/A","MUWA3AM/A or MYQW3AM/A","MQDP3LL/A","iPad (A16)","Pink","128GB","Yes","No",null,{"$f":"_xlfn.XLOOKUP(Table4[[#This Row],[TDS SKU]],Sheet2!B:B,Sheet2!C:C)","v":"B"},{"$f":"_xlfn.XLOOKUP(Table4[[#This Row],[TDS SKU]],Sheet2!B:B,Sheet2!D:D)","v":"A"}]
["MD7K4LL/A","14569118",699,"iPad (A16) Wi-Fi + Cellular 256GB - Silver","SUYD2LL/A","MUWA3AM/A or MYQW3AM/A","MQDP3LL/A","iPad (A16)","Silver","256GB","Yes","No",null,{"$f":"_xlfn.XLOOKUP(Table4[[#This Row],[TDS SKU]],Sheet2!B:B,Sheet2!C:C)","v":"A"},{"$f":"_xlfn.XLOOKUP(Table4[[#This Row],[TDS SKU]],Sheet2!B:B,Sheet2!D:D)","v":"A"}]
["MD7L4LL/A","14569099",699,"iPad (A16) Wi-Fi + Cellular 256GB - Blue","SUYD2LL/A","MUWA3AM/A or MYQW3AM/A","MQDP3LL/A","iPad (A16)","Blue","256GB","Yes","No",null,{"$f":"_xlfn.XLOOKUP(Table4[[#This Row],[TDS SKU]],Sheet2!B:B,Sheet2!C:C)","v":"A"},{"$f":"_xlfn.XLOOKUP(Table4[[#This Row],[TDS SKU]],Sheet2!B:B,Sheet2!D:D)","v":"A"}]
["MD7M4LL/A","14569100",699,"iPad (A16) Wi-Fi + Cellular 256GB - Yellow","SUYD2LL/A","MUWA3AM/A or MYQW3AM/A","MQDP3LL/A","iPad (A16)","Yellow","256GB","Yes","No",null,{"$f":"_xlfn.XLOOKUP(Table4[[#This Row],[TDS SKU]],Sheet2!B:B,Sheet2!C:C)","v":"B"},{"$f":"_xlfn.XLOOKUP(Table4[[#This Row],[TDS SKU]],Sheet2!B:B,Sheet2!D:D)","v":"A"}]
["MD7N4LL/A","14569101",699,"iPad (A16) Wi-Fi + Cellular 256GB - Pink","SUYD2LL/A","MUWA3AM/A or MYQW3AM/A","MQDP3LL/A","iPad (A16)","Pink","256GB","Yes","No",null,{"$f":"_xlfn.XLOOKUP(Table4[[#This Row],[TDS SKU]],Sheet2!B:B,Sheet2!C:C)","v":"B"},{"$f":"_xlfn.XLOOKUP(Table4[[#This Row],[TDS SKU]],Sheet2!B:B,Sheet2!D:D)","v":"A"}]
["MD7P4LL/A","14569102",899,"iPad (A16) Wi-Fi + Cellular 512GB - Silver","SUYD2LL/A","MUWA3AM/A or MYQW3AM/A","MQDP3LL/A","iPad (A16)","Silver","512GB","Yes","No",null,{"$f":"_xlfn.XLOOKUP(Table4[[#This Row],[TDS SKU]],Sheet2!B:B,Sheet2!C:C)","v":"B"},{"$f":"_xlfn.XLOOKUP(Table4[[#This Row],[TDS SKU]],Sheet2!B:B,Sheet2!D:D)","v":"A"}]
["MD7Q4LL/A","14569103",899,"iPad (A16) Wi-Fi + Cellular 512GB - Blue","SUYD2LL/A","MUWA3AM/A or MYQW3AM/A","MQDP3LL/A","iPad (A16)","Blue","512GB","Yes","No",null,{"$f":"_xlfn.XLOOKUP(Table4[[#This Row],[TDS SKU]],Sheet2!B:B,Sheet2!C:C)","v":"B"},{"$f":"_xlfn.XLOOKUP(Table4[[#This Row],[TDS SKU]],Sheet2!B:B,Sheet2!D:D)","v":"A"}]
["MD7R4LL/A","14569104",899,"iPad (A16) Wi-Fi + Cellular 512GB - Yellow","SUYD2LL/A","MUWA3AM/A or MYQW3AM/A","MQDP3LL/A","iPad (A16)","Yellow","512GB","Yes","No",null,{"$f":"_xlfn.XLOOKUP(Table4[[#This Row],[TDS SKU]],Sheet2!B:B,Sheet2!C:C)","v":"B"},{"$f":"_xlfn.XLOOKUP(Table4[[#This Row],[TDS SKU]],Sheet2!B:B,Sheet2!D:D)","v":"A"}]
["MD7T4LL/A","14569105",899,"iPad (A16) Wi-Fi + Cellular 512GB - Pink","SUYD2LL/A","MUWA3AM/A or MYQW3AM/A","MQDP3LL/A","iPad (A16)","Pink","512GB","Yes","No",null,{"$f":"_xlfn.XLOOKUP(Table4[[#This Row],[TDS SKU]],Sheet2!B:B,Sheet2!C:C)","v":"B"},{"$f":"_xlfn.XLOOKUP(Table4[[#This Row],[TDS SKU]],Sheet2!B:B,Sheet2!D:D)","v":"A"}]
["MDWK4LL/A","15098124",1199,"11-inch iPad Pro (M5) Wi‑Fi 256GB with standard glass - Space Black","SXT02LL/A","MUWA3AM/A or MX2D3AM/A","MWR03LL/A or MWR23LL/A","iPad Pro 11 (M5)","Space Black","256GB","No","No",null,{"$f":"_xlfn.XLOOKUP(Table4[[#This Row],[TDS SKU]],Sheet2!B:B,Sheet2!C:C)","v":"A"},{"$f":"_xlfn.XLOOKUP(Table4[[#This Row],[TDS SKU]],Sheet2!B:B,Sheet2!D:D)","v":"A"}]
["MDWL4LL/A","15098125",1199,"11-inch iPad Pro (M5) Wi‑Fi 256GB with standard glass - Silver","SXT02LL/A","MUWA3AM/A or MX2D3AM/A","MWR03LL/A or MWR23LL/A","iPad Pro 11 (M5)","Silver","256GB","No","No",null,{"$f":"_xlfn.XLOOKUP(Table4[[#This Row],[TDS SKU]],Sheet2!B:B,Sheet2!C:C)","v":"A"},{"$f":"_xlfn.XLOOKUP(Table4[[#This Row],[TDS SKU]],Sheet2!B:B,Sheet2!D:D)","v":"A"}]
["MDWM4LL/A","15098126",1399,"11-inch iPad Pro (M5) Wi‑Fi 512GB with standard glass - Space Black","SXT02LL/A","MUWA3AM/A or MX2D3AM/A","MWR03LL/A or MWR23LL/A","iPad Pro 11 (M5)","Space Black","512GB","No","No",null,{"$f":"_xlfn.XLOOKUP(Table4[[#This Row],[TDS SKU]],Sheet2!B:B,Sheet2!C:C)","v":"A"},{"$f":"_xlfn.XLOOKUP(Table4[[#This Row],[TDS SKU]],Sheet2!B:B,Sheet2!D:D)","v":"A"}]
["MDWN4LL/A","15098127",1399,"11-inch iPad Pro (M5) Wi‑Fi 512GB with standard glass - Silver","SXT02LL/A","MUWA3AM/A or MX2D3AM/A","MWR03LL/A or MWR23LL/A","iPad Pro 11 (M5)","Silver","512GB","No","No",null,{"$f":"_xlfn.XLOOKUP(Table4[[#This Row],[TDS SKU]],Sheet2!B:B,Sheet2!C:C)","v":"B"},{"$f":"_xlfn.XLOOKUP(Table4[[#This Row],[TDS SKU]],Sheet2!B:B,Sheet2!D:D)","v":"A"}]
["MDWP4LL/A","15098128",1799,"11-inch iPad Pro (M5) Wi‑Fi 1TB with standard glass - Space Black","SXT02LL/A","MUWA3AM/A or MX2D3AM/A","MWR03LL/A or MWR23LL/A","iPad Pro 11 (M5)","Space Black","1TB","No","No",null,{"$f":"_xlfn.XLOOKUP(Table4[[#This Row],[TDS SKU]],Sheet2!B:B,Sheet2!C:C)","v":"B"},{"$f":"_xlfn.XLOOKUP(Table4[[#This Row],[TDS SKU]],Sheet2!B:B,Sheet2!D:D)","v":"A"}]
["MDWQ4LL/A","15098129",1799,"11-inch iPad Pro (M5) Wi‑Fi 1TB with standard glass - Silver","SXT02LL/A","MUWA3AM/A or MX2D3AM/A","MWR03LL/A or MWR23LL/A","iPad Pro 11 (M5)","Silver","1TB","No","No",null,{"$f":"_xlfn.XLOOKUP(Table4[[#This Row],[TDS SKU]],Sheet2!B:B,Sheet2!C:C)","v":"B"},{"$f":"_xlfn.XLOOKUP(Table4[[#This Row],[TDS SKU]],Sheet2!B:B,Sheet2!D:D)","v":"A"}]
["MDWR4LL/A","15098130",1899,"11-inch iPad Pro (M5) Wi‑Fi 1TB with nano-texture glass - Space Black","SXT02LL/A","MUWA3AM/A or MX2D3AM/A","MWR03LL/A or MWR23LL/A","iPad Pro 11 (M5)","Space Black","1TB","No","Yes",null,{"$f":"_xlfn.XLOOKUP(Table4[[#This Row],[TDS SKU]],Sheet2!B:B,Sheet2!C:C)","v":"B"},{"$f":"_xlfn.XLOOKUP(Table4[[#This Row],[TDS SKU]],Sheet2!B:B,Sheet2!D:D)","v":"A"}]
["MDWT4LL/A","15098131",1899,"11-inch iPad Pro (M5) Wi‑Fi 1TB with nano-texture glass - Silver","SXT02LL/A","MUWA3AM/A or MX2D3AM/A","MWR03LL/A or MWR23LL/A","iPad Pro 11 (M5)","Silver","1TB","No","Yes",null,{"$f":"_xlfn.XLOOKUP(Table4[[#This Row],[TDS SKU]],Sheet2!B:B,Sheet2!C:C)","v":"B"},{"$f":"_xlfn.XLOOKUP(Table4[[#This Row],[TDS SKU]],Sheet2!B:B,Sheet2!D:D)","v":"A"}]
["MDWU4LL/A","15098132",2299,"11-inch iPad Pro (M5) Wi‑Fi 2TB with standard glass - Space Black","SXT02LL/A","MUWA3AM/A or MX2D3AM/A","MWR03LL/A or MWR23LL/A","iPad Pro 11 (M5)","Space Black","2TB","No","No",null,{"$f":"_xlfn.XLOOKUP(Table4[[#This Row],[TDS SKU]],Sheet2!B:B,Sheet2!C:C)","v":"B"},{"$f":"_xlfn.XLOOKUP(Table4[[#This Row],[TDS SKU]],Sheet2!B:B,Sheet2!D:D)","v":"A"}]
["MDWV4LL/A","15098133",2299,"11-inch iPad Pro (M5) Wi‑Fi 2TB with standard glass - Silver","SXT02LL/A","MUWA3AM/A or MX2D3AM/A","MWR03LL/A or MWR23LL/A","iPad Pro 11 (M5)","Silver","2TB","No","No",null,{"$f":"_xlfn.XLOOKUP(Table4[[#This Row],[TDS SKU]],Sheet2!B:B,Sheet2!C:C)","v":"B"},{"$f":"_xlfn.XLOOKUP(Table4[[#This Row],[TDS SKU]],Sheet2!B:B,Sheet2!D:D)","v":"A"}]
["MDWW4LL/A","15098134",2399,"11-inch iPad Pro (M5) Wi‑Fi 2TB with nano-texture glass - Space Black","SXT02LL/A","MUWA3AM/A or MX2D3AM/A","MWR03LL/A or MWR23LL/A","iPad Pro 11 (M5)","Space Black","2TB","No","Yes",null,{"$f":"_xlfn.XLOOKUP(Table4[[#This Row],[TDS SKU]],Sheet2!B:B,Sheet2!C:C)","v":"B"},{"$f":"_xlfn.XLOOKUP(Table4[[#This Row],[TDS SKU]],Sheet2!B:B,Sheet2!D:D)","v":"A"}]
["MDWX4LL/A","15098135",2399,"11-inch iPad Pro (M5) Wi‑Fi 2TB with nano-texture glass - Silver","SXT02LL/A","MUWA3AM/A or MX2D3AM/A","MWR03LL/A or MWR23LL/A","iPad Pro 11 (M5)","Silver","2TB","No","Yes",null,{"$f":"_xlfn.XLOOKUP(Table4[[#This Row],[TDS SKU]],Sheet2!B:B,Sheet2!C:C)","v":"B"},{"$f":"_xlfn.XLOOKUP(Table4[[#This Row],[TDS SKU]],Sheet2!B:B,Sheet2!D:D)","v":"A"}]
["MDYJ4LL/A","15098136",1499,"13-inch iPad Pro (M5) Wi‑Fi 256GB with standard glass - Space Black","SXT12LL/A","MUWA3AM/A or MX2D3AM/A","MWR43LL/A or MWR53LL/A","iPad Pro 13 (M5)","Space Black","256GB","No","No",null,{"$f":"_xlfn.XLOOKUP(Table4[[#This Row],[TDS SKU]],Sheet2!B:B,Sheet2!C:C)","v":"A"},{"$f":"_xlfn.XLOOKUP(Table4[[#This Row],[TDS SKU]],Sheet2!B:B,Sheet2!D:D)","v":"A"}]
["MDYK4LL/A","15098137",1499,"13-inch iPad Pro (M5) Wi‑Fi 256GB with standard glass - Silver","SXT12LL/A","MUWA3AM/A or MX2D3AM/A","MWR43LL/A or MWR53LL/A","iPad Pro 13 (M5)","Silver","256GB","No","No",null,{"$f":"_xlfn.XLOOKUP(Table4[[#This Row],[TDS SKU]],Sheet2!B:B,Sheet2!C:C)","v":"A"},{"$f":"_xlfn.XLOOKUP(Table4[[#This Row],[TDS SKU]],Sheet2!B:B,Sheet2!D:D)","v":"A"}]
["MDYL4LL/A","15098138",1699,"13-inch iPad Pro (M5) Wi‑Fi 512GB with standard glass - Space Black","SXT12LL/A","MUWA3AM/A or MX2D3AM/A","MWR43LL/A or MWR53LL/A","iPad Pro 13 (M5)","Space Black","512GB","No","No",null,{"$f":"_xlfn.XLOOKUP(Table4[[#This Row],[TDS SKU]],Sheet2!B:B,Sheet2!C:C)","v":"A"},{"$f":"_xlfn.XLOOKUP(Table4[[#This Row],[TDS SKU]],Sheet2!B:B,Sheet2!D:D)","v":"A"}]
["MDYM4LL/A","15098139",1699,"13-inch iPad Pro (M5) Wi‑Fi 512GB with standard glass - Silver","SXT12LL/A","MUWA3AM/A or MX2D3AM/A","MWR43LL/A or MWR53LL/A","iPad Pro 13 (M5)","Silver","512GB","No","No",null,{"$f":"_xlfn.XLOOKUP(Table4[[#This Row],[TDS SKU]],Sheet2!B:B,Sheet2!C:C)","v":"A"},{"$f":"_xlfn.XLOOKUP(Table4[[#This Row],[TDS SKU]],Sheet2!B:B,Sheet2!D:D)","v":"A"}]
["MDYN4LL/A","15098140",2099,"13-inch iPad Pro (M5) Wi‑Fi 1TB with standard glass - Space Black","SXT12LL/A","MUWA3AM/A or MX2D3AM/A","MWR43LL/A or MWR53LL/A","iPad Pro 13 (M5)","Space Black","1TB","No","No",null,{"$f":"_xlfn.XLOOKUP(Table4[[#This Row],[TDS SKU]],Sheet2!B:B,Sheet2!C:C)","v":"B"},{"$f":"_xlfn.XLOOKUP(Table4[[#This Row],[TDS SKU]],Sheet2!B:B,Sheet2!D:D)","v":"A"}]
["MDYP4LL/A","15098141",2099,"13-inch iPad Pro (M5) Wi‑Fi 1TB with standard glass - Silver","SXT12LL/A","MUWA3AM/A or MX2D3AM/A","MWR43LL/A or MWR53LL/A","iPad Pro 13 (M5)","Silver","1TB","No","No",null,{"$f":"_xlfn.XLOOKUP(Table4[[#This Row],[TDS SKU]],Sheet2!B:B,Sheet2!C:C)","v":"B"},{"$f":"_xlfn.XLOOKUP(Table4[[#This Row],[TDS SKU]],Sheet2!B:B,Sheet2!D:D)","v":"A"}]
["MDYQ4LL/A","15098142",2199,"13-inch iPad Pro (M5) Wi‑Fi 1TB with nano-texture glass - Space Black","SXT12LL/A","MUWA3AM/A or MX2D3AM/A","MWR43LL/A or MWR53LL/A","iPad Pro 13 (M5)","Space Black","1TB","No","Yes",null,{"$f":"_xlfn.XLOOKUP(Table4[[#This Row],[TDS SKU]],Sheet2!B:B,Sheet2!C:C)","v":"B"},{"$f":"_xlfn.XLOOKUP(Table4[[#This Row],[TDS SKU]],Sheet2!B:B,Sheet2!D:D)","v":"A"}]
["MDYR4LL/A","15098143",2199,"13-inch iPad Pro (M5) Wi‑Fi 1TB with nano-texture glass - Silver","SXT12LL/A","MUWA3AM/A or MX2D3AM/A","MWR43LL/A or MWR53LL/A","iPad Pro 13 (M5)","Silver","1TB","No","Yes",null,{"$f":"_xlfn.XLOOKUP(Table4[[#This Row],[TDS SKU]],Sheet2!B:B,Sheet2!C:C)","v":"B"},{"$f":"_xlfn.XLOOKUP(Table4[[#This Row],[TDS SKU]],Sheet2!B:B,Sheet2!D:D)","v":"A"}]
["MDYT4LL/A","15098144",2599,"13-inch iPad Pro (M5) Wi‑Fi 2TB with standard glass - Space Black","SXT12LL/A","MUWA3AM/A or MX2D3AM/A","MWR43LL/A or MWR53LL/A","iPad Pro 13 (M5)","Space Black","2TB","No","No",null,{"$f":"_xlfn.XLOOKUP(Table4[[#This Row],[TDS SKU]],Sheet2!B:B,Sheet2!C:C)","v":"B"},{"$f":"_xlfn.XLOOKUP(Table4[[#This Row],[TDS SKU]],Sheet2!B:B,Sheet2!D:D)","v":"A"}]
["MDYU4LL/A","15098145",2599,"13-inch iPad Pro (M5) Wi‑Fi 2TB with standard glass - Silver","SXT12LL/A","MUWA3AM/A or MX2D3AM/A","MWR43LL/A or MWR53LL/A","iPad Pro 13 (M5)","Silver","2TB","No","No",null,{"$f":"_xlfn.XLOOKUP(Table4[[#This Row],[TDS SKU]],Sheet2!B:B,Sheet2!C:C)","v":"B"},{"$f":"_xlfn.XLOOKUP(Table4[[#This Row],[TDS SKU]],Sheet2!B:B,Sheet2!D:D)","v":"A"}]
["MDYV4LL/A","15098146",2699,"13-inch iPad Pro (M5) Wi‑Fi 2TB with nano-texture glass - Space Black","SXT12LL/A","MUWA3AM/A or MX2D3AM/A","MWR43LL/A or MWR53LL/A","iPad Pro 13 (M5)","Space Black","2TB","No","Yes",null,{"$f":"_xlfn.XLOOKUP(Table4[[#This Row],[TDS SKU]],Sheet2!B:B,Sheet2!C:C)","v":"B"},{"$f":"_xlfn.XLOOKUP(Table4[[#This Row],[TDS SKU]],Sheet2!B:B,Sheet2!D:D)","v":"A"}]
["MDYW4LL/A","15098147",2699,"13-inch iPad Pro (M5) Wi‑Fi 2TB with nano-texture glass - Silver","SXT12LL/A","MUWA3AM/A or MX2D3AM/A","MWR43LL/A or MWR53LL/A","iPad Pro 13 (M5)","Silver","2TB","No","Yes",null,{"$f":"_xlfn.XLOOKUP(Table4[[#This Row],[TDS SKU]],Sheet2!B:B,Sheet2!C:C)","v":"B"},{"$f":"_xlfn.XLOOKUP(Table4[[#This Row],[TDS SKU]],Sheet2!B:B,Sheet2!D:D)","v":"A"}]
["ME2N4LL/A","15098175",1399,"11-inch iPad Pro (M5) Wi‑Fi + Cellular 256GB with standard glass - Space Black","SXT02LL/A","MUWA3AM/A or MX2D3AM/A","MWR03LL/A or MWR23LL/A","iPad Pro 11 (M5)","Space Black","256GB","Yes","No",null,{"$f":"_xlfn.XLOOKUP(Table4[[#This Row],[TDS SKU]],Sheet2!B:B,Sheet2!C:C)","v":"A"},{"$f":"_xlfn.XLOOKUP(Table4[[#This Row],[TDS SKU]],Sheet2!B:B,Sheet2!D:D)","v":"A"}]
["ME2P4LL/A","15098176",1399,"11-inch iPad Pro (M5) Wi‑Fi + Cellular 256GB with standard glass - Silver","SXT02LL/A","MUWA3AM/A or MX2D3AM/A","MWR03LL/A or MWR23LL/A","iPad Pro 11 (M5)","Silver","256GB","Yes","No",null,{"$f":"_xlfn.XLOOKUP(Table4[[#This Row],[TDS SKU]],Sheet2!B:B,Sheet2!C:C)","v":"B"},{"$f":"_xlfn.XLOOKUP(Table4[[#This Row],[TDS SKU]],Sheet2!B:B,Sheet2!D:D)","v":"A"}]
["ME2Q4LL/A","15098177",1599,"11-inch iPad Pro (M5) Wi‑Fi + Cellular 512GB with standard glass - Space Black","SXT02LL/A","MUWA3AM/A or MX2D3AM/A","MWR03LL/A or MWR23LL/A","iPad Pro 11 (M5)","Space Black","512GB","Yes","No",null,{"$f":"_xlfn.XLOOKUP(Table4[[#This Row],[TDS SKU]],Sheet2!B:B,Sheet2!C:C)","v":"A"},{"$f":"_xlfn.XLOOKUP(Table4[[#This Row],[TDS SKU]],Sheet2!B:B,Sheet2!D:D)","v":"A"}]
["ME2T4LL/A","15098178",1599,"11-inch iPad Pro (M5) Wi‑Fi + Cellular 512GB with standard glass - Silver","SXT02LL/A","MUWA3AM/A or MX2D3AM/A","MWR03LL/A or MWR23LL/A","iPad Pro 11 (M5)","Silver","512GB","Yes","No",null,{"$f":"_xlfn.XLOOKUP(Table4[[#This Row],[TDS SKU]],Sheet2!B:B,Sheet2!C:C)","v":"B"},{"$f":"_xlfn.XLOOKUP(Table4[[#This Row],[TDS SKU]],Sheet2!B:B,Sheet2!D:D)","v":"A"}]
["ME2U4LL/A","15098179",1999,"11-inch iPad Pro (M5) Wi‑Fi + Cellular 1TB with standard glass - Space Black","SXT02LL/A","MUWA3AM/A or MX2D3AM/A","MWR03LL/A or MWR23LL/A","iPad Pro 11 (M5)","Space Black","1TB","Yes","No",null,{"$f":"_xlfn.XLOOKUP(Table4[[#This Row],[TDS SKU]],Sheet2!B:B,Sheet2!C:C)","v":"B"},{"$f":"_xlfn.XLOOKUP(Table4[[#This Row],[TDS SKU]],Sheet2!B:B,Sheet2!D:D)","v":"A"}]
["ME2V4LL/A","15098180",1999,"11-inch iPad Pro (M5) Wi‑Fi + Cellular 1TB with standard glass - Silver","SXT02LL/A","MUWA3AM/A or MX2D3AM/A","MWR03LL/A or MWR23LL/A","iPad Pro 11 (M5)","Silver","1TB","Yes","No",null,{"$f":"_xlfn.XLOOKUP(Table4[[#This Row],[TDS SKU]],Sheet2!B:B,Sheet2!C:C)","v":"B"},{"$f":"_xlfn.XLOOKUP(Table4[[#This Row],[TDS SKU]],Sheet2!B:B,Sheet2!D:D)","v":"A"}]
["ME2W4LL/A","15098181",2099,"11-inch iPad Pro (M5) Wi‑Fi + Cellular 1TB with nano-texture glass - Space Black","SXT02LL/A","MUWA3AM/A or MX2D3AM/A","MWR03LL/A or MWR23LL/A","iPad Pro 11 (M5)","Space Black","1TB","Yes","Yes",null,{"$f":"_xlfn.XLOOKUP(Table4[[#This Row],[TDS SKU]],Sheet2!B:B,Sheet2!C:C)","v":"B"},{"$f":"_xlfn.XLOOKUP(Table4[[#This Row],[TDS SKU]],Sheet2!B:B,Sheet2!D:D)","v":"A"}]
["ME2X4LL/A","15098182",2099,"11-inch iPad Pro (M5) Wi‑Fi + Cellular 1TB with nano-texture glass - Silver","SXT02LL/A","MUWA3AM/A or MX2D3AM/A","MWR03LL/A or MWR23LL/A","iPad Pro 11 (M5)","Silver","1TB","Yes","Yes",null,{"$f":"_xlfn.XLOOKUP(Table4[[#This Row],[TDS SKU]],Sheet2!B:B,Sheet2!C:C)","v":"B"},{"$f":"_xlfn.XLOOKUP(Table4[[#This Row],[TDS SKU]],Sheet2!B:B,Sheet2!D:D)","v":"A"}]
["ME2Y4LL/A","15098183",2499,"11-inch iPad Pro (M5) Wi‑Fi + Cellular 2TB with standard glass - Space Black","SXT02LL/A","MUWA3AM/A or MX2D3AM/A","MWR03LL/A or MWR23LL/A","iPad Pro 11 (M5)","Space Black","2TB","Yes","No",null,{"$f":"_xlfn.XLOOKUP(Table4[[#This Row],[TDS SKU]],Sheet2!B:B,Sheet2!C:C)","v":"B"},{"$f":"_xlfn.XLOOKUP(Table4[[#This Row],[TDS SKU]],Sheet2!B:B,Sheet2!D:D)","v":"A"}]
["ME6A4LL/A","15098184",2499,"11-inch iPad Pro (M5) Wi‑Fi + Cellular 2TB with standard glass - Silver","SXT02LL/A","MUWA3AM/A or MX2D3AM/A","MWR03LL/A or MWR23LL/A","iPad Pro 11 (M5)","Silver","2TB","Yes","No",null,{"$f":"_xlfn.XLOOKUP(Table4[[#This Row],[TDS SKU]],Sheet2!B:B,Sheet2!C:C)","v":"B"},{"$f":"_xlfn.XLOOKUP(Table4[[#This Row],[TDS SKU]],Sheet2!B:B,Sheet2!D:D)","v":"A"}]
["ME6C4LL/A","15098155",2599,"11-inch iPad Pro (M5) Wi‑Fi + Cellular 2TB with nano-texture glass - Space Black","SXT02LL/A","MUWA3AM/A or MX2D3AM/A","MWR03LL/A or MWR23LL/A","iPad Pro 11 (M5)","Space Black","2TB","Yes","Yes",null,{"$f":"_xlfn.XLOOKUP(Table4[[#This Row],[TDS SKU]],Sheet2!B:B,Sheet2!C:C)","v":"B"},{"$f":"_xlfn.XLOOKUP(Table4[[#This Row],[TDS SKU]],Sheet2!B:B,Sheet2!D:D)","v":"A"}]
["ME6D4LL/A","15098156",2599,"11-inch iPad Pro (M5) Wi‑Fi + Cellular 2TB with nano-texture glass - Silver","SXT02LL/A","MUWA3AM/A or MX2D3AM/A","MWR03LL/A or MWR23LL/A","iPad Pro 11 (M5)","Silver","2TB","Yes","Yes",null,{"$f":"_xlfn.XLOOKUP(Table4[[#This Row],[TDS SKU]],Sheet2!B:B,Sheet2!C:C)","v":"B"},{"$f":"_xlfn.XLOOKUP(Table4[[#This Row],[TDS SKU]],Sheet2!B:B,Sheet2!D:D)","v":"A"}]
["ME7W4LL/A","15098157",1699,"13-inch iPad Pro (M5) Wi‑Fi + Cellular 256GB with standard glass - Space Black","SXT12LL/A","MUWA3AM/A or MX2D3AM/A","MWR43LL/A or MWR53LL/A","iPad Pro 13 (M5)","Space Black","256GB","Yes","No",null,{"$f":"_xlfn.XLOOKUP(Table4[[#This Row],[TDS SKU]],Sheet2!B:B,Sheet2!C:C)","v":"A"},{"$f":"_xlfn.XLOOKUP(Table4[[#This Row],[TDS SKU]],Sheet2!B:B,Sheet2!D:D)","v":"A"}]
["ME7X4LL/A","15098158",1699,"13-inch iPad Pro (M5) Wi‑Fi + Cellular 256GB with standard glass - Silver","SXT12LL/A","MUWA3AM/A or MX2D3AM/A","MWR43LL/A or MWR53LL/A","iPad Pro 13 (M5)","Silver","256GB","Yes","No",null,{"$f":"_xlfn.XLOOKUP(Table4[[#This Row],[TDS SKU]],Sheet2!B:B,Sheet2!C:C)","v":"B"},{"$f":"_xlfn.XLOOKUP(Table4[[#This Row],[TDS SKU]],Sheet2!B:B,Sheet2!D:D)","v":"A"}]
["ME7Y4LL/A","15098159",1899,"13-inch iPad Pro (M5) Wi‑Fi + Cellular 512GB with standard glass - Space Black","SXT12LL/A","MUWA3AM/A or MX2D3AM/A","MWR43LL/A or MWR53LL/A","iPad Pro 13 (M5)","Space Black","512GB","Yes","No",null,{"$f":"_xlfn.XLOOKUP(Table4[[#This Row],[TDS SKU]],Sheet2!B:B,Sheet2!C:C)","v":"B"},{"$f":"_xlfn.XLOOKUP(Table4[[#This Row],[TDS SKU]],Sheet2!B:B,Sheet2!D:D)","v":"A"}]
["ME8C4LL/A","15098160",1899,"13-inch iPad Pro (M5) Wi‑Fi + Cellular 512GB with standard glass - Silver","SXT12LL/A","MUWA3AM/A or MX2D3AM/A","MWR43LL/A or MWR53LL/A","iPad Pro 13 (M5)","Silver","512GB","Yes","No",null,{"$f":"_xlfn.XLOOKUP(Table4[[#This Row],[TDS SKU]],Sheet2!B:B,Sheet2!C:C)","v":"B"},{"$f":"_xlfn.XLOOKUP(Table4[[#This Row],[TDS SKU]],Sheet2!B:B,Sheet2!D:D)","v":"A"}]
["ME8D4LL/A","15098161",2299,"13-inch iPad Pro (M5) Wi‑Fi + Cellular 1TB with standard glass - Space Black","SXT12LL/A","MUWA3AM/A or MX2D3AM/A","MWR43LL/A or MWR53LL/A","iPad Pro 13 (M5)","Space Black","1TB","Yes","No",null,{"$f":"_xlfn.XLOOKUP(Table4[[#This Row],[TDS SKU]],Sheet2!B:B,Sheet2!C:C)","v":"B"},{"$f":"_xlfn.XLOOKUP(Table4[[#This Row],[TDS SKU]],Sheet2!B:B,Sheet2!D:D)","v":"A"}]
["ME8F4LL/A","15098162",2299,"13-inch iPad Pro (M5) Wi‑Fi + Cellular 1TB with standard glass - Silver","SXT12LL/A","MUWA3AM/A or MX2D3AM/A","MWR43LL/A or MWR53LL/A","iPad Pro 13 (M5)","Silver","1TB","Yes","No",null,{"$f":"_xlfn.XLOOKUP(Table4[[#This Row],[TDS SKU]],Sheet2!B:B,Sheet2!C:C)","v":"B"},{"$f":"_xlfn.XLOOKUP(Table4[[#This Row],[TDS SKU]],Sheet2!B:B,Sheet2!D:D)","v":"A"}]
["ME8G4LL/A","15098163",2399,"13-inch iPad Pro (M5) Wi‑Fi + Cellular 1TB with nano-texture glass - Space Black","SXT12LL/A","MUWA3AM/A or MX2D3AM/A","MWR43LL/A or MWR53LL/A","iPad Pro 13 (M5)","Space Black","1TB","Yes","Yes",null,{"$f":"_xlfn.XLOOKUP(Table4[[#This Row],[TDS SKU]],Sheet2!B:B,Sheet2!C:C)","v":"B"},{"$f":"_xlfn.XLOOKUP(Table4[[#This Row],[TDS SKU]],Sheet2!B:B,Sheet2!D:D)","v":"A"}]
["ME8H4LL/A","15098164",2399,"13-inch iPad Pro (M5) Wi‑Fi + Cellular 1TB with nano-texture glass - Silver","SXT12LL/A","MUWA3AM/A or MX2D3AM/A","MWR43LL/A or MWR53LL/A","iPad Pro 13 (M5)","Silver","1TB","Yes","Yes",null,{"$f":"_xlfn.XLOOKUP(Table4[[#This Row],[TDS SKU]],Sheet2!B:B,Sheet2!C:C)","v":"B"},{"$f":"_xlfn.XLOOKUP(Table4[[#This Row],[TDS SKU]],Sheet2!B:B,Sheet2!D:D)","v":"A"}]
["ME8J4LL/A","15098171",2799,"13-inch iPad Pro (M5) Wi‑Fi + Cellular 2TB with standard glass - Space Black","SXT12LL/A","MUWA3AM/A or MX2D3AM/A","MWR43LL/A or MWR53LL/A","iPad Pro 13 (M5)","Space Black","2TB","Yes","No",null,{"$f":"_xlfn.XLOOKUP(Table4[[#This Row],[TDS SKU]],Sheet2!B:B,Sheet2!C:C)","v":"B"},{"$f":"_xlfn.XLOOKUP(Table4[[#This Row],[TDS SKU]],Sheet2!B:B,Sheet2!D:D)","v":"A"}]
["ME8K4LL/A","15098172",2799,"13-inch iPad Pro (M5) Wi‑Fi + Cellular 2TB with standard glass - Silver","SXT12LL/A","MUWA3AM/A or MX2D3AM/A","MWR43LL/A or MWR53LL/A","iPad Pro 13 (M5)","Silver","2TB","Yes","No",null,{"$f":"_xlfn.XLOOKUP(Table4[[#This Row],[TDS SKU]],Sheet2!B:B,Sheet2!C:C)","v":"B"},{"$f":"_xlfn.XLOOKUP(Table4[[#This Row],[TDS SKU]],Sheet2!B:B,Sheet2!D:D)","v":"A"}]
["ME8M4LL/A","15098173",2899,"13-inch iPad Pro (M5) Wi‑Fi + Cellular 2TB with nano-texture glass - Space Black","SXT12LL/A","MUWA3AM/A or MX2D3AM/A","MWR43LL/A or MWR53LL/A","iPad Pro 13 (M5)","Space Black","2TB","Yes","Yes",null,{"$f":"_xlfn.XLOOKUP(Table4[[#This Row],[TDS SKU]],Sheet2!B:B,Sheet2!C:C)","v":"B"},{"$f":"_xlfn.XLOOKUP(Table4[[#This Row],[TDS SKU]],Sheet2!B:B,Sheet2!D:D)","v":"A"}]
["ME8N4LL/A","15098174",2899,"13-inch iPad Pro (M5) Wi‑Fi + Cellular 2TB with nano-texture glass - Silver","SXT12LL/A","MUWA3AM/A or MX2D3AM/A","MWR43LL/A or MWR53LL/A","iPad Pro 13 (M5)","Silver","2TB","Yes","Yes",null,{"$f":"_xlfn.XLOOKUP(Table4[[#This Row],[TDS SKU]],Sheet2!B:B,Sheet2!C:C)","v":"B"},{"$f":"_xlfn.XLOOKUP(Table4[[#This Row],[TDS SKU]],Sheet2!B:B,Sheet2!D:D)","v":"A"}]
["MH304LL/A","15347460",749,"11-inch iPad Air Wi-Fi 128GB - Space Gray","SCV93LL/A","MUWA3AM/A or MX2D3AM/A","MDFV4LL/A or MGYX4LL/A","iPad Air 11 (M4)","Space Gray","128GB","No","No",null,{"$f":"_xlfn.XLOOKUP(Table4[[#This Row],[TDS SKU]],Sheet2!B:B,Sheet2!C:C)","v":"A"},{"$f":"_xlfn.XLOOKUP(Table4[[#This Row],[TDS SKU]],Sheet2!B:B,Sheet2!D:D)","v":"A"}]
["MH314LL/A","15347461",749,"11-inch iPad Air Wi-Fi 128GB - Blue","SCV93LL/A","MUWA3AM/A or MX2D3AM/A","MDFV4LL/A or MGYX4LL/A","iPad Air 11 (M4)","Blue","128GB","No","No",null,{"$f":"_xlfn.XLOOKUP(Table4[[#This Row],[TDS SKU]],Sheet2!B:B,Sheet2!C:C)","v":"A"},{"$f":"_xlfn.XLOOKUP(Table4[[#This Row],[TDS SKU]],Sheet2!B:B,Sheet2!D:D)","v":"A"}]
["MH334LL/A","15347462",749,"11-inch iPad Air Wi-Fi 128GB - Starlight","SCV93LL/A","MUWA3AM/A or MX2D3AM/A","MDFV4LL/A or MGYX4LL/A","iPad Air 11 (M4)","Starlight","128GB","No","No",null,{"$f":"_xlfn.XLOOKUP(Table4[[#This Row],[TDS SKU]],Sheet2!B:B,Sheet2!C:C)","v":"A"},{"$f":"_xlfn.XLOOKUP(Table4[[#This Row],[TDS SKU]],Sheet2!B:B,Sheet2!D:D)","v":"A"}]
["MH344LL/A","15347481",749,"11-inch iPad Air Wi-Fi 128GB - Purple","SCV93LL/A","MUWA3AM/A or MX2D3AM/A","MDFV4LL/A or MGYX4LL/A","iPad Air 11 (M4)","Purple","128GB","No","No",null,{"$f":"_xlfn.XLOOKUP(Table4[[#This Row],[TDS SKU]],Sheet2!B:B,Sheet2!C:C)","v":"A"},{"$f":"_xlfn.XLOOKUP(Table4[[#This Row],[TDS SKU]],Sheet2!B:B,Sheet2!D:D)","v":"A"}]
["MH354LL/A","15347482",849,"11-inch iPad Air Wi-Fi 256GB - Space Gray","SCV93LL/A","MUWA3AM/A or MX2D3AM/A","MDFV4LL/A or MGYX4LL/A","iPad Air 11 (M4)","Space Gray","256GB","No","No",null,{"$f":"_xlfn.XLOOKUP(Table4[[#This Row],[TDS SKU]],Sheet2!B:B,Sheet2!C:C)","v":"A"},{"$f":"_xlfn.XLOOKUP(Table4[[#This Row],[TDS SKU]],Sheet2!B:B,Sheet2!D:D)","v":"A"}]
["MH364LL/A","15347483",849,"11-inch iPad Air Wi-Fi 256GB - Blue","SCV93LL/A","MUWA3AM/A or MX2D3AM/A","MDFV4LL/A or MGYX4LL/A","iPad Air 11 (M4)","Blue","256GB","No","No",null,{"$f":"_xlfn.XLOOKUP(Table4[[#This Row],[TDS SKU]],Sheet2!B:B,Sheet2!C:C)","v":"A"},{"$f":"_xlfn.XLOOKUP(Table4[[#This Row],[TDS SKU]],Sheet2!B:B,Sheet2!D:D)","v":"A"}]
["MH374LL/A","15347484",849,"11-inch iPad Air Wi-Fi 256GB - Starlight","SCV93LL/A","MUWA3AM/A or MX2D3AM/A","MDFV4LL/A or MGYX4LL/A","iPad Air 11 (M4)","Starlight","256GB","No","No",null,{"$f":"_xlfn.XLOOKUP(Table4[[#This Row],[TDS SKU]],Sheet2!B:B,Sheet2!C:C)","v":"A"},{"$f":"_xlfn.XLOOKUP(Table4[[#This Row],[TDS SKU]],Sheet2!B:B,Sheet2!D:D)","v":"A"}]
["MH394LL/A","15347485",849,"11-inch iPad Air Wi-Fi 256GB - Purple","SCV93LL/A","MUWA3AM/A or MX2D3AM/A","MDFV4LL/A or MGYX4LL/A","iPad Air 11 (M4)","Purple","256GB","No","No",null,{"$f":"_xlfn.XLOOKUP(Table4[[#This Row],[TDS SKU]],Sheet2!B:B,Sheet2!C:C)","v":"A"},{"$f":"_xlfn.XLOOKUP(Table4[[#This Row],[TDS SKU]],Sheet2!B:B,Sheet2!D:D)","v":"A"}]
["MH3A4LL/A","15347486",1049,"11-inch iPad Air Wi-Fi 512GB - Space Gray","SCV93LL/A","MUWA3AM/A or MX2D3AM/A","MDFV4LL/A or MGYX4LL/A","iPad Air 11 (M4)","Space Gray","512GB","No","No",null,{"$f":"_xlfn.XLOOKUP(Table4[[#This Row],[TDS SKU]],Sheet2!B:B,Sheet2!C:C)","v":"A"},{"$f":"_xlfn.XLOOKUP(Table4[[#This Row],[TDS SKU]],Sheet2!B:B,Sheet2!D:D)","v":"A"}]
["MH3C4LL/A","15347487",1049,"11-inch iPad Air Wi-Fi 512GB - Blue","SCV93LL/A","MUWA3AM/A or MX2D3AM/A","MDFV4LL/A or MGYX4LL/A","iPad Air 11 (M4)","Blue","512GB","No","No",null,{"$f":"_xlfn.XLOOKUP(Table4[[#This Row],[TDS SKU]],Sheet2!B:B,Sheet2!C:C)","v":"B"},{"$f":"_xlfn.XLOOKUP(Table4[[#This Row],[TDS SKU]],Sheet2!B:B,Sheet2!D:D)","v":"A"}]
["MH3D4LL/A","15347488",1049,"11-inch iPad Air Wi-Fi 512GB - Starlight","SCV93LL/A","MUWA3AM/A or MX2D3AM/A","MDFV4LL/A or MGYX4LL/A","iPad Air 11 (M4)","Starlight","512GB","No","No",null,{"$f":"_xlfn.XLOOKUP(Table4[[#This Row],[TDS SKU]],Sheet2!B:B,Sheet2!C:C)","v":"B"},{"$f":"_xlfn.XLOOKUP(Table4[[#This Row],[TDS SKU]],Sheet2!B:B,Sheet2!D:D)","v":"A"}]
["MH3E4LL/A","15347489",1049,"11-inch iPad Air Wi-Fi 512GB - Purple","SCV93LL/A","MUWA3AM/A or MX2D3AM/A","MDFV4LL/A or MGYX4LL/A","iPad Air 11 (M4)","Purple","512GB","No","No",null,{"$f":"_xlfn.XLOOKUP(Table4[[#This Row],[TDS SKU]],Sheet2!B:B,Sheet2!C:C)","v":"B"},{"$f":"_xlfn.XLOOKUP(Table4[[#This Row],[TDS SKU]],Sheet2!B:B,Sheet2!D:D)","v":"A"}]
["MH3G4LL/A","15347490",1349,"11-inch iPad Air Wi-Fi 1TB - Space Gray","SCV93LL/A","MUWA3AM/A or MX2D3AM/A","MDFV4LL/A or MGYX4LL/A","iPad Air 11 (M4)","Space Gray","1TB","No","No",null,{"$f":"_xlfn.XLOOKUP(Table4[[#This Row],[TDS SKU]],Sheet2!B:B,Sheet2!C:C)","v":"B"},{"$f":"_xlfn.XLOOKUP(Table4[[#This Row],[TDS SKU]],Sheet2!B:B,Sheet2!D:D)","v":"A"}]
["MH3H4LL/A","15347491",1349,"11-inch iPad Air Wi-Fi 1TB - Blue","SCV93LL/A","MUWA3AM/A or MX2D3AM/A","MDFV4LL/A or MGYX4LL/A","iPad Air 11 (M4)","Blue","1TB","No","No",null,{"$f":"_xlfn.XLOOKUP(Table4[[#This Row],[TDS SKU]],Sheet2!B:B,Sheet2!C:C)","v":"B"},{"$f":"_xlfn.XLOOKUP(Table4[[#This Row],[TDS SKU]],Sheet2!B:B,Sheet2!D:D)","v":"A"}]
["MH3J4LL/A","15347492",1349,"11-inch iPad Air Wi-Fi 1TB - Starlight","SCV93LL/A","MUWA3AM/A or MX2D3AM/A","MDFV4LL/A or MGYX4LL/A","iPad Air 11 (M4)","Starlight","1TB","No","No",null,{"$f":"_xlfn.XLOOKUP(Table4[[#This Row],[TDS SKU]],Sheet2!B:B,Sheet2!C:C)","v":"B"},{"$f":"_xlfn.XLOOKUP(Table4[[#This Row],[TDS SKU]],Sheet2!B:B,Sheet2!D:D)","v":"A"}]
["MH3K4LL/A","15347493",1349,"11-inch iPad Air Wi-Fi 1TB - Purple","SCV93LL/A","MUWA3AM/A or MX2D3AM/A","MDFV4LL/A or MGYX4LL/A","iPad Air 11 (M4)","Purple","1TB","No","No",null,{"$f":"_xlfn.XLOOKUP(Table4[[#This Row],[TDS SKU]],Sheet2!B:B,Sheet2!C:C)","v":"B"},{"$f":"_xlfn.XLOOKUP(Table4[[#This Row],[TDS SKU]],Sheet2!B:B,Sheet2!D:D)","v":"A"}]
["MH5N4LL/A","15347494",949,"13-inch iPad Air Wi-Fi 128GB - Space Gray","SCVD3LL/A","MUWA3AM/A or MX2D3AM/A","MDFW4LL/A or MGYY4LL/A","iPad Air 13 (M4)","Space Gray","128GB","No","No",null,{"$f":"_xlfn.XLOOKUP(Table4[[#This Row],[TDS SKU]],Sheet2!B:B,Sheet2!C:C)","v":"A"},{"$f":"_xlfn.XLOOKUP(Table4[[#This Row],[TDS SKU]],Sheet2!B:B,Sheet2!D:D)","v":"A"}]
["MH5P4LL/A","15347495",949,"13-inch iPad Air Wi-Fi 128GB - Blue","SCVD3LL/A","MUWA3AM/A or MX2D3AM/A","MDFW4LL/A or MGYY4LL/A","iPad Air 13 (M4)","Blue","128GB","No","No",null,{"$f":"_xlfn.XLOOKUP(Table4[[#This Row],[TDS SKU]],Sheet2!B:B,Sheet2!C:C)","v":"A"},{"$f":"_xlfn.XLOOKUP(Table4[[#This Row],[TDS SKU]],Sheet2!B:B,Sheet2!D:D)","v":"A"}]
["MH5Q4LL/A","15347496",949,"13-inch iPad Air Wi-Fi 128GB - Starlight","SCVD3LL/A","MUWA3AM/A or MX2D3AM/A","MDFW4LL/A or MGYY4LL/A","iPad Air 13 (M4)","Starlight","128GB","No","No",null,{"$f":"_xlfn.XLOOKUP(Table4[[#This Row],[TDS SKU]],Sheet2!B:B,Sheet2!C:C)","v":"A"},{"$f":"_xlfn.XLOOKUP(Table4[[#This Row],[TDS SKU]],Sheet2!B:B,Sheet2!D:D)","v":"A"}]
["MH5T4LL/A","15347497",949,"13-inch iPad Air Wi-Fi 128GB - Purple","SCVD3LL/A","MUWA3AM/A or MX2D3AM/A","MDFW4LL/A or MGYY4LL/A","iPad Air 13 (M4)","Purple","128GB","No","No",null,{"$f":"_xlfn.XLOOKUP(Table4[[#This Row],[TDS SKU]],Sheet2!B:B,Sheet2!C:C)","v":"A"},{"$f":"_xlfn.XLOOKUP(Table4[[#This Row],[TDS SKU]],Sheet2!B:B,Sheet2!D:D)","v":"A"}]
["MH5U4LL/A","15347498",1049,"13-inch iPad Air Wi-Fi 256GB - Space Gray","SCVD3LL/A","MUWA3AM/A or MX2D3AM/A","MDFW4LL/A or MGYY4LL/A","iPad Air 13 (M4)","Space Gray","256GB","No","No",null,{"$f":"_xlfn.XLOOKUP(Table4[[#This Row],[TDS SKU]],Sheet2!B:B,Sheet2!C:C)","v":"A"},{"$f":"_xlfn.XLOOKUP(Table4[[#This Row],[TDS SKU]],Sheet2!B:B,Sheet2!D:D)","v":"A"}]
["MH5V4LL/A","15347499",1049,"13-inch iPad Air Wi-Fi 256GB - Blue","SCVD3LL/A","MUWA3AM/A or MX2D3AM/A","MDFW4LL/A or MGYY4LL/A","iPad Air 13 (M4)","Blue","256GB","No","No",null,{"$f":"_xlfn.XLOOKUP(Table4[[#This Row],[TDS SKU]],Sheet2!B:B,Sheet2!C:C)","v":"A"},{"$f":"_xlfn.XLOOKUP(Table4[[#This Row],[TDS SKU]],Sheet2!B:B,Sheet2!D:D)","v":"A"}]
["MH5W4LL/A","15347500",1049,"13-inch iPad Air Wi-Fi 256GB - Starlight","SCVD3LL/A","MUWA3AM/A or MX2D3AM/A","MDFW4LL/A or MGYY4LL/A","iPad Air 13 (M4)","Starlight","256GB","No","No",null,{"$f":"_xlfn.XLOOKUP(Table4[[#This Row],[TDS SKU]],Sheet2!B:B,Sheet2!C:C)","v":"A"},{"$f":"_xlfn.XLOOKUP(Table4[[#This Row],[TDS SKU]],Sheet2!B:B,Sheet2!D:D)","v":"A"}]
["MH5X4LL/A","15347502",1049,"13-inch iPad Air Wi-Fi 256GB - Purple","SCVD3LL/A","MUWA3AM/A or MX2D3AM/A","MDFW4LL/A or MGYY4LL/A","iPad Air 13 (M4)","Purple","256GB","No","No",null,{"$f":"_xlfn.XLOOKUP(Table4[[#This Row],[TDS SKU]],Sheet2!B:B,Sheet2!C:C)","v":"A"},{"$f":"_xlfn.XLOOKUP(Table4[[#This Row],[TDS SKU]],Sheet2!B:B,Sheet2!D:D)","v":"A"}]
["MH5Y4LL/A","15347503",1249,"13-inch iPad Air Wi-Fi 512GB - Space Gray","SCVD3LL/A","MUWA3AM/A or MX2D3AM/A","MDFW4LL/A or MGYY4LL/A","iPad Air 13 (M4)","Space Gray","512GB","No","No",null,{"$f":"_xlfn.XLOOKUP(Table4[[#This Row],[TDS SKU]],Sheet2!B:B,Sheet2!C:C)","v":"A"},{"$f":"_xlfn.XLOOKUP(Table4[[#This Row],[TDS SKU]],Sheet2!B:B,Sheet2!D:D)","v":"A"}]
["MH604LL/A","15347504",1249,"13-inch iPad Air Wi-Fi 512GB - Blue","SCVD3LL/A","MUWA3AM/A or MX2D3AM/A","MDFW4LL/A or MGYY4LL/A","iPad Air 13 (M4)","Blue","512GB","No","No",null,{"$f":"_xlfn.XLOOKUP(Table4[[#This Row],[TDS SKU]],Sheet2!B:B,Sheet2!C:C)","v":"B"},{"$f":"_xlfn.XLOOKUP(Table4[[#This Row],[TDS SKU]],Sheet2!B:B,Sheet2!D:D)","v":"A"}]
["MH614LL/A","15347505",1249,"13-inch iPad Air Wi-Fi 512GB - Starlight","SCVD3LL/A","MUWA3AM/A or MX2D3AM/A","MDFW4LL/A or MGYY4LL/A","iPad Air 13 (M4)","Starlight","512GB","No","No",null,{"$f":"_xlfn.XLOOKUP(Table4[[#This Row],[TDS SKU]],Sheet2!B:B,Sheet2!C:C)","v":"B"},{"$f":"_xlfn.XLOOKUP(Table4[[#This Row],[TDS SKU]],Sheet2!B:B,Sheet2!D:D)","v":"A"}]
["MH624LL/A","15347506",1249,"13-inch iPad Air Wi-Fi 512GB - Purple","SCVD3LL/A","MUWA3AM/A or MX2D3AM/A","MDFW4LL/A or MGYY4LL/A","iPad Air 13 (M4)","Purple","512GB","No","No",null,{"$f":"_xlfn.XLOOKUP(Table4[[#This Row],[TDS SKU]],Sheet2!B:B,Sheet2!C:C)","v":"B"},{"$f":"_xlfn.XLOOKUP(Table4[[#This Row],[TDS SKU]],Sheet2!B:B,Sheet2!D:D)","v":"A"}]
["MH634LL/A","15347507",1549,"13-inch iPad Air Wi-Fi 1TB - Space Gray","SCVD3LL/A","MUWA3AM/A or MX2D3AM/A","MDFW4LL/A or MGYY4LL/A","iPad Air 13 (M4)","Space Gray","1TB","No","No",null,{"$f":"_xlfn.XLOOKUP(Table4[[#This Row],[TDS SKU]],Sheet2!B:B,Sheet2!C:C)","v":"B"},{"$f":"_xlfn.XLOOKUP(Table4[[#This Row],[TDS SKU]],Sheet2!B:B,Sheet2!D:D)","v":"A"}]
["MH644LL/A","15347508",1549,"13-inch iPad Air Wi-Fi 1TB - Blue","SCVD3LL/A","MUWA3AM/A or MX2D3AM/A","MDFW4LL/A or MGYY4LL/A","iPad Air 13 (M4)","Blue","1TB","No","No",null,{"$f":"_xlfn.XLOOKUP(Table4[[#This Row],[TDS SKU]],Sheet2!B:B,Sheet2!C:C)","v":"B"},{"$f":"_xlfn.XLOOKUP(Table4[[#This Row],[TDS SKU]],Sheet2!B:B,Sheet2!D:D)","v":"A"}]
["MH654LL/A","15347509",1549,"13-inch iPad Air Wi-Fi 1TB - Starlight","SCVD3LL/A","MUWA3AM/A or MX2D3AM/A","MDFW4LL/A or MGYY4LL/A","iPad Air 13 (M4)","Starlight","1TB","No","No",null,{"$f":"_xlfn.XLOOKUP(Table4[[#This Row],[TDS SKU]],Sheet2!B:B,Sheet2!C:C)","v":"B"},{"$f":"_xlfn.XLOOKUP(Table4[[#This Row],[TDS SKU]],Sheet2!B:B,Sheet2!D:D)","v":"A"}]
["MH784LL/A","15347510",899,"11-inch iPad Air Wi-Fi + Cellular 128GB - Space Gray","SCV93LL/A","MUWA3AM/A or MX2D3AM/A","MDFV4LL/A or MGYX4LL/A","iPad Air 11 (M4)","Space Gray","128GB","Yes","No",null,{"$f":"_xlfn.XLOOKUP(Table4[[#This Row],[TDS SKU]],Sheet2!B:B,Sheet2!C:C)","v":"A"},{"$f":"_xlfn.XLOOKUP(Table4[[#This Row],[TDS SKU]],Sheet2!B:B,Sheet2!D:D)","v":"A"}]
["MH794LL/A","15347511",899,"11-inch iPad Air Wi-Fi + Cellular 128GB - Blue","SCV93LL/A","MUWA3AM/A or MX2D3AM/A","MDFV4LL/A or MGYX4LL/A","iPad Air 11 (M4)","Blue","128GB","Yes","No",null,{"$f":"_xlfn.XLOOKUP(Table4[[#This Row],[TDS SKU]],Sheet2!B:B,Sheet2!C:C)","v":"B"},{"$f":"_xlfn.XLOOKUP(Table4[[#This Row],[TDS SKU]],Sheet2!B:B,Sheet2!D:D)","v":"A"}]
["MH7A4LL/A","15347423",899,"11-inch iPad Air Wi-Fi + Cellular 128GB - Starlight","SCV93LL/A","MUWA3AM/A or MX2D3AM/A","MDFV4LL/A or MGYX4LL/A","iPad Air 11 (M4)","Starlight","128GB","Yes","No",null,{"$f":"_xlfn.XLOOKUP(Table4[[#This Row],[TDS SKU]],Sheet2!B:B,Sheet2!C:C)","v":"B"},{"$f":"_xlfn.XLOOKUP(Table4[[#This Row],[TDS SKU]],Sheet2!B:B,Sheet2!D:D)","v":"A"}]
["MH7C4LL/A","15347424",899,"11-inch iPad Air Wi-Fi + Cellular 128GB - Purple","SCV93LL/A","MUWA3AM/A or MX2D3AM/A","MDFV4LL/A or MGYX4LL/A","iPad Air 11 (M4)","Purple","128GB","Yes","No",null,{"$f":"_xlfn.XLOOKUP(Table4[[#This Row],[TDS SKU]],Sheet2!B:B,Sheet2!C:C)","v":"B"},{"$f":"_xlfn.XLOOKUP(Table4[[#This Row],[TDS SKU]],Sheet2!B:B,Sheet2!D:D)","v":"A"}]
["MH7D4LL/A","15347425",999,"11-inch iPad Air Wi-Fi + Cellular 256GB - Space Gray","SCV93LL/A","MUWA3AM/A or MX2D3AM/A","MDFV4LL/A or MGYX4LL/A","iPad Air 11 (M4)","Space Gray","256GB","Yes","No",null,{"$f":"_xlfn.XLOOKUP(Table4[[#This Row],[TDS SKU]],Sheet2!B:B,Sheet2!C:C)","v":"A"},{"$f":"_xlfn.XLOOKUP(Table4[[#This Row],[TDS SKU]],Sheet2!B:B,Sheet2!D:D)","v":"A"}]
["MH7E4LL/A","15347426",999,"11-inch iPad Air Wi-Fi + Cellular 256GB - Blue","SCV93LL/A","MUWA3AM/A or MX2D3AM/A","MDFV4LL/A or MGYX4LL/A","iPad Air 11 (M4)","Blue","256GB","Yes","No",null,{"$f":"_xlfn.XLOOKUP(Table4[[#This Row],[TDS SKU]],Sheet2!B:B,Sheet2!C:C)","v":"B"},{"$f":"_xlfn.XLOOKUP(Table4[[#This Row],[TDS SKU]],Sheet2!B:B,Sheet2!D:D)","v":"A"}]
["MH7F4LL/A","15347427",999,"11-inch iPad Air Wi-Fi + Cellular 256GB - Starlight","SCV93LL/A","MUWA3AM/A or MX2D3AM/A","MDFV4LL/A or MGYX4LL/A","iPad Air 11 (M4)","Starlight","256GB","Yes","No",null,{"$f":"_xlfn.XLOOKUP(Table4[[#This Row],[TDS SKU]],Sheet2!B:B,Sheet2!C:C)","v":"A"},{"$f":"_xlfn.XLOOKUP(Table4[[#This Row],[TDS SKU]],Sheet2!B:B,Sheet2!D:D)","v":"A"}]
["MH7G4LL/A","15347428",999,"11-inch iPad Air Wi-Fi + Cellular 256GB - Purple","SCV93LL/A","MUWA3AM/A or MX2D3AM/A","MDFV4LL/A or MGYX4LL/A","iPad Air 11 (M4)","Purple","256GB","Yes","No",null,{"$f":"_xlfn.XLOOKUP(Table4[[#This Row],[TDS SKU]],Sheet2!B:B,Sheet2!C:C)","v":"B"},{"$f":"_xlfn.XLOOKUP(Table4[[#This Row],[TDS SKU]],Sheet2!B:B,Sheet2!D:D)","v":"A"}]
["MH7H4LL/A","15347429",1199,"11-inch iPad Air Wi-Fi + Cellular 512GB - Space Gray","SCV93LL/A","MUWA3AM/A or MX2D3AM/A","MDFV4LL/A or MGYX4LL/A","iPad Air 11 (M4)","Space Gray","512GB","Yes","No",null,{"$f":"_xlfn.XLOOKUP(Table4[[#This Row],[TDS SKU]],Sheet2!B:B,Sheet2!C:C)","v":"B"},{"$f":"_xlfn.XLOOKUP(Table4[[#This Row],[TDS SKU]],Sheet2!B:B,Sheet2!D:D)","v":"A"}]
["MH7J4LL/A","15347430",1199,"11-inch iPad Air Wi-Fi + Cellular 512GB - Blue","SCV93LL/A","MUWA3AM/A or MX2D3AM/A","MDFV4LL/A or MGYX4LL/A","iPad Air 11 (M4)","Blue","512GB","Yes","No",null,{"$f":"_xlfn.XLOOKUP(Table4[[#This Row],[TDS SKU]],Sheet2!B:B,Sheet2!C:C)","v":"B"},{"$f":"_xlfn.XLOOKUP(Table4[[#This Row],[TDS SKU]],Sheet2!B:B,Sheet2!D:D)","v":"A"}]
["MH7K4LL/A","15347431",1199,"11-inch iPad Air Wi-Fi + Cellular 512GB - Starlight","SCV93LL/A","MUWA3AM/A or MX2D3AM/A","MDFV4LL/A or MGYX4LL/A","iPad Air 11 (M4)","Starlight","512GB","Yes","No",null,{"$f":"_xlfn.XLOOKUP(Table4[[#This Row],[TDS SKU]],Sheet2!B:B,Sheet2!C:C)","v":"B"},{"$f":"_xlfn.XLOOKUP(Table4[[#This Row],[TDS SKU]],Sheet2!B:B,Sheet2!D:D)","v":"A"}]
["MH7L4LL/A","15347432",1199,"11-inch iPad Air Wi-Fi + Cellular 512GB - Purple","SCV93LL/A","MUWA3AM/A or MX2D3AM/A","MDFV4LL/A or MGYX4LL/A","iPad Air 11 (M4)","Purple","512GB","Yes","No",null,{"$f":"_xlfn.XLOOKUP(Table4[[#This Row],[TDS SKU]],Sheet2!B:B,Sheet2!C:C)","v":"B"},{"$f":"_xlfn.XLOOKUP(Table4[[#This Row],[TDS SKU]],Sheet2!B:B,Sheet2!D:D)","v":"A"}]
["MH7M4LL/A","15347433",1499,"11-inch iPad Air Wi-Fi + Cellular 1TB - Space Gray","SCV93LL/A","MUWA3AM/A or MX2D3AM/A","MDFV4LL/A or MGYX4LL/A","iPad Air 11 (M4)","Space Gray","1TB","Yes","No",null,{"$f":"_xlfn.XLOOKUP(Table4[[#This Row],[TDS SKU]],Sheet2!B:B,Sheet2!C:C)","v":"B"},{"$f":"_xlfn.XLOOKUP(Table4[[#This Row],[TDS SKU]],Sheet2!B:B,Sheet2!D:D)","v":"A"}]
["MH7N4LL/A","15347434",1499,"11-inch iPad Air Wi-Fi + Cellular 1TB - Blue","SCV93LL/A","MUWA3AM/A or MX2D3AM/A","MDFV4LL/A or MGYX4LL/A","iPad Air 11 (M4)","Blue","1TB","Yes","No",null,{"$f":"_xlfn.XLOOKUP(Table4[[#This Row],[TDS SKU]],Sheet2!B:B,Sheet2!C:C)","v":"B"},{"$f":"_xlfn.XLOOKUP(Table4[[#This Row],[TDS SKU]],Sheet2!B:B,Sheet2!D:D)","v":"A"}]
["MH7P4LL/A","15347435",1499,"11-inch iPad Air Wi-Fi + Cellular 1TB - Starlight","SCV93LL/A","MUWA3AM/A or MX2D3AM/A","MDFV4LL/A or MGYX4LL/A","iPad Air 11 (M4)","Starlight","1TB","Yes","No",null,{"$f":"_xlfn.XLOOKUP(Table4[[#This Row],[TDS SKU]],Sheet2!B:B,Sheet2!C:C)","v":"B"},{"$f":"_xlfn.XLOOKUP(Table4[[#This Row],[TDS SKU]],Sheet2!B:B,Sheet2!D:D)","v":"A"}]
["MH7Q4LL/A","15347436",1499,"11-inch iPad Air Wi-Fi + Cellular 1TB - Purple","SCV93LL/A","MUWA3AM/A or MX2D3AM/A","MDFV4LL/A or MGYX4LL/A","iPad Air 11 (M4)","Purple","1TB","Yes","No",null,{"$f":"_xlfn.XLOOKUP(Table4[[#This Row],[TDS SKU]],Sheet2!B:B,Sheet2!C:C)","v":"B"},{"$f":"_xlfn.XLOOKUP(Table4[[#This Row],[TDS SKU]],Sheet2!B:B,Sheet2!D:D)","v":"A"}]
["MH9D4LL/A","15347437",1099,"13-inch iPad Air Wi-Fi + Cellular 128GB - Space Gray","SCVD3LL/A","MUWA3AM/A or MX2D3AM/A","MDFW4LL/A or MGYY4LL/A","iPad Air 13 (M4)","Space Gray","128GB","Yes","No",null,{"$f":"_xlfn.XLOOKUP(Table4[[#This Row],[TDS SKU]],Sheet2!B:B,Sheet2!C:C)","v":"A"},{"$f":"_xlfn.XLOOKUP(Table4[[#This Row],[TDS SKU]],Sheet2!B:B,Sheet2!D:D)","v":"A"}]
["MH9E4LL/A","15347438",1099,"13-inch iPad Air Wi-Fi + Cellular 128GB - Blue","SCVD3LL/A","MUWA3AM/A or MX2D3AM/A","MDFW4LL/A or MGYY4LL/A","iPad Air 13 (M4)","Blue","128GB","Yes","No",null,{"$f":"_xlfn.XLOOKUP(Table4[[#This Row],[TDS SKU]],Sheet2!B:B,Sheet2!C:C)","v":"B"},{"$f":"_xlfn.XLOOKUP(Table4[[#This Row],[TDS SKU]],Sheet2!B:B,Sheet2!D:D)","v":"A"}]
["MH9F4LL/A","15347439",1099,"13-inch iPad Air Wi-Fi + Cellular 128GB - Starlight","SCVD3LL/A","MUWA3AM/A or MX2D3AM/A","MDFW4LL/A or MGYY4LL/A","iPad Air 13 (M4)","Starlight","128GB","Yes","No",null,{"$f":"_xlfn.XLOOKUP(Table4[[#This Row],[TDS SKU]],Sheet2!B:B,Sheet2!C:C)","v":"B"},{"$f":"_xlfn.XLOOKUP(Table4[[#This Row],[TDS SKU]],Sheet2!B:B,Sheet2!D:D)","v":"A"}]
["MH9G4LL/A","15347440",1099,"13-inch iPad Air Wi-Fi + Cellular 128GB - Purple","SCVD3LL/A","MUWA3AM/A or MX2D3AM/A","MDFW4LL/A or MGYY4LL/A","iPad Air 13 (M4)","Purple","128GB","Yes","No",null,{"$f":"_xlfn.XLOOKUP(Table4[[#This Row],[TDS SKU]],Sheet2!B:B,Sheet2!C:C)","v":"B"},{"$f":"_xlfn.XLOOKUP(Table4[[#This Row],[TDS SKU]],Sheet2!B:B,Sheet2!D:D)","v":"A"}]
["MH9H4LL/A","15347441",1199,"13-inch iPad Air Wi-Fi + Cellular 256GB - Space Gray","SCVD3LL/A","MUWA3AM/A or MX2D3AM/A","MDFW4LL/A or MGYY4LL/A","iPad Air 13 (M4)","Space Gray","256GB","Yes","No",null,{"$f":"_xlfn.XLOOKUP(Table4[[#This Row],[TDS SKU]],Sheet2!B:B,Sheet2!C:C)","v":"A"},{"$f":"_xlfn.XLOOKUP(Table4[[#This Row],[TDS SKU]],Sheet2!B:B,Sheet2!D:D)","v":"A"}]
["MH9J4LL/A","15347442",1199,"13-inch iPad Air Wi-Fi + Cellular 256GB - Blue","SCVD3LL/A","MUWA3AM/A or MX2D3AM/A","MDFW4LL/A or MGYY4LL/A","iPad Air 13 (M4)","Blue","256GB","Yes","No",null,{"$f":"_xlfn.XLOOKUP(Table4[[#This Row],[TDS SKU]],Sheet2!B:B,Sheet2!C:C)","v":"B"},{"$f":"_xlfn.XLOOKUP(Table4[[#This Row],[TDS SKU]],Sheet2!B:B,Sheet2!D:D)","v":"A"}]
["MH9K4LL/A","15347443",1199,"13-inch iPad Air Wi-Fi + Cellular 256GB - Starlight","SCVD3LL/A","MUWA3AM/A or MX2D3AM/A","MDFW4LL/A or MGYY4LL/A","iPad Air 13 (M4)","Starlight","256GB","Yes","No",null,{"$f":"_xlfn.XLOOKUP(Table4[[#This Row],[TDS SKU]],Sheet2!B:B,Sheet2!C:C)","v":"B"},{"$f":"_xlfn.XLOOKUP(Table4[[#This Row],[TDS SKU]],Sheet2!B:B,Sheet2!D:D)","v":"A"}]
["MH9L4LL/A","15347444",1199,"13-inch iPad Air Wi-Fi + Cellular 256GB - Purple","SCVD3LL/A","MUWA3AM/A or MX2D3AM/A","MDFW4LL/A or MGYY4LL/A","iPad Air 13 (M4)","Purple","256GB","Yes","No",null,{"$f":"_xlfn.XLOOKUP(Table4[[#This Row],[TDS SKU]],Sheet2!B:B,Sheet2!C:C)","v":"B"},{"$f":"_xlfn.XLOOKUP(Table4[[#This Row],[TDS SKU]],Sheet2!B:B,Sheet2!D:D)","v":"A"}]
["MH9M4LL/A","15347445",1399,"13-inch iPad Air Wi-Fi + Cellular 512GB - Space Gray","SCVD3LL/A","MUWA3AM/A or MX2D3AM/A","MDFW4LL/A or MGYY4LL/A","iPad Air 13 (M4)","Space Gray","512GB","Yes","No",null,{"$f":"_xlfn.XLOOKUP(Table4[[#This Row],[TDS SKU]],Sheet2!B:B,Sheet2!C:C)","v":"B"},{"$f":"_xlfn.XLOOKUP(Table4[[#This Row],[TDS SKU]],Sheet2!B:B,Sheet2!D:D)","v":"A"}]
["MH9N4LL/A","15347446",1399,"13-inch iPad Air Wi-Fi + Cellular 512GB - Blue","SCVD3LL/A","MUWA3AM/A or MX2D3AM/A","MDFW4LL/A or MGYY4LL/A","iPad Air 13 (M4)","Blue","512GB","Yes","No",null,{"$f":"_xlfn.XLOOKUP(Table4[[#This Row],[TDS SKU]],Sheet2!B:B,Sheet2!C:C)","v":"B"},{"$f":"_xlfn.XLOOKUP(Table4[[#This Row],[TDS SKU]],Sheet2!B:B,Sheet2!D:D)","v":"A"}]
["MH9P4LL/A","15347447",1399,"13-inch iPad Air Wi-Fi + Cellular 512GB - Starlight","SCVD3LL/A","MUWA3AM/A or MX2D3AM/A","MDFW4LL/A or MGYY4LL/A","iPad Air 13 (M4)","Starlight","512GB","Yes","No",null,{"$f":"_xlfn.XLOOKUP(Table4[[#This Row],[TDS SKU]],Sheet2!B:B,Sheet2!C:C)","v":"B"},{"$f":"_xlfn.XLOOKUP(Table4[[#This Row],[TDS SKU]],Sheet2!B:B,Sheet2!D:D)","v":"A"}]
["MH9Q4LL/A","15347448",1399,"13-inch iPad Air Wi-Fi + Cellular 512GB - Purple","SCVD3LL/A","MUWA3AM/A or MX2D3AM/A","MDFW4LL/A or MGYY4LL/A","iPad Air 13 (M4)","Purple","512GB","Yes","No",null,{"$f":"_xlfn.XLOOKUP(Table4[[#This Row],[TDS SKU]],Sheet2!B:B,Sheet2!C:C)","v":"B"},{"$f":"_xlfn.XLOOKUP(Table4[[#This Row],[TDS SKU]],Sheet2!B:B,Sheet2!D:D)","v":"A"}]
["MH9R4LL/A","15347449",1699,"13-inch iPad Air Wi-Fi + Cellular 1TB - Space Gray","SCVD3LL/A","MUWA3AM/A or MX2D3AM/A","MDFW4LL/A or MGYY4LL/A","iPad Air 13 (M4)","Space Gray","1TB","Yes","No",null,{"$f":"_xlfn.XLOOKUP(Table4[[#This Row],[TDS SKU]],Sheet2!B:B,Sheet2!C:C)","v":"B"},{"$f":"_xlfn.XLOOKUP(Table4[[#This Row],[TDS SKU]],Sheet2!B:B,Sheet2!D:D)","v":"A"}]
["MH9T4LL/A","15347450",1699,"13-inch iPad Air Wi-Fi + Cellular 1TB - Blue","SCVD3LL/A","MUWA3AM/A or MX2D3AM/A","MDFW4LL/A or MGYY4LL/A","iPad Air 13 (M4)","Blue","1TB","Yes","No",null,{"$f":"_xlfn.XLOOKUP(Table4[[#This Row],[TDS SKU]],Sheet2!B:B,Sheet2!C:C)","v":"B"},{"$f":"_xlfn.XLOOKUP(Table4[[#This Row],[TDS SKU]],Sheet2!B:B,Sheet2!D:D)","v":"A"}]
["MH9U4LL/A","15347451",1699,"13-inch iPad Air Wi-Fi + Cellular 1TB - Starlight","SCVD3LL/A","MUWA3AM/A or MX2D3AM/A","MDFW4LL/A or MGYY4LL/A","iPad Air 13 (M4)","Starlight","1TB","Yes","No",null,{"$f":"_xlfn.XLOOKUP(Table4[[#This Row],[TDS SKU]],Sheet2!B:B,Sheet2!C:C)","v":"B"},{"$f":"_xlfn.XLOOKUP(Table4[[#This Row],[TDS SKU]],Sheet2!B:B,Sheet2!D:D)","v":"A"}]
["MH9V4LL/A","15347452",1699,"13-inch iPad Air Wi-Fi + Cellular 1TB - Purple","SCVD3LL/A","MUWA3AM/A or MX2D3AM/A","MDFW4LL/A or MGYY4LL/A","iPad Air 13 (M4)","Purple","1TB","Yes","No",null,{"$f":"_xlfn.XLOOKUP(Table4[[#This Row],[TDS SKU]],Sheet2!B:B,Sheet2!C:C)","v":"B"},{"$f":"_xlfn.XLOOKUP(Table4[[#This Row],[TDS SKU]],Sheet2!B:B,Sheet2!D:D)","v":"A"}]
["MHDK4LL/A","15347512",1549,"13-inch iPad Air Wi-Fi 1TB - Purple","SCVD3LL/A","MUWA3AM/A or MX2D3AM/A","MDFW4LL/A or MGYY4LL/A","iPad Air 13 (M4)","Purple","1TB","No","No",null,{"$f":"_xlfn.XLOOKUP(Table4[[#This Row],[TDS SKU]],Sheet2!B:B,Sheet2!C:C)","v":"B"},{"$f":"_xlfn.XLOOKUP(Table4[[#This Row],[TDS SKU]],Sheet2!B:B,Sheet2!D:D)","v":"A"}]

{"sheet":"Watch","index":9,"n_rows":108,"n_cols":15,"rows_kept":108,"cut":false,"hidden":false,"merged":[]}
[]
[]
[]
[]
[]
[]
[]
[]
[]
[]
[]
[]
[]
[]
[]
[]
[]
[]
[]
["*Red text denotes EOL product"]
["Apple Part ","TDS SKU","MSRP","Description","AppleCare+","Model","Color","Metal","Size","Cellular","Band Type","Band Color","Band Size","ABC Code","Active Status"]
["MEH34LW/A","15007546",249,"APPLE WATCH SE 3 40 S AL S SB SM GPS-USA","SXHW2LL/A","SE 3","Starlight","Aluminum","40MM","No","Sport Band","Starlight","Small/Medium",{"$f":"_xlfn.XLOOKUP(Table3[[#This Row],[TDS SKU]],Sheet2!$B:$B,Sheet2!C:C)","v":"A"},{"$f":"_xlfn.XLOOKUP(Table3[[#This Row],[TDS SKU]],Sheet2!$B:$B,Sheet2!D:D)","v":"A"}]
["MEH54LW/A","15007547",249,"APPLE WATCH SE 3 40 S AL S SB ML GPS-USA","SXHW2LL/A","SE 3","Starlight","Aluminum","40MM","No","Sport Band","Starlight","Medium/Large",{"$f":"_xlfn.XLOOKUP(Table3[[#This Row],[TDS SKU]],Sheet2!$B:$B,Sheet2!C:C)","v":"A"},{"$f":"_xlfn.XLOOKUP(Table3[[#This Row],[TDS SKU]],Sheet2!$B:$B,Sheet2!D:D)","v":"A"}]
["MEH94LW/A","15007548",249,"APPLE WATCH SE 3 40 M AL M SB SM GPS-USA","SXHW2LL/A","SE 3","Midnight","Aluminum","40MM","No","Sport Band","Midnight","Small/Medium",{"$f":"_xlfn.XLOOKUP(Table3[[#This Row],[TDS SKU]],Sheet2!$B:$B,Sheet2!C:C)","v":"A"},{"$f":"_xlfn.XLOOKUP(Table3[[#This Row],[TDS SKU]],Sheet2!$B:$B,Sheet2!D:D)","v":"A"}]
["MEHC4LW/A","15007549",249,"APPLE WATCH SE 3 40 M AL M SB ML GPS-USA","SXHW2LL/A","SE 3","Midnight","Aluminum","40MM","No","Sport Band","Midnight","Medium/Large",{"$f":"_xlfn.XLOOKUP(Table3[[#This Row],[TDS SKU]],Sheet2!$B:$B,Sheet2!C:C)","v":"A"},{"$f":"_xlfn.XLOOKUP(Table3[[#This Row],[TDS SKU]],Sheet2!$B:$B,Sheet2!D:D)","v":"A"}]
["MEHG4LW/A","15007550",279,"APPLE WATCH SE 3 44 S AL S SB SM GPS-USA","SXHW2LL/A","SE 3","Starlight","Aluminum","44MM","No","Sport Band","Starlight","Small/Medium",{"$f":"_xlfn.XLOOKUP(Table3[[#This Row],[TDS SKU]],Sheet2!$B:$B,Sheet2!C:C)","v":"A"},{"$f":"_xlfn.XLOOKUP(Table3[[#This Row],[TDS SKU]],Sheet2!$B:$B,Sheet2!D:D)","v":"A"}]
["MEHJ4LW/A","15007551",279,"APPLE WATCH SE 3 44 S AL S SB ML GPS-USA","SXHW2LL/A","SE 3","Starlight","Aluminum","44MM","No","Sport Band","Starlight","Medium/Large",{"$f":"_xlfn.XLOOKUP(Table3[[#This Row],[TDS SKU]],Sheet2!$B:$B,Sheet2!C:C)","v":"B"},{"$f":"_xlfn.XLOOKUP(Table3[[#This Row],[TDS SKU]],Sheet2!$B:$B,Sheet2!D:D)","v":"A"}]
["MEHN4LW/A","15007552",279,"APPLE WATCH SE 3 44 M AL M SB SM GPS-USA","SXHW2LL/A","SE 3","Midnight","Aluminum","44MM","No","Sport Band","Midnight","Small/Medium",{"$f":"_xlfn.XLOOKUP(Table3[[#This Row],[TDS SKU]],Sheet2!$B:$B,Sheet2!C:C)","v":"A"},{"$f":"_xlfn.XLOOKUP(Table3[[#This Row],[TDS SKU]],Sheet2!$B:$B,Sheet2!D:D)","v":"A"}]
["MEHQ4LW/A","15007563",279,"APPLE WATCH SE 3 44 M AL M SB ML GPS-USA","SXHW2LL/A","SE 3","Midnight","Aluminum","44MM","No","Sport Band","Midnight","Medium/Large",{"$f":"_xlfn.XLOOKUP(Table3[[#This Row],[TDS SKU]],Sheet2!$B:$B,Sheet2!C:C)","v":"A"},{"$f":"_xlfn.XLOOKUP(Table3[[#This Row],[TDS SKU]],Sheet2!$B:$B,Sheet2!D:D)","v":"A"}]
["MEP64LW/A","15007564",299,"APPLE WATCH SE 3 40 S AL S SB SM CEL-USA","SXHW2LL/A","SE 3","Starlight","Aluminum","40MM","Yes","Sport Band","Starlight","Small/Medium",{"$f":"_xlfn.XLOOKUP(Table3[[#This Row],[TDS SKU]],Sheet2!$B:$B,Sheet2!C:C)","v":"B"},{"$f":"_xlfn.XLOOKUP(Table3[[#This Row],[TDS SKU]],Sheet2!$B:$B,Sheet2!D:D)","v":"A"}]
["MEP74LW/A","15007565",299,"APPLE WATCH SE 3 40 S AL S SB ML CEL-USA","SXHW2LL/A","SE 3","Starlight","Aluminum","40MM","Yes","Sport Band","Starlight","Medium/Large",{"$f":"_xlfn.XLOOKUP(Table3[[#This Row],[TDS SKU]],Sheet2!$B:$B,Sheet2!C:C)","v":"B"},{"$f":"_xlfn.XLOOKUP(Table3[[#This Row],[TDS SKU]],Sheet2!$B:$B,Sheet2!D:D)","v":"A"}]
["MEP94LW/A","15007566",299,"APPLE WATCH SE 3 40 M AL M SB SM CEL-USA","SXHW2LL/A","SE 3","Midnight","Aluminum","40MM","Yes","Sport Band","Midnight","Small/Medium",{"$f":"_xlfn.XLOOKUP(Table3[[#This Row],[TDS SKU]],Sheet2!$B:$B,Sheet2!C:C)","v":"B"},{"$f":"_xlfn.XLOOKUP(Table3[[#This Row],[TDS SKU]],Sheet2!$B:$B,Sheet2!D:D)","v":"A"}]
["MEPC4LW/A","15007567",299,"APPLE WATCH SE 3 40 M AL M SB ML CEL-USA","SXHW2LL/A","SE 3","Midnight","Aluminum","40MM","Yes","Sport Band","Midnight","Medium/Large",{"$f":"_xlfn.XLOOKUP(Table3[[#This Row],[TDS SKU]],Sheet2!$B:$B,Sheet2!C:C)","v":"B"},{"$f":"_xlfn.XLOOKUP(Table3[[#This Row],[TDS SKU]],Sheet2!$B:$B,Sheet2!D:D)","v":"A"}]
["MEPE4LW/A","15007568",329,"APPLE WATCH SE 3 44 S AL S SB SM CEL-USA","SXHW2LL/A","SE 3","Starlight","Aluminum","44MM","Yes","Sport Band","Starlight","Small/Medium",{"$f":"_xlfn.XLOOKUP(Table3[[#This Row],[TDS SKU]],Sheet2!$B:$B,Sheet2!C:C)","v":"B"},{"$f":"_xlfn.XLOOKUP(Table3[[#This Row],[TDS SKU]],Sheet2!$B:$B,Sheet2!D:D)","v":"A"}]
["MEPF4LW/A","15007569",329,"APPLE WATCH SE 3 44 S AL S SB ML CEL-USA","SXHW2LL/A","SE 3","Starlight","Aluminum","44MM","Yes","Sport Band","Starlight","Medium/Large",{"$f":"_xlfn.XLOOKUP(Table3[[#This Row],[TDS SKU]],Sheet2!$B:$B,Sheet2!C:C)","v":"B"},{"$f":"_xlfn.XLOOKUP(Table3[[#This Row],[TDS SKU]],Sheet2!$B:$B,Sheet2!D:D)","v":"A"}]
["MEPH4LW/A","15007570",329,"APPLE WATCH SE 3 44 M AL M SB SM CEL-USA","SXHW2LL/A","SE 3","Midnight","Aluminum","44MM","Yes","Sport Band","Midnight","Small/Medium",{"$f":"_xlfn.XLOOKUP(Table3[[#This Row],[TDS SKU]],Sheet2!$B:$B,Sheet2!C:C)","v":"B"},{"$f":"_xlfn.XLOOKUP(Table3[[#This Row],[TDS SKU]],Sheet2!$B:$B,Sheet2!D:D)","v":"A"}]
["MEPJ4LW/A","15007571",329,"APPLE WATCH SE 3 44 M AL M SB ML CEL-USA","SXHW2LL/A","SE 3","Midnight","Aluminum","44MM","Yes","Sport Band","Midnight","Medium/Large",{"$f":"_xlfn.XLOOKUP(Table3[[#This Row],[TDS SKU]],Sheet2!$B:$B,Sheet2!C:C)","v":"B"},{"$f":"_xlfn.XLOOKUP(Table3[[#This Row],[TDS SKU]],Sheet2!$B:$B,Sheet2!D:D)","v":"A"}]
["MEQT4LW/A","15007572",399,"APPLE WATCH 11 42 JB AL BK SB SM GPS-USA","SXCJ2LL/A","Series 11","Jet Black","Aluminum","42MM","No","Sport Band","Black","Small/Medium",{"$f":"_xlfn.XLOOKUP(Table3[[#This Row],[TDS SKU]],Sheet2!$B:$B,Sheet2!C:C)","v":"A"},{"$f":"_xlfn.XLOOKUP(Table3[[#This Row],[TDS SKU]],Sheet2!$B:$B,Sheet2!D:D)","v":"A"}]
["MEQU4LW/A","15007583",399,"APPLE WATCH 11 42 JB AL BK SB ML GPS-USA","SXCJ2LL/A","Series 11","Jet Black","Aluminum","42MM","No","Sport Band","Black","Medium/Large",{"$f":"_xlfn.XLOOKUP(Table3[[#This Row],[TDS SKU]],Sheet2!$B:$B,Sheet2!C:C)","v":"A"},{"$f":"_xlfn.XLOOKUP(Table3[[#This Row],[TDS SKU]],Sheet2!$B:$B,Sheet2!D:D)","v":"A"}]
["MEQW4LW/A","15007584",399,"APPLE WATCH 11 42 SG AL BK SB SM GPS-USA","SXCJ2LL/A","Series 11","Space Gray","Aluminum","42MM","No","Sport Band","Black","Small/Medium",{"$f":"_xlfn.XLOOKUP(Table3[[#This Row],[TDS SKU]],Sheet2!$B:$B,Sheet2!C:C)","v":"B"},{"$f":"_xlfn.XLOOKUP(Table3[[#This Row],[TDS SKU]],Sheet2!$B:$B,Sheet2!D:D)","v":"A"}]
["MEQX4LW/A","15007585",399,"APPLE WATCH 11 42 SG AL BK SB ML GPS-USA","SXCJ2LL/A","Series 11","Space Gray","Aluminum","42MM","No","Sport Band","Black","Medium/Large",{"$f":"_xlfn.XLOOKUP(Table3[[#This Row],[TDS SKU]],Sheet2!$B:$B,Sheet2!C:C)","v":"B"},{"$f":"_xlfn.XLOOKUP(Table3[[#This Row],[TDS SKU]],Sheet2!$B:$B,Sheet2!D:D)","v":"A"}]
["MEU04LW/A","15007586",399,"APPLE WATCH 11 42 RG AL LB SB SM GPS-USA","SXCJ2LL/A","Series 11","Rose Gold","Aluminum","42MM","No","Sport Band","Light Blush","Small/Medium",{"$f":"_xlfn.XLOOKUP(Table3[[#This Row],[TDS SKU]],Sheet2!$B:$B,Sheet2!C:C)","v":"A"},{"$f":"_xlfn.XLOOKUP(Table3[[#This Row],[TDS SKU]],Sheet2!$B:$B,Sheet2!D:D)","v":"A"}]
["MEU44LW/A","15007587",399,"APPLE WATCH 11 42 RG AL LB SB ML GPS-USA","SXCJ2LL/A","Series 11","Rose Gold","Aluminum","42MM","No","Sport Band","Light Blush","Medium/Large",{"$f":"_xlfn.XLOOKUP(Table3[[#This Row],[TDS SKU]],Sheet2!$B:$B,Sheet2!C:C)","v":"A"},{"$f":"_xlfn.XLOOKUP(Table3[[#This Row],[TDS SKU]],Sheet2!$B:$B,Sheet2!D:D)","v":"A"}]
["MEU64LW/A","15007588",399,"APPLE WATCH 11 42 SI AL PF SB SM GPS-USA","SXCJ2LL/A","Series 11","Silver","Aluminum","42MM","No","Sport Band","Purple Fog","Small/Medium",{"$f":"_xlfn.XLOOKUP(Table3[[#This Row],[TDS SKU]],Sheet2!$B:$B,Sheet2!C:C)","v":"B"},{"$f":"_xlfn.XLOOKUP(Table3[[#This Row],[TDS SKU]],Sheet2!$B:$B,Sheet2!D:D)","v":"A"}]
["MEU74LW/A","15007589",399,"APPLE WATCH 11 42 SI AL PF SB ML GPS-USA","SXCJ2LL/A","Series 11","Silver","Aluminum","42MM","No","Sport Band","Purple Fog","Medium/Large",{"$f":"_xlfn.XLOOKUP(Table3[[#This Row],[TDS SKU]],Sheet2!$B:$B,Sheet2!C:C)","v":"B"},{"$f":"_xlfn.XLOOKUP(Table3[[#This Row],[TDS SKU]],Sheet2!$B:$B,Sheet2!D:D)","v":"A"}]
["MEUW4LW/A","15007590",429,"APPLE WATCH 11 46 JB AL BK SB SM GPS-USA","SXCJ2LL/A","Series 11","Jet Black","Aluminum","46MM","No","Sport Band","Black","Small/Medium",{"$f":"_xlfn.XLOOKUP(Table3[[#This Row],[TDS SKU]],Sheet2!$B:$B,Sheet2!C:C)","v":"A"},{"$f":"_xlfn.XLOOKUP(Table3[[#This Row],[TDS SKU]],Sheet2!$B:$B,Sheet2!D:D)","v":"A"}]
["MEUX4LW/A","15007591",429,"APPLE WATCH 11 46 JB AL BK SB ML GPS-USA","SXCJ2LL/A","Series 11","Jet Black","Aluminum","46MM","No","Sport Band","Black","Medium/Large",{"$f":"_xlfn.XLOOKUP(Table3[[#This Row],[TDS SKU]],Sheet2!$B:$B,Sheet2!C:C)","v":"A"},{"$f":"_xlfn.XLOOKUP(Table3[[#This Row],[TDS SKU]],Sheet2!$B:$B,Sheet2!D:D)","v":"A"}]
["MEV04LW/A","15007592",429,"APPLE WATCH 11 46 SG AL BK SB SM GPS-USA","SXCJ2LL/A","Series 11","Space Gray","Aluminum","46MM","No","Sport Band","Black","Small/Medium",{"$f":"_xlfn.XLOOKUP(Table3[[#This Row],[TDS SKU]],Sheet2!$B:$B,Sheet2!C:C)","v":"B"},{"$f":"_xlfn.XLOOKUP(Table3[[#This Row],[TDS SKU]],Sheet2!$B:$B,Sheet2!D:D)","v":"A"}]
["MEV44LW/A","15007512",429,"APPLE WATCH 11 46 SG AL BK SB ML GPS-USA","SXCJ2LL/A","Series 11","Space Gray","Aluminum","46MM","No","Sport Band","Black","Medium/Large",{"$f":"_xlfn.XLOOKUP(Table3[[#This Row],[TDS SKU]],Sheet2!$B:$B,Sheet2!C:C)","v":"A"},{"$f":"_xlfn.XLOOKUP(Table3[[#This Row],[TDS SKU]],Sheet2!$B:$B,Sheet2!D:D)","v":"A"}]
["MEV64LW/A","15007513",429,"APPLE WATCH 11 46 RG AL LB SB SM GPS-USA","SXCJ2LL/A","Series 11","Rose Gold","Aluminum","46MM","No","Sport Band","Light Blush","Small/Medium",{"$f":"_xlfn.XLOOKUP(Table3[[#This Row],[TDS SKU]],Sheet2!$B:$B,Sheet2!C:C)","v":"A"},{"$f":"_xlfn.XLOOKUP(Table3[[#This Row],[TDS SKU]],Sheet2!$B:$B,Sheet2!D:D)","v":"A"}]
["MEV74LW/A","15007514",429,"APPLE WATCH 11 46 RG AL LB SB ML GPS-USA","SXCJ2LL/A","Series 11","Rose Gold","Aluminum","46MM","No","Sport Band","Light Blush","Medium/Large",{"$f":"_xlfn.XLOOKUP(Table3[[#This Row],[TDS SKU]],Sheet2!$B:$B,Sheet2!C:C)","v":"A"},{"$f":"_xlfn.XLOOKUP(Table3[[#This Row],[TDS SKU]],Sheet2!$B:$B,Sheet2!D:D)","v":"A"}]
["MEV94LW/A","15007515",429,"APPLE WATCH 11 46 SI AL PF SB SM GPS-USA","SXCJ2LL/A","Series 11","Silver","Aluminum","46MM","No","Sport Band","Purple Fog","Small/Medium",{"$f":"_xlfn.XLOOKUP(Table3[[#This Row],[TDS SKU]],Sheet2!$B:$B,Sheet2!C:C)","v":"B"},{"$f":"_xlfn.XLOOKUP(Table3[[#This Row],[TDS SKU]],Sheet2!$B:$B,Sheet2!D:D)","v":"A"}]
["MEVA4LW/A","15007516",429,"APPLE WATCH 11 46 SI AL PF SB ML GPS-USA","SXCJ2LL/A","Series 11","Silver","Aluminum","46MM","No","Sport Band","Purple Fog","Medium/Large",{"$f":"_xlfn.XLOOKUP(Table3[[#This Row],[TDS SKU]],Sheet2!$B:$B,Sheet2!C:C)","v":"B"},{"$f":"_xlfn.XLOOKUP(Table3[[#This Row],[TDS SKU]],Sheet2!$B:$B,Sheet2!D:D)","v":"A"}]
["MEWH4LW/A","15007517",799,"APPLE WATCH ULTRA3 49 NT TI AB OB-USA","SXCK2LL/A","Ultra 3","Natural","Titanium ","49MM","Yes","Ocean Band","-","-",{"$f":"_xlfn.XLOOKUP(Table3[[#This Row],[TDS SKU]],Sheet2!$B:$B,Sheet2!C:C)","v":"B"},{"$f":"_xlfn.XLOOKUP(Table3[[#This Row],[TDS SKU]],Sheet2!$B:$B,Sheet2!D:D)","v":"A"}]
["MEWK4LW/A","15007518",799,"APPLE WATCH ULTRA3 49 NT TI LB ALP S-USA","SXCK2LL/A","Ultra 3","Natural","Titanium ","49MM","Yes","Alpine Loop","Light Blue","Small",{"$f":"_xlfn.XLOOKUP(Table3[[#This Row],[TDS SKU]],Sheet2!$B:$B,Sheet2!C:C)","v":"A"},{"$f":"_xlfn.XLOOKUP(Table3[[#This Row],[TDS SKU]],Sheet2!$B:$B,Sheet2!D:D)","v":"A"}]
["MEWM4LW/A","15007519",799,"APPLE WATCH ULTRA3 49 NT TI LB ALP M-USA","SXCK2LL/A","Ultra 3","Natural","Titanium ","49MM","Yes","Alpine Loop","Light Blue","Medium",{"$f":"_xlfn.XLOOKUP(Table3[[#This Row],[TDS SKU]],Sheet2!$B:$B,Sheet2!C:C)","v":"A"},{"$f":"_xlfn.XLOOKUP(Table3[[#This Row],[TDS SKU]],Sheet2!$B:$B,Sheet2!D:D)","v":"A"}]
["MEWP4LW/A","15007520",799,"APPLE WATCH ULTRA3 49 NT TI LB ALP L-USA","SXCK2LL/A","Ultra 3","Natural","Titanium ","49MM","Yes","Alpine Loop","Light Blue","Large",{"$f":"_xlfn.XLOOKUP(Table3[[#This Row],[TDS SKU]],Sheet2!$B:$B,Sheet2!C:C)","v":"A"},{"$f":"_xlfn.XLOOKUP(Table3[[#This Row],[TDS SKU]],Sheet2!$B:$B,Sheet2!D:D)","v":"A"}]
["MEWR4LW/A","15007521",799,"APPLE WATCH ULTRA3 49 N T B/BB TL SM-USA","SXCK2LL/A","Ultra 3","Natural","Titanium ","49MM","Yes","Trail Loop","Bright Blue","Small/Medium",{"$f":"_xlfn.XLOOKUP(Table3[[#This Row],[TDS SKU]],Sheet2!$B:$B,Sheet2!C:C)","v":"A"},{"$f":"_xlfn.XLOOKUP(Table3[[#This Row],[TDS SKU]],Sheet2!$B:$B,Sheet2!D:D)","v":"A"}]
["MEWU4LW/A","15007532",799,"APPLE WATCH ULTRA3 49 N T B/BB TL ML-USA","SXCK2LL/A","Ultra 3","Natural","Titanium ","49MM","Yes","Trail Loop","Bright Blue","Medium/Large",{"$f":"_xlfn.XLOOKUP(Table3[[#This Row],[TDS SKU]],Sheet2!$B:$B,Sheet2!C:C)","v":"A"},{"$f":"_xlfn.XLOOKUP(Table3[[#This Row],[TDS SKU]],Sheet2!$B:$B,Sheet2!D:D)","v":"A"}]
["MEWW4LW/A","15007533",899,"APPLE WATCH ULTRA3 49 NT TI NT TML S-USA","SXCK2LL/A","Ultra 3","Natural","Titanium ","49MM","Yes","Mila. Loop","Natural","Small",{"$f":"_xlfn.XLOOKUP(Table3[[#This Row],[TDS SKU]],Sheet2!$B:$B,Sheet2!C:C)","v":"B"},{"$f":"_xlfn.XLOOKUP(Table3[[#This Row],[TDS SKU]],Sheet2!$B:$B,Sheet2!D:D)","v":"A"}]
["MEWY4LW/A","15007534",899,"APPLE WATCH ULTRA3 49 NT TI NT TML M-USA","SXCK2LL/A","Ultra 3","Natural","Titanium ","49MM","Yes","Mila. Loop","Natural","Medium",{"$f":"_xlfn.XLOOKUP(Table3[[#This Row],[TDS SKU]],Sheet2!$B:$B,Sheet2!C:C)","v":"B"},{"$f":"_xlfn.XLOOKUP(Table3[[#This Row],[TDS SKU]],Sheet2!$B:$B,Sheet2!D:D)","v":"A"}]
["MF0E4LW/A","15007535",899,"APPLE WATCH ULTRA3 49 NT TI NT TML L-USA","SXCK2LL/A","Ultra 3","Natural","Titanium ","49MM","Yes","Mila. Loop","Natural","Large",{"$f":"_xlfn.XLOOKUP(Table3[[#This Row],[TDS SKU]],Sheet2!$B:$B,Sheet2!C:C)","v":"B"},{"$f":"_xlfn.XLOOKUP(Table3[[#This Row],[TDS SKU]],Sheet2!$B:$B,Sheet2!D:D)","v":"A"}]
["MF0J4LW/A","15007536",799,"APPLE WATCH ULTRA3 49 BLACK TI BK OB-USA","SXCK2LL/A","Ultra 3","Black","Titanium ","49MM","Yes","Ocean Band","-","-",{"$f":"_xlfn.XLOOKUP(Table3[[#This Row],[TDS SKU]],Sheet2!$B:$B,Sheet2!C:C)","v":"A"},{"$f":"_xlfn.XLOOKUP(Table3[[#This Row],[TDS SKU]],Sheet2!$B:$B,Sheet2!D:D)","v":"A"}]
["MF0Q4LW/A","15007537",799,"APPLE WATCH ULTRA3 49 BK TI BK ALP S-USA","SXCK2LL/A","Ultra 3","Black","Titanium ","49MM","Yes","Alpine Loop","Black","Small",{"$f":"_xlfn.XLOOKUP(Table3[[#This Row],[TDS SKU]],Sheet2!$B:$B,Sheet2!C:C)","v":"A"},{"$f":"_xlfn.XLOOKUP(Table3[[#This Row],[TDS SKU]],Sheet2!$B:$B,Sheet2!D:D)","v":"A"}]
["MF0V4LW/A","15007538",799,"APPLE WATCH ULTRA3 49 BK TI BK ALP M-USA","SXCK2LL/A","Ultra 3","Black","Titanium ","49MM","Yes","Alpine Loop","Black","Medium",{"$f":"_xlfn.XLOOKUP(Table3[[#This Row],[TDS SKU]],Sheet2!$B:$B,Sheet2!C:C)","v":"A"},{"$f":"_xlfn.XLOOKUP(Table3[[#This Row],[TDS SKU]],Sheet2!$B:$B,Sheet2!D:D)","v":"A"}]
["MF0X4LW/A","15007539",799,"APPLE WATCH ULTRA3 49 BK TI BK ALP L-USA","SXCK2LL/A","Ultra 3","Black","Titanium ","49MM","Yes","Alpine Loop","Black","Large",{"$f":"_xlfn.XLOOKUP(Table3[[#This Row],[TDS SKU]],Sheet2!$B:$B,Sheet2!C:C)","v":"B"},{"$f":"_xlfn.XLOOKUP(Table3[[#This Row],[TDS SKU]],Sheet2!$B:$B,Sheet2!D:D)","v":"A"}]
["MF1D4LW/A","15007540",799,"APPLE WATCH ULTRA3 49 BK TI BC TL SM-USA","SXCK2LL/A","Ultra 3","Black","Titanium ","49MM","Yes","Trail Loop","Black/Charcoal","Small/Medium",{"$f":"_xlfn.XLOOKUP(Table3[[#This Row],[TDS SKU]],Sheet2!$B:$B,Sheet2!C:C)","v":"A"},{"$f":"_xlfn.XLOOKUP(Table3[[#This Row],[TDS SKU]],Sheet2!$B:$B,Sheet2!D:D)","v":"A"}]
["MF1H4LW/A","15007541",799,"APPLE WATCH ULTRA3 49 BK TI BC TL ML-USA","SXCK2LL/A","Ultra 3","Black","Titanium ","49MM","Yes","Trail Loop","Black/Charcoal","Medium/Large",{"$f":"_xlfn.XLOOKUP(Table3[[#This Row],[TDS SKU]],Sheet2!$B:$B,Sheet2!C:C)","v":"A"},{"$f":"_xlfn.XLOOKUP(Table3[[#This Row],[TDS SKU]],Sheet2!$B:$B,Sheet2!D:D)","v":"A"}]
["MF1N4LW/A","15007553",899,"APPLE WATCH ULTRA3 49 BK TI BK TML S-USA","SXCK2LL/A","Ultra 3","Black","Titanium ","49MM","Yes","Mila. Loop","Black","Small",{"$f":"_xlfn.XLOOKUP(Table3[[#This Row],[TDS SKU]],Sheet2!$B:$B,Sheet2!C:C)","v":"B"},{"$f":"_xlfn.XLOOKUP(Table3[[#This Row],[TDS SKU]],Sheet2!$B:$B,Sheet2!D:D)","v":"A"}]
["MF1Q4LW/A","15007554",899,"APPLE WATCH ULTRA3 49 BK TI BK TML M-USA","SXCK2LL/A","Ultra 3","Black","Titanium ","49MM","Yes","Mila. Loop","Black","Medium",{"$f":"_xlfn.XLOOKUP(Table3[[#This Row],[TDS SKU]],Sheet2!$B:$B,Sheet2!C:C)","v":"B"},{"$f":"_xlfn.XLOOKUP(Table3[[#This Row],[TDS SKU]],Sheet2!$B:$B,Sheet2!D:D)","v":"A"}]
["MF1T4LW/A","15007555",899,"APPLE WATCH ULTRA3 49 BK TI BK TML L-USA","SXCK2LL/A","Ultra 3","Black","Titanium ","49MM","Yes","Mila. Loop","Black","Large",{"$f":"_xlfn.XLOOKUP(Table3[[#This Row],[TDS SKU]],Sheet2!$B:$B,Sheet2!C:C)","v":"B"},{"$f":"_xlfn.XLOOKUP(Table3[[#This Row],[TDS SKU]],Sheet2!$B:$B,Sheet2!D:D)","v":"A"}]
["MF834LW/A","15007556",499,"APPLE WATCH 11 42 JB AL BK SB SM CEL-USA","SXCJ2LL/A","Series 11","Jet Black","Aluminum","42MM","Yes","Sport Band","Black","Small/Medium",{"$f":"_xlfn.XLOOKUP(Table3[[#This Row],[TDS SKU]],Sheet2!$B:$B,Sheet2!C:C)","v":"B"},{"$f":"_xlfn.XLOOKUP(Table3[[#This Row],[TDS SKU]],Sheet2!$B:$B,Sheet2!D:D)","v":"A"}]
["MF854LW/A","15007557",499,"APPLE WATCH 11 42 JB AL BK SB ML CEL-USA","SXCJ2LL/A","Series 11","Jet Black","Aluminum","42MM","Yes","Sport Band","Black","Medium/Large",{"$f":"_xlfn.XLOOKUP(Table3[[#This Row],[TDS SKU]],Sheet2!$B:$B,Sheet2!C:C)","v":"B"},{"$f":"_xlfn.XLOOKUP(Table3[[#This Row],[TDS SKU]],Sheet2!$B:$B,Sheet2!D:D)","v":"A"}]
["MF8A4LW/A","15007558",499,"APPLE WATCH 11 42 SG AL BK SB SM CEL-USA","SXCJ2LL/A","Series 11","Space Gray","Aluminum","42MM","Yes","Sport Band","Black","Small/Medium",{"$f":"_xlfn.XLOOKUP(Table3[[#This Row],[TDS SKU]],Sheet2!$B:$B,Sheet2!C:C)","v":"B"},{"$f":"_xlfn.XLOOKUP(Table3[[#This Row],[TDS SKU]],Sheet2!$B:$B,Sheet2!D:D)","v":"A"}]
["MF8C4LW/A","15007559",499,"APPLE WATCH 11 42 SG AL BK SB ML CEL-USA","SXCJ2LL/A","Series 11","Space Gray","Aluminum","42MM","Yes","Sport Band","Black","Medium/Large",{"$f":"_xlfn.XLOOKUP(Table3[[#This Row],[TDS SKU]],Sheet2!$B:$B,Sheet2!C:C)","v":"B"},{"$f":"_xlfn.XLOOKUP(Table3[[#This Row],[TDS SKU]],Sheet2!$B:$B,Sheet2!D:D)","v":"A"}]
["MF8E4LW/A","15007560",499,"APPLE WATCH 11 42 RG AL LB SB SM CEL-USA","SXCJ2LL/A","Series 11","Rose Gold","Aluminum","42MM","Yes","Sport Band","Light Blush","Small/Medium",{"$f":"_xlfn.XLOOKUP(Table3[[#This Row],[TDS SKU]],Sheet2!$B:$B,Sheet2!C:C)","v":"B"},{"$f":"_xlfn.XLOOKUP(Table3[[#This Row],[TDS SKU]],Sheet2!$B:$B,Sheet2!D:D)","v":"A"}]
["MF8F4LW/A","15007561",499,"APPLE WATCH 11 42 RG AL LB SB ML CEL-USA","SXCJ2LL/A","Series 11","Rose Gold","Aluminum","42MM","Yes","Sport Band","Light Blush","Medium/Large",{"$f":"_xlfn.XLOOKUP(Table3[[#This Row],[TDS SKU]],Sheet2!$B:$B,Sheet2!C:C)","v":"B"},{"$f":"_xlfn.XLOOKUP(Table3[[#This Row],[TDS SKU]],Sheet2!$B:$B,Sheet2!D:D)","v":"A"}]
["MF8H4LW/A","15007562",499,"APPLE WATCH 11 42 SI AL PF SB SM CEL-USA","SXCJ2LL/A","Series 11","Silver","Aluminum","42MM","Yes","Sport Band","Purple Fog","Small/Medium",{"$f":"_xlfn.XLOOKUP(Table3[[#This Row],[TDS SKU]],Sheet2!$B:$B,Sheet2!C:C)","v":"B"},{"$f":"_xlfn.XLOOKUP(Table3[[#This Row],[TDS SKU]],Sheet2!$B:$B,Sheet2!D:D)","v":"A"}]
["MF8J4LW/A","15007573",499,"APPLE WATCH 11 42 SI AL PF SB ML CEL-USA","SXCJ2LL/A","Series 11","Silver","Aluminum","42MM","Yes","Sport Band","Purple Fog","Medium/Large",{"$f":"_xlfn.XLOOKUP(Table3[[#This Row],[TDS SKU]],Sheet2!$B:$B,Sheet2!C:C)","v":"B"},{"$f":"_xlfn.XLOOKUP(Table3[[#This Row],[TDS SKU]],Sheet2!$B:$B,Sheet2!D:D)","v":"A"}]
["MF8M4LW/A","15007574",699,"APPLE WATCH 11 42 NT TI SG SB SM CEL-USA","SXCJ2LL/A","Series 11","Natural","Titanium ","42MM","Yes","Sport Band","Stone Gray","Small/Medium",{"$f":"_xlfn.XLOOKUP(Table3[[#This Row],[TDS SKU]],Sheet2!$B:$B,Sheet2!C:C)","v":"B"},{"$f":"_xlfn.XLOOKUP(Table3[[#This Row],[TDS SKU]],Sheet2!$B:$B,Sheet2!D:D)","v":"A"}]
["MF8N4LW/A","15007575",699,"APPLE WATCH 11 42 NT TI SG SB ML CEL-USA","SXCJ2LL/A","Series 11","Natural","Titanium ","42MM","Yes","Sport Band","Stone Gray","Medium/Large",{"$f":"_xlfn.XLOOKUP(Table3[[#This Row],[TDS SKU]],Sheet2!$B:$B,Sheet2!C:C)","v":"B"},{"$f":"_xlfn.XLOOKUP(Table3[[#This Row],[TDS SKU]],Sheet2!$B:$B,Sheet2!D:D)","v":"A"}]
["MF8P4LW/A","15007576",749,"APPLE WATCH 11 42 NT TI NT ML CEL-USA","SXCJ2LL/A","Series 11","Natural","Titanium ","42MM","Yes","Mila. Loop","Natural","-",{"$f":"_xlfn.XLOOKUP(Table3[[#This Row],[TDS SKU]],Sheet2!$B:$B,Sheet2!C:C)","v":"B"},{"$f":"_xlfn.XLOOKUP(Table3[[#This Row],[TDS SKU]],Sheet2!$B:$B,Sheet2!D:D)","v":"A"}]
["MF8R4LW/A","15007577",699,"APPLE WATCH 11 42 SL TI BK SB SM CEL-USA","SXCJ2LL/A","Series 11","Slate","Titanium ","42MM","Yes","Sport Band","Black","Small/Medium",{"$f":"_xlfn.XLOOKUP(Table3[[#This Row],[TDS SKU]],Sheet2!$B:$B,Sheet2!C:C)","v":"B"},{"$f":"_xlfn.XLOOKUP(Table3[[#This Row],[TDS SKU]],Sheet2!$B:$B,Sheet2!D:D)","v":"A"}]
["MF8T4LW/A","15007578",699,"APPLE WATCH 11 42 SL TI BK SB ML CEL-USA","SXCJ2LL/A","Series 11","Slate","Titanium ","42MM","Yes","Sport Band","Black","Medium/Large",{"$f":"_xlfn.XLOOKUP(Table3[[#This Row],[TDS SKU]],Sheet2!$B:$B,Sheet2!C:C)","v":"B"},{"$f":"_xlfn.XLOOKUP(Table3[[#This Row],[TDS SKU]],Sheet2!$B:$B,Sheet2!D:D)","v":"A"}]
["MF8U4LW/A","15007579",749,"APPLE WATCH 11 42 SLATE TI SL ML CEL-USA","SXCJ2LL/A","Series 11","Slate","Titanium ","42MM","Yes","Mila. Loop","Slate","-",{"$f":"_xlfn.XLOOKUP(Table3[[#This Row],[TDS SKU]],Sheet2!$B:$B,Sheet2!C:C)","v":"B"},{"$f":"_xlfn.XLOOKUP(Table3[[#This Row],[TDS SKU]],Sheet2!$B:$B,Sheet2!D:D)","v":"A"}]
["MF8W4LW/A","15007580",699,"APPLE WATCH 11 42 GD TI LB SB SM CEL-USA","SXCJ2LL/A","Series 11","Gold","Titanium ","42MM","Yes","Sport Band","Light Blush","Small/Medium",{"$f":"_xlfn.XLOOKUP(Table3[[#This Row],[TDS SKU]],Sheet2!$B:$B,Sheet2!C:C)","v":"B"},{"$f":"_xlfn.XLOOKUP(Table3[[#This Row],[TDS SKU]],Sheet2!$B:$B,Sheet2!D:D)","v":"A"}]
["MF8X4LW/A","15007581",699,"APPLE WATCH 11 42 GD TI LB SB ML CEL-USA","SXCJ2LL/A","Series 11","Gold","Titanium ","42MM","Yes","Sport Band","Light Blush","Medium/Large",{"$f":"_xlfn.XLOOKUP(Table3[[#This Row],[TDS SKU]],Sheet2!$B:$B,Sheet2!C:C)","v":"B"},{"$f":"_xlfn.XLOOKUP(Table3[[#This Row],[TDS SKU]],Sheet2!$B:$B,Sheet2!D:D)","v":"A"}]
["MF8Y4LW/A","15007582",749,"APPLE WATCH 11 42 GOLD TI GD ML CEL-USA","SXCJ2LL/A","Series 11","Gold","Titanium ","42MM","Yes","Mila. Loop","Gold","-",{"$f":"_xlfn.XLOOKUP(Table3[[#This Row],[TDS SKU]],Sheet2!$B:$B,Sheet2!C:C)","v":"B"},{"$f":"_xlfn.XLOOKUP(Table3[[#This Row],[TDS SKU]],Sheet2!$B:$B,Sheet2!D:D)","v":"A"}]
["MFC24LW/A","15007593",529,"APPLE WATCH 11 46 JB AL BK SB SM CEL-USA","SXCJ2LL/A","Series 11","Jet Black","Aluminum","46MM","Yes","Sport Band","Black","Small/Medium",{"$f":"_xlfn.XLOOKUP(Table3[[#This Row],[TDS SKU]],Sheet2!$B:$B,Sheet2!C:C)","v":"B"},{"$f":"_xlfn.XLOOKUP(Table3[[#This Row],[TDS SKU]],Sheet2!$B:$B,Sheet2!D:D)","v":"A"}]
["MFC44LW/A","15007594",529,"APPLE WATCH 11 46 JB AL BK SB ML CEL-USA","SXCJ2LL/A","Series 11","Jet Black","Aluminum","46MM","Yes","Sport Band","Black","Medium/Large",{"$f":"_xlfn.XLOOKUP(Table3[[#This Row],[TDS SKU]],Sheet2!$B:$B,Sheet2!C:C)","v":"B"},{"$f":"_xlfn.XLOOKUP(Table3[[#This Row],[TDS SKU]],Sheet2!$B:$B,Sheet2!D:D)","v":"A"}]
["MFC94LW/A","15007595",529,"APPLE WATCH 11 46 SG AL BK SB SM CEL-USA","SXCJ2LL/A","Series 11","Space Gray","Aluminum","46MM","Yes","Sport Band","Black","Small/Medium",{"$f":"_xlfn.XLOOKUP(Table3[[#This Row],[TDS SKU]],Sheet2!$B:$B,Sheet2!C:C)","v":"B"},{"$f":"_xlfn.XLOOKUP(Table3[[#This Row],[TDS SKU]],Sheet2!$B:$B,Sheet2!D:D)","v":"A"}]
["MFCA4LW/A","15007596",529,"APPLE WATCH 11 46 SG AL BK SB ML CEL-USA","SXCJ2LL/A","Series 11","Space Gray","Aluminum","46MM","Yes","Sport Band","Black","Medium/Large",{"$f":"_xlfn.XLOOKUP(Table3[[#This Row],[TDS SKU]],Sheet2!$B:$B,Sheet2!C:C)","v":"B"},{"$f":"_xlfn.XLOOKUP(Table3[[#This Row],[TDS SKU]],Sheet2!$B:$B,Sheet2!D:D)","v":"A"}]
["MFCG4LW/A","15007597",529,"APPLE WATCH 11 46 RG AL LB SB SM CEL-USA","SXCJ2LL/A","Series 11","Rose Gold","Aluminum","46MM","Yes","Sport Band","Light Blush","Small/Medium",{"$f":"_xlfn.XLOOKUP(Table3[[#This Row],[TDS SKU]],Sheet2!$B:$B,Sheet2!C:C)","v":"B"},{"$f":"_xlfn.XLOOKUP(Table3[[#This Row],[TDS SKU]],Sheet2!$B:$B,Sheet2!D:D)","v":"A"}]
["MFCJ4LW/A","15007598",529,"APPLE WATCH 11 46 RG AL LB SB ML CEL-USA","SXCJ2LL/A","Series 11","Rose Gold","Aluminum","46MM","Yes","Sport Band","Light Blush","Medium/Large",{"$f":"_xlfn.XLOOKUP(Table3[[#This Row],[TDS SKU]],Sheet2!$B:$B,Sheet2!C:C)","v":"B"},{"$f":"_xlfn.XLOOKUP(Table3[[#This Row],[TDS SKU]],Sheet2!$B:$B,Sheet2!D:D)","v":"A"}]
["MFCP4LW/A","15007599",529,"APPLE WATCH 11 46 SI AL PF SB SM CEL-USA","SXCJ2LL/A","Series 11","Silver","Aluminum","46MM","Yes","Sport Band","Purple Fog","Small/Medium",{"$f":"_xlfn.XLOOKUP(Table3[[#This Row],[TDS SKU]],Sheet2!$B:$B,Sheet2!C:C)","v":"B"},{"$f":"_xlfn.XLOOKUP(Table3[[#This Row],[TDS SKU]],Sheet2!$B:$B,Sheet2!D:D)","v":"A"}]
["MFCR4LW/A","15007600",529,"APPLE WATCH 11 46 SI AL PF SB ML CEL-USA","SXCJ2LL/A","Series 11","Silver","Aluminum","46MM","Yes","Sport Band","Purple Fog","Medium/Large",{"$f":"_xlfn.XLOOKUP(Table3[[#This Row],[TDS SKU]],Sheet2!$B:$B,Sheet2!C:C)","v":"B"},{"$f":"_xlfn.XLOOKUP(Table3[[#This Row],[TDS SKU]],Sheet2!$B:$B,Sheet2!D:D)","v":"A"}]
["MFCW4LW/A","15007601",749,"APPLE WATCH 11 46 NT TI SG SB SM CEL-USA","SXCJ2LL/A","Series 11","Natural","Titanium ","46MM","Yes","Sport Band","Stone Gray","Small/Medium",{"$f":"_xlfn.XLOOKUP(Table3[[#This Row],[TDS SKU]],Sheet2!$B:$B,Sheet2!C:C)","v":"B"},{"$f":"_xlfn.XLOOKUP(Table3[[#This Row],[TDS SKU]],Sheet2!$B:$B,Sheet2!D:D)","v":"A"}]
["MFCX4LW/A","15007602",749,"APPLE WATCH 11 46 NT TI SG SB ML CEL-USA","SXCJ2LL/A","Series 11","Natural","Titanium ","46MM","Yes","Sport Band","Stone Gray","Medium/Large",{"$f":"_xlfn.XLOOKUP(Table3[[#This Row],[TDS SKU]],Sheet2!$B:$B,Sheet2!C:C)","v":"B"},{"$f":"_xlfn.XLOOKUP(Table3[[#This Row],[TDS SKU]],Sheet2!$B:$B,Sheet2!D:D)","v":"A"}]
["MFCY4LW/A","15007603",799,"APPLE WATCH 11 46 NT TI NT ML SM CEL-USA","SXCJ2LL/A","Series 11","Natural","Titanium ","46MM","Yes","Mila. Loop","Natural","Small/Medium",{"$f":"_xlfn.XLOOKUP(Table3[[#This Row],[TDS SKU]],Sheet2!$B:$B,Sheet2!C:C)","v":"B"},{"$f":"_xlfn.XLOOKUP(Table3[[#This Row],[TDS SKU]],Sheet2!$B:$B,Sheet2!D:D)","v":"A"}]
["MFD04LW/A","15007604",799,"APPLE WATCH 11 46 NT TI NT ML ML CEL-USA","SXCJ2LL/A","Series 11","Natural","Titanium ","46MM","Yes","Mila. Loop","Natural","Medium/Large",{"$f":"_xlfn.XLOOKUP(Table3[[#This Row],[TDS SKU]],Sheet2!$B:$B,Sheet2!C:C)","v":"B"},{"$f":"_xlfn.XLOOKUP(Table3[[#This Row],[TDS SKU]],Sheet2!$B:$B,Sheet2!D:D)","v":"A"}]
["MFD14LW/A","15007605",749,"APPLE WATCH 11 46 SL TI BK SB SM CEL-USA","SXCJ2LL/A","Series 11","Slate","Titanium ","46MM","Yes","Sport Band","Black","Small/Medium",{"$f":"_xlfn.XLOOKUP(Table3[[#This Row],[TDS SKU]],Sheet2!$B:$B,Sheet2!C:C)","v":"B"},{"$f":"_xlfn.XLOOKUP(Table3[[#This Row],[TDS SKU]],Sheet2!$B:$B,Sheet2!D:D)","v":"A"}]
["MFD24LW/A","15007606",749,"APPLE WATCH 11 46 SL TI BK SB ML CEL-USA","SXCJ2LL/A","Series 11","Slate","Titanium ","46MM","Yes","Sport Band","Black","Medium/Large",{"$f":"_xlfn.XLOOKUP(Table3[[#This Row],[TDS SKU]],Sheet2!$B:$B,Sheet2!C:C)","v":"B"},{"$f":"_xlfn.XLOOKUP(Table3[[#This Row],[TDS SKU]],Sheet2!$B:$B,Sheet2!D:D)","v":"A"}]
["MFD34LW/A","15007607",799,"APPLE WATCH 11 46 SL TI SL ML SM CEL-USA","SXCJ2LL/A","Series 11","Slate","Titanium ","46MM","Yes","Mila. Loop","Slate","Small/Medium",{"$f":"_xlfn.XLOOKUP(Table3[[#This Row],[TDS SKU]],Sheet2!$B:$B,Sheet2!C:C)","v":"B"},{"$f":"_xlfn.XLOOKUP(Table3[[#This Row],[TDS SKU]],Sheet2!$B:$B,Sheet2!D:D)","v":"A"}]
["MFD44LW/A","15007608",799,"APPLE WATCH 11 46 SL TI SL ML ML CEL-USA","SXCJ2LL/A","Series 11","Slate","Titanium ","46MM","Yes","Mila. Loop","Slate","Medium/Large",{"$f":"_xlfn.XLOOKUP(Table3[[#This Row],[TDS SKU]],Sheet2!$B:$B,Sheet2!C:C)","v":"B"},{"$f":"_xlfn.XLOOKUP(Table3[[#This Row],[TDS SKU]],Sheet2!$B:$B,Sheet2!D:D)","v":"A"}]
["MFD54LW/A","15007609",749,"APPLE WATCH 11 46 GD TI LB SB SM CEL-USA","SXCJ2LL/A","Series 11","Gold","Titanium ","46MM","Yes","Sport Band","Light Blush","Small/Medium",{"$f":"_xlfn.XLOOKUP(Table3[[#This Row],[TDS SKU]],Sheet2!$B:$B,Sheet2!C:C)","v":"B"},{"$f":"_xlfn.XLOOKUP(Table3[[#This Row],[TDS SKU]],Sheet2!$B:$B,Sheet2!D:D)","v":"A"}]
["MFD64LW/A","15007610",749,"APPLE WATCH 11 46 GD TI LB SB ML CEL-USA","SXCJ2LL/A","Series 11","Gold","Titanium ","46MM","Yes","Sport Band","Light Blush","Medium/Large",{"$f":"_xlfn.XLOOKUP(Table3[[#This Row],[TDS SKU]],Sheet2!$B:$B,Sheet2!C:C)","v":"B"},{"$f":"_xlfn.XLOOKUP(Table3[[#This Row],[TDS SKU]],Sheet2!$B:$B,Sheet2!D:D)","v":"A"}]
["MFD74LW/A","15007611",799,"APPLE WATCH 11 46 GD TI GD ML SM CEL-USA","SXCJ2LL/A","Series 11","Gold","Titanium ","46MM","Yes","Mila. Loop","Gold","Small/Medium",{"$f":"_xlfn.XLOOKUP(Table3[[#This Row],[TDS SKU]],Sheet2!$B:$B,Sheet2!C:C)","v":"B"},{"$f":"_xlfn.XLOOKUP(Table3[[#This Row],[TDS SKU]],Sheet2!$B:$B,Sheet2!D:D)","v":"A"}]
["MFD84LW/A","15007612",799,"APPLE WATCH 11 46 GD TI GD ML ML CEL-USA","SXCJ2LL/A","Series 11","Gold","Titanium ","46MM","Yes","Mila. Loop","Gold","Medium/Large",{"$f":"_xlfn.XLOOKUP(Table3[[#This Row],[TDS SKU]],Sheet2!$B:$B,Sheet2!C:C)","v":"B"},{"$f":"_xlfn.XLOOKUP(Table3[[#This Row],[TDS SKU]],Sheet2!$B:$B,Sheet2!D:D)","v":"A"}]

{"sheet":"iPhone","index":10,"n_rows":92,"n_cols":11,"rows_kept":92,"cut":false,"hidden":false,"merged":[]}
[]
[]
[]
[]
[]
[]
[]
[]
[]
[]
[]
[]
[]
[]
[]
[]
[]
[]
[]
[]
[]
[]
["*Red text denotes EOL product"]
["Apple Part ","TDS SKU","MSRP","Description","AppleCare+","Stocking Status","Model","Color","Storage","Column1","Column2"]
["MTLV3LL/A","7831269",0,"iPhone 15 128GB Black","SJRQ2LL/A","Yes","iPhone 15","Black","128GB",{"$f":"_xlfn.XLOOKUP(Table26[[#This Row],[TDS SKU]],Sheet2!B:B,Sheet2!C:C)","v":"B"},{"$f":"_xlfn.XLOOKUP(Table26[[#This Row],[TDS SKU]],Sheet2!B:B,Sheet2!D:D)","v":"A"}]
["MTLY3LL/A","7831266",0,"iPhone 15 128GB Blue","SJRQ2LL/A","No","iPhone 15","Blue","128GB",{"$f":"_xlfn.XLOOKUP(Table26[[#This Row],[TDS SKU]],Sheet2!B:B,Sheet2!C:C)","v":"B"},{"$f":"_xlfn.XLOOKUP(Table26[[#This Row],[TDS SKU]],Sheet2!B:B,Sheet2!D:D)","v":"A"}]
["MTM43LL/A","7831277",0,"iPhone 15 256GB Black","SJRQ2LL/A","No","iPhone 15","Black","256GB",{"$f":"_xlfn.XLOOKUP(Table26[[#This Row],[TDS SKU]],Sheet2!B:B,Sheet2!C:C)","v":"B"},{"$f":"_xlfn.XLOOKUP(Table26[[#This Row],[TDS SKU]],Sheet2!B:B,Sheet2!D:D)","v":"A"}]
["MTM73LL/A","7831282",0,"iPhone 15 256GB Blue","SJRQ2LL/A","No","iPhone 15","Blue","256GB",{"$f":"_xlfn.XLOOKUP(Table26[[#This Row],[TDS SKU]],Sheet2!B:B,Sheet2!C:C)","v":"B"},{"$f":"_xlfn.XLOOKUP(Table26[[#This Row],[TDS SKU]],Sheet2!B:B,Sheet2!D:D)","v":"A"}]
["MYAP3LL/A","14195408",729,"iPhone 16 128GB Black","SNHA2LL/A","Yes","iPhone 16","Black","128GB",{"$f":"_xlfn.XLOOKUP(Table26[[#This Row],[TDS SKU]],Sheet2!B:B,Sheet2!C:C)","v":"B"},{"$f":"_xlfn.XLOOKUP(Table26[[#This Row],[TDS SKU]],Sheet2!B:B,Sheet2!D:D)","v":"A"}]
["MYAQ3LL/A","14195409",729,"iPhone 16 128GB White","SNHA2LL/A","No","iPhone 16","White","128GB",{"$f":"_xlfn.XLOOKUP(Table26[[#This Row],[TDS SKU]],Sheet2!B:B,Sheet2!C:C)","v":"B"},{"$f":"_xlfn.XLOOKUP(Table26[[#This Row],[TDS SKU]],Sheet2!B:B,Sheet2!D:D)","v":"A"}]
["MYAR3LL/A","14195410",729,"iPhone 16 128GB Pink","SNHA2LL/A","No","iPhone 16","Pink","128GB",{"$f":"_xlfn.XLOOKUP(Table26[[#This Row],[TDS SKU]],Sheet2!B:B,Sheet2!C:C)","v":"B"},{"$f":"_xlfn.XLOOKUP(Table26[[#This Row],[TDS SKU]],Sheet2!B:B,Sheet2!D:D)","v":"A"}]
["MYAT3LL/A","14195411",729,"iPhone 16 128GB Ultramarine","SNHA2LL/A","No","iPhone 16","Ultramarine","128GB",{"$f":"_xlfn.XLOOKUP(Table26[[#This Row],[TDS SKU]],Sheet2!B:B,Sheet2!C:C)","v":"B"},{"$f":"_xlfn.XLOOKUP(Table26[[#This Row],[TDS SKU]],Sheet2!B:B,Sheet2!D:D)","v":"A"}]
["MYAW3LL/A","14195412",729,"iPhone 16 128GB Teal","SNHA2LL/A","No","iPhone 16","Teal","128GB",{"$f":"_xlfn.XLOOKUP(Table26[[#This Row],[TDS SKU]],Sheet2!B:B,Sheet2!C:C)","v":"B"},{"$f":"_xlfn.XLOOKUP(Table26[[#This Row],[TDS SKU]],Sheet2!B:B,Sheet2!D:D)","v":"A"}]
["MXUT3LL/A","14195441",829,"iPhone 16 Plus 128GB Black","SNHP2LL/A","Yes","iPhone 16 Plus","Black","128GB",{"$f":"_xlfn.XLOOKUP(Table26[[#This Row],[TDS SKU]],Sheet2!B:B,Sheet2!C:C)","v":"B"},{"$f":"_xlfn.XLOOKUP(Table26[[#This Row],[TDS SKU]],Sheet2!B:B,Sheet2!D:D)","v":"A"}]
["MXUU3LL/A","14195442",829,"iPhone 16 Plus 128GB White","SNHP2LL/A","No","iPhone 16 Plus","White","128GB",{"$f":"_xlfn.XLOOKUP(Table26[[#This Row],[TDS SKU]],Sheet2!B:B,Sheet2!C:C)","v":"B"},{"$f":"_xlfn.XLOOKUP(Table26[[#This Row],[TDS SKU]],Sheet2!B:B,Sheet2!D:D)","v":"A"}]
["MXUV3LL/A","14195443",829,"iPhone 16 Plus 128GB Pink","SNHP2LL/A","No","iPhone 16 Plus","Pink","128GB",{"$f":"_xlfn.XLOOKUP(Table26[[#This Row],[TDS SKU]],Sheet2!B:B,Sheet2!C:C)","v":"B"},{"$f":"_xlfn.XLOOKUP(Table26[[#This Row],[TDS SKU]],Sheet2!B:B,Sheet2!D:D)","v":"A"}]
["MXUW3LL/A","14195444",829,"iPhone 16 Plus 128GB Ultramarine","SNHP2LL/A","No","iPhone 16 Plus","Ultramarine","128GB",{"$f":"_xlfn.XLOOKUP(Table26[[#This Row],[TDS SKU]],Sheet2!B:B,Sheet2!C:C)","v":"B"},{"$f":"_xlfn.XLOOKUP(Table26[[#This Row],[TDS SKU]],Sheet2!B:B,Sheet2!D:D)","v":"A"}]
["MXUX3LL/A","14195445",829,"iPhone 16 Plus 128GB Teal","SNHP2LL/A","No","iPhone 16 Plus","Teal","128GB",{"$f":"_xlfn.XLOOKUP(Table26[[#This Row],[TDS SKU]],Sheet2!B:B,Sheet2!C:C)","v":"B"},{"$f":"_xlfn.XLOOKUP(Table26[[#This Row],[TDS SKU]],Sheet2!B:B,Sheet2!D:D)","v":"A"}]
["MXUY3LL/A","14195446",929,"iPhone 16 Plus 256GB Black","SNHP2LL/A","No","iPhone 16 Plus","Black","256GB",{"$f":"_xlfn.XLOOKUP(Table26[[#This Row],[TDS SKU]],Sheet2!B:B,Sheet2!C:C)","v":"B"},{"$f":"_xlfn.XLOOKUP(Table26[[#This Row],[TDS SKU]],Sheet2!B:B,Sheet2!D:D)","v":"A"}]
["MXV03LL/A","14195447",929,"iPhone 16 Plus 256GB White","SNHP2LL/A","No","iPhone 16 Plus","White","256GB",{"$f":"_xlfn.XLOOKUP(Table26[[#This Row],[TDS SKU]],Sheet2!B:B,Sheet2!C:C)","v":"B"},{"$f":"_xlfn.XLOOKUP(Table26[[#This Row],[TDS SKU]],Sheet2!B:B,Sheet2!D:D)","v":"A"}]
["MXV13LL/A","14195448",929,"iPhone 16 Plus 256GB Pink","SNHP2LL/A","No","iPhone 16 Plus","Pink","256GB",{"$f":"_xlfn.XLOOKUP(Table26[[#This Row],[TDS SKU]],Sheet2!B:B,Sheet2!C:C)","v":"B"},{"$f":"_xlfn.XLOOKUP(Table26[[#This Row],[TDS SKU]],Sheet2!B:B,Sheet2!D:D)","v":"A"}]
["MXV33LL/A","14195449",929,"iPhone 16 Plus 256GB Ultramarine","SNHP2LL/A","No","iPhone 16 Plus","Ultramarine","256GB",{"$f":"_xlfn.XLOOKUP(Table26[[#This Row],[TDS SKU]],Sheet2!B:B,Sheet2!C:C)","v":"B"},{"$f":"_xlfn.XLOOKUP(Table26[[#This Row],[TDS SKU]],Sheet2!B:B,Sheet2!D:D)","v":"A"}]
["MXV43LL/A","14195450",929,"iPhone 16 Plus 256GB Teal","SNHP2LL/A","No","iPhone 16 Plus","Teal","256GB",{"$f":"_xlfn.XLOOKUP(Table26[[#This Row],[TDS SKU]],Sheet2!B:B,Sheet2!C:C)","v":"B"},{"$f":"_xlfn.XLOOKUP(Table26[[#This Row],[TDS SKU]],Sheet2!B:B,Sheet2!D:D)","v":"A"}]
["MFXG4LL/A","15007396",1199,"iPhone 17 Pro Max 256GB Silver",{"$f":"_xlfn.XLOOKUP(Table26[[#This Row],[AppleCare+]],'AC+, OS, Services'!C:C,'AC+, OS, Services'!B:B)","v":"SWY92LL/A"},"Yes","iPhone 17 Pro Max","Silver","256GB",{"$f":"_xlfn.XLOOKUP(Table26[[#This Row],[TDS SKU]],Sheet2!B:B,Sheet2!C:C)","v":"B"},{"$f":"_xlfn.XLOOKUP(Table26[[#This Row],[TDS SKU]],Sheet2!B:B,Sheet2!D:D)","v":"A"}]
["MFXH4LL/A","15007397",1199,"iPhone 17 Pro Max 256GB Cosmic Orange",{"$f":"_xlfn.XLOOKUP(Table26[[#This Row],[AppleCare+]],'AC+, OS, Services'!C:C,'AC+, OS, Services'!B:B)","v":"SWY92LL/A"},"Yes","iPhone 17 Pro Max","Cosmic Orange","256GB",{"$f":"_xlfn.XLOOKUP(Table26[[#This Row],[TDS SKU]],Sheet2!B:B,Sheet2!C:C)","v":"B"},{"$f":"_xlfn.XLOOKUP(Table26[[#This Row],[TDS SKU]],Sheet2!B:B,Sheet2!D:D)","v":"A"}]
["MFXJ4LL/A","15007398",1199,"iPhone 17 Pro Max 256GB Deep Blue",{"$f":"_xlfn.XLOOKUP(Table26[[#This Row],[AppleCare+]],'AC+, OS, Services'!C:C,'AC+, OS, Services'!B:B)","v":"SWY92LL/A"},"Yes","iPhone 17 Pro Max","Deep Blue","256GB",{"$f":"_xlfn.XLOOKUP(Table26[[#This Row],[TDS SKU]],Sheet2!B:B,Sheet2!C:C)","v":"B"},{"$f":"_xlfn.XLOOKUP(Table26[[#This Row],[TDS SKU]],Sheet2!B:B,Sheet2!D:D)","v":"A"}]
["MFXK4LL/A","15007399",1399,"iPhone 17 Pro Max 512GB Silver",{"$f":"_xlfn.XLOOKUP(Table26[[#This Row],[AppleCare+]],'AC+, OS, Services'!C:C,'AC+, OS, Services'!B:B)","v":"SWY92LL/A"},"Yes","iPhone 17 Pro Max","Silver","512GB",{"$f":"_xlfn.XLOOKUP(Table26[[#This Row],[TDS SKU]],Sheet2!B:B,Sheet2!C:C)","v":"B"},{"$f":"_xlfn.XLOOKUP(Table26[[#This Row],[TDS SKU]],Sheet2!B:B,Sheet2!D:D)","v":"A"}]
["MFXL4LL/A","15007400",1399,"iPhone 17 Pro Max 512GB Cosmic Orange",{"$f":"_xlfn.XLOOKUP(Table26[[#This Row],[AppleCare+]],'AC+, OS, Services'!C:C,'AC+, OS, Services'!B:B)","v":"SWY92LL/A"},"No","iPhone 17 Pro Max","Cosmic Orange","512GB",{"$f":"_xlfn.XLOOKUP(Table26[[#This Row],[TDS SKU]],Sheet2!B:B,Sheet2!C:C)","v":"B"},{"$f":"_xlfn.XLOOKUP(Table26[[#This Row],[TDS SKU]],Sheet2!B:B,Sheet2!D:D)","v":"A"}]
["MFXM4LL/A","15007401",1399,"iPhone 17 Pro Max 512GB Deep Blue",{"$f":"_xlfn.XLOOKUP(Table26[[#This Row],[AppleCare+]],'AC+, OS, Services'!C:C,'AC+, OS, Services'!B:B)","v":"SWY92LL/A"},"No","iPhone 17 Pro Max","Deep Blue","512GB",{"$f":"_xlfn.XLOOKUP(Table26[[#This Row],[TDS SKU]],Sheet2!B:B,Sheet2!C:C)","v":"B"},{"$f":"_xlfn.XLOOKUP(Table26[[#This Row],[TDS SKU]],Sheet2!B:B,Sheet2!D:D)","v":"A"}]
["MFXN4LL/A","15007402",1599,"iPhone 17 Pro Max 1TB Silver",{"$f":"_xlfn.XLOOKUP(Table26[[#This Row],[AppleCare+]],'AC+, OS, Services'!C:C,'AC+, OS, Services'!B:B)","v":"SWY92LL/A"},"No","iPhone 17 Pro Max","Silver","1TB",{"$f":"_xlfn.XLOOKUP(Table26[[#This Row],[TDS SKU]],Sheet2!B:B,Sheet2!C:C)","v":"B"},{"$f":"_xlfn.XLOOKUP(Table26[[#This Row],[TDS SKU]],Sheet2!B:B,Sheet2!D:D)","v":"A"}]
["MFXP4LL/A","15007403",1599,"iPhone 17 Pro Max 1TB Cosmic Orange",{"$f":"_xlfn.XLOOKUP(Table26[[#This Row],[AppleCare+]],'AC+, OS, Services'!C:C,'AC+, OS, Services'!B:B)","v":"SWY92LL/A"},"No","iPhone 17 Pro Max","Cosmic Orange","1TB",{"$f":"_xlfn.XLOOKUP(Table26[[#This Row],[TDS SKU]],Sheet2!B:B,Sheet2!C:C)","v":"B"},{"$f":"_xlfn.XLOOKUP(Table26[[#This Row],[TDS SKU]],Sheet2!B:B,Sheet2!D:D)","v":"A"}]
["MFXQ4LL/A","15007404",1599,"iPhone 17 Pro Max 1TB Deep Blue",{"$f":"_xlfn.XLOOKUP(Table26[[#This Row],[AppleCare+]],'AC+, OS, Services'!C:C,'AC+, OS, Services'!B:B)","v":"SWY92LL/A"},"No","iPhone 17 Pro Max","Deep Blue","1TB",{"$f":"_xlfn.XLOOKUP(Table26[[#This Row],[TDS SKU]],Sheet2!B:B,Sheet2!C:C)","v":"B"},{"$f":"_xlfn.XLOOKUP(Table26[[#This Row],[TDS SKU]],Sheet2!B:B,Sheet2!D:D)","v":"A"}]
["MFXR4LL/A","15007405",1999,"iPhone 17 Pro Max 2TB Silver",{"$f":"_xlfn.XLOOKUP(Table26[[#This Row],[AppleCare+]],'AC+, OS, Services'!C:C,'AC+, OS, Services'!B:B)","v":"SWY92LL/A"},"No","iPhone 17 Pro Max","Silver","2TB",{"$f":"_xlfn.XLOOKUP(Table26[[#This Row],[TDS SKU]],Sheet2!B:B,Sheet2!C:C)","v":"B"},{"$f":"_xlfn.XLOOKUP(Table26[[#This Row],[TDS SKU]],Sheet2!B:B,Sheet2!D:D)","v":"A"}]
["MFXT4LL/A","15007406",1999,"iPhone 17 Pro Max 2TB Cosmic Orange",{"$f":"_xlfn.XLOOKUP(Table26[[#This Row],[AppleCare+]],'AC+, OS, Services'!C:C,'AC+, OS, Services'!B:B)","v":"SWY92LL/A"},"No","iPhone 17 Pro Max","Cosmic Orange","2TB",{"$f":"_xlfn.XLOOKUP(Table26[[#This Row],[TDS SKU]],Sheet2!B:B,Sheet2!C:C)","v":"B"},{"$f":"_xlfn.XLOOKUP(Table26[[#This Row],[TDS SKU]],Sheet2!B:B,Sheet2!D:D)","v":"A"}]
["MFXU4LL/A","15007407",1999,"iPhone 17 Pro Max 2TB Deep Blue",{"$f":"_xlfn.XLOOKUP(Table26[[#This Row],[AppleCare+]],'AC+, OS, Services'!C:C,'AC+, OS, Services'!B:B)","v":"SWY92LL/A"},"No","iPhone 17 Pro Max","Deep Blue","2TB",{"$f":"_xlfn.XLOOKUP(Table26[[#This Row],[TDS SKU]],Sheet2!B:B,Sheet2!C:C)","v":"B"},{"$f":"_xlfn.XLOOKUP(Table26[[#This Row],[TDS SKU]],Sheet2!B:B,Sheet2!D:D)","v":"A"}]
["MG184LL/A","15007408",999,"iPhone Air 256GB Space Black",{"$f":"_xlfn.XLOOKUP(Table26[[#This Row],[AppleCare+]],'AC+, OS, Services'!C:C,'AC+, OS, Services'!B:B)","v":"SWXY2LL/A"},"No","iPhone Air","Space Black","256GB",{"$f":"_xlfn.XLOOKUP(Table26[[#This Row],[TDS SKU]],Sheet2!B:B,Sheet2!C:C)","v":"B"},{"$f":"_xlfn.XLOOKUP(Table26[[#This Row],[TDS SKU]],Sheet2!B:B,Sheet2!D:D)","v":"A"}]
["MG194LL/A","15007409",999,"iPhone Air 256GB Cloud White",{"$f":"_xlfn.XLOOKUP(Table26[[#This Row],[AppleCare+]],'AC+, OS, Services'!C:C,'AC+, OS, Services'!B:B)","v":"SWXY2LL/A"},"No","iPhone Air","Cloud White","256GB",{"$f":"_xlfn.XLOOKUP(Table26[[#This Row],[TDS SKU]],Sheet2!B:B,Sheet2!C:C)","v":"B"},{"$f":"_xlfn.XLOOKUP(Table26[[#This Row],[TDS SKU]],Sheet2!B:B,Sheet2!D:D)","v":"A"}]
["MG1A4LL/A","15007410",999,"iPhone Air 256GB Light Gold",{"$f":"_xlfn.XLOOKUP(Table26[[#This Row],[AppleCare+]],'AC+, OS, Services'!C:C,'AC+, OS, Services'!B:B)","v":"SWXY2LL/A"},"No","iPhone Air","Light Gold","256GB",{"$f":"_xlfn.XLOOKUP(Table26[[#This Row],[TDS SKU]],Sheet2!B:B,Sheet2!C:C)","v":"B"},{"$f":"_xlfn.XLOOKUP(Table26[[#This Row],[TDS SKU]],Sheet2!B:B,Sheet2!D:D)","v":"A"}]
["MG1D4LL/A","15007411",999,"iPhone Air 256GB Sky Blue",{"$f":"_xlfn.XLOOKUP(Table26[[#This Row],[AppleCare+]],'AC+, OS, Services'!C:C,'AC+, OS, Services'!B:B)","v":"SWXY2LL/A"},"No","iPhone Air","Sky Blue","256GB",{"$f":"_xlfn.XLOOKUP(Table26[[#This Row],[TDS SKU]],Sheet2!B:B,Sheet2!C:C)","v":"B"},{"$f":"_xlfn.XLOOKUP(Table26[[#This Row],[TDS SKU]],Sheet2!B:B,Sheet2!D:D)","v":"A"}]
["MG1E4LL/A","15007412",1199,"iPhone Air 512GB Space Black",{"$f":"_xlfn.XLOOKUP(Table26[[#This Row],[AppleCare+]],'AC+, OS, Services'!C:C,'AC+, OS, Services'!B:B)","v":"SWXY2LL/A"},"No","iPhone Air","Space Black","512GB",{"$f":"_xlfn.XLOOKUP(Table26[[#This Row],[TDS SKU]],Sheet2!B:B,Sheet2!C:C)","v":"B"},{"$f":"_xlfn.XLOOKUP(Table26[[#This Row],[TDS SKU]],Sheet2!B:B,Sheet2!D:D)","v":"A"}]
["MG1G4LL/A","15007413",1199,"iPhone Air 512GB Cloud White",{"$f":"_xlfn.XLOOKUP(Table26[[#This Row],[AppleCare+]],'AC+, OS, Services'!C:C,'AC+, OS, Services'!B:B)","v":"SWXY2LL/A"},"No","iPhone Air","Cloud White","512GB",{"$f":"_xlfn.XLOOKUP(Table26[[#This Row],[TDS SKU]],Sheet2!B:B,Sheet2!C:C)","v":"B"},{"$f":"_xlfn.XLOOKUP(Table26[[#This Row],[TDS SKU]],Sheet2!B:B,Sheet2!D:D)","v":"A"}]
["MG1H4LL/A","15007414",1199,"iPhone Air 512GB Light Gold",{"$f":"_xlfn.XLOOKUP(Table26[[#This Row],[AppleCare+]],'AC+, OS, Services'!C:C,'AC+, OS, Services'!B:B)","v":"SWXY2LL/A"},"No","iPhone Air","Light Gold","512GB",{"$f":"_xlfn.XLOOKUP(Table26[[#This Row],[TDS SKU]],Sheet2!B:B,Sheet2!C:C)","v":"B"},{"$f":"_xlfn.XLOOKUP(Table26[[#This Row],[TDS SKU]],Sheet2!B:B,Sheet2!D:D)","v":"A"}]
["MG1J4LL/A","15007415",1199,"iPhone Air 512GB Sky Blue",{"$f":"_xlfn.XLOOKUP(Table26[[#This Row],[AppleCare+]],'AC+, OS, Services'!C:C,'AC+, OS, Services'!B:B)","v":"SWXY2LL/A"},"No","iPhone Air","Sky Blue","512GB",{"$f":"_xlfn.XLOOKUP(Table26[[#This Row],[TDS SKU]],Sheet2!B:B,Sheet2!C:C)","v":"B"},{"$f":"_xlfn.XLOOKUP(Table26[[#This Row],[TDS SKU]],Sheet2!B:B,Sheet2!D:D)","v":"A"}]
["MG1L4LL/A","15007416",1399,"iPhone Air 1TB Space Black",{"$f":"_xlfn.XLOOKUP(Table26[[#This Row],[AppleCare+]],'AC+, OS, Services'!C:C,'AC+, OS, Services'!B:B)","v":"SWXY2LL/A"},"No","iPhone Air","Space Black","1TB",{"$f":"_xlfn.XLOOKUP(Table26[[#This Row],[TDS SKU]],Sheet2!B:B,Sheet2!C:C)","v":"B"},{"$f":"_xlfn.XLOOKUP(Table26[[#This Row],[TDS SKU]],Sheet2!B:B,Sheet2!D:D)","v":"A"}]
["MG1N4LL/A","15007417",1399,"iPhone Air 1TB Cloud White",{"$f":"_xlfn.XLOOKUP(Table26[[#This Row],[AppleCare+]],'AC+, OS, Services'!C:C,'AC+, OS, Services'!B:B)","v":"SWXY2LL/A"},"No","iPhone Air","Cloud White","1TB",{"$f":"_xlfn.XLOOKUP(Table26[[#This Row],[TDS SKU]],Sheet2!B:B,Sheet2!C:C)","v":"B"},{"$f":"_xlfn.XLOOKUP(Table26[[#This Row],[TDS SKU]],Sheet2!B:B,Sheet2!D:D)","v":"A"}]
["MG1P4LL/A","15007418",1399,"iPhone Air 1TB Light Gold",{"$f":"_xlfn.XLOOKUP(Table26[[#This Row],[AppleCare+]],'AC+, OS, Services'!C:C,'AC+, OS, Services'!B:B)","v":"SWXY2LL/A"},"No","iPhone Air","Light Gold","1TB",{"$f":"_xlfn.XLOOKUP(Table26[[#This Row],[TDS SKU]],Sheet2!B:B,Sheet2!C:C)","v":"B"},{"$f":"_xlfn.XLOOKUP(Table26[[#This Row],[TDS SKU]],Sheet2!B:B,Sheet2!D:D)","v":"A"}]
["MG1Q4LL/A","15007419",1399,"iPhone Air 1TB Sky Blue",{"$f":"_xlfn.XLOOKUP(Table26[[#This Row],[AppleCare+]],'AC+, OS, Services'!C:C,'AC+, OS, Services'!B:B)","v":"SWXY2LL/A"},"No","iPhone Air","Sky Blue","1TB",{"$f":"_xlfn.XLOOKUP(Table26[[#This Row],[TDS SKU]],Sheet2!B:B,Sheet2!C:C)","v":"B"},{"$f":"_xlfn.XLOOKUP(Table26[[#This Row],[TDS SKU]],Sheet2!B:B,Sheet2!D:D)","v":"A"}]
["MG464LL/A","15007420",829,"iPhone 17 256GB Black",{"$f":"_xlfn.XLOOKUP(Table26[[#This Row],[AppleCare+]],'AC+, OS, Services'!C:C,'AC+, OS, Services'!B:B)","v":"SWXT2LL/A"},"Yes","iPhone 17","Black","256GB",{"$f":"_xlfn.XLOOKUP(Table26[[#This Row],[TDS SKU]],Sheet2!B:B,Sheet2!C:C)","v":"B"},{"$f":"_xlfn.XLOOKUP(Table26[[#This Row],[TDS SKU]],Sheet2!B:B,Sheet2!D:D)","v":"A"}]
["MG474LL/A","15007421",829,"iPhone 17 256GB White",{"$f":"_xlfn.XLOOKUP(Table26[[#This Row],[AppleCare+]],'AC+, OS, Services'!C:C,'AC+, OS, Services'!B:B)","v":"SWXT2LL/A"},"No","iPhone 17","White","256GB",{"$f":"_xlfn.XLOOKUP(Table26[[#This Row],[TDS SKU]],Sheet2!B:B,Sheet2!C:C)","v":"B"},{"$f":"_xlfn.XLOOKUP(Table26[[#This Row],[TDS SKU]],Sheet2!B:B,Sheet2!D:D)","v":"A"}]
["MG484LL/A","15007422",829,"iPhone 17 256GB Mist Blue",{"$f":"_xlfn.XLOOKUP(Table26[[#This Row],[AppleCare+]],'AC+, OS, Services'!C:C,'AC+, OS, Services'!B:B)","v":"SWXT2LL/A"},"No","iPhone 17","Mist Blue","256GB",{"$f":"_xlfn.XLOOKUP(Table26[[#This Row],[TDS SKU]],Sheet2!B:B,Sheet2!C:C)","v":"B"},{"$f":"_xlfn.XLOOKUP(Table26[[#This Row],[TDS SKU]],Sheet2!B:B,Sheet2!D:D)","v":"A"}]
["MG494LL/A","15007423",829,"iPhone 17 256GB Lavender",{"$f":"_xlfn.XLOOKUP(Table26[[#This Row],[AppleCare+]],'AC+, OS, Services'!C:C,'AC+, OS, Services'!B:B)","v":"SWXT2LL/A"},"No","iPhone 17","Lavender","256GB",{"$f":"_xlfn.XLOOKUP(Table26[[#This Row],[TDS SKU]],Sheet2!B:B,Sheet2!C:C)","v":"B"},{"$f":"_xlfn.XLOOKUP(Table26[[#This Row],[TDS SKU]],Sheet2!B:B,Sheet2!D:D)","v":"A"}]
["MG4A4LL/A","15007424",829,"iPhone 17 256GB Sage",{"$f":"_xlfn.XLOOKUP(Table26[[#This Row],[AppleCare+]],'AC+, OS, Services'!C:C,'AC+, OS, Services'!B:B)","v":"SWXT2LL/A"},"No","iPhone 17","Sage","256GB",{"$f":"_xlfn.XLOOKUP(Table26[[#This Row],[TDS SKU]],Sheet2!B:B,Sheet2!C:C)","v":"B"},{"$f":"_xlfn.XLOOKUP(Table26[[#This Row],[TDS SKU]],Sheet2!B:B,Sheet2!D:D)","v":"A"}]
["MG4E4LL/A","15007425",1029,"iPhone 17 512GB Black",{"$f":"_xlfn.XLOOKUP(Table26[[#This Row],[AppleCare+]],'AC+, OS, Services'!C:C,'AC+, OS, Services'!B:B)","v":"SWXT2LL/A"},"No","iPhone 17","Black","512GB",{"$f":"_xlfn.XLOOKUP(Table26[[#This Row],[TDS SKU]],Sheet2!B:B,Sheet2!C:C)","v":"B"},{"$f":"_xlfn.XLOOKUP(Table26[[#This Row],[TDS SKU]],Sheet2!B:B,Sheet2!D:D)","v":"A"}]
["MG4F4LL/A","15007432",1029,"iPhone 17 512GB White",{"$f":"_xlfn.XLOOKUP(Table26[[#This Row],[AppleCare+]],'AC+, OS, Services'!C:C,'AC+, OS, Services'!B:B)","v":"SWXT2LL/A"},"No","iPhone 17","White","512GB",{"$f":"_xlfn.XLOOKUP(Table26[[#This Row],[TDS SKU]],Sheet2!B:B,Sheet2!C:C)","v":"B"},{"$f":"_xlfn.XLOOKUP(Table26[[#This Row],[TDS SKU]],Sheet2!B:B,Sheet2!D:D)","v":"A"}]
["MG4H4LL/A","15007433",1029,"iPhone 17 512GB Mist Blue",{"$f":"_xlfn.XLOOKUP(Table26[[#This Row],[AppleCare+]],'AC+, OS, Services'!C:C,'AC+, OS, Services'!B:B)","v":"SWXT2LL/A"},"No","iPhone 17","Mist Blue","512GB",{"$f":"_xlfn.XLOOKUP(Table26[[#This Row],[TDS SKU]],Sheet2!B:B,Sheet2!C:C)","v":"B"},{"$f":"_xlfn.XLOOKUP(Table26[[#This Row],[TDS SKU]],Sheet2!B:B,Sheet2!D:D)","v":"A"}]
["MG4J4LL/A","15007434",1029,"iPhone 17 512GB Lavender",{"$f":"_xlfn.XLOOKUP(Table26[[#This Row],[AppleCare+]],'AC+, OS, Services'!C:C,'AC+, OS, Services'!B:B)","v":"SWXT2LL/A"},"No","iPhone 17","Lavender","512GB",{"$f":"_xlfn.XLOOKUP(Table26[[#This Row],[TDS SKU]],Sheet2!B:B,Sheet2!C:C)","v":"B"},{"$f":"_xlfn.XLOOKUP(Table26[[#This Row],[TDS SKU]],Sheet2!B:B,Sheet2!D:D)","v":"A"}]
["MG4Q4LL/A","15007435",1029,"iPhone 17 512GB Sage",{"$f":"_xlfn.XLOOKUP(Table26[[#This Row],[AppleCare+]],'AC+, OS, Services'!C:C,'AC+, OS, Services'!B:B)","v":"SWXT2LL/A"},"No","iPhone 17","Sage","512GB",{"$f":"_xlfn.XLOOKUP(Table26[[#This Row],[TDS SKU]],Sheet2!B:B,Sheet2!C:C)","v":"B"},{"$f":"_xlfn.XLOOKUP(Table26[[#This Row],[TDS SKU]],Sheet2!B:B,Sheet2!D:D)","v":"A"}]
["MG7K4LL/A","15007436",1099,"iPhone 17 Pro 256GB Silver",{"$f":"_xlfn.XLOOKUP(Table26[[#This Row],[AppleCare+]],'AC+, OS, Services'!C:C,'AC+, OS, Services'!B:B)","v":"SWY42LL/A"},"Yes","iPhone 17 Pro","Silver","256GB",{"$f":"_xlfn.XLOOKUP(Table26[[#This Row],[TDS SKU]],Sheet2!B:B,Sheet2!C:C)","v":"B"},{"$f":"_xlfn.XLOOKUP(Table26[[#This Row],[TDS SKU]],Sheet2!B:B,Sheet2!D:D)","v":"A"}]
["MG7L4LL/A","15007437",1099,"iPhone 17 Pro 256GB Cosmic Orange",{"$f":"_xlfn.XLOOKUP(Table26[[#This Row],[AppleCare+]],'AC+, OS, Services'!C:C,'AC+, OS, Services'!B:B)","v":"SWY42LL/A"},"No","iPhone 17 Pro","Cosmic Orange","256GB",{"$f":"_xlfn.XLOOKUP(Table26[[#This Row],[TDS SKU]],Sheet2!B:B,Sheet2!C:C)","v":"B"},{"$f":"_xlfn.XLOOKUP(Table26[[#This Row],[TDS SKU]],Sheet2!B:B,Sheet2!D:D)","v":"A"}]
["MG7M4LL/A","15007438",1099,"iPhone 17 Pro 256GB Deep Blue",{"$f":"_xlfn.XLOOKUP(Table26[[#This Row],[AppleCare+]],'AC+, OS, Services'!C:C,'AC+, OS, Services'!B:B)","v":"SWY42LL/A"},"Yes","iPhone 17 Pro","Deep Blue","256GB",{"$f":"_xlfn.XLOOKUP(Table26[[#This Row],[TDS SKU]],Sheet2!B:B,Sheet2!C:C)","v":"B"},{"$f":"_xlfn.XLOOKUP(Table26[[#This Row],[TDS SKU]],Sheet2!B:B,Sheet2!D:D)","v":"A"}]
["MG7N4LL/A","15007439",1299,"iPhone 17 Pro 512GB Silver",{"$f":"_xlfn.XLOOKUP(Table26[[#This Row],[AppleCare+]],'AC+, OS, Services'!C:C,'AC+, OS, Services'!B:B)","v":"SWY42LL/A"},"Yes","iPhone 17 Pro","Silver","512GB",{"$f":"_xlfn.XLOOKUP(Table26[[#This Row],[TDS SKU]],Sheet2!B:B,Sheet2!C:C)","v":"B"},{"$f":"_xlfn.XLOOKUP(Table26[[#This Row],[TDS SKU]],Sheet2!B:B,Sheet2!D:D)","v":"A"}]
["MG7P4LL/A","15007440",1299,"iPhone 17 Pro 512GB Cosmic Orange",{"$f":"_xlfn.XLOOKUP(Table26[[#This Row],[AppleCare+]],'AC+, OS, Services'!C:C,'AC+, OS, Services'!B:B)","v":"SWY42LL/A"},"No","iPhone 17 Pro","Cosmic Orange","512GB",{"$f":"_xlfn.XLOOKUP(Table26[[#This Row],[TDS SKU]],Sheet2!B:B,Sheet2!C:C)","v":"B"},{"$f":"_xlfn.XLOOKUP(Table26[[#This Row],[TDS SKU]],Sheet2!B:B,Sheet2!D:D)","v":"A"}]
["MG7Q4LL/A","15007441",1299,"iPhone 17 Pro 512GB Deep Blue",{"$f":"_xlfn.XLOOKUP(Table26[[#This Row],[AppleCare+]],'AC+, OS, Services'!C:C,'AC+, OS, Services'!B:B)","v":"SWY42LL/A"},"No","iPhone 17 Pro","Deep Blue","512GB",{"$f":"_xlfn.XLOOKUP(Table26[[#This Row],[TDS SKU]],Sheet2!B:B,Sheet2!C:C)","v":"B"},{"$f":"_xlfn.XLOOKUP(Table26[[#This Row],[TDS SKU]],Sheet2!B:B,Sheet2!D:D)","v":"A"}]
["MG7R4LL/A","15007450",1499,"iPhone 17 Pro 1TB Silver",{"$f":"_xlfn.XLOOKUP(Table26[[#This Row],[AppleCare+]],'AC+, OS, Services'!C:C,'AC+, OS, Services'!B:B)","v":"SWY42LL/A"},"No","iPhone 17 Pro","Silver","1TB",{"$f":"_xlfn.XLOOKUP(Table26[[#This Row],[TDS SKU]],Sheet2!B:B,Sheet2!C:C)","v":"B"},{"$f":"_xlfn.XLOOKUP(Table26[[#This Row],[TDS SKU]],Sheet2!B:B,Sheet2!D:D)","v":"A"}]
["MG7T4LL/A","15007451",1499,"iPhone 17 Pro 1TB Cosmic Orange",{"$f":"_xlfn.XLOOKUP(Table26[[#This Row],[AppleCare+]],'AC+, OS, Services'!C:C,'AC+, OS, Services'!B:B)","v":"SWY42LL/A"},"No","iPhone 17 Pro","Cosmic Orange","1TB",{"$f":"_xlfn.XLOOKUP(Table26[[#This Row],[TDS SKU]],Sheet2!B:B,Sheet2!C:C)","v":"B"},{"$f":"_xlfn.XLOOKUP(Table26[[#This Row],[TDS SKU]],Sheet2!B:B,Sheet2!D:D)","v":"A"}]
["MG7U4LL/A","15007452",1499,"iPhone 17 Pro 1TB Deep Blue",{"$f":"_xlfn.XLOOKUP(Table26[[#This Row],[AppleCare+]],'AC+, OS, Services'!C:C,'AC+, OS, Services'!B:B)","v":"SWY42LL/A"},"No","iPhone 17 Pro","Deep Blue","1TB",{"$f":"_xlfn.XLOOKUP(Table26[[#This Row],[TDS SKU]],Sheet2!B:B,Sheet2!C:C)","v":"B"},{"$f":"_xlfn.XLOOKUP(Table26[[#This Row],[TDS SKU]],Sheet2!B:B,Sheet2!D:D)","v":"A"}]
["MHRN4LL/A","15347472",599,"iPhone 17e 256GB Black",{"$f":"_xlfn.XLOOKUP(Table26[[#This Row],[AppleCare+]],'AC+, OS, Services'!C:C,'AC+, OS, Services'!B:B)","v":"SCYW3LL/A"},"Yes","iPhone 17e","Black","256GB",{"$f":"_xlfn.XLOOKUP(Table26[[#This Row],[TDS SKU]],Sheet2!B:B,Sheet2!C:C)","v":"A"},{"$f":"_xlfn.XLOOKUP(Table26[[#This Row],[TDS SKU]],Sheet2!B:B,Sheet2!D:D)","v":"A"}]
["MHRP4LL/A","15347473",599,"iPhone 17e 256GB White",{"$f":"_xlfn.XLOOKUP(Table26[[#This Row],[AppleCare+]],'AC+, OS, Services'!C:C,'AC+, OS, Services'!B:B)","v":"SCYW3LL/A"},"Yes","iPhone 17e","White","256GB",{"$f":"_xlfn.XLOOKUP(Table26[[#This Row],[TDS SKU]],Sheet2!B:B,Sheet2!C:C)","v":"B"},{"$f":"_xlfn.XLOOKUP(Table26[[#This Row],[TDS SKU]],Sheet2!B:B,Sheet2!D:D)","v":"A"}]
["MHRQ4LL/A","15347474",599,"iPhone 17e 256GB Soft Pink",{"$f":"_xlfn.XLOOKUP(Table26[[#This Row],[AppleCare+]],'AC+, OS, Services'!C:C,'AC+, OS, Services'!B:B)","v":"SCYW3LL/A"},"No","iPhone 17e","Soft Pink","256GB",{"$f":"_xlfn.XLOOKUP(Table26[[#This Row],[TDS SKU]],Sheet2!B:B,Sheet2!C:C)","v":"B"},{"$f":"_xlfn.XLOOKUP(Table26[[#This Row],[TDS SKU]],Sheet2!B:B,Sheet2!D:D)","v":"A"}]
["MHRR4LL/A","15347475",799,"iPhone 17e 512GB Black",{"$f":"_xlfn.XLOOKUP(Table26[[#This Row],[AppleCare+]],'AC+, OS, Services'!C:C,'AC+, OS, Services'!B:B)","v":"SCYW3LL/A"},"Yes","iPhone 17e","Black","512GB",{"$f":"_xlfn.XLOOKUP(Table26[[#This Row],[TDS SKU]],Sheet2!B:B,Sheet2!C:C)","v":"B"},{"$f":"_xlfn.XLOOKUP(Table26[[#This Row],[TDS SKU]],Sheet2!B:B,Sheet2!D:D)","v":"A"}]
["MHRT4LL/A","15347476",799,"iPhone 17e 512GB White",{"$f":"_xlfn.XLOOKUP(Table26[[#This Row],[AppleCare+]],'AC+, OS, Services'!C:C,'AC+, OS, Services'!B:B)","v":"SCYW3LL/A"},"No","iPhone 17e","White","512GB",{"$f":"_xlfn.XLOOKUP(Table26[[#This Row],[TDS SKU]],Sheet2!B:B,Sheet2!C:C)","v":"B"},{"$f":"_xlfn.XLOOKUP(Table26[[#This Row],[TDS SKU]],Sheet2!B:B,Sheet2!D:D)","v":"A"}]
["MHRU4LL/A","15347477",799,"iPhone 17e 512GB Soft Pink",{"$f":"_xlfn.XLOOKUP(Table26[[#This Row],[AppleCare+]],'AC+, OS, Services'!C:C,'AC+, OS, Services'!B:B)","v":"SCYW3LL/A"},"No","iPhone 17e","Soft Pink","512GB",{"$f":"_xlfn.XLOOKUP(Table26[[#This Row],[TDS SKU]],Sheet2!B:B,Sheet2!C:C)","v":"B"},{"$f":"_xlfn.XLOOKUP(Table26[[#This Row],[TDS SKU]],Sheet2!B:B,Sheet2!D:D)","v":"A"}]

{"sheet":"AC+, OS, Services","index":11,"n_rows":78,"n_cols":11,"rows_kept":78,"cut":false,"hidden":false,"merged":[[0,1,0,4],[53,1,53,4],[70,1,70,4]]}
["APPLECARE+","https://www.apple.com/support/products/",null,null,null,null,"APPLECARE+ FOR SCHOOLS",null,"https://www.apple.com/legal/sales-support/applecare/education/applecareplusus.html"]
["Product Name","Apple Part ","TDS SKU","Description","Duration",null,"Apple Part ","TDS SKU","Description","Duration","Service Fee"]
["MB Neo","SD0T3LL/A",15356936,"AC+ for 13 MacBook Neo","3 years",null,"SMF52LL/A","15172020","AC+ SCHOOLS IPAD PRO 11-IN (M4-Current) 2YR","2 Years","Yes"]
["MB Air 13\" M2","SF8C2LL/A",6682118,"AC+ for 13 MacBook Air (M2)","3 years",null,"SMF62LL/A","15172061","AC+ SCHOOLS IPAD PRO 11-IN (M4-Current) 3YR","3 Years","Yes"]
["MB Air 13\" M4","SUWE2LL/A",14576377,"AC+ for 13 MacBook Air (M4)","3 years",null,"SMF72LL/A","15172062","AC+ SCHOOLS IPAD PRO 11-IN (M4-Current) 4YR","4 Years","Yes"]
["MB Air 13\" M5","SCW83LL/A",15350835,"AC+ for 13 MacBook Air (M5)","3 years",null,"SMF82LL/A","15172063","AC+ SCHOOLS IPAD PRO 13-IN (M4-Current) 2YR","2 Years","Yes"]
["MB Air 15\" M4","SUWF2LL/A",14576378,"AC+ for 15-inch MacBook Air (M4)","3 years",null,"SMF92LL/A","15172064","AC+ SCHOOLS IPAD PRO 13-IN (M4-Current) 3YR","3 Years","Yes"]
["MB Air 15\" M5","SCW93LL/A",15350938,"AC+ for 15-inch MacBook Air (M5)","3 years",null,"SMFA2LL/A","15172065","AC+ SCHOOLS IPAD PRO 13-IN (M4-Current) 4YR","4 Years","Yes"]
["MBP 14\" M4","SR172LL/A",14323194,"AC+ for 14-inch MacBook Pro (M4)","3 years",null,"SAYU2LL/A","15172053","AC+ SCHOOLS IPAD PRO 12.9 (5th - Current) 2YR","2 Years","Yes"]
["MBP 14\" M4 Pro/Max","SR182LL/A",14323195,"AC+ for 14-inch MacBook Pro (M4 Pro/Max)","3 years",null,"SAYW2LL/A","15172054","AC+ SCHOOLS IPAD PRO 12.9 (5th - Current) 3YR","3 Years","Yes"]
["MBP 14\" M5","SXKH2LL/A",15079015,"AC+ for 14-inch MacBook Pro (M5)","3 years",null,"SAYX2LL/A","15172055","AC+ SCHOOLS IPAD PRO 12.9 (5th - Current) 4YR","4 Years","Yes"]
["MBP 14\" M5 Pro/Max","SCXT3LL/A",15350939,"AC+14-inch MacBook Pro (M5 Pro/Max)","3 years",null,"S7846LL/A","15172048","AC+ SCHOOLS IPAD PRO 11/12.9 (1st - 4th) 2YR","2 Years","Yes"]
["MBP 16\" M3","SL9M2LL/A",8892813,"AC+ for 16-inch MacBook Pro (M3)","3 years",null,"S7848LL/A","15172050","AC+ SCHOOLS IPAD PRO 11/12.9 (1st - 4th) 3YR","3 Years","Yes"]
["MBP 16\" M4","SR192LL/A",14323196,"AC+ for 16-inch MacBook Pro (M4)","3 years",null,"S7850LL/A","15172052","AC+ SCHOOLS IPAD PRO 11/12.9 (1st - 4th) 4YR","4 Years","Yes"]
["MBP 16\" M5 Pro/Max","SCXU3LL/A",15350940,"AC+ for 16-inch MacBook Pro  (M5 Pro/Max","3 years",null,"S7845LL/A","15172047","AC+ SCHOOLS IPAD/MINI/AIR (1st - 5th) 2YR","2 Years","Yes"]
["iMac 24\" M4","SR1A2LL/A",14309238,"AC+ for iMac (M4)","3 years",null,"S7847LL/A","15172049","AC+ SCHOOLS IPAD/MINI/AIR (1st - 5th) 3YR","3 Years","Yes"]
["Mac Mini M4","SR1C2LL/A",14316318,"AC+ for Mac Mini (M4)","3 years",null,"S7849LL/A","15172051","AC+ SCHOOLS IPAD/MINI/AIR (1st - 5th) 4YR","4 Years","Yes"]
["Mac Studio M3U/M4M","STKT2LL/A",14576376,"AC+ for Mac Studio (M4 Max/M3 Ultra)","3 years",null,"SMEX2LL/A","15172014","AC+ SCHOOLS IPAD AIR 11-IN (M2-Current) 2YR","2 Years","Yes"]
["Mac Pro M2","SJGQ2LL/A",7512600,"AC+ for Mac Pro (M2)","3 years",null,"SMF02LL/A","15172015","AC+ SCHOOLS IPAD AIR 11-IN (M2-Current) 3YR","3 Years","Yes"]
["Studio Display","SEL02LL/A",6593441,"AC+ for Studio Display","3 years",null,"SMF12LL/A","15172016","AC+ SCHOOLS IPAD AIR 11-IN (M2-Current) 4YR","4 Years","Yes"]
["Studio Display","SD273LL/A",15350827,"AC+ for Studio Display (2026)","3 years",null,"SMF22LL/A","15172017","AC+ SCHOOLS IPAD AIR 13-IN (M2-Current) 2YR","2 Years","Yes"]
["Studio Display","SD263LL/A",15350927,"AC+ for Studio Display XDR","3 years",null,"SMF32LL/A","15172018","AC+ SCHOOLS IPAD AIR 13-IN (M2-Current) 3YR","3 Years","Yes"]
["Pro Display","S9742LL/A",6510117,"AC+ for Apple Display and Stand","3 years",null,"SMF42LL/A","15172019","AC+ SCHOOLS IPAD AIR 13-IN (M2-Current) 4YR","4 Years","Yes"]
["iPad 10th gen","SGFC2LL/A",6799362,"AC+ for iPad (10th gen)","2 years",null,"SEH63LL/A","15356974","AC+ SCHOOLS 13-IN MB NEO (A18PRO) 3YR","3 Years","No"]
["iPad A16","SUYD2LL/A",14569089,"AC+ for iPad (A16)","2 years",null,"SEH73LL/A","15356975","AC+ SCHOOLS 13-IN MB NEO (A18PRO) 4YR","4 Years","No"]
["iPad Mini A17 Pro","SNGN2LL/A",14290275,"AC+ for iPad mini (A17 Pro)","2 years",null,"SEH83LL/A","15356976","AC+ SCHOOLS 13-IN MB NEO (A18 PRO) 3YR NSF","3 Years","Yes"]
["iPad Air 11 (M3)","SV072LL/A",14569090,"AC+ for iPad Air 11-inch (M3)","2 years",null,"SEH93LL/A","15356956","AC+ SCHOOLS 13-IN MB NEO (A18 PRO) 4YR NSF","4 Years","Yes"]
["iPad Air 11 (M4)","SCV93LL/A",15347521,"AC+ for iPad Air 11-inch (M4)","2 years",null,"S9906LL/A","15172009","AC+ SCHOOLS MBA 13 (M1) NSF 3YR","3 Years","No"]
["iPad Air 13 (M3)","SV172LL/A",14569091,"AC+ for iPad Air 13-inch (M3)","2 years",null,"S9907LL/A","15172010","AC+ SCHOOLS MBA 13 (M1) NSF 4YR","4 Years","No"]
["iPad Air 13 (M4)","SCVD3LL/A",15347522,"AC+ for iPad Air 13-inch (M4)","2 years",null,"SEY32LL/A","15172057","AC+ SCHOOLS MBA 13 (M2) NSF 3YR","3 Years","No"]
["iPad Pro 13 (M4)","SM2W2LL/A",9684504,"AC+ for iPad Pro 13 (M4)","2 years",null,"SEY42LL/A","15172058","AC+ SCHOOLS MBA 13 (M2) NSF 4YR","4 Years","No"]
["iPad Pro 13 (M5)","SXT12LL/A",15079017,"AC+ for iPad Pro 13 (M5)","2 years",null,"SLTE2LL/A","15172012","AC+ SCHOOLS MBA 13 (M3-Current) NSF 3 YR","3 Years","No"]
["iPad Pro 11 (M4)","SM2X2LL/A",9684505,"AC+ for iPad Pro 11 (M4)","2 years",null,"SLTG2LL/A","15172013","AC+ SCHOOLS MBA 13 (M3-Current) NSF 4YR","4 Years","No"]
["iPad Pro 11 (M5)","SXT02LL/A",15079016,"AC+ for iPad Pro 11 (M5)","2 years",null,"S7836LL/A","15172038","AC+ SCHOOLS MBA 13 (M1) 3YR","3 Years","Yes"]
["iPhone 17e","SCYW3LL/A",15347523,"AC+ for iPhone 17e","2 years",null,"S7842LL/A","15172044","AC+ SCHOOLS MBA 13 (M1) 4YR","4 Years","Yes"]
["iPhone 17","SWXT2LL/A",15007442,"AC+ for iPhone 17","2 years",null,"SEWX2LL/A","15172056","AC+ SCHOOLS MBA 13 (M2) 3YR","3 Years","Yes"]
["iPhone Air","SWXY2LL/A",15007443,"AC+ for iPhone Air","2 years",null,"SEY62LL/A","15172059","AC+ SCHOOLS MBA 13 (M2) 4YR","4 Years","Yes"]
["iPhone 17 Pro","SWY42LL/A",15007444,"AC+ for iPhone 17 Pro","2 years",null,"SLT92LL/A","15172060","AC+ SCHOOLS MBA 13 (M3-Current) 3 YR","3 Years","Yes"]
["iPhone 17 Pro Max","SWY92LL/A",15007445,"AC+ for iPhone 17 Pro Max","2 years",null,"SLTC2LL/A","15172011","AC+ SCHOOLS MBA 13 (M3-Current) 4YR","4 Years","Yes"]
["Watch SE 2","SG282LL/A",6763983,"AC+ for Apple Watch SE (2nd gen.)","2 years",null,"SGXG2LL/A","15172034","AC+ SCHOOLS MBA 15 (M2 - Current) NSF 3YR","3 Years","No"]
["Watch Ultra 2","SJXD2LL/A",7831497,"AC+ for Apple Watch Ultra 2","2 years",null,"SGXA2LL/A","15172033","AC+ SCHOOLS MBA 15 (M2 - Current) NSF 4YR","4 Years","No"]
["Watch 10","SNMF2LL/A",14195499,"AC+ for Apple Watch Series 10 Aluminum","2 years",null,"SGX62LL/A","15172031","AC+ SCHOOLS MBA 15 (M2 - Current) 3YR","3 Years","Yes"]
["Watch 11","SXCJ2LL/A",15007446,"AC+ Apple Watch Series 11","2 years",null,"SGX92LL/A","15172032","AC+ SCHOOLS MBA 15 (M2 - Current) 4YR","4 Years","Yes"]
["Watch Ultra 3","SXCK2LL/A",15007447,"AC+ Apple Watch Ultra 3","2 years",null,"S9900LL/A","15172003","AC+ SCHOOLS MB PRO 13 (INTEL) NSF 3YR","3 Years","No"]
["Watch SE 3","SXHW2LL/A",15007448,"AC+ Apple Watch SE 3","2 years",null,"S9901LL/A","15172004","AC+ SCHOOLS MB PRO 13 (INTEL) NSF 4YR","4 Years","No"]
["AirPods","S9066LL/A",6510105,"AC+ for AirPods","2 years",null,"S9902LL/A","15172005","AC+ SCHOOLS MBP 13 (APL SILICON) NSF 3Y","3 Years","No"]
["AirPods Pro","S9078LL/A",6510104,"AC+ for AirPods Pro","2 years",null,"S9903LL/A","15172006","AC+ SCHOOLS MBP 13 (APL SILICON) NSF 4Y","4 Years","No"]
["Airpods Pro 3","SYLW2LL/A",15007449,"AC+ Airpods Pro 3","2 years",null,"S7837LL/A","15172039","AC+ SCHOOLS MB PRO 13 (INTEL) 3YR","3 Years","Yes"]
["AirPods Max","S9086LL/A",6510102,"AC+ for AirPods Max","2 years",null,"S7843LL/A","15172045","AC+ SCHOOLS MB PRO 13 (INTEL) 4YR","4 Years","Yes"]
["Beats","S9094LL/A",6510103,"AC+ for Beats","2 years",null,"S9898LL/A","15172001","AC+ SCHOOLS MBP 13 (APL SILICON) 3YR","3 Years","Yes"]
["Apple TV","S9634LL/A",6510108,"AC+ for Apple TV","3 years",null,"S9899LL/A","15172002","AC+ SCHOOLS MBP 13 (APL SILICON) 4YR","4 Years","Yes"]
["HomePod Mini","S9043LL/A",6510097,"AC+ for HomePod Mini","2 years",null,"SD6R2LL/A","15172022","AC+ SCHOOLS MBP 14 (APL SILICON) NSF 3YR","3 Years","No"]
["HomePod","S6446LL/A",7139727,"AC+ for HomePod 2nd Gen","2 years",null,"SD6U2LL/A","15172024","AC+ SCHOOLS MBP 14 (APL SILICON) NSF 4YR","4 Years","No"]
["APPLECARE OS","https://www.apple.com/support/professional/it-departments/",null,null,null,null,"SD6Q2LL/A","15172021","AC+ SCHOOLS MBP 14 (APL SILICON) 3YR","3 Years","Yes"]
["Column1","Apple Part ","TDS SKU","Description","Column2",null,"SD6T2LL/A","15172023","AC+ SCHOOLS MBP 14 (APL SILICON) 4YR","4 Years","Yes"]
[null,"D6602ZM/A",6510038,"AC OS SUPPORT SELECT 1YR",null,null,"S9904LL/A","15172007","AC+ SCHOOLS MBP 16 (INTEL) NSF 3YR","3 Years","No"]
[null,"D6152Z/A",6510044,"AC OS SUPPORT SELECT 2YR",null,null,"S9905LL/A","15172008","AC+ SCHOOLS MBP 16 (INTEL) NSF 4YR","4 Years","No"]
[null,"D5845Z/A",6510042,"AC OS SUPPORT SELECT 3YR",null,null,"SD712LL/A","15172026","AC+ SCHOOLS MBP16 (APL SILICON) NSF 3Y","3 Years","No"]
[null,"D5690ZM/A",6510034,"AC OS SUPPORT PREFERRED 1YR",null,null,"SD772LL/A","15172028","AC+ SCHOOLS MBP16 (APL SILICON) NSF 4Y","4 Years","No"]
[null,"D6408Z/A",6510050,"AC OS SUPPORT PREFERRED 2YR",null,null,"S7838LL/A","15172040","AC+ SCHOOLS MBP 16 (INTEL) 3YR","3 Years","Yes"]
[null,"D5692ZM/A",6510041,"AC OS SUPPORT PREFERRED 3YR",null,null,"S7844LL/A","15172046","AC+ SCHOOLS MBP 16 (INTEL) 4YR","4 Years","Yes"]
[null,"D5691ZM/A",6510035,"AC OS SUPPORT ALLIANCE 1YR",null,null,"SD702LL/A","15172025","AC+ SCHOOLS MBP16 (APL SILICON) 3YR","3 Years","Yes"]
[null,"D5865ZM/A",6510043,"AC OS SUPPORT ALLIANCE 2YR",null,null,"SD762LL/A","15172027","AC+ SCHOOLS MBP16 (APL SILICON) 4YR","4 Years","Yes"]
[null,"D5693ZM/A",6510036,"AC OS SUPPORT ALLIANCE 3YR",null,null,"S7834LL/A","15172036","AC+ SCHOOLS MAC MINI 3YR","3 Years","Yes"]
[null,"D8080LL/A",6510048,"APPLECARE HELP DESK SUP 1YR",null,null,"S7840LL/A","15172042","AC+ SCHOOLS MAC MINI 4YR","4 Years","Yes"]
[null,"D8082LL/A",6510049,"APPLECARE HELP DESK SUP 2YR",null,null,"SEWU2LL/A","15172029","AC+ SCHOOLS MAC STUDIO 3YR","3 Years","Yes"]
[null,"D8084LL/A",6510045,"APPLECARE HELP DESK SUP 3YR",null,null,"SEWV2LL/A","15172030","AC+ SCHOOLS MAC STUDIO 4YR","4 Years","Yes"]
[null,"D5694Z/A",6510039,"AC OS SUPPORT EXTRA CONTACT-INT",null,null,"S7833LL/A","15172035","AC+ SCHOOLS IMAC 3YR","3 Years","Yes"]
[null,"D7003Z/A",6510046,"ACE/AC OS SUPPORT EXTRA CONTACT 2YR INT",null,null,"S7839LL/A","15172041","AC+ SCHOOLS IMAC 4YR","4 Years","Yes"]
[null,"D7004Z/A",6510047,"ACE/AC OS SUPPORT EXTRA CONTACT 3YR INT",null,null,"S7835LL/A","15172037","AC+ SCHOOLS MAC PRO 3YR","3 Years","Yes"]
["VPP CREDITS","https://support.apple.com/en-us/102073",null,null,null,null,"S7841LL/A","15172043","AC+ SCHOOLS MAC PRO 4YR","4 Years","Yes"]
["Column1","Apple Part ","TDS SKU","Description","Column2"]
[null,"APL-D6702Z/A-5",7690902,"5 VPP CREDITS FOR BUSINESS"]
[null,"APL-D6702Z/A-25",7690903,"25 VPP CREDITS FOR BUSINESS"]
[null,"APL-D6702Z/A-50",7690905,"50 VPP CREDITS FOR BUSINESS"]
[null,"APL-D6702Z/A-100",7690906,"100 VPP CREDITS FOR BUSINESS"]
[null,"APL-D6702Z/A-500",7690904,"500 VPP CREDITS FOR BUSINESS"]
[null,"APL-D6702Z/A-1000",7690907,"1000 VPP CREDITS FOR BUSINESS"]

{"sheet":"ACE","index":12,"n_rows":340,"n_cols":7,"rows_kept":340,"cut":false,"hidden":false,"merged":[]}
[]
[]
[]
[]
[]
[]
[]
[]
[]
[]
[]
[]
[]
[]
[]
[]
["Apple Part ","TDS SKU","Product Description","Product","Tier","Duration","Service Pool"]
["SAJC2LL/A","6510613","AppleCare for Enterprise iMac 36 Months T1","iMac","T1","36 Months","Standard"]
["SAJT2LL/A","6510614","AppleCare for Enterprise iMac 36 Months T1+","iMac","T1","36 Months","SP+"]
["SAKJ2LL/A","6510615","AppleCare for Enterprise iMac 36 Months T2","iMac","T2","36 Months","Standard"]
["SAL22LL/A","6510616","AppleCare for Enterprise iMac 36 Months T2+","iMac","T2","36 Months","SP+"]
["SALL2LL/A","6510604","AppleCare for Enterprise iMac 36 Months T3","iMac","T3","36 Months","Standard"]
["SAQ32LL/A","6510605","AppleCare for Enterprise iMac 36 Months T3+","iMac","T3","36 Months","SP+"]
["SAQJ2LL/A","6510606","AppleCare for Enterprise iMac 48 Months T1","iMac","T1","48 Months","Standard"]
["SAR02LL/A","6510607","AppleCare for Enterprise iMac 48 Months T1+","iMac","T1","48 Months","SP+"]
["SARJ2LL/A","6510608","AppleCare for Enterprise iMac 48 Months T2","iMac","T2","48 Months","Standard"]
["SAW32LL/A","6510609","AppleCare for Enterprise iMac 48 Months T2+","iMac","T2","48 Months","SP+"]
["SAW62LL/A","6510610","AppleCare for Enterprise iMac 48 Months T3","iMac","T3","48 Months","Standard"]
["SAW22LL/A","6510611","AppleCare for Enterprise iMac 48 Months T3+","iMac","T3","48 Months","SP+"]
["SA9Q2LL/A","6510612","AppleCare for Enterprise iPad (9th & 10th Gen) 24 Months T1","iPad 9, 10, A16","T1","24 Months","Standard"]
["SA9P2LL/A","6510595","AppleCare for Enterprise iPad (9th & 10th Gen) 24 Months T1+","iPad 9, 10, A16","T1","24 Months","SP+"]
["SA9W2LL/A","6510596","AppleCare for Enterprise iPad (9th & 10th Gen) 24 Months T2","iPad 9, 10, A16","T2","24 Months","Standard"]
["SA9V2LL/A","6510597","AppleCare for Enterprise iPad (9th & 10th Gen) 24 Months T2+","iPad 9, 10, A16","T2","24 Months","SP+"]
["SAA02LL/A","6510598","AppleCare for Enterprise iPad (9th & 10th Gen) 24 Months T3","iPad 9, 10, A16","T3","24 Months","Standard"]
["SA9Z2LL/A","6510599","AppleCare for Enterprise iPad (9th & 10th Gen) 24 Months T3+","iPad 9, 10, A16","T3","24 Months","SP+"]
["SAA42LL/A","6510600","AppleCare for Enterprise iPad (9th & 10th Gen) 36 Months T1","iPad 9, 10, A16","T1","36 Months","Standard"]
["SAA32LL/A","6510601","AppleCare for Enterprise iPad (9th & 10th Gen) 36 Months T1+","iPad 9, 10, A16","T1","36 Months","SP+"]
["SAA92LL/A","6510602","AppleCare for Enterprise iPad (9th & 10th Gen) 36 Months T2","iPad 9, 10, A16","T2","36 Months","Standard"]
["SAA82LL/A","6510603","AppleCare for Enterprise iPad (9th & 10th Gen) 36 Months T2+","iPad 9, 10, A16","T2","36 Months","SP+"]
["SAAE2LL/A","6510850","AppleCare for Enterprise iPad (9th & 10th Gen) 36 Months T3","iPad 9, 10, A16","T3","36 Months","Standard"]
["SAAD2LL/A","6510852","AppleCare for Enterprise iPad (9th & 10th Gen) 36 Months T3+","iPad 9, 10, A16","T3","36 Months","SP+"]
["SAAJ2LL/A","6510857","AppleCare for Enterprise iPad (9th & 10th Gen) 48 Months T1","iPad 9, 10, A16","T1","48 Months","Standard"]
["SAAH2LL/A","6510851","AppleCare for Enterprise iPad (9th & 10th Gen) 48 Months T1+","iPad 9, 10, A16","T1","48 Months","SP+"]
["SAAN2LL/A","6510853","AppleCare for Enterprise iPad (9th & 10th Gen) 48 Months T2","iPad 9, 10, A16","T2","48 Months","Standard"]
["SAAM2LL/A","6510854","AppleCare for Enterprise iPad (9th & 10th Gen) 48 Months T2+","iPad 9, 10, A16","T2","48 Months","SP+"]
["SAAT2LL/A","6510855","AppleCare for Enterprise iPad (9th & 10th Gen) 48 Months T3","iPad 9, 10, A16","T3","48 Months","Standard"]
["SAAR2LL/A","6510856","AppleCare for Enterprise iPad (9th & 10th Gen) 48 Months T3+","iPad 9, 10, A16","T3","48 Months","SP+"]
["SAJE2LL/A","6510687","AppleCare for Enterprise Mac Mini 36 Months T1","Mac Mini","T1","36 Months","Standard"]
["SAJW2LL/A","6510670","AppleCare for Enterprise Mac Mini 36 Months T1+","Mac Mini","T1","36 Months","SP+"]
["SAKM2LL/A","6510671","AppleCare for Enterprise Mac Mini 36 Months T2","Mac Mini","T2","36 Months","Standard"]
["SAL52LL/A","6510672","AppleCare for Enterprise Mac Mini 36 Months T2+","Mac Mini","T2","36 Months","SP+"]
["SALP2LL/A","6510673","AppleCare for Enterprise Mac Mini 36 Months T3","Mac Mini","T3","36 Months","Standard"]
["SAQ52LL/A","6510674","AppleCare for Enterprise Mac Mini 36 Months T3+","Mac Mini","T3","36 Months","SP+"]
["SAQL2LL/A","6510675","AppleCare for Enterprise Mac Mini 48 Months T1","Mac Mini","T1","48 Months","Standard"]
["SAR32LL/A","6510676","AppleCare for Enterprise Mac Mini 48 Months T1+","Mac Mini","T1","48 Months","SP+"]
["SARL2LL/A","6510677","AppleCare for Enterprise Mac Mini 48 Months T2","Mac Mini","T2","48 Months","Standard"]
["SAWE2LL/A","6510678","AppleCare for Enterprise Mac Mini 48 Months T2+","Mac Mini","T2","48 Months","SP+"]
["SAWG2LL/A","6510578","AppleCare for Enterprise Mac Mini 48 Months T3","Mac Mini","T3","48 Months","Standard"]
["SAWJ2LL/A","6510579","AppleCare for Enterprise Mac Mini 48 Months T3+","Mac Mini","T3","48 Months","SP+"]
["SAJF2LL/A","6510580","AppleCare for Enterprise Mac Pro 36 Months T1","Mac Pro","T1","36 Months","Standard"]
["SAJX2LL/A","6510581","AppleCare for Enterprise Mac Pro 36 Months T1+","Mac Pro","T1","36 Months","SP+"]
["SAKN2LL/A","6510582","AppleCare for Enterprise Mac Pro 36 Months T2","Mac Pro","T2","36 Months","Standard"]
["SAL62LL/A","6510583","AppleCare for Enterprise Mac Pro 36 Months T2+","Mac Pro","T2","36 Months","SP+"]
["SALQ2LL/A","6510584","AppleCare for Enterprise Mac Pro 36 Months T3","Mac Pro","T3","36 Months","Standard"]
["SAQ62LL/A","6510585","AppleCare for Enterprise Mac Pro 36 Months T3+","Mac Pro","T3","36 Months","SP+"]
["SAQM2LL/A","6510669","AppleCare for Enterprise Mac Pro 48 Months T1","Mac Pro","T1","48 Months","Standard"]
["SAR52LL/A","6510660","AppleCare for Enterprise Mac Pro 48 Months T1+","Mac Pro","T1","48 Months","SP+"]
["SARM2LL/A","6510661","AppleCare for Enterprise Mac Pro 48 Months T2","Mac Pro","T2","48 Months","Standard"]
["SAWK2LL/A","6510662","AppleCare for Enterprise Mac Pro 48 Months T2+","Mac Pro","T2","48 Months","SP+"]
["SAWM2LL/A","6510663","AppleCare for Enterprise Mac Pro 48 Months T3","Mac Pro","T3","48 Months","Standard"]
["SAWP2LL/A","6510664","AppleCare for Enterprise Mac Pro 48 Months T3+","Mac Pro","T3","48 Months","SP+"]
["SD2D2LL/A","6510923","AppleCare for Enterprise iPad Mini 6th Gen 24 Months T1 ","iPad Mini 6, A17","T1","24 Months","Standard"]
["SD2M2LL/A","6510864","AppleCare for Enterprise iPad Mini 6th Gen 36 Months T1 ","iPad Mini 6, A17","T1","36 Months","Standard"]
["SD2N2LL/A","6510918","AppleCare for Enterprise iPad Mini 6th Gen 48 Months T1 ","iPad Mini 6, A17","T1","48 Months","Standard"]
["SD2W2LL/A","6510922","AppleCare for Enterprise iPad Mini 6th Gen 24 Months T2 ","iPad Mini 6, A17","T2","24 Months","Standard"]
["SD352LL/A","6510860","AppleCare for Enterprise iPad Mini 6th Gen 36 Months T2 ","iPad Mini 6, A17","T2","36 Months","Standard"]
["SD362LL/A","6510914","AppleCare for Enterprise iPad Mini 6th Gen 48 Months T2 ","iPad Mini 6, A17","T2","48 Months","Standard"]
["SD3F2LL/A","6510921","AppleCare for Enterprise iPad Mini 6th Gen 24 Months T3 ","iPad Mini 6, A17","T3","24 Months","Standard"]
["SD3R2LL/A","6510859","AppleCare for Enterprise iPad Mini 6th Gen 36 Months T3 ","iPad Mini 6, A17","T3","36 Months","Standard"]
["SD3T2LL/A","6510865","AppleCare for Enterprise iPad Mini 6th Gen 48 Months T3 ","iPad Mini 6, A17","T3","48 Months","Standard"]
["SD3Y2LL/A","6510915","AppleCare for Enterprise iPad Mini 6th Gen 24 Months T1+","iPad Mini 6, A17","T1","24 Months","SP+"]
["SD4D2LL/A","6510906","AppleCare for Enterprise iPad Mini 6th Gen 36 Months T1+","iPad Mini 6, A17","T1","36 Months","SP+"]
["SD4E2LL/A","6510902","AppleCare for Enterprise iPad Mini 6th Gen 48 Months T1+","iPad Mini 6, A17","T1","48 Months","SP+"]
["SD4J2LL/A","6510861","AppleCare for Enterprise iPad Mini 6th Gen 24 Months T3+","iPad Mini 6, A17","T3","24 Months","SP+"]
["SD562LL/A","6510867","AppleCare for Enterprise iPad Mini 6th Gen 36 Months T3+","iPad Mini 6, A17","T3","36 Months","SP+"]
["SD572LL/A","6510905","AppleCare for Enterprise iPad Mini 6th Gen 48 Months T3+","iPad Mini 6, A17","T3","48 Months","SP+"]
["SD5A2LL/A","6510866","AppleCare for Enterprise iPad Mini 6th Gen 24 Months T2+","iPad Mini 6, A17","T2","24 Months","SP+"]
["SD5P2LL/A","6510919","AppleCare for Enterprise iPad Mini 6th Gen 36 Months T2+","iPad Mini 6, A17","T2","36 Months","SP+"]
["SD5Q2LL/A","6510895","AppleCare for Enterprise iPad Mini 6th Gen 48 Months T2+","iPad Mini 6, A17","T2","48 Months","SP+"]
["SDRU2LL/A","6510925","AppleCare for Enterprise MBP 14 M Series36 Months T1","MBP 14 M Series","T1","36 Months","Standard"]
["SDRV2LL/A","6510942","AppleCare for Enterprise MBP 14 M Series48 Months T1","MBP 14 M Series","T1","48 Months","Standard"]
["SDT12LL/A","6510929","AppleCare for Enterprise MBP 14 M Series36 Months T2","MBP 14 M Series","T2","36 Months","Standard"]
["SDT22LL/A","6510928","AppleCare for Enterprise MBP 14 M Series48 Months T2","MBP 14 M Series","T2","48 Months","Standard"]
["SDT72LL/A","6510934","AppleCare for Enterprise MBP 14 M Series36 Months T3","MBP 14 M Series","T3","36 Months","Standard"]
["SDT82LL/A","6510941","AppleCare for Enterprise MBP 14 M Series48 Months T3","MBP 14 M Series","T3","48 Months","Standard"]
["SDU12LL/A","6510932","AppleCare for Enterprise MBP 14 M Series36 Months T1+","MBP 14 M Series","T1","36 Months","SP+"]
["SDU32LL/A","6510930","AppleCare for Enterprise MBP 14 M Series48 Months T1+","MBP 14 M Series","T1","48 Months","SP+"]
["SDU42LL/A","6510927","AppleCare for Enterprise MBP 16 M Series 36 Months T1","MBP 16 M Series","T1","36 Months","Standard"]
["SDU52LL/A","6510935","AppleCare for Enterprise MBP 16 M Series 48 Months T1","MBP 16 M Series","T1","48 Months","Standard"]
["SDU82LL/A","6510944","AppleCare for Enterprise MBP 14 M Series36 Months T2+","MBP 14 M Series","T2","36 Months","SP+"]
["SDU92LL/A","6510946","AppleCare for Enterprise MBP 14 M Series48 Months T2+","MBP 14 M Series","T2","48 Months","SP+"]
["SDUF2LL/A","6510940","AppleCare for Enterprise MBP 14 M Series48 Months T3+","MBP 14 M Series","T3","48 Months","SP+"]
["SDUH2LL/A","6510948","AppleCare for Enterprise MBP 14 M Series36 Months T3+","MBP 14 M Series","T3","36 Months","SP+"]
["SE072LL/A","6510945","AppleCare for Enterprise MBP 16 M Series 36 Months T2","MBP 16 M Series","T2","36 Months","Standard"]
["SE082LL/A","6510943","AppleCare for Enterprise MBP 16 M Series 48 Months T2","MBP 16 M Series","T2","48 Months","Standard"]
["SE0C2LL/A","6510936","AppleCare for Enterprise MBP 16 M Series 36 Months T3","MBP 16 M Series","T3","36 Months","Standard"]
["SE0D2LL/A","6510947","AppleCare for Enterprise MBP 16 M Series 48 Months T3","MBP 16 M Series","T3","48 Months","Standard"]
["SE0G2LL/A","6510938","AppleCare for Enterprise MBP 16 M Series 36 Months T1+","MBP 16 M Series","T1","36 Months","SP+"]
["SE0H2LL/A","6510926","AppleCare for Enterprise MBP 16 M Series 48 Months T1+","MBP 16 M Series","T1","48 Months","SP+"]
["SE0L2LL/A","6510931","AppleCare for Enterprise MBP 16 M Series 36 Months T2+","MBP 16 M Series","T2","36 Months","SP+"]
["SE0M2LL/A","6510933","AppleCare for Enterprise MBP 16 M Series 48 Months T2+","MBP 16 M Series","T2","48 Months","SP+"]
["SE0Q2LL/A","6510939","AppleCare for Enterprise MBP 16 M Series 48 Months T3+","MBP 16 M Series","T3","48 Months","SP+"]
["SE0T2LL/A","6510937","AppleCare for Enterprise MBP 16 M Series 36 Months T3+","MBP 16 M Series","T3","36 Months","SP+"]
["SEUC2LL/A","6665978","AppleCare for Enterprise Apple Studio Display 36 Months T1","Studio Display","T1","36 Months","Standard"]
["SEUD2LL/A","6665989","AppleCare for Enterprise Apple Studio Display 36 Months T2","Studio Display","T2","36 Months","Standard"]
["SEUF2LL/A","6665990","AppleCare for Enterprise Apple Studio Display 36 Months T3","Studio Display","T3","36 Months","Standard"]
["SF1P2LL/A","6665991","AppleCare for Enterprise Apple Studio Display 48 Months T1","Studio Display","T1","48 Months","Standard"]
["SF1V2LL/A","6665992","AppleCare for Enterprise Apple Studio Display 48 Months T2","Studio Display","T2","48 Months","Standard"]
["SF242LL/A","6665993","AppleCare for Enterprise Apple Studio Display 48 Months T3","Studio Display","T3","48 Months","Standard"]
["SEUN2LL/A","6665994","AppleCare for Enterprise Apple Studio Display 36 Months T1+","Studio Display","T1","36 Months","SP+"]
["SEUP2LL/A","6665995","AppleCare for Enterprise Apple Studio Display 36 Months T2+","Studio Display","T2","36 Months","SP+"]
["SEUQ2LL/A","6665996","AppleCare for Enterprise Apple Studio Display 36 Months T3+","Studio Display","T3","36 Months","SP+"]
["SF1T2LL/A","6665997","AppleCare for Enterprise Apple Studio Display 48 Months T1+","Studio Display","T1","48 Months","SP+"]
["SF1Y2LL/A","6665985","AppleCare for Enterprise Apple Studio Display 48 Months T2+","Studio Display","T2","48 Months","SP+"]
["SF272LL/A","6665988","AppleCare for Enterprise Apple Studio Display 48 Months T3+","Studio Display","T3","48 Months","SP+"]
["SEUG2LL/A","6665979","AppleCare for Enterprise Mac Studio 36 Months T1","Mac Studio","T1","36 Months","Standard"]
["SEUH2LL/A","6665980","AppleCare for Enterprise Mac Studio 36 Months T2","Mac Studio","T2","36 Months","Standard"]
["SEUJ2LL/A","6665981","AppleCare for Enterprise Mac Studio 36 Months T3","Mac Studio","T3","36 Months","Standard"]
["SEUK2LL/A","6665982","AppleCare for Enterprise Mac Studio 48 Months T1","Mac Studio","T1","48 Months","Standard"]
["SEUL2LL/A","6665983","AppleCare for Enterprise Mac Studio 48 Months T2","Mac Studio","T2","48 Months","Standard"]
["SEUM2LL/A","6665984","AppleCare for Enterprise Mac Studio 48 Months T3","Mac Studio","T3","48 Months","Standard"]
["SEVK2LL/A","6665986","AppleCare for Enterprise Mac Studio 36 Months T1+","Mac Studio","T1","36 Months","SP+"]
["SEVM2LL/A","6665987","AppleCare for Enterprise Mac Studio 36 Months T2+","Mac Studio","T2","36 Months","SP+"]
["SEVN2LL/A","6665974","AppleCare for Enterprise Mac Studio 36 Months T3+","Mac Studio","T3","36 Months","SP+"]
["SEVP2LL/A","6665975","AppleCare for Enterprise Mac Studio 48 Months T1+","Mac Studio","T1","48 Months","SP+"]
["SEVQ2LL/A","6665976","AppleCare for Enterprise Mac Studio 48 Months T2+","Mac Studio","T2","48 Months","SP+"]
["SEVR2LL/A","6665977","AppleCare for Enterprise Mac Studio 48 Months T3+","Mac Studio","T3","48 Months","SP+"]
["SFGA2LL/A","6682120","AppleCare for Enterprise 13-inch MacBook Air M2 36 Months T1","MBA 13 M2","T1","36 Months","Standard"]
["SFGC2LL/A","6682121","AppleCare for Enterprise 13-inch MacBook Air M2 36 Months T2","MBA 13 M2","T2","36 Months","Standard"]
["SFGD2LL/A","6682122","AppleCare for Enterprise 13-inch MacBook Air M2 36 Months T3","MBA 13 M2","T3","36 Months","Standard"]
["SFGE2LL/A","6682123","AppleCare for Enterprise 13-inch MacBook Air M2 36 Months T1+","MBA 13 M2","T1","36 Months","SP+"]
["SFGF2LL/A","6682124","AppleCare for Enterprise 13-inch MacBook Air M2 36 Months T2+","MBA 13 M2","T2","36 Months","SP+"]
["SFGG2LL/A","6682125","AppleCare for Enterprise 13-inch MacBook Air M2 36 Months T3+","MBA 13 M2","T3","36 Months","SP+"]
["SFGP2LL/A","6682126","AppleCare for Enterprise 13-inch MacBook Air M2 48 Months T1","MBA 13 M2","T1","48 Months","Standard"]
["SFGR2LL/A","6682127","AppleCare for Enterprise 13-inch MacBook Air M2 48 Months T1+","MBA 13 M2","T1","48 Months","SP+"]
["SFGW2LL/A","6682128","AppleCare for Enterprise 13-inch MacBook Air M2 48 Months T2","MBA 13 M2","T2","48 Months","Standard"]
["SFGY2LL/A","6682129","AppleCare for Enterprise 13-inch MacBook Air M2 48 Months T2+","MBA 13 M2","T2","48 Months","SP+"]
["SFH12LL/A","6682130","AppleCare for Enterprise 13-inch MacBook Air M2 48 Months T3","MBA 13 M2","T3","48 Months","Standard"]
["SFH42LL/A","6682131","AppleCare for Enterprise 13-inch MacBook Air M2 48 Months T3+","MBA 13 M2","T3","48 Months","SP+"]
["SGW12LL/A","7512602","AppleCare for Enterprise 15-inch MacBook AIr(M2-Current) 36 months Tier 1","MBA 15 M2, M3, M4","T1","36 Months","Standard"]
["SGW32LL/A","7512607","AppleCare for Enterprise 15-inch MacBook AIr(M2-Current) 36 months Tier 2","MBA 15 M2, M3, M4","T2","36 Months","Standard"]
["SGW62LL/A","7512619","AppleCare for Enterprise 15-inch MacBook AIr(M2-Current) 36 months Tier 3","MBA 15 M2, M3, M4","T3","36 Months","Standard"]
["SGWG2LL/A","7512609","AppleCare for Enterprise 15-inch MacBook AIr(M2-Current) 36 months Tier 1+","MBA 15 M2, M3, M4","T1","36 Months","SP+"]
["SGWJ2LL/A","7512611","AppleCare for Enterprise 15-inch MacBook AIr(M2-Current) 36 months Tier 2+","MBA 15 M2, M3, M4","T2","36 Months","SP+"]
["SGWN2LL/A","7512606","AppleCare for Enterprise 15-inch MacBook AIr(M2-Current) 36 months Tier 3+","MBA 15 M2, M3, M4","T3","36 Months","SP+"]
["SGWQ2LL/A","7512608","AppleCare for Enterprise 15-inch MacBook AIr(M2-Current) 48 months Tier 1","MBA 15 M2, M3, M4","T1","48 Months","Standard"]
["SGWT2LL/A","7512610","AppleCare for Enterprise 15-inch MacBook AIr(M2-Current) 48 months Tier 2","MBA 15 M2, M3, M4","T2","48 Months","Standard"]
["SGWV2LL/A","7512613","AppleCare for Enterprise 15-inch MacBook AIr(M2-Current) 48 months Tier 3","MBA 15 M2, M3, M4","T3","48 Months","Standard"]
["SGWX2LL/A","7512612","AppleCare for Enterprise 15-inch MacBook AIr(M2-Current) 48 months Tier 1+","MBA 15 M2, M3, M4","T1","48 Months","SP+"]
["SGX02LL/A","7512614","AppleCare for Enterprise 15-inch MacBook AIr(M2-Current) 48 months Tier 2+","MBA 15 M2, M3, M4","T2","48 Months","SP+"]
["SGX22LL/A","7512615","AppleCare for Enterprise 15-inch MacBook AIr(M2-Current) 48 months Tier 3+","MBA 15 M2, M3, M4","T3","48 Months","SP+"]
["SLRR2LL/A","9356563","AppleCare for Enterprise 13-inch MacBook Air (M3-Current) 36 Months Tier 1","MBA 13 M3, M4","T1","36 Months","Standard"]
["SLRU2LL/A","9356564","AppleCare for Enterprise 13-inch MacBook Air (M3-Current) 48 Months Tier 1","MBA 13 M3, M4","T1","48 Months","Standard"]
["SLRW2LL/A","9356565","AppleCare for Enterprise 13-inch MacBook Air (M3-Current) 36 Months Tier 1+","MBA 13 M3, M4","T1","36 Months","SP+"]
["SLRY2LL/A","9356566","AppleCare for Enterprise 13-inch MacBook Air (M3-Current) 48 Months Tier 1+","MBA 13 M3, M4","T1","48 Months","SP+"]
["SLT12LL/A","9356567","AppleCare for Enterprise 13-inch MacBook Air (M3-Current) 36 Months Tier 2","MBA 13 M3, M4","T2","36 Months","Standard"]
["SLT32LL/A","9356568","AppleCare for Enterprise 13-inch MacBook Air (M3-Current) 48 Months Tier 2","MBA 13 M3, M4","T2","48 Months","Standard"]
["SLRD2LL/A","9356692","AppleCare for Enterprise 13-inch MacBook Air (M3-Current) 36 months Tier 2+","MBA 13 M3, M4","T2","36 Months","SP+"]
["SLRF2LL/A","9356693","AppleCare for Enterprise 13-inch MacBook Air (M3-Current) 48 months Tier 2+","MBA 13 M3, M4","T2","48 Months","SP+"]
["SLRH2LL/A","9356694","AppleCare for Enterprise 13-inch MacBook Air (M3-Current) 36 Months Tier 3","MBA 13 M3, M4","T3","36 Months","Standard"]
["SLRK2LL/A","9356695","AppleCare for Enterprise 13-inch MacBook Air (M3-Current) 48 Months Tier 3","MBA 13 M3, M4","T3","48 Months","Standard"]
["SLRM2LL/A","9356696","AppleCare for Enterprise 13-inch MacBook Air (M3-Current) 36 Months Tier 3+","MBA 13 M3, M4","T3","36 Months","SP+"]
["SLRP2LL/A","9356562","AppleCare for Enterprise 13-inch MacBook Air (M3-Current) 48 Months Tier 3+","MBA 13 M3, M4","T3","48 Months","SP+"]
["SMHM2LL/A","9684506","ACE IPAD AIR 11-IN (M2-Current) 24 MONTHS TIER 1+","iPad Air 11 M2, M3, M4","T1","24 Months","SP+"]
["SMHN2LL/A","9684507","ACE IPAD AIR 11-IN (M2-Current) 24 MONTHS TIER 1","iPad Air 11 M2, M3, M4","T1","24 Months","Standard"]
["SMHR2LL/A","9684508","ACE IPAD AIR 11-IN (M2-Current) 24 MONTHS TIER 2+","iPad Air 11 M2, M3, M4","T2","24 Months","SP+"]
["SMHT2LL/A","9684509","ACE IPAD AIR 11-IN (M2-Current) 24 MONTHS TIER 2","iPad Air 11 M2, M3, M4","T2","24 Months","Standard"]
["SMHW2LL/A","9684510","ACE IPAD AIR 11-IN (M2-Current) 24 MONTHS TIER 3+","iPad Air 11 M2, M3, M4","T3","24 Months","SP+"]
["SMHX2LL/A","9684511","ACE IPAD AIR 11-IN (M2-Current) 24 MONTHS TIER 3","iPad Air 11 M2, M3, M4","T3","24 Months","Standard"]
["SMJ12LL/A","9684512","ACE IPAD AIR 11-IN (M2-Current) 36 MONTHS TIER 1+","iPad Air 11 M2, M3, M4","T1","36 Months","SP+"]
["SMJ22LL/A","9684513","ACE IPAD AIR 11-IN (M2-Current) 36 MONTHS TIER 1","iPad Air 11 M2, M3, M4","T1","36 Months","Standard"]
["SMJ52LL/A","9684514","ACE IPAD AIR 11-IN (M2-Current) 36 MONTHS TIER 2+","iPad Air 11 M2, M3, M4","T2","36 Months","SP+"]
["SMJ62LL/A","9684515","ACE IPAD AIR 11-IN (M2-Current) 36 MONTHS TIER 2","iPad Air 11 M2, M3, M4","T2","36 Months","Standard"]
["SMJ92LL/A","9684516","ACE IPAD AIR 11-IN (M2-Current) 36 MONTHS TIER 3+","iPad Air 11 M2, M3, M4","T3","36 Months","SP+"]
["SMJA2LL/A","9684517","ACE IPAD AIR 11-IN (M2-Current) 36 MONTHS TIER 3","iPad Air 11 M2, M3, M4","T3","36 Months","Standard"]
["SMJF2LL/A","9684518","ACE IPAD AIR 11-IN (M2-Current) 48 MONTHS TIER 1+","iPad Air 11 M2, M3, M4","T1","48 Months","SP+"]
["SMJG2LL/A","9684519","ACE IPAD AIR 11-IN (M2-Current) 48 MONTHS TIER 1","iPad Air 11 M2, M3, M4","T1","48 Months","Standard"]
["SMJK2LL/A","9684520","ACE IPAD AIR 11-IN (M2-Current) 48 MONTHS TIER 2+","iPad Air 11 M2, M3, M4","T2","48 Months","SP+"]
["SMJL2LL/A","9684521","ACE IPAD AIR 11-IN (M2-Current) 48 MONTHS TIER 2","iPad Air 11 M2, M3, M4","T2","48 Months","Standard"]
["SMJP2LL/A","9684522","ACE IPAD AIR 11-IN (M2-Current) 48 MONTHS TIER 3+","iPad Air 11 M2, M3, M4","T3","48 Months","SP+"]
["SMJQ2LL/A","9684523","ACE IPAD AIR 11-IN (M2-Current) 48 MONTHS TIER 3","iPad Air 11 M2, M3, M4","T3","48 Months","Standard"]
["SMJU2LL/A","9684524","ACE IPAD AIR 13-IN (M2-Current) 24 MONTHS TIER 1+","iPad Air 13 M2, M3, M4","T1","24 Months","SP+"]
["SMK12LL/A","9684525","ACE IPAD AIR 13-IN (M2-Current) 24 MONTHS TIER 1","iPad Air 13 M2, M3, M4","T1","24 Months","Standard"]
["SMK52LL/A","9684526","ACE IPAD AIR 13-IN (M2-Current) 24 MONTHS TIER 2+","iPad Air 13 M2, M3, M4","T2","24 Months","SP+"]
["SMK62LL/A","9684527","ACE IPAD AIR 13-IN (M2-Current) 24 MONTHS TIER 2","iPad Air 13 M2, M3, M4","T2","24 Months","Standard"]
["SMK92LL/A","9684528","ACE IPAD AIR 13-IN (M2-Current) 24 MONTHS TIER 3+","iPad Air 13 M2, M3, M4","T3","24 Months","SP+"]
["SMKC2LL/A","9684529","ACE IPAD AIR 13-IN (M2-Current) 24 MONTHS TIER 3","iPad Air 13 M2, M3, M4","T3","24 Months","Standard"]
["SMKF2LL/A","9684530","ACE IPAD AIR 13-IN (M2-Current) 36 MONTHS TIER 1+","iPad Air 13 M2, M3, M4","T1","36 Months","SP+"]
["SMKG2LL/A","9684531","ACE IPAD AIR 13-IN (M2-Current) 36 MONTHS TIER 1","iPad Air 13 M2, M3, M4","T1","36 Months","Standard"]
["SMKK2LL/A","9684542","ACE IPAD AIR 13-IN (M2-Current) 36 MONTHS TIER 2+","iPad Air 13 M2, M3, M4","T2","36 Months","SP+"]
["SMKL2LL/A","9684543","ACE IPAD AIR 13-IN (M2-Current) 36 MONTHS TIER 2","iPad Air 13 M2, M3, M4","T2","36 Months","Standard"]
["SMKP2LL/A","9684544","ACE IPAD AIR 13-IN (M2-Current) 36 MONTHS TIER 3+","iPad Air 13 M2, M3, M4","T3","36 Months","SP+"]
["SMKQ2LL/A","9684545","ACE IPAD AIR 13-IN (M2-Current) 36 MONTHS TIER 3","iPad Air 13 M2, M3, M4","T3","36 Months","Standard"]
["SMKU2LL/A","9684546","ACE IPAD AIR 13-IN (M2-Current) 48 MONTHS TIER 1+","iPad Air 13 M2, M3, M4","T1","48 Months","SP+"]
["SMKV2LL/A","9684547","ACE IPAD AIR 13-IN (M2-Current) 48 MONTHS TIER 1","iPad Air 13 M2, M3, M4","T1","48 Months","Standard"]
["SMKY2LL/A","9684548","ACE IPAD AIR 13-IN (M2-Current) 48 MONTHS TIER 2+","iPad Air 13 M2, M3, M4","T2","48 Months","SP+"]
["SML02LL/A","9684549","ACE IPAD AIR 13-IN (M2-Current) 48 MONTHS TIER 2","iPad Air 13 M2, M3, M4","T2","48 Months","Standard"]
["SML32LL/A","9684550","ACE IPAD AIR 13-IN (M2-Current) 48 MONTHS TIER 3+","iPad Air 13 M2, M3, M4","T3","48 Months","SP+"]
["SML42LL/A","9684551","ACE IPAD AIR 13-IN (M2-Current) 48 MONTHS TIER 3","iPad Air 13 M2, M3, M4","T3","48 Months","Standard"]
["SML72LL/A","9684558","ACE iPad Pro 11-inch (M4) 24 months Tier 1+","iPad Pro 11 M4","T1","24 Months","SP+"]
["SML82LL/A","9684559","ACE iPad Pro 11-inch (M4) 24 months Tier 1","iPad Pro 11 M4","T1","24 Months","Standard"]
["SMLC2LL/A","9684560","ACE iPad Pro 11-inch (M4) 24 months Tier 2+","iPad Pro 11 M4","T2","24 Months","SP+"]
["SMLD2LL/A","9684561","ACE iPad Pro 11-inch (M4) 24 months Tier 2","iPad Pro 11 M4","T2","24 Months","Standard"]
["SMLG2LL/A","9684562","ACE iPad Pro 11-inch (M4) 24 months Tier 3+","iPad Pro 11 M4","T3","24 Months","SP+"]
["SMLH2LL/A","9684563","ACE iPad Pro 11-inch (M4) 24 months Tier 3","iPad Pro 11 M4","T3","24 Months","Standard"]
["SMLL2LL/A","9684564","ACE iPad Pro 11-inch (M4) 36 months Tier 1+","iPad Pro 11 M4","T1","36 Months","SP+"]
["SMLM2LL/A","9684565","ACE iPad Pro 11-inch (M4) 36 months Tier 1","iPad Pro 11 M4","T1","36 Months","Standard"]
["SMLQ2LL/A","9684566","ACE iPad Pro 11-inch (M4) 36 months Tier 2+","iPad Pro 11 M4","T2","36 Months","SP+"]
["SMLR2LL/A","9684567","ACE iPad Pro 11-inch (M4) 36 months Tier 2","iPad Pro 11 M4","T2","36 Months","Standard"]
["SMLV2LL/A","9684568","ACE iPad Pro 11-inch (M4) 36 months Tier 3+","iPad Pro 11 M4","T3","36 Months","SP+"]
["SMLW2LL/A","9684569","ACE iPad Pro 11-inch (M4) 36 months Tier 3","iPad Pro 11 M4","T3","36 Months","Standard"]
["SMM02LL/A","9684570","ACE iPad Pro 11-inch (M4) 48 months Tier 1+","iPad Pro 11 M4","T1","48 Months","SP+"]
["SMM22LL/A","9684571","ACE iPad Pro 11-inch (M4) 48 months Tier 1","iPad Pro 11 M4","T1","48 Months","Standard"]
["SMM52LL/A","9684572","ACE iPad Pro 11-inch (M4) 48 months Tier 2+","iPad Pro 11 M4","T2","48 Months","SP+"]
["SMM62LL/A","9684573","ACE iPad Pro 11-inch (M4) 48 months Tier 2","iPad Pro 11 M4","T2","48 Months","Standard"]
["SMM92LL/A","9684574","ACE iPad Pro 11-inch (M4) 48 months Tier 3+","iPad Pro 11 M4","T3","48 Months","SP+"]
["SMMA2LL/A","9684575","ACE iPad Pro 11-inch (M4) 48 months Tier 3","iPad Pro 11 M4","T3","48 Months","Standard"]
["SMJV2LL/A","9684576","ACE iPad Pro 13-inch (M4) 24 months Tier 1+","iPad Pro 13 M4","T1","24 Months","SP+"]
["SMJW2LL/A","9684577","ACE iPad Pro 13-inch (M4) 24 months Tier 1","iPad Pro 13 M4","T1","24 Months","Standard"]
["SMK02LL/A","9684532","ACE iPad Pro 13-inch (M4) 24 months Tier 2+","iPad Pro 13 M4","T2","24 Months","SP+"]
["SMME2LL/A","9684533","ACE iPad Pro 13-inch (M4) 24 months Tier 2","iPad Pro 13 M4","T2","24 Months","Standard"]
["SMMH2LL/A","9684534","ACE iPad Pro 13-inch (M4) 24 months Tier 3+","iPad Pro 13 M4","T3","24 Months","SP+"]
["SMMJ2LL/A","9684535","ACE iPad Pro 13-inch (M4) 24 months Tier 3","iPad Pro 13 M4","T3","24 Months","Standard"]
["SMMM2LL/A","9684536","ACE iPad Pro 13-inch (M4) 36 months Tier 1+","iPad Pro 13 M4","T1","36 Months","SP+"]
["SMMN2LL/A","9684537","ACE iPad Pro 13-inch (M4) 36 months Tier 1","iPad Pro 13 M4","T1","36 Months","Standard"]
["SMMR2LL/A","9684538","ACE iPad Pro 13-inch (M4) 36 months Tier 2+","iPad Pro 13 M4","T2","36 Months","SP+"]
["SMMT2LL/A","9684539","ACE iPad Pro 13-inch (M4) 36 months Tier 2","iPad Pro 13 M4","T2","36 Months","Standard"]
["SMMW2LL/A","9684540","ACE iPad Pro 13-inch (M4) 36 months Tier 3+","iPad Pro 13 M4","T3","36 Months","SP+"]
["SMMX2LL/A","9684541","ACE iPad Pro 13-inch (M4) 36 months Tier 3","iPad Pro 13 M4","T3","36 Months","Standard"]
["SMN12LL/A","9684552","ACE iPad Pro 13-inch (M4) 48 months Tier 1+","iPad Pro 13 M4","T1","48 Months","SP+"]
["SMN22LL/A","9684553","ACE iPad Pro 13-inch (M4) 48 months Tier 1","iPad Pro 13 M4","T1","48 Months","Standard"]
["SMN62LL/A","9684554","ACE iPad Pro 13-inch (M4) 48 months Tier 2+","iPad Pro 13 M4","T2","48 Months","SP+"]
["SMN72LL/A","9684555","ACE iPad Pro 13-inch (M4) 48 months Tier 2","iPad Pro 13 M4","T2","48 Months","Standard"]
["SMNC2LL/A","9684556","ACE iPad Pro 13-inch (M4) 48 months Tier 3+","iPad Pro 13 M4","T3","48 Months","SP+"]
["SMND2LL/A","9684557","ACE iPad Pro 13-inch (M4) 48 months Tier 3","iPad Pro 13 M4","T3","48 Months","Standard"]
["SQ2E2LL/A","14195501","AppleCare for Enterprise iPhone 24 Months Tier 1","iPhone","T1","24 Months","Standard"]
["SQ2G2LL/A","14195502","AppleCare for Enterprise iPhone 24 Months Tier 2","iPhone","T2","24 Months","Standard"]
["SQ2J2LL/A","14195503","AppleCare for Enterprise iPhone 24 Months Tier 3","iPhone","T3","24 Months","Standard"]
["SQ2L2LL/A","14195504","AppleCare for Enterprise iPhone 36 Months Tier 1","iPhone","T1","36 Months","Standard"]
["SQ2N2LL/A","14195485","AppleCare for Enterprise iPhone 36 Months Tier 2","iPhone","T2","36 Months","Standard"]
["SQ2Q2LL/A","14195486","AppleCare for Enterprise iPhone 36 Months Tier 3","iPhone","T3","36 Months","Standard"]
["SQ2T2LL/A","14195487","AppleCare for Enterprise iPhone 24 Months Tier 1+","iPhone","T1","24 Months","SP+"]
["SQ2V2LL/A","14195488","AppleCare for Enterprise iPhone 24 Months Tier 2+","iPhone","T2","24 Months","SP+"]
["SQ2X2LL/A","14195489","AppleCare for Enterprise iPhone 24 Months Tier 3+","iPhone","T3","24 Months","SP+"]
["SQ302LL/A","14195490","AppleCare for Enterprise iPhone 36 Months Tier 1+","iPhone","T1","36 Months","SP+"]
["SQ322LL/A","14195491","AppleCare for Enterprise iPhone 36 Months Tier 2+","iPhone","T2","36 Months","SP+"]
["SQ342LL/A","14195492","AppleCare for Enterprise iPhone 36 Months Tier 3+","iPhone","T3","36 Months","SP+"]
["SQ3A2LL/A","14195493","AppleCare for Enterprise iPhone Plus 24 Months Tier 3","iPhone Plus","T3","24 Months","Standard"]
["SQ3D2LL/A","14195494","AppleCare for Enterprise iPhone Plus 36 Months Tier 1","iPhone Plus","T1","36 Months","Standard"]
["SQ3F2LL/A","14195515","AppleCare for Enterprise iPhone Plus 36 Months Tier 2","iPhone Plus","T2","36 Months","Standard"]
["SQ3H2LL/A","14195516","AppleCare for Enterprise iPhone Plus 36 Months Tier 3","iPhone Plus","T3","36 Months","Standard"]
["SQ3K2LL/A","14195517","AppleCare for Enterprise iPhone Plus 24 Months Tier 1+","iPhone Plus","T1","24 Months","SP+"]
["SQ3M2LL/A","14195518","AppleCare for Enterprise iPhone Plus 24 Months Tier 2+","iPhone Plus","T2","24 Months","SP+"]
["SQ3P2LL/A","14195519","AppleCare for Enterprise iPhone Plus 24 Months Tier 3+","iPhone Plus","T3","24 Months","SP+"]
["SQ3R2LL/A","14195520","AppleCare for Enterprise iPhone Plus 36 Months Tier 1+","iPhone Plus","T1","36 Months","SP+"]
["SQ3U2LL/A","14195521","AppleCare for Enterprise iPhone Plus 36 Months Tier 2+","iPhone Plus","T2","36 Months","SP+"]
["SQ3W2LL/A","14195522","AppleCare for Enterprise iPhone Plus 36 Months Tier 3+","iPhone Plus","T3","36 Months","SP+"]
["SQ362LL/A","14195523","AppleCare for Enterprise iPhone Plus 24 Months Tier 1","iPhone Plus","T1","24 Months","Standard"]
["SQ382LL/A","14195524","AppleCare for Enterprise iPhone Plus 24 Months Tier 2","iPhone Plus","T2","24 Months","Standard"]
["SQ5H2LL/A","14195505","AppleCare for Enterprise iPhone SE 36 Months Tier 1+","iPhone SE","T1","36 Months","SP+"]
["SQ5J2LL/A","14195506","AppleCare for Enterprise iPhone SE 36 Months Tier 2+","iPhone SE","T2","36 Months","SP+"]
["SQ5K2LL/A","14195507","AppleCare for Enterprise iPhone SE 24 Months Tier 2+","iPhone SE","T2","24 Months","SP+"]
["SQ5L2LL/A","14195508","AppleCare for Enterprise iPhone SE 24 Months Tier 3+","iPhone SE","T3","24 Months","SP+"]
["SQ5T2LL/A","14195509","AppleCare for Enterprise iPhone SE 36 Months Tier 2","iPhone SE","T2","36 Months","Standard"]
["SQ5U2LL/A","14195510","AppleCare for Enterprise iPhone SE 24 Months Tier 1","iPhone SE","T1","24 Months","Standard"]
["SQ5V2LL/A","14195511","AppleCare for Enterprise iPhone SE 24 Months Tier 3","iPhone SE","T3","24 Months","Standard"]
["SQ5W2LL/A","14195512","AppleCare for Enterprise iPhone SE 36 Months Tier 3","iPhone SE","T3","36 Months","Standard"]
["SQ622LL/A","14195513","AppleCare for Enterprise iPhone SE 24 Months Tier 1+","iPhone SE","T1","24 Months","SP+"]
["SQ632LL/A","14195514","AppleCare for Enterprise iPhone SE 36 Months Tier 3+","iPhone SE","T3","36 Months","SP+"]
["SQ652LL/A","14195531","AppleCare for Enterprise iPhone SE 36 Months Tier 1","iPhone SE","T1","36 Months","Standard"]
["SQ662LL/A","14195532","AppleCare for Enterprise iPhone SE 24 Months Tier 2","iPhone SE","T2","24 Months","Standard"]
["SQ3Y2LL/A","14195533","AppleCare for Enterprise iPhone mini 24 Months Tier 1","iPhone Mini","T1","24 Months","Standard"]
["SQ4C2LL/A","14195534","AppleCare for Enterprise iPhone mini 24 Months Tier 1+","iPhone Mini","T1","24 Months","SP+"]
["SQ4E2LL/A","14195535","AppleCare for Enterprise iPhone mini 24 Months Tier 2+","iPhone Mini","T2","24 Months","SP+"]
["SQ4G2LL/A","14195536","AppleCare for Enterprise iPhone mini 24 Months Tier 3+","iPhone Mini","T3","24 Months","SP+"]
["SQ4J2LL/A","14195537","AppleCare for Enterprise iPhone mini 36 Months Tier 1+","iPhone Mini","T1","36 Months","SP+"]
["SQ4L2LL/A","14195538","AppleCare for Enterprise iPhone mini 36 Months Tier 2+","iPhone Mini","T2","36 Months","SP+"]
["SQ4N2LL/A","14195539","AppleCare for Enterprise iPhone mini 36 Months Tier 3+","iPhone Mini","T3","36 Months","SP+"]
["SQ412LL/A","14195540","AppleCare for Enterprise iPhone mini 24 Months Tier 2","iPhone Mini","T2","24 Months","Standard"]
["SQ432LL/A","14195541","AppleCare for Enterprise iPhone mini 24 Months Tier 3","iPhone Mini","T3","24 Months","Standard"]
["SQ452LL/A","14195542","AppleCare for Enterprise iPhone mini 36 Months Tier 1","iPhone Mini","T1","36 Months","Standard"]
["SQ472LL/A","14195543","AppleCare for Enterprise iPhone mini 36 Months Tier 2","iPhone Mini","T2","36 Months","Standard"]
["SQ492LL/A","14195544","AppleCare for Enterprise iPhone mini 36 Months Tier 3","iPhone Mini","T3","36 Months","Standard"]
["SQ4Q2LL/A","14195545","AppleCare for Enterprise iPhone Pro/Pro Max 24 Months Tier 1","iPhone Pro/Pro Max","T1","24 Months","Standard"]
["SQ4T2LL/A","14195546","AppleCare for Enterprise iPhone Pro/Pro Max 24 Months Tier 2","iPhone Pro/Pro Max","T2","24 Months","Standard"]
["SQ4V2LL/A","14195547","AppleCare for Enterprise iPhone Pro/Pro Max 24 Months Tier 3","iPhone Pro/Pro Max","T3","24 Months","Standard"]
["SQ4X2LL/A","14195548","AppleCare for Enterprise iPhone Pro/Pro Max 36 Months Tier 1","iPhone Pro/Pro Max","T1","36 Months","Standard"]
["SQ5A2LL/A","14195549","AppleCare for Enterprise iPhone Pro/Pro Max 36 Months Tier 1+","iPhone Pro/Pro Max","T1","36 Months","SP+"]
["SQ5D2LL/A","14195550","AppleCare for Enterprise iPhone Pro/Pro Max 36 Months Tier 2+","iPhone Pro/Pro Max","T2","36 Months","SP+"]
["SQ5F2LL/A","14195525","AppleCare for Enterprise iPhone Pro/Pro Max 36 Months Tier 3+","iPhone Pro/Pro Max","T3","36 Months","SP+"]
["SQ502LL/A","14195526","AppleCare for Enterprise iPhone Pro/Pro Max 36 Months Tier 2","iPhone Pro/Pro Max","T2","36 Months","Standard"]
["SQ522LL/A","14195527","AppleCare for Enterprise iPhone Pro/Pro Max 36 Months Tier 3","iPhone Pro/Pro Max","T3","36 Months","Standard"]
["SQ542LL/A","14195528","AppleCare for Enterprise iPhone Pro/Pro Max 24 Months Tier 1+","iPhone Pro/Pro Max","T1","24 Months","SP+"]
["SQ562LL/A","14195529","AppleCare for Enterprise iPhone Pro/Pro Max 24 Months Tier 2+","iPhone Pro/Pro Max","T2","24 Months","SP+"]
["SQ582LL/A","14195530","AppleCare for Enterprise iPhone Pro/Pro Max 24 Months Tier 3+","iPhone Pro/Pro Max","T3","24 Months","SP+"]
["SUGP2LL/A","14552000","AppleCare for Enterprise iPhone 16-17e 24 Months Tier 1","iPhone 16e, 17e","T1","24 Months","Standard"]
["SUGR2LL/A","14552001","AppleCare for Enterprise iPhone 16-17e 24 Months Tier 2","iPhone 16e, 17e","T2","24 Months","Standard"]
["SUGW2LL/A","14552002","AppleCare for Enterprise iPhone 16-17e 24 Months Tier 3","iPhone 16e, 17e","T3","24 Months","Standard"]
["SUGY2LL/A","14552003","AppleCare for Enterprise iPhone 16-17e 36 Months Tier 1","iPhone 16e, 17e","T1","36 Months","Standard"]
["SUH12LL/A","14552004","AppleCare for Enterprise iPhone 16-17e 36 Months Tier 2","iPhone 16e, 17e","T2","36 Months","Standard"]
["SUH42LL/A","14552005","AppleCare for Enterprise iPhone 16-17e 36 Months Tier 3","iPhone 16e, 17e","T3","36 Months","Standard"]
["SUH62LL/A","14552006","AppleCare for Enterprise iPhone 16-17e 24 Months Tier 1+","iPhone 16e, 17e","T1","24 Months","SP+"]
["SUH82LL/A","14552007","AppleCare for Enterprise iPhone 16-17e 24 Months Tier 2+","iPhone 16e, 17e","T2","24 Months","SP+"]
["SUHA2LL/A","14552008","AppleCare for Enterprise iPhone 16-17e 24 Months Tier 3+","iPhone 16e, 17e","T3","24 Months","SP+"]
["SUHD2LL/A","14552009","AppleCare for Enterprise iPhone 16-17e 36 Months Tier 1+","iPhone 16e, 17e","T1","36 Months","SP+"]
["SUHG2LL/A","14552010","AppleCare for Enterprise iPhone 16-17e 36 Months Tier 2+","iPhone 16e, 17e","T2","36 Months","SP+"]
["SUHJ2LL/A","14552011","AppleCare for Enterprise iPhone 16-17e 36 Months Tier 3+","iPhone 16e, 17e","T3","36 Months","SP+"]
["SEMR3LL/A","15351138","ACE Studio Display XDR 36 MO T1 SP","Mac Studio XDR","T1","36 Months","Standard"]
["SEMU3LL/A","15350941","ACE Studio Display XDR 36 MO T2 SP","Mac Studio XDR","T2","36 Months","Standard"]
["SEMW3LL/A","15350942","ACE Studio Display XDR 36 MO T3 SP","Mac Studio XDR","T3","36 Months","Standard"]
["SEMY3LL/A","15351139","ACE Studio Display XDR 48 MO T1 SP","Mac Studio XDR","T1","48 Months","Standard"]
["SEN13LL/A","15350943","ACE Studio Display XDR 48 MO T2 SP","Mac Studio XDR","T2","48 Months","Standard"]
["SEN63LL/A","15350828","ACE Studio Display XDR 36 MO T1 SP+","Mac Studio XDR","T1","36 Months","SP+"]
["SENF3LL/A","15350829","ACE Studio Display XDR 36 MO T2 SP+","Mac Studio XDR","T2","36 Months","SP+"]
["SENH3LL/A","15350830","ACE Studio Display XDR 48 MO T2 SP+","Mac Studio XDR","T2","48 Months","SP+"]
["SENK3LL/A","15350831","ACE Studio Display XDR 48 MO T3 SP+","Mac Studio XDR","T3","48 Months","SP+"]
["SENW3LL/A","15350832","ACE Studio Display XDR 36 MO T3 SP+","Mac Studio XDR","T3","36 Months","SP+"]
["SENY3LL/A","15350833","ACE Studio Display XDR 48 MO T1 SP+","Mac Studio XDR","T1","48 Months","SP+"]
["SELV3LL/A","15356937","ACE 13INMB NEO(A18PRO) 36 MONTHS TIER 3","MB Neo","T3","36 Months","Standard"]
["SELX3LL/A","15356938","ACE 13INMB NEO(A18PRO) 36 MONTHS TIER 1+","MB Neo","T1","36 Months","SP+"]
["SEM23LL/A","15356939","ACE 13INMB NEO(A18PRO) 48 MONTHS TIER 1+","MB Neo","T1","48 Months","SP+"]
["SEM73LL/A","15356940","ACE 13INMB NEO(A18PRO) 36 MONTHS TIER 3+","MB Neo","T3","36 Months","SP+"]
["SEM93LL/A","15356941","ACE 13INMB NEO(A18PRO) 36 MONTHS TIER 2+","MB Neo","T2","36 Months","SP+"]
["SEMC3LL/A","15356942","ACE 13INMB NEO(A18PRO) 48 MONTHS TIER 1","MB Neo","T1","48 Months","Standard"]
["SEMG3LL/A","15356943","ACE 13INMB NEO(A18PRO) 48 MONTHS TIER 2","MB Neo","T2","48 Months","Standard"]
["SEMH3LL/A","15356944","ACE 13INMB NEO(A18PRO) 48 MONTHS TIER 3","MB Neo","T3","48 Months","Standard"]
["SEML3LL/A","15356945","ACE 13INMB NEO(A18PRO) 48 MONTHS TIER 2+","MB Neo","T2","48 Months","SP+"]
["SEMQ3LL/A","15356946","ACE 13INMB NEO(A18PRO) 48 MONTHS TIER 3+","MB Neo","T3","48 Months","SP+"]
["SEN93LL/A","15356947","ACE 13INMB NEO(A18PRO) 36 MONTHS TIER 1","MB Neo","T1","36 Months","Standard"]
["SENC3LL/A","15356948","ACE 13INMB NEO(A18PRO) 36 MONTHS TIER 2","MB Neo","T2","36 Months","Standard"]

{"sheet":"Accessories","index":13,"n_rows":285,"n_cols":5,"rows_kept":285,"cut":false,"hidden":false,"merged":[]}
["Apple Part ","TDS SKU","Product Description","ABC Code","Acative Status"]
["MW2M3AM/A","9812403","140W USB-C POWER ADAPTER-AME",{"$f":"_xlfn.XLOOKUP(Table10[[#This Row],[TDS SKU]],Sheet2!B:B,Sheet2!C:C)","v":"A"},{"$f":"_xlfn.XLOOKUP(Table10[[#This Row],[TDS SKU]],Sheet2!B:B,Sheet2!D:D)","v":"A"}]
["MWVV3AM/A","14379110","20W USB-C POWER ADAPTER-AME",{"$f":"_xlfn.XLOOKUP(Table10[[#This Row],[TDS SKU]],Sheet2!B:B,Sheet2!C:C)","v":"A"},{"$f":"_xlfn.XLOOKUP(Table10[[#This Row],[TDS SKU]],Sheet2!B:B,Sheet2!D:D)","v":"A"}]
["MYQT3AM/A","14035528","240W USB-C Charge Cable (2 m)",{"$f":"_xlfn.XLOOKUP(Table10[[#This Row],[TDS SKU]],Sheet2!B:B,Sheet2!C:C)","v":"A"},{"$f":"_xlfn.XLOOKUP(Table10[[#This Row],[TDS SKU]],Sheet2!B:B,Sheet2!D:D)","v":"A"}]
["MR393AM/A","7512604","2TB SSD KIT FOR MAC PRO-AME",{"$f":"_xlfn.XLOOKUP(Table10[[#This Row],[TDS SKU]],Sheet2!B:B,Sheet2!C:C)","v":"B"},{"$f":"_xlfn.XLOOKUP(Table10[[#This Row],[TDS SKU]],Sheet2!B:B,Sheet2!D:D)","v":"A"}]
["MW2H3AM/A","9597494","35W DUAL USB-C COMPACT POWER ADAPTER-AME",{"$f":"_xlfn.XLOOKUP(Table10[[#This Row],[TDS SKU]],Sheet2!B:B,Sheet2!C:C)","v":"A"},{"$f":"_xlfn.XLOOKUP(Table10[[#This Row],[TDS SKU]],Sheet2!B:B,Sheet2!D:D)","v":"A"}]
["MW2K3AM/A","14018634","35W DUAL USB-C PORT POWER ADAPTER",{"$f":"_xlfn.XLOOKUP(Table10[[#This Row],[TDS SKU]],Sheet2!B:B,Sheet2!C:C)","v":"A"},{"$f":"_xlfn.XLOOKUP(Table10[[#This Row],[TDS SKU]],Sheet2!B:B,Sheet2!D:D)","v":"A"}]
["MGKN4AM/A","15007613","40W Dynamic Power Adapter with 60W Max",{"$f":"_xlfn.XLOOKUP(Table10[[#This Row],[TDS SKU]],Sheet2!B:B,Sheet2!C:C)","v":"A"},{"$f":"_xlfn.XLOOKUP(Table10[[#This Row],[TDS SKU]],Sheet2!B:B,Sheet2!D:D)","v":"A"}]
["MR3A3AM/A","7512592","4TB SSD KIT FOR MAC PRO-AME",{"$f":"_xlfn.XLOOKUP(Table10[[#This Row],[TDS SKU]],Sheet2!B:B,Sheet2!C:C)","v":"B"},{"$f":"_xlfn.XLOOKUP(Table10[[#This Row],[TDS SKU]],Sheet2!B:B,Sheet2!D:D)","v":"A"}]
["MW493AM/A","14542486","60W USB-C CHARGE CABLE (1M)-AME",{"$f":"_xlfn.XLOOKUP(Table10[[#This Row],[TDS SKU]],Sheet2!B:B,Sheet2!C:C)","v":"A"},{"$f":"_xlfn.XLOOKUP(Table10[[#This Row],[TDS SKU]],Sheet2!B:B,Sheet2!D:D)","v":"A"}]
["MXN53AM/A","14035518","70W USB-C Power Adapter",{"$f":"_xlfn.XLOOKUP(Table10[[#This Row],[TDS SKU]],Sheet2!B:B,Sheet2!C:C)","v":"A"},{"$f":"_xlfn.XLOOKUP(Table10[[#This Row],[TDS SKU]],Sheet2!B:B,Sheet2!D:D)","v":"A"}]
["MW2L3AM/A","9597495","96W USB-C POWER ADAPTER-AME",{"$f":"_xlfn.XLOOKUP(Table10[[#This Row],[TDS SKU]],Sheet2!B:B,Sheet2!C:C)","v":"A"},{"$f":"_xlfn.XLOOKUP(Table10[[#This Row],[TDS SKU]],Sheet2!B:B,Sheet2!D:D)","v":"A"}]
["MXP63LL/A","14195303","AirPods 4",{"$f":"_xlfn.XLOOKUP(Table10[[#This Row],[TDS SKU]],Sheet2!B:B,Sheet2!C:C)","v":"A"},{"$f":"_xlfn.XLOOKUP(Table10[[#This Row],[TDS SKU]],Sheet2!B:B,Sheet2!D:D)","v":"A"}]
["MXP93LL/A","14195304","AirPods 4 with Active Noise Cancellation",{"$f":"_xlfn.XLOOKUP(Table10[[#This Row],[TDS SKU]],Sheet2!B:B,Sheet2!C:C)","v":"A"},{"$f":"_xlfn.XLOOKUP(Table10[[#This Row],[TDS SKU]],Sheet2!B:B,Sheet2!D:D)","v":"A"}]
["MHWM4AM/A","15384644","AIRPODS MAX 2 BLUE-AME",{"$f":"_xlfn.XLOOKUP(Table10[[#This Row],[TDS SKU]],Sheet2!B:B,Sheet2!C:C)","v":"A"},{"$f":"_xlfn.XLOOKUP(Table10[[#This Row],[TDS SKU]],Sheet2!B:B,Sheet2!D:D)","v":"A"}]
["MHWK4AM/A","15384642","AIRPODS MAX 2 MIDNIGHT-AME",{"$f":"_xlfn.XLOOKUP(Table10[[#This Row],[TDS SKU]],Sheet2!B:B,Sheet2!C:C)","v":"A"},{"$f":"_xlfn.XLOOKUP(Table10[[#This Row],[TDS SKU]],Sheet2!B:B,Sheet2!D:D)","v":"A"}]
["MHWN4AM/A","15384645","AIRPODS MAX 2 ORANGE-AME",{"$f":"_xlfn.XLOOKUP(Table10[[#This Row],[TDS SKU]],Sheet2!B:B,Sheet2!C:C)","v":"B"},{"$f":"_xlfn.XLOOKUP(Table10[[#This Row],[TDS SKU]],Sheet2!B:B,Sheet2!D:D)","v":"A"}]
["MHWP4AM/A","15384646","AIRPODS MAX 2 PURPLE-AME",{"$f":"_xlfn.XLOOKUP(Table10[[#This Row],[TDS SKU]],Sheet2!B:B,Sheet2!C:C)","v":"B"},{"$f":"_xlfn.XLOOKUP(Table10[[#This Row],[TDS SKU]],Sheet2!B:B,Sheet2!D:D)","v":"A"}]
["MHWL4AM/A","15384643","AIRPODS MAX 2 STARLIGHT-AME",{"$f":"_xlfn.XLOOKUP(Table10[[#This Row],[TDS SKU]],Sheet2!B:B,Sheet2!C:C)","v":"A"},{"$f":"_xlfn.XLOOKUP(Table10[[#This Row],[TDS SKU]],Sheet2!B:B,Sheet2!D:D)","v":"A"}]
["MFHP4LL/A","15007615","AirPods Pro 3",{"$f":"_xlfn.XLOOKUP(Table10[[#This Row],[TDS SKU]],Sheet2!B:B,Sheet2!C:C)","v":"A"},{"$f":"_xlfn.XLOOKUP(Table10[[#This Row],[TDS SKU]],Sheet2!B:B,Sheet2!D:D)","v":"A"}]
["MFE94LL/A","15272189","AirTag (1 Pack)",{"$f":"_xlfn.XLOOKUP(Table10[[#This Row],[TDS SKU]],Sheet2!B:B,Sheet2!C:C)","v":"A"},{"$f":"_xlfn.XLOOKUP(Table10[[#This Row],[TDS SKU]],Sheet2!B:B,Sheet2!D:D)","v":"A"}]
["MFEA4LL/A","15272190","AirTag (4 Pack)",{"$f":"_xlfn.XLOOKUP(Table10[[#This Row],[TDS SKU]],Sheet2!B:B,Sheet2!C:C)","v":"A"},{"$f":"_xlfn.XLOOKUP(Table10[[#This Row],[TDS SKU]],Sheet2!B:B,Sheet2!D:D)","v":"A"}]
["MGG24ZM/A","15007430","AirTag FineWoven Key Ring - Black",{"$f":"_xlfn.XLOOKUP(Table10[[#This Row],[TDS SKU]],Sheet2!B:B,Sheet2!C:C)","v":"B"},{"$f":"_xlfn.XLOOKUP(Table10[[#This Row],[TDS SKU]],Sheet2!B:B,Sheet2!D:D)","v":"A"}]
["MA7K4ZM/A","14198000","AirTag FineWoven Key Ring - Blackberry",{"$f":"_xlfn.XLOOKUP(Table10[[#This Row],[TDS SKU]],Sheet2!B:B,Sheet2!C:C)","v":"B"},{"$f":"_xlfn.XLOOKUP(Table10[[#This Row],[TDS SKU]],Sheet2!B:B,Sheet2!D:D)","v":"A"}]
["MA7J4ZM/A","14197999","AirTag FineWoven Key Ring - Dark Green",{"$f":"_xlfn.XLOOKUP(Table10[[#This Row],[TDS SKU]],Sheet2!B:B,Sheet2!C:C)","v":"B"},{"$f":"_xlfn.XLOOKUP(Table10[[#This Row],[TDS SKU]],Sheet2!B:B,Sheet2!D:D)","v":"A"}]
["MGFY4ZM/A","15007427","AirTag FineWoven Key Ring - Fox Orange",{"$f":"_xlfn.XLOOKUP(Table10[[#This Row],[TDS SKU]],Sheet2!B:B,Sheet2!C:C)","v":"B"},{"$f":"_xlfn.XLOOKUP(Table10[[#This Row],[TDS SKU]],Sheet2!B:B,Sheet2!D:D)","v":"A"}]
["MGG04ZM/A","15007428","AirTag FineWoven Key Ring - Midnight Purple",{"$f":"_xlfn.XLOOKUP(Table10[[#This Row],[TDS SKU]],Sheet2!B:B,Sheet2!C:C)","v":"B"},{"$f":"_xlfn.XLOOKUP(Table10[[#This Row],[TDS SKU]],Sheet2!B:B,Sheet2!D:D)","v":"A"}]
["MGFX4ZM/A","15007426","AirTag FineWoven Key Ring - Moss",{"$f":"_xlfn.XLOOKUP(Table10[[#This Row],[TDS SKU]],Sheet2!B:B,Sheet2!C:C)","v":"B"},{"$f":"_xlfn.XLOOKUP(Table10[[#This Row],[TDS SKU]],Sheet2!B:B,Sheet2!D:D)","v":"A"}]
["MGG14ZM/A","15007429","AirTag FineWoven Key Ring - Navy",{"$f":"_xlfn.XLOOKUP(Table10[[#This Row],[TDS SKU]],Sheet2!B:B,Sheet2!C:C)","v":"B"},{"$f":"_xlfn.XLOOKUP(Table10[[#This Row],[TDS SKU]],Sheet2!B:B,Sheet2!D:D)","v":"A"}]
["MYQW3AM/A","14542484","APPLE PENCIL 1ST GEN-AME",{"$f":"_xlfn.XLOOKUP(Table10[[#This Row],[TDS SKU]],Sheet2!B:B,Sheet2!C:C)","v":"A"},{"$f":"_xlfn.XLOOKUP(Table10[[#This Row],[TDS SKU]],Sheet2!B:B,Sheet2!D:D)","v":"A"}]
["MXN43AM/A","14542483","APPLE PENCIL 2ND GEN-AME",{"$f":"_xlfn.XLOOKUP(Table10[[#This Row],[TDS SKU]],Sheet2!B:B,Sheet2!C:C)","v":"A"},{"$f":"_xlfn.XLOOKUP(Table10[[#This Row],[TDS SKU]],Sheet2!B:B,Sheet2!D:D)","v":"A"}]
["MX2D3AM/A","9684485","APPLE PENCIL PRO-AME",{"$f":"_xlfn.XLOOKUP(Table10[[#This Row],[TDS SKU]],Sheet2!B:B,Sheet2!C:C)","v":"A"},{"$f":"_xlfn.XLOOKUP(Table10[[#This Row],[TDS SKU]],Sheet2!B:B,Sheet2!D:D)","v":"A"}]
["MX763AM/A","14392302","Apple Pencil Tips - 4 pack",{"$f":"_xlfn.XLOOKUP(Table10[[#This Row],[TDS SKU]],Sheet2!B:B,Sheet2!C:C)","v":"A"},{"$f":"_xlfn.XLOOKUP(Table10[[#This Row],[TDS SKU]],Sheet2!B:B,Sheet2!D:D)","v":"A"}]
["MUWA3AM/A","8828250","APPLE PENCIL USB-C-AME",{"$f":"_xlfn.XLOOKUP(Table10[[#This Row],[TDS SKU]],Sheet2!B:B,Sheet2!C:C)","v":"A"},{"$f":"_xlfn.XLOOKUP(Table10[[#This Row],[TDS SKU]],Sheet2!B:B,Sheet2!D:D)","v":"A"}]
["MW5J3AM/A","9597496","APPLE THUNDERBOLT 4 PRO CABLE (1.8M)-AME",{"$f":"_xlfn.XLOOKUP(Table10[[#This Row],[TDS SKU]],Sheet2!B:B,Sheet2!C:C)","v":"A"},{"$f":"_xlfn.XLOOKUP(Table10[[#This Row],[TDS SKU]],Sheet2!B:B,Sheet2!D:D)","v":"A"}]
["MW5H3AM/A","9780584","APPLE THUNDERBOLT 4 PRO CABLE (3M)-AME",{"$f":"_xlfn.XLOOKUP(Table10[[#This Row],[TDS SKU]],Sheet2!B:B,Sheet2!C:C)","v":"B"},{"$f":"_xlfn.XLOOKUP(Table10[[#This Row],[TDS SKU]],Sheet2!B:B,Sheet2!D:D)","v":"A"}]
["MN873LL/A","6799472","APPLE TV 4K (3RD GEN) WI-FI-USA",{"$f":"_xlfn.XLOOKUP(Table10[[#This Row],[TDS SKU]],Sheet2!B:B,Sheet2!C:C)","v":"A"},{"$f":"_xlfn.XLOOKUP(Table10[[#This Row],[TDS SKU]],Sheet2!B:B,Sheet2!D:D)","v":"A"}]
["MN893LL/A","6799473","APPLE TV 4K (3RD GEN) WI-FI+ETH-USA",{"$f":"_xlfn.XLOOKUP(Table10[[#This Row],[TDS SKU]],Sheet2!B:B,Sheet2!C:C)","v":"A"},{"$f":"_xlfn.XLOOKUP(Table10[[#This Row],[TDS SKU]],Sheet2!B:B,Sheet2!D:D)","v":"A"}]
["MQDM3LL/A","14589879","Apple TV 4K Wi-Fi with 64GB storage (Remote Not Included)",{"$f":"_xlfn.XLOOKUP(Table10[[#This Row],[TDS SKU]],Sheet2!B:B,Sheet2!C:C)","v":"B"},{"$f":"_xlfn.XLOOKUP(Table10[[#This Row],[TDS SKU]],Sheet2!B:B,Sheet2!D:D)","v":"A"}]
["MT0H3AM/A","7831431","APPLE WATCH MAG FAST CHARGER USBC 1M-AME",{"$f":"_xlfn.XLOOKUP(Table10[[#This Row],[TDS SKU]],Sheet2!B:B,Sheet2!C:C)","v":"A"},{"$f":"_xlfn.XLOOKUP(Table10[[#This Row],[TDS SKU]],Sheet2!B:B,Sheet2!D:D)","v":"A"}]
["MW6A3AM/A","14850835","Apple Watch Magnetic Charging Cable (1 m)",{"$f":"_xlfn.XLOOKUP(Table10[[#This Row],[TDS SKU]],Sheet2!B:B,Sheet2!C:C)","v":"A"},{"$f":"_xlfn.XLOOKUP(Table10[[#This Row],[TDS SKU]],Sheet2!B:B,Sheet2!D:D)","v":"A"}]
["MYMC2LL/A","6510562","BEATS FLEX ALLDAY WLS EARPHONE BEATS BLK",{"$f":"_xlfn.XLOOKUP(Table10[[#This Row],[TDS SKU]],Sheet2!B:B,Sheet2!C:C)","v":"A"},{"$f":"_xlfn.XLOOKUP(Table10[[#This Row],[TDS SKU]],Sheet2!B:B,Sheet2!D:D)","v":"A"}]
["MYMD2LL/A","6510561","BEATS FLEX ALLDAY WLS EARPHONES YUZU YLW",{"$f":"_xlfn.XLOOKUP(Table10[[#This Row],[TDS SKU]],Sheet2!B:B,Sheet2!C:C)","v":"B"},{"$f":"_xlfn.XLOOKUP(Table10[[#This Row],[TDS SKU]],Sheet2!B:B,Sheet2!D:D)","v":"A"}]
["MW463LL/A","9713084","BEATS PILL, CHAMPAGNE GOLD-USA",{"$f":"_xlfn.XLOOKUP(Table10[[#This Row],[TDS SKU]],Sheet2!B:B,Sheet2!C:C)","v":"B"},{"$f":"_xlfn.XLOOKUP(Table10[[#This Row],[TDS SKU]],Sheet2!B:B,Sheet2!D:D)","v":"A"}]
["MW443LL/A","9713083","BEATS PILL, MATTE BLACK-USA",{"$f":"_xlfn.XLOOKUP(Table10[[#This Row],[TDS SKU]],Sheet2!B:B,Sheet2!C:C)","v":"A"},{"$f":"_xlfn.XLOOKUP(Table10[[#This Row],[TDS SKU]],Sheet2!B:B,Sheet2!D:D)","v":"A"}]
["MWQW3LL/A","9713085","BEATS PILL, STATEMENT RED-USA",{"$f":"_xlfn.XLOOKUP(Table10[[#This Row],[TDS SKU]],Sheet2!B:B,Sheet2!C:C)","v":"B"},{"$f":"_xlfn.XLOOKUP(Table10[[#This Row],[TDS SKU]],Sheet2!B:B,Sheet2!D:D)","v":"A"}]
["MX743LL/A","14479981","Beats Powerbeats Pro 2 - High-Performance Earbuds - Electric Orange",{"$f":"_xlfn.XLOOKUP(Table10[[#This Row],[TDS SKU]],Sheet2!B:B,Sheet2!C:C)","v":"A"},{"$f":"_xlfn.XLOOKUP(Table10[[#This Row],[TDS SKU]],Sheet2!B:B,Sheet2!D:D)","v":"A"}]
["MX753LL/A","14479982","Beats Powerbeats Pro 2 - High-Performance Earbuds - Hyper Purple",{"$f":"_xlfn.XLOOKUP(Table10[[#This Row],[TDS SKU]],Sheet2!B:B,Sheet2!C:C)","v":"B"},{"$f":"_xlfn.XLOOKUP(Table10[[#This Row],[TDS SKU]],Sheet2!B:B,Sheet2!D:D)","v":"A"}]
["MX723LL/A","14479979","Beats Powerbeats Pro 2 - High-Performance Earbuds - Jet Black",{"$f":"_xlfn.XLOOKUP(Table10[[#This Row],[TDS SKU]],Sheet2!B:B,Sheet2!C:C)","v":"A"},{"$f":"_xlfn.XLOOKUP(Table10[[#This Row],[TDS SKU]],Sheet2!B:B,Sheet2!D:D)","v":"A"}]
["MX733LL/A","14479980","Beats Powerbeats Pro 2 - High-Performance Earbuds - Quick Sand",{"$f":"_xlfn.XLOOKUP(Table10[[#This Row],[TDS SKU]],Sheet2!B:B,Sheet2!C:C)","v":"A"},{"$f":"_xlfn.XLOOKUP(Table10[[#This Row],[TDS SKU]],Sheet2!B:B,Sheet2!D:D)","v":"A"}]
["MUW33LL/A","9480425","BEATS SOLO 4 WIRELESS, CLOUD PINK-USA",{"$f":"_xlfn.XLOOKUP(Table10[[#This Row],[TDS SKU]],Sheet2!B:B,Sheet2!C:C)","v":"A"},{"$f":"_xlfn.XLOOKUP(Table10[[#This Row],[TDS SKU]],Sheet2!B:B,Sheet2!D:D)","v":"A"}]
["MUW23LL/A","9480424","BEATS SOLO 4 WIRELESS, MATTE BLACK-USA",{"$f":"_xlfn.XLOOKUP(Table10[[#This Row],[TDS SKU]],Sheet2!B:B,Sheet2!C:C)","v":"A"},{"$f":"_xlfn.XLOOKUP(Table10[[#This Row],[TDS SKU]],Sheet2!B:B,Sheet2!D:D)","v":"A"}]
["MUW43LL/A","9480426","BEATS SOLO 4 WIRELESS, SLATE BLUE-USA",{"$f":"_xlfn.XLOOKUP(Table10[[#This Row],[TDS SKU]],Sheet2!B:B,Sheet2!C:C)","v":"A"},{"$f":"_xlfn.XLOOKUP(Table10[[#This Row],[TDS SKU]],Sheet2!B:B,Sheet2!D:D)","v":"A"}]
["MUVW3LL/A","9684468","BEATS SOLO BUDS,MATTE BLACK-USA",{"$f":"_xlfn.XLOOKUP(Table10[[#This Row],[TDS SKU]],Sheet2!B:B,Sheet2!C:C)","v":"A"},{"$f":"_xlfn.XLOOKUP(Table10[[#This Row],[TDS SKU]],Sheet2!B:B,Sheet2!D:D)","v":"A"}]
["MUVY3LL/A","9684469","BEATS SOLO BUDS,STORM GRAY-USA",{"$f":"_xlfn.XLOOKUP(Table10[[#This Row],[TDS SKU]],Sheet2!B:B,Sheet2!C:C)","v":"A"},{"$f":"_xlfn.XLOOKUP(Table10[[#This Row],[TDS SKU]],Sheet2!B:B,Sheet2!D:D)","v":"A"}]
["MUW03LL/A","9684470","BEATS SOLO BUDS,TRANSPARENT RED-USA",{"$f":"_xlfn.XLOOKUP(Table10[[#This Row],[TDS SKU]],Sheet2!B:B,Sheet2!C:C)","v":"B"},{"$f":"_xlfn.XLOOKUP(Table10[[#This Row],[TDS SKU]],Sheet2!B:B,Sheet2!D:D)","v":"A"}]
["MQTP3LL/A","15117038","Beats Studio Pro Wireless Headphones - Black- 4PK",{"$f":"_xlfn.XLOOKUP(Table10[[#This Row],[TDS SKU]],Sheet2!B:B,Sheet2!C:C)","v":"A"},{"$f":"_xlfn.XLOOKUP(Table10[[#This Row],[TDS SKU]],Sheet2!B:B,Sheet2!D:D)","v":"A"}]
["MQTT3LL/A","15117040","Beats Studio Pro Wireless Headphones - Deep Brown- 4PK",{"$f":"_xlfn.XLOOKUP(Table10[[#This Row],[TDS SKU]],Sheet2!B:B,Sheet2!C:C)","v":"A"},{"$f":"_xlfn.XLOOKUP(Table10[[#This Row],[TDS SKU]],Sheet2!B:B,Sheet2!D:D)","v":"A"}]
["MQTR3LL/A","15117039","Beats Studio Pro Wireless Headphones - Sandstone- 4PK",{"$f":"_xlfn.XLOOKUP(Table10[[#This Row],[TDS SKU]],Sheet2!B:B,Sheet2!C:C)","v":"A"},{"$f":"_xlfn.XLOOKUP(Table10[[#This Row],[TDS SKU]],Sheet2!B:B,Sheet2!D:D)","v":"A"}]
["MDGG4LL/A","14633450","Beats USB-A to USB-C Woven Cable (1.5 m) - Bolt Black",{"$f":"_xlfn.XLOOKUP(Table10[[#This Row],[TDS SKU]],Sheet2!B:B,Sheet2!C:C)","v":"B"},{"$f":"_xlfn.XLOOKUP(Table10[[#This Row],[TDS SKU]],Sheet2!B:B,Sheet2!D:D)","v":"A"}]
["MFEJ4LL/A","14633448","Beats USB-A to USB-C Woven Cable (1.5 m) - Rapid Red",{"$f":"_xlfn.XLOOKUP(Table10[[#This Row],[TDS SKU]],Sheet2!B:B,Sheet2!C:C)","v":"B"},{"$f":"_xlfn.XLOOKUP(Table10[[#This Row],[TDS SKU]],Sheet2!B:B,Sheet2!D:D)","v":"A"}]
["MDGJ4LL/A","14633452","Beats USB-A to USB-C Woven Cable (1.5 m) - Surge Stone",{"$f":"_xlfn.XLOOKUP(Table10[[#This Row],[TDS SKU]],Sheet2!B:B,Sheet2!C:C)","v":"B"},{"$f":"_xlfn.XLOOKUP(Table10[[#This Row],[TDS SKU]],Sheet2!B:B,Sheet2!D:D)","v":"A"}]
["MDGH4LL/A","14633451","Beats USB-A to USB-C Woven Cables (1.5 m) - Bolt Black (2-Pack)",{"$f":"_xlfn.XLOOKUP(Table10[[#This Row],[TDS SKU]],Sheet2!B:B,Sheet2!C:C)","v":"B"},{"$f":"_xlfn.XLOOKUP(Table10[[#This Row],[TDS SKU]],Sheet2!B:B,Sheet2!D:D)","v":"A"}]
["MEQL4LL/A","14633445","Beats USB-A to USB-C Woven Short Cable (20 cm) - Bolt Black",{"$f":"_xlfn.XLOOKUP(Table10[[#This Row],[TDS SKU]],Sheet2!B:B,Sheet2!C:C)","v":"B"},{"$f":"_xlfn.XLOOKUP(Table10[[#This Row],[TDS SKU]],Sheet2!B:B,Sheet2!D:D)","v":"A"}]
["MDGK4LL/A","14633453","Beats USB-C to Lightning Woven Cable (1.5 m) - Bolt Black",{"$f":"_xlfn.XLOOKUP(Table10[[#This Row],[TDS SKU]],Sheet2!B:B,Sheet2!C:C)","v":"B"},{"$f":"_xlfn.XLOOKUP(Table10[[#This Row],[TDS SKU]],Sheet2!B:B,Sheet2!D:D)","v":"A"}]
["MFEH4LL/A","14633447","Beats USB-C to Lightning Woven Cable (1.5 m) - Rapid Red",{"$f":"_xlfn.XLOOKUP(Table10[[#This Row],[TDS SKU]],Sheet2!B:B,Sheet2!C:C)","v":"B"},{"$f":"_xlfn.XLOOKUP(Table10[[#This Row],[TDS SKU]],Sheet2!B:B,Sheet2!D:D)","v":"A"}]
["MDGL4LL/A","14633454","Beats USB-C to Lightning Woven Cable (1.5 m) - Surge Stone",{"$f":"_xlfn.XLOOKUP(Table10[[#This Row],[TDS SKU]],Sheet2!B:B,Sheet2!C:C)","v":"B"},{"$f":"_xlfn.XLOOKUP(Table10[[#This Row],[TDS SKU]],Sheet2!B:B,Sheet2!D:D)","v":"A"}]
["MEQM4LL/A","14633446","Beats USB-C to Lightning Woven Short Cable (20 cm) - Bolt Black",{"$f":"_xlfn.XLOOKUP(Table10[[#This Row],[TDS SKU]],Sheet2!B:B,Sheet2!C:C)","v":"B"},{"$f":"_xlfn.XLOOKUP(Table10[[#This Row],[TDS SKU]],Sheet2!B:B,Sheet2!D:D)","v":"A"}]
["MDGA4LL/A","14633427","Beats USB-C to USB-C Woven Cable (1.5 m) - Bolt Black",{"$f":"_xlfn.XLOOKUP(Table10[[#This Row],[TDS SKU]],Sheet2!B:B,Sheet2!C:C)","v":"B"},{"$f":"_xlfn.XLOOKUP(Table10[[#This Row],[TDS SKU]],Sheet2!B:B,Sheet2!D:D)","v":"A"}]
["MDGE4LL/A","14633430","Beats USB-C to USB-C Woven Cable (1.5 m) - Nitro Navy",{"$f":"_xlfn.XLOOKUP(Table10[[#This Row],[TDS SKU]],Sheet2!B:B,Sheet2!C:C)","v":"B"},{"$f":"_xlfn.XLOOKUP(Table10[[#This Row],[TDS SKU]],Sheet2!B:B,Sheet2!D:D)","v":"A"}]
["MDGF4LL/A","14633449","Beats USB-C to USB-C Woven Cable (1.5 m) - Rapid Red",{"$f":"_xlfn.XLOOKUP(Table10[[#This Row],[TDS SKU]],Sheet2!B:B,Sheet2!C:C)","v":"B"},{"$f":"_xlfn.XLOOKUP(Table10[[#This Row],[TDS SKU]],Sheet2!B:B,Sheet2!D:D)","v":"A"}]
["MDGD4LL/A","14633429","Beats USB-C to USB-C Woven Cable (1.5 m) - Surge Stone",{"$f":"_xlfn.XLOOKUP(Table10[[#This Row],[TDS SKU]],Sheet2!B:B,Sheet2!C:C)","v":"B"},{"$f":"_xlfn.XLOOKUP(Table10[[#This Row],[TDS SKU]],Sheet2!B:B,Sheet2!D:D)","v":"A"}]
["MDGC4LL/A","14633428","Beats USB-C to USB-C Woven Cables (1.5 m) - Bolt Black (2-Pack)",{"$f":"_xlfn.XLOOKUP(Table10[[#This Row],[TDS SKU]],Sheet2!B:B,Sheet2!C:C)","v":"B"},{"$f":"_xlfn.XLOOKUP(Table10[[#This Row],[TDS SKU]],Sheet2!B:B,Sheet2!D:D)","v":"A"}]
["MEQ94LL/A","14633444","Beats USB-C to USB-C Woven Short Cable (20 cm) - Bolt Black",{"$f":"_xlfn.XLOOKUP(Table10[[#This Row],[TDS SKU]],Sheet2!B:B,Sheet2!C:C)","v":"B"},{"$f":"_xlfn.XLOOKUP(Table10[[#This Row],[TDS SKU]],Sheet2!B:B,Sheet2!D:D)","v":"A"}]
["MGGL4LL/A","15015488","Crossbody Strap - Black",{"$f":"_xlfn.XLOOKUP(Table10[[#This Row],[TDS SKU]],Sheet2!B:B,Sheet2!C:C)","v":"B"},{"$f":"_xlfn.XLOOKUP(Table10[[#This Row],[TDS SKU]],Sheet2!B:B,Sheet2!D:D)","v":"A"}]
["MGGG4LL/A","15015486","Crossbody Strap - Blue",{"$f":"_xlfn.XLOOKUP(Table10[[#This Row],[TDS SKU]],Sheet2!B:B,Sheet2!C:C)","v":"B"},{"$f":"_xlfn.XLOOKUP(Table10[[#This Row],[TDS SKU]],Sheet2!B:B,Sheet2!D:D)","v":"A"}]
["MGGM4LL/A","15015489","Crossbody Strap - Light Gray",{"$f":"_xlfn.XLOOKUP(Table10[[#This Row],[TDS SKU]],Sheet2!B:B,Sheet2!C:C)","v":"B"},{"$f":"_xlfn.XLOOKUP(Table10[[#This Row],[TDS SKU]],Sheet2!B:B,Sheet2!D:D)","v":"A"}]
["MGGN4LL/A","15015490","Crossbody Strap - Sienna",{"$f":"_xlfn.XLOOKUP(Table10[[#This Row],[TDS SKU]],Sheet2!B:B,Sheet2!C:C)","v":"B"},{"$f":"_xlfn.XLOOKUP(Table10[[#This Row],[TDS SKU]],Sheet2!B:B,Sheet2!D:D)","v":"A"}]
["MHYY4LL/A","15366770","Crossbody Strap - Soft Pink",{"$f":"_xlfn.XLOOKUP(Table10[[#This Row],[TDS SKU]],Sheet2!B:B,Sheet2!C:C)","v":"B"},{"$f":"_xlfn.XLOOKUP(Table10[[#This Row],[TDS SKU]],Sheet2!B:B,Sheet2!D:D)","v":"A"}]
["MGGK4LL/A","15015487","Crossbody Strap - Tan",{"$f":"_xlfn.XLOOKUP(Table10[[#This Row],[TDS SKU]],Sheet2!B:B,Sheet2!C:C)","v":"B"},{"$f":"_xlfn.XLOOKUP(Table10[[#This Row],[TDS SKU]],Sheet2!B:B,Sheet2!D:D)","v":"A"}]
["MWU53AM/A","14018633","Earpods (3.5mm Headphone Plug)",{"$f":"_xlfn.XLOOKUP(Table10[[#This Row],[TDS SKU]],Sheet2!B:B,Sheet2!C:C)","v":"A"},{"$f":"_xlfn.XLOOKUP(Table10[[#This Row],[TDS SKU]],Sheet2!B:B,Sheet2!D:D)","v":"A"}]
["MYQY3AM/A","14035529","EarPods (USB-C)",{"$f":"_xlfn.XLOOKUP(Table10[[#This Row],[TDS SKU]],Sheet2!B:B,Sheet2!C:C)","v":"A"},{"$f":"_xlfn.XLOOKUP(Table10[[#This Row],[TDS SKU]],Sheet2!B:B,Sheet2!D:D)","v":"A"}]
["MWTY3AM/A","9780580","EARPODS WITH LIGHTNING CONNECTOR-AME",{"$f":"_xlfn.XLOOKUP(Table10[[#This Row],[TDS SKU]],Sheet2!B:B,Sheet2!C:C)","v":"A"},{"$f":"_xlfn.XLOOKUP(Table10[[#This Row],[TDS SKU]],Sheet2!B:B,Sheet2!D:D)","v":"A"}]
["MYMG2LL/A","6510564","FLEX 1 FLAME BLUE USA",{"$f":"_xlfn.XLOOKUP(Table10[[#This Row],[TDS SKU]],Sheet2!B:B,Sheet2!C:C)","v":"B"},{"$f":"_xlfn.XLOOKUP(Table10[[#This Row],[TDS SKU]],Sheet2!B:B,Sheet2!D:D)","v":"A"}]
["MYME2LL/A","6510563","FLEX 1 SMOKE GRY USA",{"$f":"_xlfn.XLOOKUP(Table10[[#This Row],[TDS SKU]],Sheet2!B:B,Sheet2!C:C)","v":"B"},{"$f":"_xlfn.XLOOKUP(Table10[[#This Row],[TDS SKU]],Sheet2!B:B,Sheet2!D:D)","v":"A"}]
["MDEW4LL/A","14740241","HomePod - Midnight",{"$f":"_xlfn.XLOOKUP(Table10[[#This Row],[TDS SKU]],Sheet2!B:B,Sheet2!C:C)","v":"B"},{"$f":"_xlfn.XLOOKUP(Table10[[#This Row],[TDS SKU]],Sheet2!B:B,Sheet2!D:D)","v":"A"}]
["MDEY4LL/A","14740242","HomePod - White",{"$f":"_xlfn.XLOOKUP(Table10[[#This Row],[TDS SKU]],Sheet2!B:B,Sheet2!C:C)","v":"B"},{"$f":"_xlfn.XLOOKUP(Table10[[#This Row],[TDS SKU]],Sheet2!B:B,Sheet2!D:D)","v":"A"}]
["MTJT3LL/A","9850604","HomePod mini - Midnight",{"$f":"_xlfn.XLOOKUP(Table10[[#This Row],[TDS SKU]],Sheet2!B:B,Sheet2!C:C)","v":"A"},{"$f":"_xlfn.XLOOKUP(Table10[[#This Row],[TDS SKU]],Sheet2!B:B,Sheet2!D:D)","v":"A"}]
["MJ2C3LL/A","6510054","HOMEPOD MINI BLUE",{"$f":"_xlfn.XLOOKUP(Table10[[#This Row],[TDS SKU]],Sheet2!B:B,Sheet2!C:C)","v":"A"},{"$f":"_xlfn.XLOOKUP(Table10[[#This Row],[TDS SKU]],Sheet2!B:B,Sheet2!D:D)","v":"A"}]
["MJ2D3LL/A","6510055","HOMEPOD MINI ORG",{"$f":"_xlfn.XLOOKUP(Table10[[#This Row],[TDS SKU]],Sheet2!B:B,Sheet2!C:C)","v":"B"},{"$f":"_xlfn.XLOOKUP(Table10[[#This Row],[TDS SKU]],Sheet2!B:B,Sheet2!D:D)","v":"A"}]
["MY5H2LL/A","6510052","HOMEPOD MINI WHT",{"$f":"_xlfn.XLOOKUP(Table10[[#This Row],[TDS SKU]],Sheet2!B:B,Sheet2!C:C)","v":"A"},{"$f":"_xlfn.XLOOKUP(Table10[[#This Row],[TDS SKU]],Sheet2!B:B,Sheet2!D:D)","v":"A"}]
["MJ2E3LL/A","6510053","HOMEPOD MINI YLW",{"$f":"_xlfn.XLOOKUP(Table10[[#This Row],[TDS SKU]],Sheet2!B:B,Sheet2!C:C)","v":"B"},{"$f":"_xlfn.XLOOKUP(Table10[[#This Row],[TDS SKU]],Sheet2!B:B,Sheet2!D:D)","v":"A"}]
["MWK53ZM/A","9684477","IPAD AIR SMART FOLIO 11 CHARCOAL GRY-ZML",{"$f":"_xlfn.XLOOKUP(Table10[[#This Row],[TDS SKU]],Sheet2!B:B,Sheet2!C:C)","v":"B"},{"$f":"_xlfn.XLOOKUP(Table10[[#This Row],[TDS SKU]],Sheet2!B:B,Sheet2!D:D)","v":"A"}]
["MWK63ZM/A","9684478","IPAD AIR SMART FOLIO 11 DENIM-ZML",{"$f":"_xlfn.XLOOKUP(Table10[[#This Row],[TDS SKU]],Sheet2!B:B,Sheet2!C:C)","v":"B"},{"$f":"_xlfn.XLOOKUP(Table10[[#This Row],[TDS SKU]],Sheet2!B:B,Sheet2!D:D)","v":"A"}]
["MWK83ZM/A","9684480","IPAD AIR SMART FOLIO 11 LIGHT VIOLET-ZML",{"$f":"_xlfn.XLOOKUP(Table10[[#This Row],[TDS SKU]],Sheet2!B:B,Sheet2!C:C)","v":"B"},{"$f":"_xlfn.XLOOKUP(Table10[[#This Row],[TDS SKU]],Sheet2!B:B,Sheet2!D:D)","v":"A"}]
["MWK73ZM/A","9684479","IPAD AIR SMART FOLIO 11 SAGE-ZML",{"$f":"_xlfn.XLOOKUP(Table10[[#This Row],[TDS SKU]],Sheet2!B:B,Sheet2!C:C)","v":"B"},{"$f":"_xlfn.XLOOKUP(Table10[[#This Row],[TDS SKU]],Sheet2!B:B,Sheet2!D:D)","v":"A"}]
["MWK93ZM/A","9684481","IPAD AIR SMART FOLIO 13 CHARCOAL GRY-ZML",{"$f":"_xlfn.XLOOKUP(Table10[[#This Row],[TDS SKU]],Sheet2!B:B,Sheet2!C:C)","v":"B"},{"$f":"_xlfn.XLOOKUP(Table10[[#This Row],[TDS SKU]],Sheet2!B:B,Sheet2!D:D)","v":"A"}]
["MWKA3ZM/A","9684482","IPAD AIR SMART FOLIO 13 DENIM-ZML",{"$f":"_xlfn.XLOOKUP(Table10[[#This Row],[TDS SKU]],Sheet2!B:B,Sheet2!C:C)","v":"B"},{"$f":"_xlfn.XLOOKUP(Table10[[#This Row],[TDS SKU]],Sheet2!B:B,Sheet2!D:D)","v":"A"}]
["MWKD3ZM/A","9684484","IPAD AIR SMART FOLIO 13 LIGHT VIOLET-ZML",{"$f":"_xlfn.XLOOKUP(Table10[[#This Row],[TDS SKU]],Sheet2!B:B,Sheet2!C:C)","v":"B"},{"$f":"_xlfn.XLOOKUP(Table10[[#This Row],[TDS SKU]],Sheet2!B:B,Sheet2!D:D)","v":"A"}]
["MWKC3ZM/A","9684483","IPAD AIR SMART FOLIO 13 SAGE-ZML",{"$f":"_xlfn.XLOOKUP(Table10[[#This Row],[TDS SKU]],Sheet2!B:B,Sheet2!C:C)","v":"B"},{"$f":"_xlfn.XLOOKUP(Table10[[#This Row],[TDS SKU]],Sheet2!B:B,Sheet2!D:D)","v":"A"}]
["MWR23DK/A","9713784","IPAD MAGIC KEYBOARD 11 BLACK-DNK",{"$f":"_xlfn.XLOOKUP(Table10[[#This Row],[TDS SKU]],Sheet2!B:B,Sheet2!C:C)","v":"B"},{"$f":"_xlfn.XLOOKUP(Table10[[#This Row],[TDS SKU]],Sheet2!B:B,Sheet2!D:D)","v":"A"}]
["MWR23LA/A","9688903","IPAD MAGIC KEYBOARD 11 BLACK-LAM",{"$f":"_xlfn.XLOOKUP(Table10[[#This Row],[TDS SKU]],Sheet2!B:B,Sheet2!C:C)","v":"B"},{"$f":"_xlfn.XLOOKUP(Table10[[#This Row],[TDS SKU]],Sheet2!B:B,Sheet2!D:D)","v":"A"}]
["MWR23LL/A","9684487","IPAD MAGIC KEYBOARD 11 BLACK-USA",{"$f":"_xlfn.XLOOKUP(Table10[[#This Row],[TDS SKU]],Sheet2!B:B,Sheet2!C:C)","v":"A"},{"$f":"_xlfn.XLOOKUP(Table10[[#This Row],[TDS SKU]],Sheet2!B:B,Sheet2!D:D)","v":"A"}]
["MWR03LA/A","9704762","IPAD MAGIC KEYBOARD 11 WHITE-LAM",{"$f":"_xlfn.XLOOKUP(Table10[[#This Row],[TDS SKU]],Sheet2!B:B,Sheet2!C:C)","v":"B"},{"$f":"_xlfn.XLOOKUP(Table10[[#This Row],[TDS SKU]],Sheet2!B:B,Sheet2!D:D)","v":"A"}]
["MWR03LL/A","9684486","IPAD MAGIC KEYBOARD 11 WHITE-USA",{"$f":"_xlfn.XLOOKUP(Table10[[#This Row],[TDS SKU]],Sheet2!B:B,Sheet2!C:C)","v":"A"},{"$f":"_xlfn.XLOOKUP(Table10[[#This Row],[TDS SKU]],Sheet2!B:B,Sheet2!D:D)","v":"A"}]
["MWR53LA/A","9688902","IPAD MAGIC KEYBOARD 13 BLACK-LAM",{"$f":"_xlfn.XLOOKUP(Table10[[#This Row],[TDS SKU]],Sheet2!B:B,Sheet2!C:C)","v":"B"},{"$f":"_xlfn.XLOOKUP(Table10[[#This Row],[TDS SKU]],Sheet2!B:B,Sheet2!D:D)","v":"A"}]
["MWR53LL/A","9684488","IPAD MAGIC KEYBOARD 13 BLACK-USA",{"$f":"_xlfn.XLOOKUP(Table10[[#This Row],[TDS SKU]],Sheet2!B:B,Sheet2!C:C)","v":"A"},{"$f":"_xlfn.XLOOKUP(Table10[[#This Row],[TDS SKU]],Sheet2!B:B,Sheet2!D:D)","v":"A"}]
["MWR43LA/A","9704763","IPAD MAGIC KEYBOARD 13 WHITE-LAM",{"$f":"_xlfn.XLOOKUP(Table10[[#This Row],[TDS SKU]],Sheet2!B:B,Sheet2!C:C)","v":"B"},{"$f":"_xlfn.XLOOKUP(Table10[[#This Row],[TDS SKU]],Sheet2!B:B,Sheet2!D:D)","v":"A"}]
["MWR43LL/A","9685120","IPAD MAGIC KEYBOARD 13 WHITE-USA",{"$f":"_xlfn.XLOOKUP(Table10[[#This Row],[TDS SKU]],Sheet2!B:B,Sheet2!C:C)","v":"A"},{"$f":"_xlfn.XLOOKUP(Table10[[#This Row],[TDS SKU]],Sheet2!B:B,Sheet2!D:D)","v":"A"}]
["MW983ZM/A","9684472","IPAD PRO SMART FOLIO 11 BLACK-ZML",{"$f":"_xlfn.XLOOKUP(Table10[[#This Row],[TDS SKU]],Sheet2!B:B,Sheet2!C:C)","v":"B"},{"$f":"_xlfn.XLOOKUP(Table10[[#This Row],[TDS SKU]],Sheet2!B:B,Sheet2!D:D)","v":"A"}]
["MW993ZM/A","9684473","IPAD PRO SMART FOLIO 11 DENIM-ZML",{"$f":"_xlfn.XLOOKUP(Table10[[#This Row],[TDS SKU]],Sheet2!B:B,Sheet2!C:C)","v":"B"},{"$f":"_xlfn.XLOOKUP(Table10[[#This Row],[TDS SKU]],Sheet2!B:B,Sheet2!D:D)","v":"A"}]
["MW973ZM/A","9684471","IPAD PRO SMART FOLIO 11 WHITE-ZML",{"$f":"_xlfn.XLOOKUP(Table10[[#This Row],[TDS SKU]],Sheet2!B:B,Sheet2!C:C)","v":"B"},{"$f":"_xlfn.XLOOKUP(Table10[[#This Row],[TDS SKU]],Sheet2!B:B,Sheet2!D:D)","v":"A"}]
["MWK33ZM/A","9684475","IPAD PRO SMART FOLIO 13 BLACK-ZML",{"$f":"_xlfn.XLOOKUP(Table10[[#This Row],[TDS SKU]],Sheet2!B:B,Sheet2!C:C)","v":"B"},{"$f":"_xlfn.XLOOKUP(Table10[[#This Row],[TDS SKU]],Sheet2!B:B,Sheet2!D:D)","v":"A"}]
["MWK43ZM/A","9684476","IPAD PRO SMART FOLIO 13 DENIM-ZML",{"$f":"_xlfn.XLOOKUP(Table10[[#This Row],[TDS SKU]],Sheet2!B:B,Sheet2!C:C)","v":"B"},{"$f":"_xlfn.XLOOKUP(Table10[[#This Row],[TDS SKU]],Sheet2!B:B,Sheet2!D:D)","v":"A"}]
["MWK23ZM/A","9684474","IPAD PRO SMART FOLIO 13 WHITE-ZML",{"$f":"_xlfn.XLOOKUP(Table10[[#This Row],[TDS SKU]],Sheet2!B:B,Sheet2!C:C)","v":"B"},{"$f":"_xlfn.XLOOKUP(Table10[[#This Row],[TDS SKU]],Sheet2!B:B,Sheet2!D:D)","v":"A"}]
["MM2X3ZM/A","6511046","IPHONE 13 CLEAR CASE ZML",{"$f":"_xlfn.XLOOKUP(Table10[[#This Row],[TDS SKU]],Sheet2!B:B,Sheet2!C:C)","v":"B"},{"$f":"_xlfn.XLOOKUP(Table10[[#This Row],[TDS SKU]],Sheet2!B:B,Sheet2!D:D)","v":"A"}]
["MM223ZM/A","6511042","IPHONE 13 MINI SI CASE MIDNIGHT ZML",{"$f":"_xlfn.XLOOKUP(Table10[[#This Row],[TDS SKU]],Sheet2!B:B,Sheet2!C:C)","v":"B"},{"$f":"_xlfn.XLOOKUP(Table10[[#This Row],[TDS SKU]],Sheet2!B:B,Sheet2!D:D)","v":"A"}]
["MW5Q3ZM/A","14035524","iPhone 14 Clear Case with MagSafe",{"$f":"_xlfn.XLOOKUP(Table10[[#This Row],[TDS SKU]],Sheet2!B:B,Sheet2!C:C)","v":"B"},{"$f":"_xlfn.XLOOKUP(Table10[[#This Row],[TDS SKU]],Sheet2!B:B,Sheet2!D:D)","v":"A"}]
["MW4T3ZM/A","14035522","iPhone 14 Plus Clear Case with MagSafe",{"$f":"_xlfn.XLOOKUP(Table10[[#This Row],[TDS SKU]],Sheet2!B:B,Sheet2!C:C)","v":"B"},{"$f":"_xlfn.XLOOKUP(Table10[[#This Row],[TDS SKU]],Sheet2!B:B,Sheet2!D:D)","v":"A"}]
["MW4Y3ZM/A","14035523","iPhone 14 Plus Silicone Case with MagSafe - Midnight",{"$f":"_xlfn.XLOOKUP(Table10[[#This Row],[TDS SKU]],Sheet2!B:B,Sheet2!C:C)","v":"B"},{"$f":"_xlfn.XLOOKUP(Table10[[#This Row],[TDS SKU]],Sheet2!B:B,Sheet2!D:D)","v":"A"}]
["MPU63ZM/A","6766346","IPHONE 14 PRO CLEAR CASE WITH MAGSAFE",{"$f":"_xlfn.XLOOKUP(Table10[[#This Row],[TDS SKU]],Sheet2!B:B,Sheet2!C:C)","v":"B"},{"$f":"_xlfn.XLOOKUP(Table10[[#This Row],[TDS SKU]],Sheet2!B:B,Sheet2!D:D)","v":"A"}]
["MW5R3ZM/A","14035525","iPhone 14 Silicone Case with MagSafe - Midnight",{"$f":"_xlfn.XLOOKUP(Table10[[#This Row],[TDS SKU]],Sheet2!B:B,Sheet2!C:C)","v":"B"},{"$f":"_xlfn.XLOOKUP(Table10[[#This Row],[TDS SKU]],Sheet2!B:B,Sheet2!D:D)","v":"A"}]
["MXRK3ZM/A","14452840","iPhone 15 Clear Case with MagSafe",{"$f":"_xlfn.XLOOKUP(Table10[[#This Row],[TDS SKU]],Sheet2!B:B,Sheet2!C:C)","v":"B"},{"$f":"_xlfn.XLOOKUP(Table10[[#This Row],[TDS SKU]],Sheet2!B:B,Sheet2!D:D)","v":"A"}]
["MT3J3ZM/A","9477898","IPHONE 15 FINEWOVEN CASE GRN-ZML",{"$f":"_xlfn.XLOOKUP(Table10[[#This Row],[TDS SKU]],Sheet2!B:B,Sheet2!C:C)","v":"B"},{"$f":"_xlfn.XLOOKUP(Table10[[#This Row],[TDS SKU]],Sheet2!B:B,Sheet2!D:D)","v":"A"}]
["MT423ZM/A","7831449","IPHONE 15 PLUS FINEWOVEN CASE BLACK-ZML",{"$f":"_xlfn.XLOOKUP(Table10[[#This Row],[TDS SKU]],Sheet2!B:B,Sheet2!C:C)","v":"B"},{"$f":"_xlfn.XLOOKUP(Table10[[#This Row],[TDS SKU]],Sheet2!B:B,Sheet2!D:D)","v":"A"}]
["MT4D3ZM/A","7833578","IPHONE 15 PLUS FINEWOVEN CASE BLUE-ZML",{"$f":"_xlfn.XLOOKUP(Table10[[#This Row],[TDS SKU]],Sheet2!B:B,Sheet2!C:C)","v":"B"},{"$f":"_xlfn.XLOOKUP(Table10[[#This Row],[TDS SKU]],Sheet2!B:B,Sheet2!D:D)","v":"A"}]
["MXQR3ZM/A","14035527","iPhone 15 Plus Silicone Case with MagSafe - Black",{"$f":"_xlfn.XLOOKUP(Table10[[#This Row],[TDS SKU]],Sheet2!B:B,Sheet2!C:C)","v":"B"},{"$f":"_xlfn.XLOOKUP(Table10[[#This Row],[TDS SKU]],Sheet2!B:B,Sheet2!D:D)","v":"A"}]
["MWNH3ZM/A","9357267","iPhone 15 Plus Silicone Case with MagSafe - Light Blue",{"$f":"_xlfn.XLOOKUP(Table10[[#This Row],[TDS SKU]],Sheet2!B:B,Sheet2!C:C)","v":"B"},{"$f":"_xlfn.XLOOKUP(Table10[[#This Row],[TDS SKU]],Sheet2!B:B,Sheet2!D:D)","v":"A"}]
["MWNE3ZM/A","9357265","iPhone 15 Plus Silicone Case with MagSafe - Pink",{"$f":"_xlfn.XLOOKUP(Table10[[#This Row],[TDS SKU]],Sheet2!B:B,Sheet2!C:C)","v":"B"},{"$f":"_xlfn.XLOOKUP(Table10[[#This Row],[TDS SKU]],Sheet2!B:B,Sheet2!D:D)","v":"A"}]
["MWNG3ZM/A","9357266","iPhone 15 Plus Silicone Case with MagSafe - Soft Mint",{"$f":"_xlfn.XLOOKUP(Table10[[#This Row],[TDS SKU]],Sheet2!B:B,Sheet2!C:C)","v":"B"},{"$f":"_xlfn.XLOOKUP(Table10[[#This Row],[TDS SKU]],Sheet2!B:B,Sheet2!D:D)","v":"A"}]
["MT223ZM/A","7831447","IPHONE 15 PRO CL CASE-ZML",{"$f":"_xlfn.XLOOKUP(Table10[[#This Row],[TDS SKU]],Sheet2!B:B,Sheet2!C:C)","v":"B"},{"$f":"_xlfn.XLOOKUP(Table10[[#This Row],[TDS SKU]],Sheet2!B:B,Sheet2!D:D)","v":"A"}]
["MT233ZM/A","7831471","IPHONE 15 PRO MAX CL CASE-ZML",{"$f":"_xlfn.XLOOKUP(Table10[[#This Row],[TDS SKU]],Sheet2!B:B,Sheet2!C:C)","v":"B"},{"$f":"_xlfn.XLOOKUP(Table10[[#This Row],[TDS SKU]],Sheet2!B:B,Sheet2!D:D)","v":"A"}]
["MT1M3ZM/A","7831445","IPHONE 15 PRO MAX SI CASE BLACK-ZML",{"$f":"_xlfn.XLOOKUP(Table10[[#This Row],[TDS SKU]],Sheet2!B:B,Sheet2!C:C)","v":"B"},{"$f":"_xlfn.XLOOKUP(Table10[[#This Row],[TDS SKU]],Sheet2!B:B,Sheet2!D:D)","v":"A"}]
["MT1U3ZM/A","7833583","IPHONE 15 PRO MAX SI CASE LIGHT PINK-ZML",{"$f":"_xlfn.XLOOKUP(Table10[[#This Row],[TDS SKU]],Sheet2!B:B,Sheet2!C:C)","v":"B"},{"$f":"_xlfn.XLOOKUP(Table10[[#This Row],[TDS SKU]],Sheet2!B:B,Sheet2!D:D)","v":"A"}]
["MT1P3ZM/A","7833575","IPHONE 15 PRO MAX SI CASE STORM BLUE-ZML",{"$f":"_xlfn.XLOOKUP(Table10[[#This Row],[TDS SKU]],Sheet2!B:B,Sheet2!C:C)","v":"B"},{"$f":"_xlfn.XLOOKUP(Table10[[#This Row],[TDS SKU]],Sheet2!B:B,Sheet2!D:D)","v":"A"}]
["MWNR3ZM/A","9357261","iPhone 15 Pro Max Silicone Case with MagSafe - Light Blue",{"$f":"_xlfn.XLOOKUP(Table10[[#This Row],[TDS SKU]],Sheet2!B:B,Sheet2!C:C)","v":"B"},{"$f":"_xlfn.XLOOKUP(Table10[[#This Row],[TDS SKU]],Sheet2!B:B,Sheet2!D:D)","v":"A"}]
["MWNN3ZM/A","9357271","iPhone 15 Pro Max Silicone Case with MagSafe - Pink",{"$f":"_xlfn.XLOOKUP(Table10[[#This Row],[TDS SKU]],Sheet2!B:B,Sheet2!C:C)","v":"B"},{"$f":"_xlfn.XLOOKUP(Table10[[#This Row],[TDS SKU]],Sheet2!B:B,Sheet2!D:D)","v":"A"}]
["MWNQ3ZM/A","9357260","iPhone 15 Pro Max Silicone Case with MagSafe - Soft Mint",{"$f":"_xlfn.XLOOKUP(Table10[[#This Row],[TDS SKU]],Sheet2!B:B,Sheet2!C:C)","v":"B"},{"$f":"_xlfn.XLOOKUP(Table10[[#This Row],[TDS SKU]],Sheet2!B:B,Sheet2!D:D)","v":"A"}]
["MT1A3ZM/A","7831443","IPHONE 15 PRO SI CASE BLACK-ZML",{"$f":"_xlfn.XLOOKUP(Table10[[#This Row],[TDS SKU]],Sheet2!B:B,Sheet2!C:C)","v":"B"},{"$f":"_xlfn.XLOOKUP(Table10[[#This Row],[TDS SKU]],Sheet2!B:B,Sheet2!D:D)","v":"A"}]
["MT1F3ZM/A","7833590","IPHONE 15 PRO SI CASE LIGHT PINK-ZML",{"$f":"_xlfn.XLOOKUP(Table10[[#This Row],[TDS SKU]],Sheet2!B:B,Sheet2!C:C)","v":"B"},{"$f":"_xlfn.XLOOKUP(Table10[[#This Row],[TDS SKU]],Sheet2!B:B,Sheet2!D:D)","v":"A"}]
["MT1D3ZM/A","7833581","IPHONE 15 PRO SI CASE STORM BLUE-ZML",{"$f":"_xlfn.XLOOKUP(Table10[[#This Row],[TDS SKU]],Sheet2!B:B,Sheet2!C:C)","v":"B"},{"$f":"_xlfn.XLOOKUP(Table10[[#This Row],[TDS SKU]],Sheet2!B:B,Sheet2!D:D)","v":"A"}]
["MWNM3ZM/A","9357270","iPhone 15 Pro Silicone Case with MagSafe - Light Blue",{"$f":"_xlfn.XLOOKUP(Table10[[#This Row],[TDS SKU]],Sheet2!B:B,Sheet2!C:C)","v":"B"},{"$f":"_xlfn.XLOOKUP(Table10[[#This Row],[TDS SKU]],Sheet2!B:B,Sheet2!D:D)","v":"A"}]
["MWNJ3ZM/A","9357268","iPhone 15 Pro Silicone Case with MagSafe - Pink",{"$f":"_xlfn.XLOOKUP(Table10[[#This Row],[TDS SKU]],Sheet2!B:B,Sheet2!C:C)","v":"B"},{"$f":"_xlfn.XLOOKUP(Table10[[#This Row],[TDS SKU]],Sheet2!B:B,Sheet2!D:D)","v":"A"}]
["MXPD3ZM/A","14035526","iPhone 15 Silicone Case with MagSafe - Black",{"$f":"_xlfn.XLOOKUP(Table10[[#This Row],[TDS SKU]],Sheet2!B:B,Sheet2!C:C)","v":"B"},{"$f":"_xlfn.XLOOKUP(Table10[[#This Row],[TDS SKU]],Sheet2!B:B,Sheet2!D:D)","v":"A"}]
["MA6A4ZM/A","14195428","iPhone 16 Clear Case with MagSafe",{"$f":"_xlfn.XLOOKUP(Table10[[#This Row],[TDS SKU]],Sheet2!B:B,Sheet2!C:C)","v":"B"},{"$f":"_xlfn.XLOOKUP(Table10[[#This Row],[TDS SKU]],Sheet2!B:B,Sheet2!D:D)","v":"A"}]
["MA7D4ZM/A","14195429","iPhone 16 Plus Clear Case with MagSafe",{"$f":"_xlfn.XLOOKUP(Table10[[#This Row],[TDS SKU]],Sheet2!B:B,Sheet2!C:C)","v":"B"},{"$f":"_xlfn.XLOOKUP(Table10[[#This Row],[TDS SKU]],Sheet2!B:B,Sheet2!D:D)","v":"A"}]
["MDGU4ZM/A","14631975","iPhone 16 Plus Silicone Case with MagSafe - Aquamarine",{"$f":"_xlfn.XLOOKUP(Table10[[#This Row],[TDS SKU]],Sheet2!B:B,Sheet2!C:C)","v":"B"},{"$f":"_xlfn.XLOOKUP(Table10[[#This Row],[TDS SKU]],Sheet2!B:B,Sheet2!D:D)","v":"A"}]
["MYY93ZM/A","14195407","iPhone 16 Plus Silicone Case with MagSafe - Black",{"$f":"_xlfn.XLOOKUP(Table10[[#This Row],[TDS SKU]],Sheet2!B:B,Sheet2!C:C)","v":"B"},{"$f":"_xlfn.XLOOKUP(Table10[[#This Row],[TDS SKU]],Sheet2!B:B,Sheet2!D:D)","v":"A"}]
["MDGR4ZM/A","14631973","iPhone 16 Plus Silicone Case with MagSafe - Peony",{"$f":"_xlfn.XLOOKUP(Table10[[#This Row],[TDS SKU]],Sheet2!B:B,Sheet2!C:C)","v":"B"},{"$f":"_xlfn.XLOOKUP(Table10[[#This Row],[TDS SKU]],Sheet2!B:B,Sheet2!D:D)","v":"A"}]
["MDGV4ZM/A","14631976","iPhone 16 Plus Silicone Case with MagSafe - Periwinkle",{"$f":"_xlfn.XLOOKUP(Table10[[#This Row],[TDS SKU]],Sheet2!B:B,Sheet2!C:C)","v":"B"},{"$f":"_xlfn.XLOOKUP(Table10[[#This Row],[TDS SKU]],Sheet2!B:B,Sheet2!D:D)","v":"A"}]
["MYYD3ZM/A","14198005","iPhone 16 Plus Silicone Case with MagSafe - Plum",{"$f":"_xlfn.XLOOKUP(Table10[[#This Row],[TDS SKU]],Sheet2!B:B,Sheet2!C:C)","v":"B"},{"$f":"_xlfn.XLOOKUP(Table10[[#This Row],[TDS SKU]],Sheet2!B:B,Sheet2!D:D)","v":"A"}]
["MDGT4ZM/A","14631974","iPhone 16 Plus Silicone Case with MagSafe - Tangerine",{"$f":"_xlfn.XLOOKUP(Table10[[#This Row],[TDS SKU]],Sheet2!B:B,Sheet2!C:C)","v":"B"},{"$f":"_xlfn.XLOOKUP(Table10[[#This Row],[TDS SKU]],Sheet2!B:B,Sheet2!D:D)","v":"A"}]
["MYYF3ZM/A","14198006","iPhone 16 Plus Silicone Case with MagSafe - Ultramarine",{"$f":"_xlfn.XLOOKUP(Table10[[#This Row],[TDS SKU]],Sheet2!B:B,Sheet2!C:C)","v":"B"},{"$f":"_xlfn.XLOOKUP(Table10[[#This Row],[TDS SKU]],Sheet2!B:B,Sheet2!D:D)","v":"A"}]
["MA7E4ZM/A","14195430","iPhone 16 Pro Clear Case with MagSafe",{"$f":"_xlfn.XLOOKUP(Table10[[#This Row],[TDS SKU]],Sheet2!B:B,Sheet2!C:C)","v":"B"},{"$f":"_xlfn.XLOOKUP(Table10[[#This Row],[TDS SKU]],Sheet2!B:B,Sheet2!D:D)","v":"A"}]
["MA7F4ZM/A","14195431","iPhone 16 Pro Max Clear Case with MagSafe",{"$f":"_xlfn.XLOOKUP(Table10[[#This Row],[TDS SKU]],Sheet2!B:B,Sheet2!C:C)","v":"B"},{"$f":"_xlfn.XLOOKUP(Table10[[#This Row],[TDS SKU]],Sheet2!B:B,Sheet2!D:D)","v":"A"}]
["MYYT3ZM/A","14195576","iPhone 16 Pro Max Silicone Case with MagSafe - Black",{"$f":"_xlfn.XLOOKUP(Table10[[#This Row],[TDS SKU]],Sheet2!B:B,Sheet2!C:C)","v":"B"},{"$f":"_xlfn.XLOOKUP(Table10[[#This Row],[TDS SKU]],Sheet2!B:B,Sheet2!D:D)","v":"A"}]
["MYYU3ZM/A","14198216","iPhone 16 Pro Max Silicone Case with MagSafe - Denim",{"$f":"_xlfn.XLOOKUP(Table10[[#This Row],[TDS SKU]],Sheet2!B:B,Sheet2!C:C)","v":"B"},{"$f":"_xlfn.XLOOKUP(Table10[[#This Row],[TDS SKU]],Sheet2!B:B,Sheet2!D:D)","v":"A"}]
["MYYV3ZM/A","14198217","iPhone 16 Pro Max Silicone Case with MagSafe - Stone Gray",{"$f":"_xlfn.XLOOKUP(Table10[[#This Row],[TDS SKU]],Sheet2!B:B,Sheet2!C:C)","v":"B"},{"$f":"_xlfn.XLOOKUP(Table10[[#This Row],[TDS SKU]],Sheet2!B:B,Sheet2!D:D)","v":"A"}]
["MDGX4ZM/A","14631978","iPhone 16 Pro Max Silicone Case with MagSafe - Tangerine",{"$f":"_xlfn.XLOOKUP(Table10[[#This Row],[TDS SKU]],Sheet2!B:B,Sheet2!C:C)","v":"B"},{"$f":"_xlfn.XLOOKUP(Table10[[#This Row],[TDS SKU]],Sheet2!B:B,Sheet2!D:D)","v":"A"}]
["MDG04ZM/A","14631967","iPhone 16 Pro Silicone Case with MagSafe - Aquamarine",{"$f":"_xlfn.XLOOKUP(Table10[[#This Row],[TDS SKU]],Sheet2!B:B,Sheet2!C:C)","v":"B"},{"$f":"_xlfn.XLOOKUP(Table10[[#This Row],[TDS SKU]],Sheet2!B:B,Sheet2!D:D)","v":"A"}]
["MYYJ3ZM/A","14195575","iPhone 16 Pro Silicone Case with MagSafe - Black",{"$f":"_xlfn.XLOOKUP(Table10[[#This Row],[TDS SKU]],Sheet2!B:B,Sheet2!C:C)","v":"B"},{"$f":"_xlfn.XLOOKUP(Table10[[#This Row],[TDS SKU]],Sheet2!B:B,Sheet2!D:D)","v":"A"}]
["MYYK3ZM/A","14198213","iPhone 16 Pro Silicone Case with MagSafe - Denim",{"$f":"_xlfn.XLOOKUP(Table10[[#This Row],[TDS SKU]],Sheet2!B:B,Sheet2!C:C)","v":"B"},{"$f":"_xlfn.XLOOKUP(Table10[[#This Row],[TDS SKU]],Sheet2!B:B,Sheet2!D:D)","v":"A"}]
["MDG14ZM/A","14631968","iPhone 16 Pro Silicone Case with MagSafe - Periwinkle",{"$f":"_xlfn.XLOOKUP(Table10[[#This Row],[TDS SKU]],Sheet2!B:B,Sheet2!C:C)","v":"B"},{"$f":"_xlfn.XLOOKUP(Table10[[#This Row],[TDS SKU]],Sheet2!B:B,Sheet2!D:D)","v":"A"}]
["MYYM3ZM/A","14198215","iPhone 16 Pro Silicone Case with MagSafe - Plum",{"$f":"_xlfn.XLOOKUP(Table10[[#This Row],[TDS SKU]],Sheet2!B:B,Sheet2!C:C)","v":"B"},{"$f":"_xlfn.XLOOKUP(Table10[[#This Row],[TDS SKU]],Sheet2!B:B,Sheet2!D:D)","v":"A"}]
["MYYL3ZM/A","14198214","iPhone 16 Pro Silicone Case with MagSafe - Stone Gray",{"$f":"_xlfn.XLOOKUP(Table10[[#This Row],[TDS SKU]],Sheet2!B:B,Sheet2!C:C)","v":"B"},{"$f":"_xlfn.XLOOKUP(Table10[[#This Row],[TDS SKU]],Sheet2!B:B,Sheet2!D:D)","v":"A"}]
["MDFY4ZM/A","14631966","iPhone 16 Pro Silicone Case with MagSafe - Tangerine",{"$f":"_xlfn.XLOOKUP(Table10[[#This Row],[TDS SKU]],Sheet2!B:B,Sheet2!C:C)","v":"B"},{"$f":"_xlfn.XLOOKUP(Table10[[#This Row],[TDS SKU]],Sheet2!B:B,Sheet2!D:D)","v":"A"}]
["MDGP4ZM/A","14631971","iPhone 16 Silicone Case with MagSafe - Aquamarine",{"$f":"_xlfn.XLOOKUP(Table10[[#This Row],[TDS SKU]],Sheet2!B:B,Sheet2!C:C)","v":"B"},{"$f":"_xlfn.XLOOKUP(Table10[[#This Row],[TDS SKU]],Sheet2!B:B,Sheet2!D:D)","v":"A"}]
["MYY13ZM/A","14195574","iPhone 16 Silicone Case with MagSafe - Black",{"$f":"_xlfn.XLOOKUP(Table10[[#This Row],[TDS SKU]],Sheet2!B:B,Sheet2!C:C)","v":"B"},{"$f":"_xlfn.XLOOKUP(Table10[[#This Row],[TDS SKU]],Sheet2!B:B,Sheet2!D:D)","v":"A"}]
["MDGQ4ZM/A","14631972","iPhone 16 Silicone Case with MagSafe - Periwinkle",{"$f":"_xlfn.XLOOKUP(Table10[[#This Row],[TDS SKU]],Sheet2!B:B,Sheet2!C:C)","v":"B"},{"$f":"_xlfn.XLOOKUP(Table10[[#This Row],[TDS SKU]],Sheet2!B:B,Sheet2!D:D)","v":"A"}]
["MDGN4ZM/A","14631970","iPhone 16 Silicone Case with MagSafe - Tangerine",{"$f":"_xlfn.XLOOKUP(Table10[[#This Row],[TDS SKU]],Sheet2!B:B,Sheet2!C:C)","v":"B"},{"$f":"_xlfn.XLOOKUP(Table10[[#This Row],[TDS SKU]],Sheet2!B:B,Sheet2!D:D)","v":"A"}]
["MYY63ZM/A","14198211","iPhone 16 Silicone Case with MagSafe - Ultramarine",{"$f":"_xlfn.XLOOKUP(Table10[[#This Row],[TDS SKU]],Sheet2!B:B,Sheet2!C:C)","v":"B"},{"$f":"_xlfn.XLOOKUP(Table10[[#This Row],[TDS SKU]],Sheet2!B:B,Sheet2!D:D)","v":"A"}]
["MGYW4ZM/A","15017272","iPhone 16e Silicone Case - Neon Yellow",{"$f":"_xlfn.XLOOKUP(Table10[[#This Row],[TDS SKU]],Sheet2!B:B,Sheet2!C:C)","v":"B"},{"$f":"_xlfn.XLOOKUP(Table10[[#This Row],[TDS SKU]],Sheet2!B:B,Sheet2!D:D)","v":"A"}]
["MD3N4ZM/A","14553872","iPhone 16e Silicone Case-Black",{"$f":"_xlfn.XLOOKUP(Table10[[#This Row],[TDS SKU]],Sheet2!B:B,Sheet2!C:C)","v":"B"},{"$f":"_xlfn.XLOOKUP(Table10[[#This Row],[TDS SKU]],Sheet2!B:B,Sheet2!D:D)","v":"A"}]
["MD3P4ZM/A","14553873","iPhone 16e Silicone Case-White",{"$f":"_xlfn.XLOOKUP(Table10[[#This Row],[TDS SKU]],Sheet2!B:B,Sheet2!C:C)","v":"B"},{"$f":"_xlfn.XLOOKUP(Table10[[#This Row],[TDS SKU]],Sheet2!B:B,Sheet2!D:D)","v":"A"}]
["MGF24LL/A","15007381","iPhone 17 Clear Case with MagSafe",{"$f":"_xlfn.XLOOKUP(Table10[[#This Row],[TDS SKU]],Sheet2!B:B,Sheet2!C:C)","v":"B"},{"$f":"_xlfn.XLOOKUP(Table10[[#This Row],[TDS SKU]],Sheet2!B:B,Sheet2!D:D)","v":"A"}]
["MGFT4LL/A","15007387","iPhone 17 Pro Clear Case with MagSafe",{"$f":"_xlfn.XLOOKUP(Table10[[#This Row],[TDS SKU]],Sheet2!B:B,Sheet2!C:C)","v":"B"},{"$f":"_xlfn.XLOOKUP(Table10[[#This Row],[TDS SKU]],Sheet2!B:B,Sheet2!D:D)","v":"A"}]
["MGFW4LL/A","15007388","iPhone 17 Pro Max Clear Case with MagSafe",{"$f":"_xlfn.XLOOKUP(Table10[[#This Row],[TDS SKU]],Sheet2!B:B,Sheet2!C:C)","v":"B"},{"$f":"_xlfn.XLOOKUP(Table10[[#This Row],[TDS SKU]],Sheet2!B:B,Sheet2!D:D)","v":"A"}]
["MHW54ZM/A","15366773","iPhone 17 Pro Max SI Case - Vanilla",{"$f":"_xlfn.XLOOKUP(Table10[[#This Row],[TDS SKU]],Sheet2!B:B,Sheet2!C:C)","v":"B"},{"$f":"_xlfn.XLOOKUP(Table10[[#This Row],[TDS SKU]],Sheet2!B:B,Sheet2!D:D)","v":"A"}]
["MGFP4ZM/A","15017268","iPhone 17 Pro Max Silicone Case with MagSafe - Midnight",{"$f":"_xlfn.XLOOKUP(Table10[[#This Row],[TDS SKU]],Sheet2!B:B,Sheet2!C:C)","v":"B"},{"$f":"_xlfn.XLOOKUP(Table10[[#This Row],[TDS SKU]],Sheet2!B:B,Sheet2!D:D)","v":"A"}]
["MGFN4ZM/A","15017267","iPhone 17 Pro Max Silicone Case with MagSafe - Purple Fog",{"$f":"_xlfn.XLOOKUP(Table10[[#This Row],[TDS SKU]],Sheet2!B:B,Sheet2!C:C)","v":"B"},{"$f":"_xlfn.XLOOKUP(Table10[[#This Row],[TDS SKU]],Sheet2!B:B,Sheet2!D:D)","v":"A"}]
["MGFR4ZM/A","15007454","iPhone 17 Pro Max Silicone Case with MagSafeBlack",{"$f":"_xlfn.XLOOKUP(Table10[[#This Row],[TDS SKU]],Sheet2!B:B,Sheet2!C:C)","v":"B"},{"$f":"_xlfn.XLOOKUP(Table10[[#This Row],[TDS SKU]],Sheet2!B:B,Sheet2!D:D)","v":"A"}]
["MGF84LL/A","15017262","iPhone 17 Pro Max TechWoven Case with MagSafe - Black",{"$f":"_xlfn.XLOOKUP(Table10[[#This Row],[TDS SKU]],Sheet2!B:B,Sheet2!C:C)","v":"B"},{"$f":"_xlfn.XLOOKUP(Table10[[#This Row],[TDS SKU]],Sheet2!B:B,Sheet2!D:D)","v":"A"}]
["MGF94LL/A","15017263","iPhone 17 Pro Max TechWoven Case with MagSafe - Blue",{"$f":"_xlfn.XLOOKUP(Table10[[#This Row],[TDS SKU]],Sheet2!B:B,Sheet2!C:C)","v":"B"},{"$f":"_xlfn.XLOOKUP(Table10[[#This Row],[TDS SKU]],Sheet2!B:B,Sheet2!D:D)","v":"A"}]
["MGFA4LL/A","15017264","iPhone 17 Pro Max TechWoven Case with MagSafe - Purple",{"$f":"_xlfn.XLOOKUP(Table10[[#This Row],[TDS SKU]],Sheet2!B:B,Sheet2!C:C)","v":"B"},{"$f":"_xlfn.XLOOKUP(Table10[[#This Row],[TDS SKU]],Sheet2!B:B,Sheet2!D:D)","v":"A"}]
["MGFH4ZM/A","15017266","iPhone 17 Pro Silicone Case with MagSafe - Midnight",{"$f":"_xlfn.XLOOKUP(Table10[[#This Row],[TDS SKU]],Sheet2!B:B,Sheet2!C:C)","v":"B"},{"$f":"_xlfn.XLOOKUP(Table10[[#This Row],[TDS SKU]],Sheet2!B:B,Sheet2!D:D)","v":"A"}]
["MGFG4ZM/A","15017265","iPhone 17 Pro Silicone Case with MagSafe - Purple Fog",{"$f":"_xlfn.XLOOKUP(Table10[[#This Row],[TDS SKU]],Sheet2!B:B,Sheet2!C:C)","v":"B"},{"$f":"_xlfn.XLOOKUP(Table10[[#This Row],[TDS SKU]],Sheet2!B:B,Sheet2!D:D)","v":"A"}]
["MGFK4ZM/A","15007453","iPhone 17 Pro Silicone Case with MagSafeBlack",{"$f":"_xlfn.XLOOKUP(Table10[[#This Row],[TDS SKU]],Sheet2!B:B,Sheet2!C:C)","v":"B"},{"$f":"_xlfn.XLOOKUP(Table10[[#This Row],[TDS SKU]],Sheet2!B:B,Sheet2!D:D)","v":"A"}]
["MGF34LL/A","15017258","iPhone 17 Pro TechWoven Case with MagSafe - Black",{"$f":"_xlfn.XLOOKUP(Table10[[#This Row],[TDS SKU]],Sheet2!B:B,Sheet2!C:C)","v":"B"},{"$f":"_xlfn.XLOOKUP(Table10[[#This Row],[TDS SKU]],Sheet2!B:B,Sheet2!D:D)","v":"A"}]
["MGF44LL/A","15017259","iPhone 17 Pro TechWoven Case with MagSafe - Blue",{"$f":"_xlfn.XLOOKUP(Table10[[#This Row],[TDS SKU]],Sheet2!B:B,Sheet2!C:C)","v":"B"},{"$f":"_xlfn.XLOOKUP(Table10[[#This Row],[TDS SKU]],Sheet2!B:B,Sheet2!D:D)","v":"A"}]
["MGF54LL/A","15017260","iPhone 17 Pro TechWoven Case with MagSafe - Purple",{"$f":"_xlfn.XLOOKUP(Table10[[#This Row],[TDS SKU]],Sheet2!B:B,Sheet2!C:C)","v":"B"},{"$f":"_xlfn.XLOOKUP(Table10[[#This Row],[TDS SKU]],Sheet2!B:B,Sheet2!D:D)","v":"A"}]
["MGF64LL/A","15017261","iPhone 17 Pro TechWoven Case with MagSafe - Sienna",{"$f":"_xlfn.XLOOKUP(Table10[[#This Row],[TDS SKU]],Sheet2!B:B,Sheet2!C:C)","v":"B"},{"$f":"_xlfn.XLOOKUP(Table10[[#This Row],[TDS SKU]],Sheet2!B:B,Sheet2!D:D)","v":"A"}]
["MHVT4ZM/A","15366772","iPhone 17 SI Case - Electric Lavender",{"$f":"_xlfn.XLOOKUP(Table10[[#This Row],[TDS SKU]],Sheet2!B:B,Sheet2!C:C)","v":"B"},{"$f":"_xlfn.XLOOKUP(Table10[[#This Row],[TDS SKU]],Sheet2!B:B,Sheet2!D:D)","v":"A"}]
["MHVM4ZM/A","15366771","iPhone 17 SI Case - Vanilla",{"$f":"_xlfn.XLOOKUP(Table10[[#This Row],[TDS SKU]],Sheet2!B:B,Sheet2!C:C)","v":"B"},{"$f":"_xlfn.XLOOKUP(Table10[[#This Row],[TDS SKU]],Sheet2!B:B,Sheet2!D:D)","v":"A"}]
["MGEW4ZM/A","15017255","iPhone 17 Silicone Case with MagSafe - Anchor Blue",{"$f":"_xlfn.XLOOKUP(Table10[[#This Row],[TDS SKU]],Sheet2!B:B,Sheet2!C:C)","v":"B"},{"$f":"_xlfn.XLOOKUP(Table10[[#This Row],[TDS SKU]],Sheet2!B:B,Sheet2!D:D)","v":"A"}]
["MGF14ZM/A","15007380","iPhone 17 Silicone Case with MagSafe - Black",{"$f":"_xlfn.XLOOKUP(Table10[[#This Row],[TDS SKU]],Sheet2!B:B,Sheet2!C:C)","v":"B"},{"$f":"_xlfn.XLOOKUP(Table10[[#This Row],[TDS SKU]],Sheet2!B:B,Sheet2!D:D)","v":"A"}]
["MGEX4ZM/A","15017256","iPhone 17 Silicone Case with MagSafe - Light Moss",{"$f":"_xlfn.XLOOKUP(Table10[[#This Row],[TDS SKU]],Sheet2!B:B,Sheet2!C:C)","v":"B"},{"$f":"_xlfn.XLOOKUP(Table10[[#This Row],[TDS SKU]],Sheet2!B:B,Sheet2!D:D)","v":"A"}]
["MGEV4ZM/A","15017254","iPhone 17 Silicone Case with MagSafe - Neon Yellow",{"$f":"_xlfn.XLOOKUP(Table10[[#This Row],[TDS SKU]],Sheet2!B:B,Sheet2!C:C)","v":"B"},{"$f":"_xlfn.XLOOKUP(Table10[[#This Row],[TDS SKU]],Sheet2!B:B,Sheet2!D:D)","v":"A"}]
["MGF04ZM/A","15017257","iPhone 17 Silicone Case with MagSafe - Purple Fog",{"$f":"_xlfn.XLOOKUP(Table10[[#This Row],[TDS SKU]],Sheet2!B:B,Sheet2!C:C)","v":"B"},{"$f":"_xlfn.XLOOKUP(Table10[[#This Row],[TDS SKU]],Sheet2!B:B,Sheet2!D:D)","v":"A"}]
["MHWC4ZM/A","15347538","IPHONE 17E CL CASE-ZML",{"$f":"_xlfn.XLOOKUP(Table10[[#This Row],[TDS SKU]],Sheet2!B:B,Sheet2!C:C)","v":"B"},{"$f":"_xlfn.XLOOKUP(Table10[[#This Row],[TDS SKU]],Sheet2!B:B,Sheet2!D:D)","v":"A"}]
["MHWD4ZM/A","15347535","IPHONE 17E SI CASE BLACK-ZML",{"$f":"_xlfn.XLOOKUP(Table10[[#This Row],[TDS SKU]],Sheet2!B:B,Sheet2!C:C)","v":"A"},{"$f":"_xlfn.XLOOKUP(Table10[[#This Row],[TDS SKU]],Sheet2!B:B,Sheet2!D:D)","v":"A"}]
["MHWJ4ZM/A","15347541","IPHONE 17E SI CASE SOFT PINK-ZML",{"$f":"_xlfn.XLOOKUP(Table10[[#This Row],[TDS SKU]],Sheet2!B:B,Sheet2!C:C)","v":"B"},{"$f":"_xlfn.XLOOKUP(Table10[[#This Row],[TDS SKU]],Sheet2!B:B,Sheet2!D:D)","v":"A"}]
["MH004ZM/A","15017273","iPhone Air Bumper - Black",{"$f":"_xlfn.XLOOKUP(Table10[[#This Row],[TDS SKU]],Sheet2!B:B,Sheet2!C:C)","v":"B"},{"$f":"_xlfn.XLOOKUP(Table10[[#This Row],[TDS SKU]],Sheet2!B:B,Sheet2!D:D)","v":"A"}]
["MH024ZM/A","15017274","iPhone Air Bumper - Light Blue",{"$f":"_xlfn.XLOOKUP(Table10[[#This Row],[TDS SKU]],Sheet2!B:B,Sheet2!C:C)","v":"B"},{"$f":"_xlfn.XLOOKUP(Table10[[#This Row],[TDS SKU]],Sheet2!B:B,Sheet2!D:D)","v":"A"}]
["MGH34LL/A","15017270","iPhone Air Case with MagSafe - Frost",{"$f":"_xlfn.XLOOKUP(Table10[[#This Row],[TDS SKU]],Sheet2!B:B,Sheet2!C:C)","v":"B"},{"$f":"_xlfn.XLOOKUP(Table10[[#This Row],[TDS SKU]],Sheet2!B:B,Sheet2!D:D)","v":"A"}]
["MGH24LL/A","15017269","iPhone Air Case with MagSafe - Shadow",{"$f":"_xlfn.XLOOKUP(Table10[[#This Row],[TDS SKU]],Sheet2!B:B,Sheet2!C:C)","v":"B"},{"$f":"_xlfn.XLOOKUP(Table10[[#This Row],[TDS SKU]],Sheet2!B:B,Sheet2!D:D)","v":"A"}]
["MGPG4AM/A","15007614","iPhone Air MagSafe Battery",{"$f":"_xlfn.XLOOKUP(Table10[[#This Row],[TDS SKU]],Sheet2!B:B,Sheet2!C:C)","v":"B"},{"$f":"_xlfn.XLOOKUP(Table10[[#This Row],[TDS SKU]],Sheet2!B:B,Sheet2!D:D)","v":"A"}]
["MT263ZM/A","7833580","IPHONE FINEWOVEN WALLET PACIFIC BLUE-ZML",{"$f":"_xlfn.XLOOKUP(Table10[[#This Row],[TDS SKU]],Sheet2!B:B,Sheet2!C:C)","v":"B"},{"$f":"_xlfn.XLOOKUP(Table10[[#This Row],[TDS SKU]],Sheet2!B:B,Sheet2!D:D)","v":"A"}]
["MGH94ZM/A","15017271","iPhone FineWoven Wallet with MagSafe - Navy",{"$f":"_xlfn.XLOOKUP(Table10[[#This Row],[TDS SKU]],Sheet2!B:B,Sheet2!C:C)","v":"B"},{"$f":"_xlfn.XLOOKUP(Table10[[#This Row],[TDS SKU]],Sheet2!B:B,Sheet2!D:D)","v":"A"}]
["MGHA4ZM/A","15007431","iPhone FineWoven Wallet with MagSafeBlack",{"$f":"_xlfn.XLOOKUP(Table10[[#This Row],[TDS SKU]],Sheet2!B:B,Sheet2!C:C)","v":"B"},{"$f":"_xlfn.XLOOKUP(Table10[[#This Row],[TDS SKU]],Sheet2!B:B,Sheet2!D:D)","v":"A"}]
["MXYM2ZM/A","6511010","IPHONE SE LTHR CASE BLK",{"$f":"_xlfn.XLOOKUP(Table10[[#This Row],[TDS SKU]],Sheet2!B:B,Sheet2!C:C)","v":"B"},{"$f":"_xlfn.XLOOKUP(Table10[[#This Row],[TDS SKU]],Sheet2!B:B,Sheet2!D:D)","v":"A"}]
["MXYN2ZM/A","6511008","IPHONE SE LTHR CASE MIDNIGHT BLUE",{"$f":"_xlfn.XLOOKUP(Table10[[#This Row],[TDS SKU]],Sheet2!B:B,Sheet2!C:C)","v":"B"},{"$f":"_xlfn.XLOOKUP(Table10[[#This Row],[TDS SKU]],Sheet2!B:B,Sheet2!D:D)","v":"A"}]
["MXYL2ZM/A","6511009","IPHONE SE LTHR CASE PRODUCT RED",{"$f":"_xlfn.XLOOKUP(Table10[[#This Row],[TDS SKU]],Sheet2!B:B,Sheet2!C:C)","v":"B"},{"$f":"_xlfn.XLOOKUP(Table10[[#This Row],[TDS SKU]],Sheet2!B:B,Sheet2!D:D)","v":"A"}]
["MN6H3ZM/A","6593575","IPHONE SE SILICONE CASE - (PRODUCT)RED",{"$f":"_xlfn.XLOOKUP(Table10[[#This Row],[TDS SKU]],Sheet2!B:B,Sheet2!C:C)","v":"B"},{"$f":"_xlfn.XLOOKUP(Table10[[#This Row],[TDS SKU]],Sheet2!B:B,Sheet2!D:D)","v":"A"}]
["MN6F3ZM/A","6593573","IPHONE SE SILICONE CASE - ABYSS BLUE",{"$f":"_xlfn.XLOOKUP(Table10[[#This Row],[TDS SKU]],Sheet2!B:B,Sheet2!C:C)","v":"B"},{"$f":"_xlfn.XLOOKUP(Table10[[#This Row],[TDS SKU]],Sheet2!B:B,Sheet2!D:D)","v":"A"}]
["MN6G3ZM/A","6593574","IPHONE SE SILICONE CASE - CHALK PINK",{"$f":"_xlfn.XLOOKUP(Table10[[#This Row],[TDS SKU]],Sheet2!B:B,Sheet2!C:C)","v":"B"},{"$f":"_xlfn.XLOOKUP(Table10[[#This Row],[TDS SKU]],Sheet2!B:B,Sheet2!D:D)","v":"A"}]
["MN6E3ZM/A","6593572","IPHONE SE SILICONE CASE - MIDNIGHT",{"$f":"_xlfn.XLOOKUP(Table10[[#This Row],[TDS SKU]],Sheet2!B:B,Sheet2!C:C)","v":"B"},{"$f":"_xlfn.XLOOKUP(Table10[[#This Row],[TDS SKU]],Sheet2!B:B,Sheet2!D:D)","v":"A"}]
["MW2P3AM/A","9780581","LIGHTNING DIGITAL AV ADAPTER-AME",{"$f":"_xlfn.XLOOKUP(Table10[[#This Row],[TDS SKU]],Sheet2!B:B,Sheet2!C:C)","v":"A"},{"$f":"_xlfn.XLOOKUP(Table10[[#This Row],[TDS SKU]],Sheet2!B:B,Sheet2!D:D)","v":"A"}]
["MUQW3AM/A","9356688","LIGHTNING TO USB CABLE (1M)",{"$f":"_xlfn.XLOOKUP(Table10[[#This Row],[TDS SKU]],Sheet2!B:B,Sheet2!C:C)","v":"A"},{"$f":"_xlfn.XLOOKUP(Table10[[#This Row],[TDS SKU]],Sheet2!B:B,Sheet2!D:D)","v":"A"}]
["MX5J3AM/A","9780586","LIGHTNING TO USB3 CAMERA ADAPTER-AME",{"$f":"_xlfn.XLOOKUP(Table10[[#This Row],[TDS SKU]],Sheet2!B:B,Sheet2!C:C)","v":"B"},{"$f":"_xlfn.XLOOKUP(Table10[[#This Row],[TDS SKU]],Sheet2!B:B,Sheet2!D:D)","v":"A"}]
["MXCL3LL/A","14309231","Magic Keyboard (USB C) US English",{"$f":"_xlfn.XLOOKUP(Table10[[#This Row],[TDS SKU]],Sheet2!B:B,Sheet2!C:C)","v":"A"},{"$f":"_xlfn.XLOOKUP(Table10[[#This Row],[TDS SKU]],Sheet2!B:B,Sheet2!D:D)","v":"A"}]
["MXCL3FC/A","14989150","Magic Keyboard (USB-C) - French",{"$f":"_xlfn.XLOOKUP(Table10[[#This Row],[TDS SKU]],Sheet2!B:B,Sheet2!C:C)","v":"B"},{"$f":"_xlfn.XLOOKUP(Table10[[#This Row],[TDS SKU]],Sheet2!B:B,Sheet2!D:D)","v":"A"}]
["MQDP3LL/A","6799419","MAGIC KEYBOARD FOLIO -USA",{"$f":"_xlfn.XLOOKUP(Table10[[#This Row],[TDS SKU]],Sheet2!B:B,Sheet2!C:C)","v":"A"},{"$f":"_xlfn.XLOOKUP(Table10[[#This Row],[TDS SKU]],Sheet2!B:B,Sheet2!D:D)","v":"A"}]
["MDFV4LL/A","14569226","Magic Keyboard for iPad Air 11 inch (M3) US English White",{"$f":"_xlfn.XLOOKUP(Table10[[#This Row],[TDS SKU]],Sheet2!B:B,Sheet2!C:C)","v":"B"},{"$f":"_xlfn.XLOOKUP(Table10[[#This Row],[TDS SKU]],Sheet2!B:B,Sheet2!D:D)","v":"A"}]
["MDFV4LA/A","14803834","Magic Keyboard for iPad Air 11-inch (M3) - Spanish (Latin America) - White",{"$f":"_xlfn.XLOOKUP(Table10[[#This Row],[TDS SKU]],Sheet2!B:B,Sheet2!C:C)","v":"B"},{"$f":"_xlfn.XLOOKUP(Table10[[#This Row],[TDS SKU]],Sheet2!B:B,Sheet2!D:D)","v":"A"}]
["MGYX4LL/A","15098106","Magic Keyboard for iPad Air 11-inch (M3) - US English - Black",{"$f":"_xlfn.XLOOKUP(Table10[[#This Row],[TDS SKU]],Sheet2!B:B,Sheet2!C:C)","v":"A"},{"$f":"_xlfn.XLOOKUP(Table10[[#This Row],[TDS SKU]],Sheet2!B:B,Sheet2!D:D)","v":"A"}]
["MDFW4LL/A","14569227","Magic Keyboard for iPad Air 13 inch (M3) US English White",{"$f":"_xlfn.XLOOKUP(Table10[[#This Row],[TDS SKU]],Sheet2!B:B,Sheet2!C:C)","v":"A"},{"$f":"_xlfn.XLOOKUP(Table10[[#This Row],[TDS SKU]],Sheet2!B:B,Sheet2!D:D)","v":"A"}]
["MDFW4LA/A","14803833","Magic Keyboard for iPad Air 13-inch (M3) - Spanish (Latin America) - White",{"$f":"_xlfn.XLOOKUP(Table10[[#This Row],[TDS SKU]],Sheet2!B:B,Sheet2!C:C)","v":"B"},{"$f":"_xlfn.XLOOKUP(Table10[[#This Row],[TDS SKU]],Sheet2!B:B,Sheet2!D:D)","v":"A"}]
["MGYY4LL/A","15098107","Magic Keyboard for iPad Air 13-inch (M3) - US English - Black",{"$f":"_xlfn.XLOOKUP(Table10[[#This Row],[TDS SKU]],Sheet2!B:B,Sheet2!C:C)","v":"A"},{"$f":"_xlfn.XLOOKUP(Table10[[#This Row],[TDS SKU]],Sheet2!B:B,Sheet2!D:D)","v":"A"}]
["MXCK3KU/A","15382819","Magic Keyboard TID for Mac models w/ Apple silicon (USB-C) - Korean",{"$f":"_xlfn.XLOOKUP(Table10[[#This Row],[TDS SKU]],Sheet2!B:B,Sheet2!C:C)","v":"B"},{"$f":"_xlfn.XLOOKUP(Table10[[#This Row],[TDS SKU]],Sheet2!B:B,Sheet2!D:D)","v":"A"}]
["MXCJ3E/A","15182225","MAGIC KEYBOARD WITH NUMERIC KEYPAD-SPA",{"$f":"_xlfn.XLOOKUP(Table10[[#This Row],[TDS SKU]],Sheet2!B:B,Sheet2!C:C)","v":"A"},{"$f":"_xlfn.XLOOKUP(Table10[[#This Row],[TDS SKU]],Sheet2!B:B,Sheet2!D:D)","v":"A"}]
["MXCJ3LL/A","14542485","MAGIC KEYBOARD WITH NUMERIC KEYPAD-USA",{"$f":"_xlfn.XLOOKUP(Table10[[#This Row],[TDS SKU]],Sheet2!B:B,Sheet2!C:C)","v":"A"},{"$f":"_xlfn.XLOOKUP(Table10[[#This Row],[TDS SKU]],Sheet2!B:B,Sheet2!D:D)","v":"A"}]
["MXK83LL/A","14309235","Magic Keyboard with Touch ID and Numeric Keypad for Mac models with Apple silicon (USB C) US English Black Keys",{"$f":"_xlfn.XLOOKUP(Table10[[#This Row],[TDS SKU]],Sheet2!B:B,Sheet2!C:C)","v":"A"},{"$f":"_xlfn.XLOOKUP(Table10[[#This Row],[TDS SKU]],Sheet2!B:B,Sheet2!D:D)","v":"A"}]
["MXK73LL/A","14309234","Magic Keyboard with Touch ID and Numeric Keypad for Mac models with Apple silicon (USB C) US English White Keys",{"$f":"_xlfn.XLOOKUP(Table10[[#This Row],[TDS SKU]],Sheet2!B:B,Sheet2!C:C)","v":"A"},{"$f":"_xlfn.XLOOKUP(Table10[[#This Row],[TDS SKU]],Sheet2!B:B,Sheet2!D:D)","v":"A"}]
["MXCK3LL/A","14309230","Magic Keyboard with Touch ID for Mac models with Apple silicon (USB C) US English",{"$f":"_xlfn.XLOOKUP(Table10[[#This Row],[TDS SKU]],Sheet2!B:B,Sheet2!C:C)","v":"A"},{"$f":"_xlfn.XLOOKUP(Table10[[#This Row],[TDS SKU]],Sheet2!B:B,Sheet2!D:D)","v":"A"}]
["MXCK3LA/A","15104460","Magic Keyboard with Touch ID for Mac models with Apple silicon (USB-C) - Spanish (Latin American)",{"$f":"_xlfn.XLOOKUP(Table10[[#This Row],[TDS SKU]],Sheet2!B:B,Sheet2!C:C)","v":"B"},{"$f":"_xlfn.XLOOKUP(Table10[[#This Row],[TDS SKU]],Sheet2!B:B,Sheet2!D:D)","v":"A"}]
["MXK63AM/A","14309233","Magic Mouse (USB C) Black Multi-Touch Surface",{"$f":"_xlfn.XLOOKUP(Table10[[#This Row],[TDS SKU]],Sheet2!B:B,Sheet2!C:C)","v":"A"},{"$f":"_xlfn.XLOOKUP(Table10[[#This Row],[TDS SKU]],Sheet2!B:B,Sheet2!D:D)","v":"A"}]
["MXK53AM/A","14309232","Magic Mouse (USB C) White Multi-Touch Surface",{"$f":"_xlfn.XLOOKUP(Table10[[#This Row],[TDS SKU]],Sheet2!B:B,Sheet2!C:C)","v":"A"},{"$f":"_xlfn.XLOOKUP(Table10[[#This Row],[TDS SKU]],Sheet2!B:B,Sheet2!D:D)","v":"A"}]
["MXKA3AM/A","14309237","Magic Trackpad (USB C) Black Multi-Touch Surface",{"$f":"_xlfn.XLOOKUP(Table10[[#This Row],[TDS SKU]],Sheet2!B:B,Sheet2!C:C)","v":"A"},{"$f":"_xlfn.XLOOKUP(Table10[[#This Row],[TDS SKU]],Sheet2!B:B,Sheet2!D:D)","v":"A"}]
["MXK93AM/A","14309236","Magic Trackpad (USB C) White Multi-Touch Surface",{"$f":"_xlfn.XLOOKUP(Table10[[#This Row],[TDS SKU]],Sheet2!B:B,Sheet2!C:C)","v":"A"},{"$f":"_xlfn.XLOOKUP(Table10[[#This Row],[TDS SKU]],Sheet2!B:B,Sheet2!D:D)","v":"A"}]
["MGD74LL/A","15007616","MagSafe Charger (1 m)",{"$f":"_xlfn.XLOOKUP(Table10[[#This Row],[TDS SKU]],Sheet2!B:B,Sheet2!C:C)","v":"A"},{"$f":"_xlfn.XLOOKUP(Table10[[#This Row],[TDS SKU]],Sheet2!B:B,Sheet2!D:D)","v":"A"}]
["MGDM4LL/A","15007617","MagSafe Charger (2 m)",{"$f":"_xlfn.XLOOKUP(Table10[[#This Row],[TDS SKU]],Sheet2!B:B,Sheet2!C:C)","v":"A"},{"$f":"_xlfn.XLOOKUP(Table10[[#This Row],[TDS SKU]],Sheet2!B:B,Sheet2!D:D)","v":"A"}]
["MW693AM/A","9597497","POLISHING CLOTH-AME",{"$f":"_xlfn.XLOOKUP(Table10[[#This Row],[TDS SKU]],Sheet2!B:B,Sheet2!C:C)","v":"B"},{"$f":"_xlfn.XLOOKUP(Table10[[#This Row],[TDS SKU]],Sheet2!B:B,Sheet2!D:D)","v":"A"}]
["MW2N3LL/A","14392299","Power Adapter Extension Cable",{"$f":"_xlfn.XLOOKUP(Table10[[#This Row],[TDS SKU]],Sheet2!B:B,Sheet2!C:C)","v":"B"},{"$f":"_xlfn.XLOOKUP(Table10[[#This Row],[TDS SKU]],Sheet2!B:B,Sheet2!D:D)","v":"A"}]
["ME2K4LL/A","14992361","Powerbeats Fit - Wireless Noise-Cancelling Workout Earbuds with Ultimate Secure Fit - Gravel Gray",{"$f":"_xlfn.XLOOKUP(Table10[[#This Row],[TDS SKU]],Sheet2!B:B,Sheet2!C:C)","v":"B"},{"$f":"_xlfn.XLOOKUP(Table10[[#This Row],[TDS SKU]],Sheet2!B:B,Sheet2!D:D)","v":"A"}]
["ME2J4LL/A","14992360","Powerbeats Fit - Wireless Noise-Cancelling Workout Earbuds with Ultimate Secure Fit - Jet Black",{"$f":"_xlfn.XLOOKUP(Table10[[#This Row],[TDS SKU]],Sheet2!B:B,Sheet2!C:C)","v":"A"},{"$f":"_xlfn.XLOOKUP(Table10[[#This Row],[TDS SKU]],Sheet2!B:B,Sheet2!D:D)","v":"A"}]
["ME2L4LL/A","14992362","Powerbeats Fit - Wireless Noise-Cancelling Workout Earbuds with Ultimate Secure Fit - Power Pink",{"$f":"_xlfn.XLOOKUP(Table10[[#This Row],[TDS SKU]],Sheet2!B:B,Sheet2!C:C)","v":"B"},{"$f":"_xlfn.XLOOKUP(Table10[[#This Row],[TDS SKU]],Sheet2!B:B,Sheet2!D:D)","v":"A"}]
["ME2M4LL/A","14992363","Powerbeats Fit - Wireless Noise-Cancelling Workout Earbuds with Ultimate Secure Fit - Spark Orange",{"$f":"_xlfn.XLOOKUP(Table10[[#This Row],[TDS SKU]],Sheet2!B:B,Sheet2!C:C)","v":"B"},{"$f":"_xlfn.XLOOKUP(Table10[[#This Row],[TDS SKU]],Sheet2!B:B,Sheet2!D:D)","v":"A"}]
["MW5G3AM/A","14035521","Siri Remote",{"$f":"_xlfn.XLOOKUP(Table10[[#This Row],[TDS SKU]],Sheet2!B:B,Sheet2!C:C)","v":"B"},{"$f":"_xlfn.XLOOKUP(Table10[[#This Row],[TDS SKU]],Sheet2!B:B,Sheet2!D:D)","v":"A"}]
["MDEN4ZM/A","14569205","Smart Folio for iPad (A16) - Lemonade",{"$f":"_xlfn.XLOOKUP(Table10[[#This Row],[TDS SKU]],Sheet2!B:B,Sheet2!C:C)","v":"B"},{"$f":"_xlfn.XLOOKUP(Table10[[#This Row],[TDS SKU]],Sheet2!B:B,Sheet2!D:D)","v":"A"}]
["MDEQ4ZM/A","14569207","Smart Folio for iPad (A16) - Sky",{"$f":"_xlfn.XLOOKUP(Table10[[#This Row],[TDS SKU]],Sheet2!B:B,Sheet2!C:C)","v":"B"},{"$f":"_xlfn.XLOOKUP(Table10[[#This Row],[TDS SKU]],Sheet2!B:B,Sheet2!D:D)","v":"A"}]
["MDEP4ZM/A","14569206","Smart Folio for iPad (A16) - Watermelon",{"$f":"_xlfn.XLOOKUP(Table10[[#This Row],[TDS SKU]],Sheet2!B:B,Sheet2!C:C)","v":"B"},{"$f":"_xlfn.XLOOKUP(Table10[[#This Row],[TDS SKU]],Sheet2!B:B,Sheet2!D:D)","v":"A"}]
["MDEJ4ZM/A","14569204","Smart Folio for iPad (A16) - White",{"$f":"_xlfn.XLOOKUP(Table10[[#This Row],[TDS SKU]],Sheet2!B:B,Sheet2!C:C)","v":"B"},{"$f":"_xlfn.XLOOKUP(Table10[[#This Row],[TDS SKU]],Sheet2!B:B,Sheet2!D:D)","v":"A"}]
["MC2Q4ZM/A","14290276","Smart Folio for iPad mini (A17 Pro) - Charcoal Gray",{"$f":"_xlfn.XLOOKUP(Table10[[#This Row],[TDS SKU]],Sheet2!B:B,Sheet2!C:C)","v":"B"},{"$f":"_xlfn.XLOOKUP(Table10[[#This Row],[TDS SKU]],Sheet2!B:B,Sheet2!D:D)","v":"A"}]
["MC2U4ZM/A","14290278","Smart Folio for iPad mini (A17 Pro) - Denim",{"$f":"_xlfn.XLOOKUP(Table10[[#This Row],[TDS SKU]],Sheet2!B:B,Sheet2!C:C)","v":"B"},{"$f":"_xlfn.XLOOKUP(Table10[[#This Row],[TDS SKU]],Sheet2!B:B,Sheet2!D:D)","v":"A"}]
["MC2T4ZM/A","14290277","Smart Folio for iPad mini (A17 Pro) - Light Violet",{"$f":"_xlfn.XLOOKUP(Table10[[#This Row],[TDS SKU]],Sheet2!B:B,Sheet2!C:C)","v":"B"},{"$f":"_xlfn.XLOOKUP(Table10[[#This Row],[TDS SKU]],Sheet2!B:B,Sheet2!D:D)","v":"A"}]
["MC2V4ZM/A","14290279","Smart Folio for iPad mini (A17 Pro) - Sage",{"$f":"_xlfn.XLOOKUP(Table10[[#This Row],[TDS SKU]],Sheet2!B:B,Sheet2!C:C)","v":"B"},{"$f":"_xlfn.XLOOKUP(Table10[[#This Row],[TDS SKU]],Sheet2!B:B,Sheet2!D:D)","v":"A"}]
["MQLH3LL/A","7440146","STUDIO BUDS + BLACK/GOLD-USA.",{"$f":"_xlfn.XLOOKUP(Table10[[#This Row],[TDS SKU]],Sheet2!B:B,Sheet2!C:C)","v":"A"},{"$f":"_xlfn.XLOOKUP(Table10[[#This Row],[TDS SKU]],Sheet2!B:B,Sheet2!D:D)","v":"A"}]
["MQLJ3LL/A","7440147","STUDIO BUDS + IVORY-USA.",{"$f":"_xlfn.XLOOKUP(Table10[[#This Row],[TDS SKU]],Sheet2!B:B,Sheet2!C:C)","v":"A"},{"$f":"_xlfn.XLOOKUP(Table10[[#This Row],[TDS SKU]],Sheet2!B:B,Sheet2!D:D)","v":"A"}]
["MQLK3LL/A","7440148","STUDIO BUDS + TRANSPARENT-USA.",{"$f":"_xlfn.XLOOKUP(Table10[[#This Row],[TDS SKU]],Sheet2!B:B,Sheet2!C:C)","v":"A"},{"$f":"_xlfn.XLOOKUP(Table10[[#This Row],[TDS SKU]],Sheet2!B:B,Sheet2!D:D)","v":"A"}]
["MFF04LL/A","15350935","STUDIO DISPLAY NANO HEIGHT 1M-USA",{"$f":"_xlfn.XLOOKUP(Table10[[#This Row],[TDS SKU]],Sheet2!B:B,Sheet2!C:C)","v":"B"},{"$f":"_xlfn.XLOOKUP(Table10[[#This Row],[TDS SKU]],Sheet2!B:B,Sheet2!D:D)","v":"A"}]
["MFF14LL/A","15350936","STUDIO DISPLAY NANO TILT 1M-USA",{"$f":"_xlfn.XLOOKUP(Table10[[#This Row],[TDS SKU]],Sheet2!B:B,Sheet2!C:C)","v":"A"},{"$f":"_xlfn.XLOOKUP(Table10[[#This Row],[TDS SKU]],Sheet2!B:B,Sheet2!D:D)","v":"A"}]
["MFF24LL/A","15350937","STUDIO DISPLAY NANO VESA 1M-USA",{"$f":"_xlfn.XLOOKUP(Table10[[#This Row],[TDS SKU]],Sheet2!B:B,Sheet2!C:C)","v":"B"},{"$f":"_xlfn.XLOOKUP(Table10[[#This Row],[TDS SKU]],Sheet2!B:B,Sheet2!D:D)","v":"A"}]
["MFEW4LL/A","15350932","STUDIO DISPLAY STANDARD HEIGHT 1M-USA",{"$f":"_xlfn.XLOOKUP(Table10[[#This Row],[TDS SKU]],Sheet2!B:B,Sheet2!C:C)","v":"A"},{"$f":"_xlfn.XLOOKUP(Table10[[#This Row],[TDS SKU]],Sheet2!B:B,Sheet2!D:D)","v":"A"}]
["MFEX4LL/A","15350933","STUDIO DISPLAY STANDARD TILT 1M-USA",{"$f":"_xlfn.XLOOKUP(Table10[[#This Row],[TDS SKU]],Sheet2!B:B,Sheet2!C:C)","v":"A"},{"$f":"_xlfn.XLOOKUP(Table10[[#This Row],[TDS SKU]],Sheet2!B:B,Sheet2!D:D)","v":"A"}]
["MFEY4LL/A","15350934","STUDIO DISPLAY STANDARD VESA 1M-USA",{"$f":"_xlfn.XLOOKUP(Table10[[#This Row],[TDS SKU]],Sheet2!B:B,Sheet2!C:C)","v":"A"},{"$f":"_xlfn.XLOOKUP(Table10[[#This Row],[TDS SKU]],Sheet2!B:B,Sheet2!D:D)","v":"A"}]
["MFEP4LL/A","15350930","STUDIO DISPLAY XDR NANO HEIGHT 1M-USA",{"$f":"_xlfn.XLOOKUP(Table10[[#This Row],[TDS SKU]],Sheet2!B:B,Sheet2!C:C)","v":"B"},{"$f":"_xlfn.XLOOKUP(Table10[[#This Row],[TDS SKU]],Sheet2!B:B,Sheet2!D:D)","v":"A"}]
["MFEQ4LL/A","15350931","STUDIO DISPLAY XDR NANO VESA 1M-USA",{"$f":"_xlfn.XLOOKUP(Table10[[#This Row],[TDS SKU]],Sheet2!B:B,Sheet2!C:C)","v":"A"},{"$f":"_xlfn.XLOOKUP(Table10[[#This Row],[TDS SKU]],Sheet2!B:B,Sheet2!D:D)","v":"A"}]
["MFEL4LL/A","15350928","STUDIO DISPLAY XDR STD HEIGHT 1M-USA",{"$f":"_xlfn.XLOOKUP(Table10[[#This Row],[TDS SKU]],Sheet2!B:B,Sheet2!C:C)","v":"A"},{"$f":"_xlfn.XLOOKUP(Table10[[#This Row],[TDS SKU]],Sheet2!B:B,Sheet2!D:D)","v":"A"}]
["MFEN4LL/A","15350929","STUDIO DISPLAY XDR STD VESA 1M-USA",{"$f":"_xlfn.XLOOKUP(Table10[[#This Row],[TDS SKU]],Sheet2!B:B,Sheet2!C:C)","v":"A"},{"$f":"_xlfn.XLOOKUP(Table10[[#This Row],[TDS SKU]],Sheet2!B:B,Sheet2!D:D)","v":"A"}]
["MQTP3LL/A","7532100","STUDIO PRO WIRELESS, BLACK-USA",{"$f":"_xlfn.XLOOKUP(Table10[[#This Row],[TDS SKU]],Sheet2!B:B,Sheet2!C:C)","v":"A"},{"$f":"_xlfn.XLOOKUP(Table10[[#This Row],[TDS SKU]],Sheet2!B:B,Sheet2!D:D)","v":"A"}]
["MQTT3LL/A","7532101","STUDIO PRO WIRELESS, DEEP BROWN-USA",{"$f":"_xlfn.XLOOKUP(Table10[[#This Row],[TDS SKU]],Sheet2!B:B,Sheet2!C:C)","v":"B"},{"$f":"_xlfn.XLOOKUP(Table10[[#This Row],[TDS SKU]],Sheet2!B:B,Sheet2!D:D)","v":"A"}]
["MQTQ3LL/A","7532178","STUDIO PRO WIRELESS, NAVY-USA",{"$f":"_xlfn.XLOOKUP(Table10[[#This Row],[TDS SKU]],Sheet2!B:B,Sheet2!C:C)","v":"B"},{"$f":"_xlfn.XLOOKUP(Table10[[#This Row],[TDS SKU]],Sheet2!B:B,Sheet2!D:D)","v":"A"}]
["MQTR3LL/A","7532098","STUDIO PRO WIRELESS, SANDSTONE-USA",{"$f":"_xlfn.XLOOKUP(Table10[[#This Row],[TDS SKU]],Sheet2!B:B,Sheet2!C:C)","v":"A"},{"$f":"_xlfn.XLOOKUP(Table10[[#This Row],[TDS SKU]],Sheet2!B:B,Sheet2!D:D)","v":"A"}]
["MYH93AM/A","14035520","Thunderbolt 3 (USB-C) to Thunderbolt 2 Adapter",{"$f":"_xlfn.XLOOKUP(Table10[[#This Row],[TDS SKU]],Sheet2!B:B,Sheet2!C:C)","v":"A"},{"$f":"_xlfn.XLOOKUP(Table10[[#This Row],[TDS SKU]],Sheet2!B:B,Sheet2!D:D)","v":"A"}]
["MDW94AM/A","14874408","Thunderbolt 5 (USB-C) Pro Cable (1 m)",{"$f":"_xlfn.XLOOKUP(Table10[[#This Row],[TDS SKU]],Sheet2!B:B,Sheet2!C:C)","v":"A"},{"$f":"_xlfn.XLOOKUP(Table10[[#This Row],[TDS SKU]],Sheet2!B:B,Sheet2!D:D)","v":"A"}]
["MW5M3AM/A","14004531","USB-C Digital AV Multiport Adapter",{"$f":"_xlfn.XLOOKUP(Table10[[#This Row],[TDS SKU]],Sheet2!B:B,Sheet2!C:C)","v":"A"},{"$f":"_xlfn.XLOOKUP(Table10[[#This Row],[TDS SKU]],Sheet2!B:B,Sheet2!D:D)","v":"A"}]
["MDV84AM/A","14643316","USB-C to 3.5 mm Audio Cable (1.2 m)",{"$f":"_xlfn.XLOOKUP(Table10[[#This Row],[TDS SKU]],Sheet2!B:B,Sheet2!C:C)","v":"A"},{"$f":"_xlfn.XLOOKUP(Table10[[#This Row],[TDS SKU]],Sheet2!B:B,Sheet2!D:D)","v":"A"}]
["MW2Q3AM/A","9780582","USB-C TO 3.5 MM HEADPHONE ADAPTER-AME",{"$f":"_xlfn.XLOOKUP(Table10[[#This Row],[TDS SKU]],Sheet2!B:B,Sheet2!C:C)","v":"A"},{"$f":"_xlfn.XLOOKUP(Table10[[#This Row],[TDS SKU]],Sheet2!B:B,Sheet2!D:D)","v":"A"}]
["MWML3AM/A","9597498","USB-C TO APPLE PENCIL ADAPTER-AME",{"$f":"_xlfn.XLOOKUP(Table10[[#This Row],[TDS SKU]],Sheet2!B:B,Sheet2!C:C)","v":"A"},{"$f":"_xlfn.XLOOKUP(Table10[[#This Row],[TDS SKU]],Sheet2!B:B,Sheet2!D:D)","v":"A"}]
["MUQX3AM/A","7831466","USB-C TO LIGHTNING ADAPTER-AME",{"$f":"_xlfn.XLOOKUP(Table10[[#This Row],[TDS SKU]],Sheet2!B:B,Sheet2!C:C)","v":"A"},{"$f":"_xlfn.XLOOKUP(Table10[[#This Row],[TDS SKU]],Sheet2!B:B,Sheet2!D:D)","v":"A"}]
["MUQ93AM/A","9356687","USB-C TO LIGHTNING CABLE (1M)",{"$f":"_xlfn.XLOOKUP(Table10[[#This Row],[TDS SKU]],Sheet2!B:B,Sheet2!C:C)","v":"A"},{"$f":"_xlfn.XLOOKUP(Table10[[#This Row],[TDS SKU]],Sheet2!B:B,Sheet2!D:D)","v":"A"}]
["MW2R3AM/A","9780583","USB-C TO LIGHTNING CABLE (2 M)-AME",{"$f":"_xlfn.XLOOKUP(Table10[[#This Row],[TDS SKU]],Sheet2!B:B,Sheet2!C:C)","v":"A"},{"$f":"_xlfn.XLOOKUP(Table10[[#This Row],[TDS SKU]],Sheet2!B:B,Sheet2!D:D)","v":"A"}]
["MW613AM/A","14392300","USB-C to MagSafe 3 Cable (2m) - Silver",{"$f":"_xlfn.XLOOKUP(Table10[[#This Row],[TDS SKU]],Sheet2!B:B,Sheet2!C:C)","v":"A"},{"$f":"_xlfn.XLOOKUP(Table10[[#This Row],[TDS SKU]],Sheet2!B:B,Sheet2!D:D)","v":"A"}]
["MW653AM/A","9780585","USB-C TO SD CARD READER-AME",{"$f":"_xlfn.XLOOKUP(Table10[[#This Row],[TDS SKU]],Sheet2!B:B,Sheet2!C:C)","v":"A"},{"$f":"_xlfn.XLOOKUP(Table10[[#This Row],[TDS SKU]],Sheet2!B:B,Sheet2!D:D)","v":"A"}]
["MW5L3AM/A","14035519","USB-C to USB Adapter",{"$f":"_xlfn.XLOOKUP(Table10[[#This Row],[TDS SKU]],Sheet2!B:B,Sheet2!C:C)","v":"A"},{"$f":"_xlfn.XLOOKUP(Table10[[#This Row],[TDS SKU]],Sheet2!B:B,Sheet2!D:D)","v":"A"}]

{"sheet":"VESA, TP, Keyboards","index":14,"n_rows":141,"n_cols":18,"rows_kept":141,"cut":false,"hidden":true,"merged":[]}
["Apple Part ","TDS SKU","Part #","New DAC","Description","Model","Processor","Color","Ethernet","Memory","Storage","Keyboard","Mouse","Software",null,null,"ABC","Active"]
["Z1EN2002332765","14336669","APL-Z1EN2002332765",2778.98,"CTO IMAC M4 10CPU 10GPU 24GB 1TB TID GREEN LP FCP","iMac M4 ","M4 chip with 10-core CPU, 10-core GPU","Green","Gigabit","24GB","1TB","Magic Keyboard with Touch ID - US English","Magic Mouse","Final Cut Pro & Logic Pro",{"$f":"TRIM(A2)","v":"Z1EN2002332765"},null,{"$f":"_xlfn.XLOOKUP(B2,Sheet2!B:B,Sheet2!C:C)","v":"B"},{"$f":"_xlfn.XLOOKUP(B2,Sheet2!B:B,Sheet2!D:D)","v":"A"}]
["Z1EJ000CP","14339826","APL-Z1EJ000CP",2159,"CTO IMAC M4 10CPU 10GPU 16GB 1TB TID NK SILVER TP","iMac M4 ","M4 chip with 10-core CPU, 10-core GPU","Silver","Gigabit","16GB","1TB","Magic Keyboard with Touch ID and Numeric Keypad - US English","Magic Trackpad",null,"Z1EJ000CP",null,{"$f":"_xlfn.XLOOKUP(B3,Sheet2!B:B,Sheet2!C:C)","v":"B"},{"$f":"_xlfn.XLOOKUP(B3,Sheet2!B:B,Sheet2!D:D)","v":"A"}]
["Z1EN2002335841","14363836","APL-Z1EN2002335841",2968.98,"CTO IMAC M4 10CPU 10GPU 32GB 1TB TID GREEN  LP FCP","iMac M4 ","M4 chip with 10-core CPU, 10-core GPU","Green","Gigabit","32GB","1TB","Magic Keyboard with Touch ID - US English","Magic Mouse","Final Cut Pro & Logic Pro","Z1EN2002335841",null,{"$f":"_xlfn.XLOOKUP(B4,Sheet2!B:B,Sheet2!C:C)","v":"B"},{"$f":"_xlfn.XLOOKUP(B4,Sheet2!B:B,Sheet2!D:D)","v":"A"}]
["Z1EN2002337997","14368901","APL-Z1EN2002337997",2228,"CTO IMAC M4 10CPU 10GPU 32GB 512GB TID GREEN TP","iMac M4 ","M4 chip with 10-core CPU, 10-core GPU","Green","Gigabit","32GB","512GB ","Magic Keyboard with Touch ID - US English","Magic Trackpad",null,"Z1EN2002337997",null,{"$f":"_xlfn.XLOOKUP(B5,Sheet2!B:B,Sheet2!C:C)","v":"B"},{"$f":"_xlfn.XLOOKUP(B5,Sheet2!B:B,Sheet2!D:D)","v":"A"}]
["Z1E20008K","14371059","APL-Z1E20008K",1494,"CTO IMAC M4 8CPU 8GPU 16GB 256GB TID NK SILVER HEBREW","iMac M4 ","M4 chip with 8-core CPU, 8-core GPU","Silver ",null,"16GB","256GB","Magic Keyboard with Touch ID and Numeric Keypad - Hebrew","Magic Mouse",null,"Z1E20008K",null,{"$f":"_xlfn.XLOOKUP(B6,Sheet2!B:B,Sheet2!C:C)","v":"B"},{"$f":"_xlfn.XLOOKUP(B6,Sheet2!B:B,Sheet2!D:D)","v":"A"}]
["Z1EJ000EY","14371172","APL-Z1EJ000EY",2539,"CTO IMAC M4 10CPU 10GPU 32GB 1TB TID NK SILVER TP","iMac M4 ","M4 chip with 10-core CPU, 10-core GPU","Silver ","Gigabit","32GB","1TB","Magic Keyboard with Touch ID and Numeric Keypad - US English","Magic Trackpad",null,"Z1EJ000EY",null,{"$f":"_xlfn.XLOOKUP(B7,Sheet2!B:B,Sheet2!C:C)","v":"B"},{"$f":"_xlfn.XLOOKUP(B7,Sheet2!B:B,Sheet2!D:D)","v":"A"}]
["Z1E90008W","14386768","APL-Z1E90008W",1453,"CTO IMAC 24 VESA M4 8CPU 8GPU 16GB 256GB SILVER GIG ETH ","iMac M4 VESA","M4 chip with 8-core CPU, 8-core GPU","Silver ","Gigabit","16GB","256GB","Magic Keyboard - US English","Magic Mouse",null,"Z1E90008W",null,{"$f":"_xlfn.XLOOKUP(B8,Sheet2!B:B,Sheet2!C:C)","v":"B"},{"$f":"_xlfn.XLOOKUP(B8,Sheet2!B:B,Sheet2!D:D)","v":"A"}]
["Z1EQ2002360300","14419427","APL-Z1EQ2002360300",2184,"CTO IMAC M4 10CPU 10GPU 32GB 512GB TID BLUE ARABIC","iMac M4 ","M4 chip with 10-core CPU, 10-core GPU","Blue","Gigabit","32GB","512GB ","Magic Keyboard with Touch ID - Arabic","Magic Mouse",null,"Z1EQ2002360300",null,{"$f":"_xlfn.XLOOKUP(B9,Sheet2!B:B,Sheet2!C:C)","v":"B"},{"$f":"_xlfn.XLOOKUP(B9,Sheet2!B:B,Sheet2!D:D)","v":"A"}]
["Z1EJ2002360636","14454321","APL-Z1EJ2002360636",2089,"CTO IMAC M4 10CPU 10GPU 16GB 1TB TID SILVER HEBREW","iMac M4 ","M4 chip with 10-core CPU, 10-core GPU","Silver ","Gigabit","16GB","1TB","Magic Keyboard with Touch ID - Hebrew","Magic Mouse",null,"Z1EJ2002360636",null,{"$f":"_xlfn.XLOOKUP(B10,Sheet2!B:B,Sheet2!C:C)","v":"B"},{"$f":"_xlfn.XLOOKUP(B10,Sheet2!B:B,Sheet2!D:D)","v":"A"}]
["Z1EJ000DS","14456246","APL-Z1EJ000DS",2303.98,"CTO IMAC M4 10CPU 10GPU 16GB 512GB TID SILVER FCP LP","iMac M4 ","M4 chip with 10-core CPU, 10-core GPU","Silver ","Gigabit","16GB","512GB ","Magic Keyboard with Touch ID - US English","Magic Mouse","Final Cut Pro & Logic Pro","Z1EJ000DS",null,{"$f":"_xlfn.XLOOKUP(B11,Sheet2!B:B,Sheet2!C:C)","v":"B"},{"$f":"_xlfn.XLOOKUP(B11,Sheet2!B:B,Sheet2!D:D)","v":"A"}]
["Z1CG000D9","14457493","APL-Z1CG000D9",1148.99,"CTO MAC MINI M4 10CPU 10GPU 16GB 512GB GIG ETH LP","Mac Mini M4","M4 chip with 10-core CPU, 10-core GPU",null,"Gigabit","16GB","512GB ",null,null,"Logic Pro","Z1CG000D9",null,{"$f":"_xlfn.XLOOKUP(B12,Sheet2!B:B,Sheet2!C:C)","v":"B"},{"$f":"_xlfn.XLOOKUP(B12,Sheet2!B:B,Sheet2!D:D)","v":"A"}]
["Z1JV001NQ","14457488\n","APL-Z1JV001NQ",1908.99,"CTO MAC MINI M4 PRO 14CPU 20GPU 24GB 512GB GIG ETH LP","Mac Mini M4","M4 Pro chip with 14‑core CPU, 20‑core GPU",null,"Gigabit","24GB","512GB ",null,null,"Logic Pro","Z1JV001NQ",null,{"$f":"_xlfn.XLOOKUP(B13,Sheet2!B:B,Sheet2!C:C)","v":{"$error":"#N/A"}},{"$f":"_xlfn.XLOOKUP(B13,Sheet2!B:B,Sheet2!D:D)","v":{"$error":"#N/A"}}]
["Z1EN000LU","14458356","APL-Z1EN000LU",2003.99,"CTO IMAC M4 10CPU 10GPU 16GB 512GB TID GREEN LP","iMac M4 ","M4 chip with 10-core CPU, 10-core GPU","Green","Gigabit","16GB","512GB ","Magic Keyboard with Touch ID - US English","Magic Mouse","Logic Pro","Z1EN000LU",null,{"$f":"_xlfn.XLOOKUP(B14,Sheet2!B:B,Sheet2!C:C)","v":"B"},{"$f":"_xlfn.XLOOKUP(B14,Sheet2!B:B,Sheet2!D:D)","v":"A"}]
["Z1JV000XE","14468986","APL-Z1JV000XE",2103.9899999999998,"CTO MAC MINI M4 PRO 12CPU 16GPU 24GB 1TB GIG ETH FCP","Mac Mini M4","M4 Pro chip with 12 core CPU, 16 core GPU",null,"Gigabit","24GB","1TB",null,null,"Final Cut Pro","Z1JV000XE",null,{"$f":"_xlfn.XLOOKUP(B15,Sheet2!B:B,Sheet2!C:C)","v":"B"},{"$f":"_xlfn.XLOOKUP(B15,Sheet2!B:B,Sheet2!D:D)","v":"A"}]
["Z1EQ2002379340","14497211","APL-Z1EQ2002379340",2495,"CTO IMAC M4 10CPU 10GPU 24GB 1TB TID BLUE HEBREW","iMac M4 ","M4 chip with 10-core CPU, 10-core GPU","Blue","Gigabit","24GB","1TB","Magic Keyboard with Touch ID and Numeric Keypad - Hebrew","Magic Mouse",null,"Z1EQ2002379340",null,{"$f":"_xlfn.XLOOKUP(B16,Sheet2!B:B,Sheet2!C:C)","v":"B"},{"$f":"_xlfn.XLOOKUP(B16,Sheet2!B:B,Sheet2!D:D)","v":"A"}]
["Z1EJ000BE","14519582","APL-Z1EJ000BE",2988,"CTO IMAC M4 10CPU 10GPU 32GB 2TB TID SILVER TP","iMac M4 ","M4 chip with 10-core CPU, 10-core GPU","Silver ","Gigabit","32GB","2TB","Magic Keyboard with Touch ID - US English","Magic Trackpad",null,"Z1EJ000BE",null,{"$f":"_xlfn.XLOOKUP(B17,Sheet2!B:B,Sheet2!C:C)","v":"B"},{"$f":"_xlfn.XLOOKUP(B17,Sheet2!B:B,Sheet2!D:D)","v":"A"}]
["Z1E4000V6","14552032","APL-Z1E4000V6",1998,"CTO IMAC M4 8CPU 8GPU 16GB 1TB TID NK GREEN GIG ETH FRENCH","iMac M4 ","M4 chip with 8-core CPU, 8-core GPU","Green","Gigabit","16GB","1TB","Magic Keyboard with Touch ID and Numeric Keypad - French","Magic Mouse",null,"Z1E4000V6",null,{"$f":"_xlfn.XLOOKUP(B18,Sheet2!B:B,Sheet2!C:C)","v":"B"},{"$f":"_xlfn.XLOOKUP(B18,Sheet2!B:B,Sheet2!D:D)","v":"A"}]
["Z1E9000GB","14555554","APL-Z1E9000GB",1643,"CTO IMAC 24 VESA M4 8CPU 8GPU 16GB 512GB SILVER GIG ETH","iMac M4 VESA","M4 chip with 8-core CPU, 8-core GPU","Silver","Gigabit","16GB","512GB","Magic Keyboard - US English","Magic Mouse",null,"Z1E9000GB",null,{"$f":"_xlfn.XLOOKUP(B19,Sheet2!B:B,Sheet2!C:C)","v":"B"},{"$f":"_xlfn.XLOOKUP(B19,Sheet2!B:B,Sheet2!D:D)","v":"A"}]
["Z1EY0007K","14559169","APL-Z1EY0007K",1804,"CTO IMAC 24 VESA M4 10CPU 10GPU 16GB 512GB SILVER GIG ETH ","iMac M4 VESA","M4 chip with 10-core CPU, 10-core GPU","Silver","Gigabit","16GB","512GB","Magic Keyboard with Touch ID - US English",null,null,"Z1EY0007K",null,{"$f":"_xlfn.XLOOKUP(B20,Sheet2!B:B,Sheet2!C:C)","v":"B"},{"$f":"_xlfn.XLOOKUP(B20,Sheet2!B:B,Sheet2!D:D)","v":"A"}]
["Z1EQ000CK","14566930","APL-Z1EQ000CK",1874,"CTO IMAC M4 10CPU 10GPU 16GB 512GB TID NK BLUE TP","iMac M4 ","M4 chip with 10-core CPU, 10-core GPU","Blue","Gigabit","16GB","512GB","Magic Keyboard with Touch ID and Numeric Keypad - US English","Magic Trackpad",null,"Z1EQ000CK",null,{"$f":"_xlfn.XLOOKUP(B21,Sheet2!B:B,Sheet2!C:C)","v":"B"},{"$f":"_xlfn.XLOOKUP(B21,Sheet2!B:B,Sheet2!D:D)","v":"A"}]
["Z1CD001JJ","14673195","APL-Z1CD001JJ","6450.98","CTO MAC STUDIO M3U 28CPU 60GPU 256GB 2TB FCP LP","Mac Studio","M3 Ultra with 28-core CPU, 60-core GPU",null,null,"256GB","2TB",null,null,"Final Cut Pro & Logic Pro","Z1CD001JJ",null,{"$f":"_xlfn.XLOOKUP(B22,Sheet2!B:B,Sheet2!C:C)","v":"B"},{"$f":"_xlfn.XLOOKUP(B22,Sheet2!B:B,Sheet2!D:D)","v":"A"}]
["Z1CD001R8","14673470","APL-Z1CD001R8","7845.98","CTO MAC STUDIO M3U 32CPU 80GPU 256GB 2TB FCP LP","Mac Studio","M3 Ultra with 32-core CPU, 80-core GPU",null,null,"256GB","2TB",null,null,"Final Cut Pro & Logic Pro","Z1CD001R8",null,{"$f":"_xlfn.XLOOKUP(B23,Sheet2!B:B,Sheet2!C:C)","v":"B"},{"$f":"_xlfn.XLOOKUP(B23,Sheet2!B:B,Sheet2!D:D)","v":"A"}]
["Z1CD001HX","14731763","APL-Z1CD001HX","4390.99","CTO MAC STUDIO M3U 28CPU 60GPU 96GB 2TB FCP","Mac Studio","M3 Ultra with 28-core CPU, 60-core GPU",null,null,"96GB","2TB",null,null,"Final Cut Pro",{"$f":"TRIM(A24)","v":"Z1CD001HX"},null,{"$f":"_xlfn.XLOOKUP(B24,Sheet2!B:B,Sheet2!C:C)","v":"B"},{"$f":"_xlfn.XLOOKUP(B24,Sheet2!B:B,Sheet2!D:D)","v":"A"}]
["Z1CD001RC","14733799","APL-Z1CD001RC","10263.98","CTO MAC STUDIO M3U 32CPU 80GPU 512GB 4TB LP FCP ","Mac Studio","M3 Ultra with 32-core CPU, 80-core GPU",null,null,"512GB","4TB",null,null,"Final Cut Pro & Logic Pro","Z1CD001RC",null,{"$f":"_xlfn.XLOOKUP(B25,Sheet2!B:B,Sheet2!C:C)","v":"C"},{"$f":"_xlfn.XLOOKUP(B25,Sheet2!B:B,Sheet2!D:D)","v":"D"}]
["Z1CF000LD","14750290","APL-Z1CF000LD","1228.99","CTO MAC MINI M4 10CPU 10GPU 16GB 1TB GIG ETH FC","Mac Mini M4","M4 chip with 10-core CPU, 10-core GPU",null,"Gigabit","16GB","1TB",null,null,"Final Cut Pro","Z1CF000LD",null,{"$f":"_xlfn.XLOOKUP(B26,Sheet2!B:B,Sheet2!C:C)","v":"C"},{"$f":"_xlfn.XLOOKUP(B26,Sheet2!B:B,Sheet2!D:D)","v":"D"}]
["Z1EH000H9","14791268","APL-Z1EH000H9","1996.0","CTO IMAC M4 10CPU 10GPU 24GB 1TB TID SILVER TP","iMac M4 ","M4 chip with 10-core CPU, 10-core GPU","Silver ","Gigabit","24GB","1TB","Magic Keyboard with Touch ID - US English","Magic Trackpad",null,"Z1EH000H9",null,{"$f":"_xlfn.XLOOKUP(B27,Sheet2!B:B,Sheet2!C:C)","v":"B"},{"$f":"_xlfn.XLOOKUP(B27,Sheet2!B:B,Sheet2!D:D)","v":"A"}]
["Z1E900122","14844599","APL-Z1E900122","1650.0","CTO IMAC M4 VESA 10CPU 10GPU 16GB 1TB TID NK SILVER","iMac M4 VESA","M4 chip with 10-core CPU, 10-core GPU","Silver","Gigabit","16GB","1TB","Magic Keyboard with Touch ID and N umeric Keypad - US English","Magic Mouse",null,"Z1E900122",null,{"$f":"_xlfn.XLOOKUP(B28,Sheet2!B:B,Sheet2!C:C)","v":"B"},{"$f":"_xlfn.XLOOKUP(B28,Sheet2!B:B,Sheet2!D:D)","v":"A"}]
["Z1EJ000CP","14339826","APL-Z1EJ000CP","1836.0","CTO IMAC M4 10CPU 10GPU 16GB 1TB TID NK SILVER MT","iMac M4 ","M4 chip with 10-core CPU, 10-core GPU","Silver ","Gigabit","16GB","1TB","Magic Keyboard with Touch ID and Numeric Keypad - US English","Magic Trackpad",null,"Z1EJ000CP",null,{"$f":"_xlfn.XLOOKUP(B29,Sheet2!B:B,Sheet2!C:C)","v":"B"},{"$f":"_xlfn.XLOOKUP(B29,Sheet2!B:B,Sheet2!D:D)","v":"A"}]
["Z1EX0011P","14959281","APL-Z1EX0011P","1606.0","CTO IMAC M4 8CPU 8GPU 16GB 512GB TID NK SILVER GIG ETH VESA","iMac M4 ","M4 chip with 8-core CPU, 8-core GPU","Silver ","Gigabit","16GB","512GB","Magic Keyboard with Touch ID and Numeric Keypad - US English",null,null,"Z1EX0011P",null,{"$f":"_xlfn.XLOOKUP(B30,Sheet2!B:B,Sheet2!C:C)","v":"B"},{"$f":"_xlfn.XLOOKUP(B30,Sheet2!B:B,Sheet2!D:D)","v":"A"}]
["Z1ET000TS","14965517","APL-Z1ET000TS","1836.0","CTO IMAC M4 10CPU 10GPU 16GB 1TB TID NK PURPLE MT","iMac M4 ","M4 chip with 10-core CPU, 10-core GPU","Purple","Gigabit","16GB","1TB","Magic Keyboard with Touch ID and Numeric Keypad - US English","Magic Trackpad",null,"Z1ET000TS",null,{"$f":"_xlfn.XLOOKUP(B31,Sheet2!B:B,Sheet2!C:C)","v":"B"},{"$f":"_xlfn.XLOOKUP(B31,Sheet2!B:B,Sheet2!D:D)","v":"A"}]
["Z1EH001VZ","14973039","APL-Z1EH001VZ","1905.99","IMAC M4 10CPU 10GPU 16GB 256GB TID SILVER NANO FCP","iMac M4 ","M4 chip with 10-core CPU, 10-core GPU","Silver ","Gigabit","16GB","512GB","Magic Keyboard with Touch ID and Numeric Keypad - US English",null,"Final Cut Pro ","Z1EH001VZ",null,{"$f":"_xlfn.XLOOKUP(B32,Sheet2!B:B,Sheet2!C:C)","v":"B"},{"$f":"_xlfn.XLOOKUP(B32,Sheet2!B:B,Sheet2!D:D)","v":"A"}]
["Z1EH000PC","14974605","APL-Z1EH000PC","1810.0","CTO IMAC M4 10CPU 10GPU 24GB 512GB TID SILVER MT","iMac M4 ","M4 chip with 10-core CPU, 10-core GPU","Silver ","Gigabit","24GB","512GB","Magic Keyboard with Touch ID - US English","Magic Trackpad",null,"Z1EH000PC",null,{"$f":"_xlfn.XLOOKUP(B33,Sheet2!B:B,Sheet2!C:C)","v":"B"},{"$f":"_xlfn.XLOOKUP(B33,Sheet2!B:B,Sheet2!D:D)","v":"A"}]
["Z1EV000RX","15008550","APL-Z1EV000RX","1624.0","CTO IMAC M4 10CPU 10GPU 16GB 512GB TID ORANGE MT","iMac M4 ","M4 chip with 10-core CPU, 10-core GPU","Orange","Gigabit","16GB","512GB","Magic Keyboard with Touch ID - US English","Magic Trackpad",null,"Z1EV000RX",null,{"$f":"_xlfn.XLOOKUP(B34,Sheet2!B:B,Sheet2!C:C)","v":"B"},{"$f":"_xlfn.XLOOKUP(B34,Sheet2!B:B,Sheet2!D:D)","v":"A"}]
["Z1E2000K3","15175319","APL-Z1KH000VQ","1280.0","CTO IMAC M4 8CPU 8GPU 16GB 256GB TID NK SILVER GIG ETH MT","iMac M4 ","M4 chip with 8-core CPU, 8-core GPU","Silver ","Gigabit","16GB","256GB","Magic Keyboard with Touch ID - US English","Magic Trackpad",null,{"$f":"TRIM(A35)","v":"Z1E2000K3"},null,{"$f":"_xlfn.XLOOKUP(B35,Sheet2!B:B,Sheet2!C:C)","v":"B"},{"$f":"_xlfn.XLOOKUP(B35,Sheet2!B:B,Sheet2!D:D)","v":"A"}]
["Z1EJ000FL","15219194","APL-Z1EJ000FL","2510.0","CTO IMAC M4 10CPU 10 GPU 32GB 2TB SILVER ARABIC","iMac M4 ",null,null,null,null,null,null,null,null,{"$f":"TRIM(A36)","v":"Z1EJ000FL"},null,{"$f":"_xlfn.XLOOKUP(B36,Sheet2!B:B,Sheet2!C:C)","v":"B"},{"$f":"_xlfn.XLOOKUP(B36,Sheet2!B:B,Sheet2!D:D)","v":"A"}]
["Z1CD0015J","15223232","APLZ1CD0015J","2544.98","CTO MAC STUDIO M4M 14CPU 32GPU 36GB 1TB FCP & LP","Mac Studio","M4 Max with 14-core CPU, 32-core GPU",null,null,"36GB","1TB",null,null,null,"Z1CD0015J",null,{"$f":"_xlfn.XLOOKUP(B37,Sheet2!B:B,Sheet2!C:C)","v":"B"},{"$f":"_xlfn.XLOOKUP(B37,Sheet2!B:B,Sheet2!D:D)","v":"A"}]
["Z1CD0018E","15252267",null,"3367.99","CTO MAC STUDIO M4M 16CPU 40GPU 64GB 2TB FCP","Mac Studio","M4 Max with 16-core CPU, 40-core GPU",null,null,"64GB","2TB",null,null,"Final Cut Pro",{"$f":"TRIM(A38)","v":"Z1CD0018E"},null,{"$f":"_xlfn.XLOOKUP(B38,Sheet2!B:B,Sheet2!C:C)","v":"B"},{"$f":"_xlfn.XLOOKUP(B38,Sheet2!B:B,Sheet2!D:D)","v":"A"}]
["Z1CD0018V","15255639",null,"3267.99","CTO MAC STUDIO M4M 16CPU 40GPU 64GB 2TB Logic Pro","Mac Studio","M4 Max with 16-core CPU, 40-core GPU",null,null,"64GB","2TB",null,null,"Logic Pro License ","Z1CD0018V",null,{"$f":"_xlfn.XLOOKUP(B39,Sheet2!B:B,Sheet2!C:C)","v":"B"},{"$f":"_xlfn.XLOOKUP(B39,Sheet2!B:B,Sheet2!D:D)","v":"A"}]
["Z1EP000LT","15322178","APL-Z1EP000LT","2368.0","CTO IMAC M4 10CPU 10GPU 24GB 2TB TID BLUE MT","iMac M4 ","M4 chip with 10-core CPU, 10-core GPU","Blue","Gigabit","24GB","2TB","Magic Keyboard with Touch ID - US English","Magic Trackpad",null,"Z1EP000LT",null,{"$f":"_xlfn.XLOOKUP(B40,Sheet2!B:B,Sheet2!C:C)","v":"B"},{"$f":"_xlfn.XLOOKUP(B40,Sheet2!B:B,Sheet2!D:D)","v":"A"}]
["Z1K10006J","15330557","APL-Z1K10006J","1952.0","CTO IMAC M4 10CPU 10GPU 24GB 512GB TID SILVER NANO","iMac M4 ","M4 chip with 10 core CPU, 10 core GPU","Silver","Gigabit","24GB","512GB","Magic Keyboard with Touch ID - US English",null,null,"Z1K10006J",null,{"$f":"_xlfn.XLOOKUP(B41,Sheet2!B:B,Sheet2!C:C)","v":"B"},{"$f":"_xlfn.XLOOKUP(B41,Sheet2!B:B,Sheet2!D:D)","v":"A"}]
["Z1EH000GG","15341107",null,"1580.0","CTO IMAC M4 10CPU 10GPU 24GB 256GB TID SILVER SPLA","iMac M4 ","M4 chip with 10 core CPU, 10 core GPU","Silver","Gigabit","24GB","256GB","Magic Keyboard with Touch ID - Spanish (Latin America)",null,null,"Z1EH000GG",null,{"$f":"_xlfn.XLOOKUP(B42,Sheet2!B:B,Sheet2!C:C)","v":"B"},{"$f":"_xlfn.XLOOKUP(B42,Sheet2!B:B,Sheet2!D:D)","v":"A"}]
["Z1N2000UN","15356729","APL-Z1N2000UN","4576.99","CTO MBP 16 M5 MAX 18CPU 40GPU 64GB 2TB SB FCP","MBP 16 M5 Max","M5 Max with 18 core CPU, 40 core GPU","Space Black",null,"64GB","2TB","Magic Keyboard with Touch ID - US English",null,"Final Cut Pro","Z1N2000UN",null,{"$f":"_xlfn.XLOOKUP(B43,Sheet2!B:B,Sheet2!C:C)","v":"B"},{"$f":"_xlfn.XLOOKUP(B43,Sheet2!B:B,Sheet2!D:D)","v":"A"}]
["Z1L82002455152","15356738","APL-Z1L82002455152","1413.0","CTO MBA 13 M5 10CPU 10GPU 24GB 1TB MIDNIGHT 70W GERMAN","MBA 13 M5","M5 chip with 10 core CPU, 10 core GPU","Midnight",null,"24GB","1TB","Backlit Magic Keyboard with Touch ID - German",null,null,"Z1L82002455152",null,{"$f":"_xlfn.XLOOKUP(B44,Sheet2!B:B,Sheet2!C:C)","v":"B"},{"$f":"_xlfn.XLOOKUP(B44,Sheet2!B:B,Sheet2!D:D)","v":"A"}]
["Z1K5001PR","15356734","APL-Z1K5001PR","2823.98","CTO IMAC M4 10CPU 10GPU 24GB 2TB TID BLUE FCP + LP","iMac M4 ","M4 chip with 10 core CPU, 10 core GPU","Blue","Gigabit","24GB","2TB","Magic Keyboard with Touch ID - US English",null,"Final Cut Pro & Logic Pro","Z1K5001PR",null,{"$f":"_xlfn.XLOOKUP(B45,Sheet2!B:B,Sheet2!C:C)","v":"B"},{"$f":"_xlfn.XLOOKUP(B45,Sheet2!B:B,Sheet2!D:D)","v":"A"}]
["Z1MZ00020","15367322","APL-Z1MZ00020","2510.0","CTO MBP 16 M5 PRO SB 18C 20C GPU 24GB 1T SPACE BLACK SPLA","MBP 16 M5 Pro","M5 chip with 18 core CPU, 20 core GPU","Space Black",null,"24GB","1TB","Magic Keyboard with Touch ID - Spanish (Latin America)",null,null,null,null,{"$f":"_xlfn.XLOOKUP(B46,Sheet2!B:B,Sheet2!C:C)","v":"B"},{"$f":"_xlfn.XLOOKUP(B46,Sheet2!B:B,Sheet2!D:D)","v":"A"}]
["Z1L6000RU","15368079","APL-Z1L6000RU","1580.0","CTO MBA 13 M5 10 CPU 10 GPU 32GB 1TB MDNT","MBA 13 M5","M5 chip with 10 core CPU, 10 core GPU","Midnight",null,"32GB","1TB","Magic Keyboard with Touch ID - US English",null,null,null,null,{"$f":"_xlfn.XLOOKUP(B47,Sheet2!B:B,Sheet2!C:C)","v":"C"},{"$f":"_xlfn.XLOOKUP(B47,Sheet2!B:B,Sheet2!D:D)","v":"D"}]
["Z1LW000RM","15368080","APL-Z1LW000RM","1766.0","CTO MBA 15 M5 10 CPU 10 GPU 32GB 1TB MDNT","MBA 15 M5","M5 chip with 10 core CPU, 10 core GPU","Midnight",null,"32GB","1TB","Magic Keyboard with Touch ID - US English",null,null,null,null,{"$f":"_xlfn.XLOOKUP(B48,Sheet2!B:B,Sheet2!C:C)","v":"C"},{"$f":"_xlfn.XLOOKUP(B48,Sheet2!B:B,Sheet2!D:D)","v":"D"}]
["Z1ML0001R","15358669","APL-Z1ML0001R","2517.0","CTO MBP 14 M5 PRO 15 CPU 16 GPU 24GB 1TB NT","MBP 14 M5 Pro","M5 chip with 15 core CPU, 16 core GPU","Space Black",null,"24GB","1TB","Magic Keyboard with Touch ID - US English",null,null,null,null,{"$f":"_xlfn.XLOOKUP(B49,Sheet2!B:B,Sheet2!C:C)","v":"B"},{"$f":"_xlfn.XLOOKUP(B49,Sheet2!B:B,Sheet2!D:D)","v":"A"}]
["Z1MZ001AJ","15358724","APL-Z1MZ001AJ","3562.0","CTO MBP 16 M5 PRO 18 CPU 20 GPU 48GB 1TB NT SBLK","MBP 16 M5 Pro","M5 chip with 18 core CPU, 20 core GPU","Space Black",null,"48GB","1TB","Magic Keyboard with Touch ID - US English",null,null,null,null,{"$f":"_xlfn.XLOOKUP(B50,Sheet2!B:B,Sheet2!C:C)","v":"B"},{"$f":"_xlfn.XLOOKUP(B50,Sheet2!B:B,Sheet2!D:D)","v":"A"}]
["Z1N100017","15368081","APL-Z1N100017","3766.0","CTO MBP 16 M5 MAX 18 CPU 32GPU 36GB 2TB NT SBLK","MBP 16 M5 Max","M5 chip with 18 core CPU, 32 core GPU","Space Black",null,"36GB","2TB","Magic Keyboard with Touch ID - US English",null,null,null,null,{"$f":"_xlfn.XLOOKUP(B51,Sheet2!B:B,Sheet2!C:C)","v":"C"},{"$f":"_xlfn.XLOOKUP(B51,Sheet2!B:B,Sheet2!D:D)","v":"D"}]
["Z1L6000X7","15369435","APL-Z1L6000X7","1115.0","CTO MBA 13 M5 10CPU 10GPU 16GB 512GB MIDNIGHT 40W SPLA","MBA 13 M5","M5 chip with 10-core CPU, 10-core GPU","Midnight",null,"16GB","512Gb","Magic Keyboard with Touch ID - Spanish (Latin America)",null,null,null,null,{"$f":"_xlfn.XLOOKUP(B52,Sheet2!B:B,Sheet2!C:C)","v":"B"},{"$f":"_xlfn.XLOOKUP(B52,Sheet2!B:B,Sheet2!D:D)","v":"A"}]
["Z1L0000YR","15369436","APL-Z1L0000YR","1115.0","CTO MBA 13 M5 10CPU 10GPU 16GB 512GB SILVER 40W SPLA","MBA 13 M5","M5 chip with 10 core CPU, 10 core GPU","Midnight",null,"16GB","512GB","Magic Keyboard with Touch ID - Spanish (Latin America)",null,null,null,null,{"$f":"_xlfn.XLOOKUP(B53,Sheet2!B:B,Sheet2!C:C)","v":"B"},{"$f":"_xlfn.XLOOKUP(B53,Sheet2!B:B,Sheet2!D:D)","v":"A"}]
["Z1L60013Y","15370893","APL-Z1L60013Y","1208.0","CTO MBA 13 M5 10CPU 10GPU 24GB 512GB MIDNIGHT 40W SPLA","MBA 13 M5","M5 chip with 10 core CPU, 10 core GPU","Midnight",null,"24GB","512GB ","Magic Keyboard with Touch ID - Spanish (Latin America)",null,null,null,null,{"$f":"_xlfn.XLOOKUP(B54,Sheet2!B:B,Sheet2!C:C)","v":"B"},{"$f":"_xlfn.XLOOKUP(B54,Sheet2!B:B,Sheet2!D:D)","v":"A"}]
["Z1LW000TD","15370894","APL-Z1LW000TD","1394.0","CTO MBA 15 M5 10CPU 10GPU 24GB 512GB MIDNIGHT 40W SPLA","MBA 15 M5","M5 chip with 10 core CPU, 10 core GPU","Midnight",null,"24GB","512Gb","Magic Keyboard with Touch ID - Spanish (Latin America)",null,null,null,null,{"$f":"_xlfn.XLOOKUP(B55,Sheet2!B:B,Sheet2!C:C)","v":"B"},{"$f":"_xlfn.XLOOKUP(B55,Sheet2!B:B,Sheet2!D:D)","v":"A"}]
["Z1KM2112450135","15369441","APL-Z1KM2112450135","1952.0","CTO MBP 14 M5 SL 10C 10C GPU 32GB 1TB Hebrew","MBP 14 M5 ","M5 chip with 10 core CPU, 10 core GPU","Silver",null,"32GB","1TB","Magic Keyboard with Touch ID - Hebrew",null,null,null,null,{"$f":"_xlfn.XLOOKUP(B56,Sheet2!B:B,Sheet2!C:C)","v":"B"},{"$f":"_xlfn.XLOOKUP(B56,Sheet2!B:B,Sheet2!D:D)","v":"A"}]
["Z1ML002JR","15403625","APL-Z1ML002JR","2363.99","CTO MBP 14 M5 PRO 15 CPU 16 GPU 24GB 1TB SPACE BLACK 96W FCP","MBP 14 M5 Pro","M5 chip with 15 core CPU, 16 core GPU","Space Black",null,"24GB","1TB","Magic Keyboard with Touch ID - US English",null,"Final Cut Pro",null,null,{"$f":"_xlfn.XLOOKUP(B57,Sheet2!B:B,Sheet2!C:C)","v":"B"},{"$f":"_xlfn.XLOOKUP(B57,Sheet2!B:B,Sheet2!D:D)","v":"A"}]
["Z1ML2002465186","15404005","APL-Z1ML2002465186","3293.99","CTO MBP 14 M5 PRO 15 CPU 16 GPU 24GB 4TB SPACE BLACK 96W FCP","MBP 14 M5 Pro","M5 chip with 15 core CPU, 16 core GPU","Space Black",null,"24GB","4TB","Magic Keyboard with Touch ID - US English",null,"Final Cut Pro",null,null,{"$f":"_xlfn.XLOOKUP(B58,Sheet2!B:B,Sheet2!C:C)","v":"B"},{"$f":"_xlfn.XLOOKUP(B58,Sheet2!B:B,Sheet2!D:D)","v":"A"}]
["Z1LW000S2","15401517","APL-Z1LW000S2","1208.0","CTO MBA 15 M5 10 CPU 10 GPU 16GB 512GB MIDNIGHT 40W ITALIAN","MBA 15 M5","M5 chip with 10 core CPU, 10 core GPU","Midnight",null,null,null,null,null,null,null,null,{"$f":"_xlfn.XLOOKUP(B59,Sheet2!B:B,Sheet2!C:C)","v":"B"},{"$f":"_xlfn.XLOOKUP(B59,Sheet2!B:B,Sheet2!D:D)","v":"A"}]
["Z1ML0002K","15405718",null,"2045.0","CTO MBP 14 M5 PRO 15 CPU 16 GPU 24GB 1TB SPACE BLACK 70W Portuguese","MBP 14 M5 Pro","M5 Pro chip with 15 core CPU, 16 core GPU","Space Black",null,"24GB","1TB","Magic Keyboard with Touch ID - Portuguese",null,null,null,null,{"$f":"_xlfn.XLOOKUP(B60,Sheet2!B:B,Sheet2!C:C)","v":"B"},{"$f":"_xlfn.XLOOKUP(B60,Sheet2!B:B,Sheet2!D:D)","v":"A"}]
["Z1N20001S","15405719",null,"4091.0","CTO MBP 16 M5 MAX 18 CPU 40 GPU 48GB 2TB SPACE BLACK 140W Portuguese","MBP 16 M5 Max","M5 Max with 18 core CPU, 40 core GPU","Space Black",null,"48GB","2TB","Magic Keyboard with Touch ID - Portuguese",null,null,null,null,{"$f":"_xlfn.XLOOKUP(B61,Sheet2!B:B,Sheet2!C:C)","v":"B"},{"$f":"_xlfn.XLOOKUP(B61,Sheet2!B:B,Sheet2!D:D)","v":"A"}]
["Z1MZ00034","15405720",null,"2510.0","CTO MBP 16 M5 PRO 18 CPU 20 GPU 24GB 1TB SPACE BLACK 140W Portuguese","MBP 16 M5 Pro","M5 chip with 18 core CPU, 20 core GPU","Space Black",null,"24GB","1TB","Magic Keyboard with Touch ID - Portuguese",null,null,null,null,{"$f":"_xlfn.XLOOKUP(B62,Sheet2!B:B,Sheet2!C:C)","v":"B"},{"$f":"_xlfn.XLOOKUP(B62,Sheet2!B:B,Sheet2!D:D)","v":"A"}]
["Z1N200016","15367325","APL-Z1N200016","4091.0","CTO MBP 16 M5 MAX 18 CPU 40 GPU 48GB 2TB SPACE BLACK 140W SPLA","MBP 16 M5 Max","M5 Max with 18 core CPU, 40 core GPU","Space Black",null,"48GB","2TB","Magic Keyboard with Touch ID - Spanish (Latin America)",null,null,null,null,{"$f":"_xlfn.XLOOKUP(B63,Sheet2!B:B,Sheet2!C:C)","v":"B"},{"$f":"_xlfn.XLOOKUP(B63,Sheet2!B:B,Sheet2!D:D)","v":"A"}]
["Z1L00012Q","15368263",null,"1208.0","CTO MBA 13 M5 10 CPU 10 GPU 24GB 512GB SILVER 40W German","MBA 13 M5","M5 chip with 10 core CPU, 10 core GPU","Silver",null,"24GB","512GB","Magic Keyboard with Touch ID - German",null,null,null,null,{"$f":"_xlfn.XLOOKUP(B64,Sheet2!B:B,Sheet2!C:C)","v":"B"},{"$f":"_xlfn.XLOOKUP(B64,Sheet2!B:B,Sheet2!D:D)","v":"A"}]
["Z1L9000XX","15408452",null,"1208.0","CTO MBA 13 M5 10 CPU 10 GPU 24GB 512GB SKY BLUE 40W SPLA","MBA 13 M5","M5 chip with 10 core CPU, 10 core GPU","Sky Blue",null,"24Gb","512GB","Magic Keyboard with Touch ID - Spanish (Latin America)",null,null,null,null,{"$f":"_xlfn.XLOOKUP(B65,Sheet2!B:B,Sheet2!C:C)","v":"B"},{"$f":"_xlfn.XLOOKUP(B65,Sheet2!B:B,Sheet2!D:D)","v":"A"}]
["Z1MZ2112470689","15410519",null,"3321.99","CTO MBP 16 M5 PRO 18 CPU 20 GPU 48GB 1TB SPACE BLACK NANO 140W FCP","MBP 16 M5 Pro","M5 chip with 18 core CPU, 20 core GPU","Space Black",null,"48GB","1TB","Magic Keyboard with Touch ID - US English",null,null,null,null,{"$f":"_xlfn.XLOOKUP(B66,Sheet2!B:B,Sheet2!C:C)","v":"B"},{"$f":"_xlfn.XLOOKUP(B66,Sheet2!B:B,Sheet2!D:D)","v":"A"}]
["Z1N00001U","15366588",null,"2882.0","CTO MBP 16 M5 PRO 18 CPU 20 GPU 48GB 1TB SPACE BLACK 140W SPLA","MBP 16 M5 Pro","M5 chip with 18 core CPU, 20 core GPU","Space Black",null,"48GB","1TB","Magic Keyboard with Touch ID - Spanish (Latin America)",null,null,null,null,{"$f":"_xlfn.XLOOKUP(B67,Sheet2!B:B,Sheet2!C:C)","v":"B"},{"$f":"_xlfn.XLOOKUP(B67,Sheet2!B:B,Sheet2!D:D)","v":"A"}]
["Z1KK0008N","15398015","APL-Z1KK0008N","1766.0","CTO MBP 14 M5 10CPU 10GPU 24GB 1TB SPACE BLACK 70W FRENCH","MBP 14 M5 ","M5 chip with 10 core CPU, 10 core GPU","Space Black",null,"24GB","1TB","Magic Keyboard with Touch ID - French",null,null,null,null,{"$f":"_xlfn.XLOOKUP(B68,Sheet2!B:B,Sheet2!C:C)","v":"B"},{"$f":"_xlfn.XLOOKUP(B68,Sheet2!B:B,Sheet2!D:D)","v":"A"}]
["Z1ML0001Y","15373859","APL-Z1ML0001Y","2045.0","CTO MBP 14 M5 PRO 15 CPU 16 GPU 24GB 1TB SPACE BLACK 70W SPANISH LA","MBP 14 M5 Pro","M5 Pro chip with 15 core CPU, 16 core GPU","Space Black",null,"24GB","1TB","Magic Keyboard with Touch ID - Spanish (Latin America)",null,null,null,null,{"$f":"_xlfn.XLOOKUP(B69,Sheet2!B:B,Sheet2!C:C)","v":"B"},{"$f":"_xlfn.XLOOKUP(B69,Sheet2!B:B,Sheet2!D:D)","v":"A"}]
["Z1TT0003P","15415500",null,"685.0","CTO MBN 13 IND 8GB 512GB-SPLA","MBN 13 ","A18 Pro","Indigo",null,"8GB","512Gb","Magic Keyboard with Touch ID - Spanish (Latin America)",null,null,null,null,{"$f":"_xlfn.XLOOKUP(B70,Sheet2!B:B,Sheet2!C:C)","v":"B"},{"$f":"_xlfn.XLOOKUP(B70,Sheet2!B:B,Sheet2!D:D)","v":"A"}]
["Z1CD0018M","15415514","APL-Z1CD0018M","5785.99","CTO MAC STUDIO M4M 16CPU 40GPU 128GB 8TB SILVER FCP","Mac Studio M4M","M4 Max with 16-core CPU, 40-core GPU","Silver",null,"128GB","8TB",null,null,"Final Cut Pro",null,null,{"$f":"_xlfn.XLOOKUP(B71,Sheet2!B:B,Sheet2!C:C)","v":"B"},{"$f":"_xlfn.XLOOKUP(B71,Sheet2!B:B,Sheet2!D:D)","v":"A"}]
["Z1L7000NH","15417681","APL-Z1L7000NH","1208.0","CTO MBA 13 M5 10 CPU 10 GPU 16GB 1TB MIDNIGHT 40W SPLA","MBA 13 M5","M5 chip with 10 core CPU, 10 core GPU","Midnight",null,"16GB","1TB","Magic Keyboard with Touch ID - Spanish (Latin America)",null,null,null,null,{"$f":"_xlfn.XLOOKUP(B72,Sheet2!B:B,Sheet2!C:C)","v":"B"},{"$f":"_xlfn.XLOOKUP(B72,Sheet2!B:B,Sheet2!D:D)","v":"A"}]
["Z1N12002468273","15417842","APL-Z1N12002468273","7134.99","CTO MBP 16 M5 MAX 18 CPU 40 GPU 128GB 8TB SPACE BLACK NANO 140W FCP","MBP 16 M5 Max","M5 Max with 18 core CPU, 40 core GPU","Space Black",null,"128GB","8TB","Magic Keyboard with Touch ID - US English",null,"Final Cut Pro",null,null,{"$f":"_xlfn.XLOOKUP(B73,Sheet2!B:B,Sheet2!C:C)","v":"B"},{"$f":"_xlfn.XLOOKUP(B73,Sheet2!B:B,Sheet2!D:D)","v":"A"}]
["Z1MZ2002469039","15419114","APL-Z1MZ2002469039","3022.0","CTO MBP 16 M5 PRO 18 CPU 20 GPU 48GB 1TB SPACE BLACK NANO 140W JAPANESE","MBP 16 M5 Pro","M5 chip with 18 core CPU, 20 core GPU","Space Black",null,"48GB","1TB","Magic Keyboard with Touch ID - Japanese",null,null,null,null,{"$f":"_xlfn.XLOOKUP(B74,Sheet2!B:B,Sheet2!C:C)","v":"B"},{"$f":"_xlfn.XLOOKUP(B74,Sheet2!B:B,Sheet2!D:D)","v":"A"}]
["Z1MV2002469040","15419666","APL-Z1MV2002469040","3022.0","CTO MBP 16 M5 PRO 18 CPU 20 GPU 48GB 1TB SILVER NANO 140W HEBREW","MBP 16 M5 Pro","M5 chip with 18 core CPU, 20 core GPU","Silver",null,"48GB","1TB","Magic Keyboard with Touch ID - Hebrew",null,null,null,null,{"$f":"_xlfn.XLOOKUP(B75,Sheet2!B:B,Sheet2!C:C)","v":"B"},{"$f":"_xlfn.XLOOKUP(B75,Sheet2!B:B,Sheet2!D:D)","v":"A"}]
["Z1MZ2002468751","15420295","APL-Z1MZ2002468751","2882.0","CTO MBP 16 M5 PRO 18 CPU 20 GPU 48GB 1TB SPACE BLACK 140W JAPANESE","MBP 16 M5 Pro","M5 chip with 18 core CPU, 20 core GPU","Space Black",null,"48GB","1TB","Magic Keyboard with Touch ID - Japanese",null,null,null,null,{"$f":"_xlfn.XLOOKUP(B76,Sheet2!B:B,Sheet2!C:C)","v":"B"},{"$f":"_xlfn.XLOOKUP(B76,Sheet2!B:B,Sheet2!D:D)","v":"A"}]
["Z1N200177","15420584","APL-Z1N200177","5134.99","CTO MBP 16 M5 MAX 18 CPU 40 GPU 64GB 4TB SPACE BLACK 140W FCP","MBP 16 M5 Max","M5 Max with 18 core CPU, 40 core GPU","Space Black",null,"64GB","4TB","Magic Keyboard with Touch ID - US English",null,"Final Cut Pro",null,null,{"$f":"_xlfn.XLOOKUP(B77,Sheet2!B:B,Sheet2!C:C)","v":"B"},{"$f":"_xlfn.XLOOKUP(B77,Sheet2!B:B,Sheet2!D:D)","v":"A"}]
["Z1LY000K6","15428761",null,"1580.0","CTO MBA 15.3 M5 MDN 10C GPU 24GB 1TB-British","MBA 15 M5","M5 chip with 10 core CPU, 10 core GPU","Midnight",null,"24GB`","1TB","Magic Keyboard with Touch ID - British",null,null,null,null,{"$f":"_xlfn.XLOOKUP(B78,Sheet2!B:B,Sheet2!C:C)","v":"B"},{"$f":"_xlfn.XLOOKUP(B78,Sheet2!B:B,Sheet2!D:D)","v":"A"}]
["Z1LW000Z7","15428762",null,"1394.0","CTO MBA 15 M5 10 CPU 10 GPU 24GB 512GB MIDNIGHT 40W - British","MBA 15 M5","M5 chip with 10 core CPU, 10 core GPU","Midnight",null,"24Gb","512Gb","Magic Keyboard with Touch ID - British",null,null,null,null,{"$f":"_xlfn.XLOOKUP(B79,Sheet2!B:B,Sheet2!C:C)","v":"B"},{"$f":"_xlfn.XLOOKUP(B79,Sheet2!B:B,Sheet2!D:D)","v":"A"}]
["Z1N2000VE","15431349","APL-Z1N2000VE","7194.98","CTO MBP 16 M5 MAX 18 CPU 40 GPU 128GB 8TB SPACE BLACK 140W FCP + LP","MBP 16 M5 Max","M5 Max with 18 core CPU, 40 core GPU","Space Black",null,"128GB","8TB","Magic Keyboard with Touch ID - US English",null,"Final Cut Pro / Logic Pro",null,null,{"$f":"_xlfn.XLOOKUP(B80,Sheet2!B:B,Sheet2!C:C)","v":"B"},{"$f":"_xlfn.XLOOKUP(B80,Sheet2!B:B,Sheet2!D:D)","v":"A"}]
["Z1MV2002470466","15433743","APL-Z1MV2002470466","3440.0","CTO MBP 16 M5 PRO 18 CPU 20 GPU 64GB 2TB SILVER 140W JAPANESE","MBP 16 M5 Pro","M5 chip with 18 core CPU, 20 core GPU","Silver",null,"64GB","2TB","Magic Keyboard with Touch ID - Japanese",null,null,null,null,{"$f":"_xlfn.XLOOKUP(B81,Sheet2!B:B,Sheet2!C:C)","v":"A"},{"$f":"_xlfn.XLOOKUP(B81,Sheet2!B:B,Sheet2!D:D)","v":"A"}]
["Z1MM00010","15494533","APL-Z1MM00010","2603.0","CTO MBP 14 M5 PRO SB 18C 20C GPU 24GB 2T-SPLA","MBP 14 M5 Pro","M5 Pro Chip with 18 core CPU, 20 Core GPU","Space Black",null,"24GB","2TB","Magic Keyboard with Touch ID - Spanish (Latin America)",null,null,null,null,{"$f":"_xlfn.XLOOKUP(B82,Sheet2!B:B,Sheet2!C:C)","v":"B"},{"$f":"_xlfn.XLOOKUP(B82,Sheet2!B:B,Sheet2!D:D)","v":"A"}]
["Z1MJ0001Q","15494534","APL-Z1MJ0001Q","2603.0","CTO MBP 14 M5 PRO SL 18C 20C GPU 24GB 2T-SPLA","MBP 14 M5 Pro","M5 Pro Chip with 18 core CPU, 20 Core GPU","Silver",null,"24GB","2TB","Magic Keyboard with Touch ID - Spanish (Latin America)",null,null,null,null,{"$f":"_xlfn.XLOOKUP(B83,Sheet2!B:B,Sheet2!C:C)","v":"B"},{"$f":"_xlfn.XLOOKUP(B83,Sheet2!B:B,Sheet2!D:D)","v":"A"}]
["Z1MH00011","15500026","APL-Z1MH00011","2045.0","CTO MBP 14 M5 PRO 15 CPU 16 GPU 48GB 1TB SILVER 70W- German","MBP 14 M5 Pro","M5 Pro chip with 15 core CPU, 16 core GPU","Silver",null,"48GB","1TB","Magic Keyboard with Touch ID - German",null,null,null,null,{"$f":"_xlfn.XLOOKUP(B84,Sheet2!B:B,Sheet2!C:C)","v":"B"},{"$f":"_xlfn.XLOOKUP(B84,Sheet2!B:B,Sheet2!D:D)","v":"A"}]
["Z1L0000S7","15503240","APL-Z1L0000S7","1022.0","CTO MBA 13 M5 10 CPU 10 GPU 24GB 512GB SILVER 40W- Danish","MBA 13 M5","M5 chip with 10 core CPU, 10 core GPU","Silver",null,"24GB","512GB","Magic Keyboard with Touch ID - Danish",null,null,null,null,{"$f":"_xlfn.XLOOKUP(B85,Sheet2!B:B,Sheet2!C:C)","v":"B"},{"$f":"_xlfn.XLOOKUP(B85,Sheet2!B:B,Sheet2!D:D)","v":"A"}]
["Z1LQ000RW","15503241","APL-Z1LQ000RW","1394.0","CTO MBA 15 M5 10 CPU 10 GPU 24GB 512GB SILVER 40W- Danish","MBA 15 M5","M5 chip with 10-core CPU, 10-core GPU","Silver",null,"24GB","512GB","Magic Keyboard with Touch ID - Danish",null,null,null,null,{"$f":"_xlfn.XLOOKUP(B86,Sheet2!B:B,Sheet2!C:C)","v":"B"},{"$f":"_xlfn.XLOOKUP(B86,Sheet2!B:B,Sheet2!D:D)","v":"A"}]
["Z1MH003PH","15503242","APL-Z1MH003PH","2603.0","CTO MBP 14 M5 PRO 18 CPU 20 GPU 48GB 1TB SILVER 96W- Danish","MBP 14 M5 Pro","M5 Pro Chip with 18 core CPU, 20 Core GPU","Silver",null,"48Gb","1TB","Magic Keyboard with Touch ID - Danish",null,null,null,null,{"$f":"_xlfn.XLOOKUP(B87,Sheet2!B:B,Sheet2!C:C)","v":"B"},{"$f":"_xlfn.XLOOKUP(B87,Sheet2!B:B,Sheet2!D:D)","v":"A"}]
["Z1MW0002Q","15503243","APL-Z1MW0002Q","2882.0","CTO MBP 16 M5 PRO 18 CPU 20 GPU 48GB 1TB SILVER 140W- Danish","MBP 16 M5 Pro","M5 Pro Chip with 18 core CPU, 20 Core GPU","Silver",null,"48Gb","1TB","Magic Keyboard with Touch ID - Danish",null,null,null,null,{"$f":"_xlfn.XLOOKUP(B88,Sheet2!B:B,Sheet2!C:C)","v":"B"},{"$f":"_xlfn.XLOOKUP(B88,Sheet2!B:B,Sheet2!D:D)","v":"A"}]
["Z1MN00016","15504164","APL-Z1MN00016","3347.0","CTO MBP 14 M5 MAX 18 CPU 32 GPU 36GB 2TB SPACE BLACK 96W-French","MBP 14 M5 Max","M5 Max with 18 core CPU, 32 core GPU","Space Black",null,"36Gb","2TB","Magic Keyboard with Touch ID - French",null,null,null,null,{"$f":"_xlfn.XLOOKUP(B89,Sheet2!B:B,Sheet2!C:C)","v":"B"},{"$f":"_xlfn.XLOOKUP(B89,Sheet2!B:B,Sheet2!D:D)","v":"A"}]
["Z1LQ2002471839","15504165","APL-Z1LQ2002471839","1766.0","CTO MBA 15 M5 10 CPU 10 GPU 32GB 1TB SILVER 40W-French","MBA 15 M5","M5 chip with 10 core CPU, 10 core GPU","Silver",null,"32GB","1TB","Magic Keyboard with Touch ID - French",null,null,null,null,{"$f":"_xlfn.XLOOKUP(B90,Sheet2!B:B,Sheet2!C:C)","v":"B"},{"$f":"_xlfn.XLOOKUP(B90,Sheet2!B:B,Sheet2!D:D)","v":"A"}]
["Z1KM000A7","15504584","APL-Z1KM000A7","1580.0","CTO MBP 14 M5 10CPU 10GPU 16GB 1TB  SILVER  70W SPLA","MBP 14 M5 ","M5 chip with 10 core CPU, 10 core GPU","Silver",null,"16GB","1TB","Magic Keyboard with Touch ID - Spanish (Latin America)",null,null,null,null,{"$f":"_xlfn.XLOOKUP(B91,Sheet2!B:B,Sheet2!C:C)","v":"B"},{"$f":"_xlfn.XLOOKUP(B91,Sheet2!B:B,Sheet2!D:D)","v":"A"}]
["Z1KJ000A7","15504585","APL-Z1KJ000A7","1580.0","CTO MBP 14 M5 10CPU 10GPU 16GB 1TB  SPACE BLACK  70W SPLA","MBP 14 M5 ","M5 chip with 10 core CPU, 10 core GPU","Space Black",null,"16GB","1TB","Magic Keyboard with Touch ID - Spanish (Latin America)",null,null,null,null,{"$f":"_xlfn.XLOOKUP(B92,Sheet2!B:B,Sheet2!C:C)","v":"B"},{"$f":"_xlfn.XLOOKUP(B92,Sheet2!B:B,Sheet2!D:D)","v":"A"}]
["Z1L8000KE","15504588","APL-Z1L8000KE","1394.0","CTO MBA 13 M5 MDN 10C GPU 24GB 1TB-French","MBA 13 M5","M5 chip with 10 core CPU, 10 core GPU","Midnight",null,"24GB","1TB","Magic Keyboard with Touch ID - French",null,null,null,null,{"$f":"_xlfn.XLOOKUP(B93,Sheet2!B:B,Sheet2!C:C)","v":"B"},{"$f":"_xlfn.XLOOKUP(B93,Sheet2!B:B,Sheet2!D:D)","v":"A"}]
["Z1CE000SN","15513544","APL-Z1CE000SN","8124.98","CTO MAC STUDIO M3U 28CPU 60GPU 256GB 8TB FCP + LP\n","Mac Studio M3U","M3 Ultra with 28-core CPU, 60-core GPU","Silver",null,"256GB","8TB",null,null,"Final Cut Pro / Logic Pro",null,null,{"$f":"_xlfn.XLOOKUP(B94,Sheet2!B:B,Sheet2!C:C)","v":"B"},{"$f":"_xlfn.XLOOKUP(B94,Sheet2!B:B,Sheet2!D:D)","v":"A"}]
["Z1MV0002C","15367323","APL-Z1MV0002C","2510.0","CTO MBP 16 M5 PRO SL 18C 20C GPU 24GB 1TB SPANISH LA\n","MBP 16 M5 Pro","M5 Pro Chip with 18 core CPU, 20 Core GPU","Silver",null,"24GB","1TB","Magic Keyboard with Touch ID - Spanish (Latin America)",null,null,null,null,{"$f":"_xlfn.XLOOKUP(B95,Sheet2!B:B,Sheet2!C:C)","v":"B"},{"$f":"_xlfn.XLOOKUP(B95,Sheet2!B:B,Sheet2!D:D)","v":"A"}]
["Z1L0000SA","15515015","APL-Z1L0000SA","1022.0","CTO MBA 13.6 M5 8C GPU 16GB 512GB SILVER - KOREAN","MBA 13 M5","M5 chip with 10-core CPU, 8-core GPU","Silver",null,"16GB","512GB","Magic Keyboard with Touch ID - Korean",null,null,null,null,{"$f":"_xlfn.XLOOKUP(B96,Sheet2!B:B,Sheet2!C:C)","v":"B"},{"$f":"_xlfn.XLOOKUP(B96,Sheet2!B:B,Sheet2!D:D)","v":"A"}]
["Z1MH00014","15515016","APL-Z1MH00014","2045.0","CTO MBP 14 M5 PRO 15C 16C GPU 24GB 1TB SILVER JAPANESE","MBP 14 M5 Pro","M5 Pro chip with 15 core CPU, 16 core GPU","Silver",null,"24GB","1TB","Magic Keyboard with Touch ID - Japanese",null,null,null,null,{"$f":"_xlfn.XLOOKUP(B97,Sheet2!B:B,Sheet2!C:C)","v":"B"},{"$f":"_xlfn.XLOOKUP(B97,Sheet2!B:B,Sheet2!D:D)","v":"A"}]
["Z1TR0003T","15515071","APL-Z1TR0003T","685.0","CTO MBN 13 8GB 512GB CITRUS CHINESE (Zhuyin)","MBN 13 ","A18 chip","Citrus",null,"8GB","512GB","Magic Keyboard with Touch ID - Chinese (Zhuyin)",null,null,null,null,{"$f":"_xlfn.XLOOKUP(B98,Sheet2!B:B,Sheet2!C:C)","v":"B"},{"$f":"_xlfn.XLOOKUP(B98,Sheet2!B:B,Sheet2!D:D)","v":"A"}]
["Z1TS00035","15376329","APL-Z1TS00035","587.0","CTO MBN 13 IND 8GB 256GB SPANISH LA","MBN 13 ","A18 chip","Indigo",null,"8GB","256GB","Magic Keyboard with Touch ID - Spanish (Latin America)",null,null,null,null,{"$f":"_xlfn.XLOOKUP(B99,Sheet2!B:B,Sheet2!C:C)","v":"A"},{"$f":"_xlfn.XLOOKUP(B99,Sheet2!B:B,Sheet2!D:D)","v":"A"}]
["Z1LA000NG","15538120","APL-Z1LA000NG","1208.0","CTO MBA 13 M5 10 CPU 10 GPU 16GB 1TB SKY BLUE 40W SPLA","MBA 13 M5","M5 chip with 10 core CPU, 10 core GPU","Sky Blue",null,"16GB","1TB","Magic Keyboard with Touch ID - Spanish (Latin America)",null,null,null,null,{"$f":"_xlfn.XLOOKUP(B100,Sheet2!B:B,Sheet2!C:C)","v":"B"},{"$f":"_xlfn.XLOOKUP(B100,Sheet2!B:B,Sheet2!D:D)","v":"A"}]
["Z1ML003MN","15538997","APL-Z1ML003MN","2603.0","CTO MBP 14 M5 PRO 18 CPU 20 GPU 48GB 1TB SPACE BLACK 96W - German","MBP 14 M5 Pro","M5 Pro Chip with 18 core CPU, 20 Core GPU","Space Black",null,"48GB","1TB","Magic Keyboard with Touch ID - German",null,null,null,null,{"$f":"_xlfn.XLOOKUP(B101,Sheet2!B:B,Sheet2!C:C)","v":"B"},{"$f":"_xlfn.XLOOKUP(B101,Sheet2!B:B,Sheet2!D:D)","v":"A"}]
["Z1LZ2002474507","15539723","APL-Z1LZ2002474507","1394.0","CTO MBA 15.3 M5 SKY 10C GPU 16GB 1TB SPANISH LA","MBA 15 M5","M5 chip with 10-core CPU, 10-core GPU","Sky Blue",null,"16GB","1TB","Magic Keyboard with Touch ID - Spanish (Latin America)",null,null,null,null,{"$f":"_xlfn.XLOOKUP(B102,Sheet2!B:B,Sheet2!C:C)","v":"B"},{"$f":"_xlfn.XLOOKUP(B102,Sheet2!B:B,Sheet2!D:D)","v":"A"}]
["Z1L12002474539","15541531","APL-Z1L12002474539","1580.0","CTO MBA 13 M5 10 CPU 10 GPU 32GB 1TB SILVER 40W FRENCH","MBA 13 M5","M5 chip with 10 core CPU, 10 core GPU","Silver",null,"32GB","1TB","Magic Keyboard with Touch ID - French",null,null,null,null,{"$f":"_xlfn.XLOOKUP(B103,Sheet2!B:B,Sheet2!C:C)","v":"B"},{"$f":"_xlfn.XLOOKUP(B103,Sheet2!B:B,Sheet2!D:D)","v":"A"}]
["Z1MZ001AK","15541538","APL-Z1MZ001AK","2709.99","CTO MBP 16 M5 PRO 18 CPU 20 GPU 24GB 1TB SPACE BLACK 140W LP","MBP 16 M5 Pro","M5 Pro Chip with 18 core CPU, 20 Core GPU","Space Black",null,"24GB","1TB","Magic Keyboard with Touch ID - US English",null,"Logic Pro License ",null,null,{"$f":"_xlfn.XLOOKUP(B104,Sheet2!B:B,Sheet2!C:C)","v":"B"},{"$f":"_xlfn.XLOOKUP(B104,Sheet2!B:B,Sheet2!D:D)","v":"A"}]
["Z1L6001ET","15548714","APL-Z1L6001ET","1208.0","CTO MBA 13 M5 10 CPU 10 GPU 24GB 512GB MIDNIGHT 40W PORTUGUESE","MBA 13 M5","M5 chip with 10 core CPU, 10 core GPU","Midnight",null,"24GB","512GB","Magic Keyboard with Touch ID - Portuguese",null,null,null,null,{"$f":"_xlfn.XLOOKUP(B105,Sheet2!B:B,Sheet2!C:C)","v":"B"},{"$f":"_xlfn.XLOOKUP(B105,Sheet2!B:B,Sheet2!D:D)","v":"A"}]
["Z1EP000ZS","15548996","APL-Z1EP000ZS",2513,null,null,null,null,null,null,null,null,null,null,null,null,{"$f":"_xlfn.XLOOKUP(B106,Sheet2!B:B,Sheet2!C:C)","v":"B"},{"$f":"_xlfn.XLOOKUP(B106,Sheet2!B:B,Sheet2!D:D)","v":"A"}]
["Z1L6000RK","15553020","APL-Z1L6000RK",1234,"CTO MBA 13.6 M5 MDN 8C GPU 16GB 512GB SPANISH LA\n","MBA 13 M5","M5 chip with 10-core CPU, 8-core GPU","Midnight",null,"16GB","512GB","Magic Keyboard with Touch ID - Spanish (Latin America)",null,null,null,null,{"$f":"_xlfn.XLOOKUP(B107,Sheet2!B:B,Sheet2!C:C)","v":"B"},{"$f":"_xlfn.XLOOKUP(B107,Sheet2!B:B,Sheet2!D:D)","v":"A"}]
["Z1EQ000XM","15566004","APL-Z1EQ000XM",3143.99,"CTO IMAC M4 10CPU 10GPU 32GB 2TB TID NK BLUE- Logic Pro","iMac M4","M4 chip with 10-core CPU, 10-core GPU","Blue","Gigabit","32Gb","2TB","Magic Keyboard with Touch ID - US English",null,"Logic Pro",null,null,{"$f":"_xlfn.XLOOKUP(B108,Sheet2!B:B,Sheet2!C:C)","v":"B"},{"$f":"_xlfn.XLOOKUP(B108,Sheet2!B:B,Sheet2!D:D)","v":"A"}]
["Z1EJ2112521717","15569962","APL-Z1EJ2112521717",2944,"CTO IMAC M4 10CPU 10GPU 32GB 2TB TID SILVER- SPLA","iMac M4","M4 chip with 10-core CPU, 10-core GPU",null,null,null,null,null,null,null,null,null,{"$f":"_xlfn.XLOOKUP(B109,Sheet2!B:B,Sheet2!C:C)","v":"B"},{"$f":"_xlfn.XLOOKUP(B109,Sheet2!B:B,Sheet2!D:D)","v":"A"}]
["Z1ML0001W","15574206","APL-Z1ML0001W",2374,"CTO MBP 14 M5 PRO 15 CPU 16 GPU 24GB 1TB SPACE BLACK 70W - FRENCH","MBP 14 M5 Pro","M5 Pro chip with 15 core CPU, 16 core GPU","Space Black",null,"24GB","1TB","Magic Keyboard with Touch ID - French",null,null,null,null,{"$f":"_xlfn.XLOOKUP(B110,Sheet2!B:B,Sheet2!C:C)","v":"B"},{"$f":"_xlfn.XLOOKUP(B110,Sheet2!B:B,Sheet2!D:D)","v":"A"}]
["Z1L6000RH","15574207","APL-Z1L6000RH",1234,"CTO MBA 13 M5 10 CPU 8 GPU 16GB 512GB MIDNIGHT 40W - FRENCH","MBA 13 M5","M5 chip with 10-core CPU, 8-core GPU","Midnight",null,"16GB","512GB","Magic Keyboard with Touch ID - French",null,null,null,null,{"$f":"_xlfn.XLOOKUP(B111,Sheet2!B:B,Sheet2!C:C)","v":"B"},{"$f":"_xlfn.XLOOKUP(B111,Sheet2!B:B,Sheet2!D:D)","v":"A"}]
["Z1MH0000S","15576216","APL-Z1MH0000S",2374,"CTO MBP 14 M5 PRO 15 CPU 16 GPU 24GB 1TB SILVER 70W - FRENCH","MBP 14 M5 Pro","M5 Pro chip with 15 core CPU, 16 core GPU","Silver",null,"24GB","1TB","Magic Keyboard with Touch ID - French",null,null,null,null,{"$f":"_xlfn.XLOOKUP(B112,Sheet2!B:B,Sheet2!C:C)","v":"B"},{"$f":"_xlfn.XLOOKUP(B112,Sheet2!B:B,Sheet2!D:D)","v":"A"}]
["Z1MK00016","15576217","APL-Z1MK00016",3894,"CTO MBP 14 M5 MAX 18 CPU 32 GPU 36GB 2TB SILVER 96W - FRENCH","MBP 14 M5 Max","M5 Max with 18 core CPU, 32 core GPU","Silver",null,"36Gb","2TB","Magic Keyboard with Touch ID - French",null,null,null,null,{"$f":"_xlfn.XLOOKUP(B113,Sheet2!B:B,Sheet2!C:C)","v":"B"},{"$f":"_xlfn.XLOOKUP(B113,Sheet2!B:B,Sheet2!D:D)","v":"A"}]
["Z1L0000RJ","15576218","APL-Z1L0000RJ",1234,"CTO MBA 13 M5 10 CPU 8 GPU 16GB 512GB SILVER 40W - FRENCH","MBA 13 M5","M5 chip with 10-core CPU, 8-core GPU","Silver",null,"16GB","512GB","Magic Keyboard with Touch ID - French",null,null,null,null,{"$f":"_xlfn.XLOOKUP(B114,Sheet2!B:B,Sheet2!C:C)","v":"B"},{"$f":"_xlfn.XLOOKUP(B114,Sheet2!B:B,Sheet2!D:D)","v":"A"}]
["Z1LY0019W","15591188","APL-Z1LY0019W",2564,"CTO MBA 15 M5 10 CPU 10 GPU 32GB 2TB MIDNIGHT 40W- SPLA","MBA 15 M5","M5 chip with 10 core CPU, 10 core GPU","Midnight",null,"32GB","2TB","Magic Keyboard with Touch ID - Spanish (Latin America)",null,null,null,null,{"$f":"_xlfn.XLOOKUP(B115,Sheet2!B:B,Sheet2!C:C)","v":"B"},{"$f":"_xlfn.XLOOKUP(B115,Sheet2!B:B,Sheet2!D:D)","v":"A"}]
["Z1LQ2112528678",{"$error":"#N/A"},"APL-Z1LQ2112528678",2564,"CTO MBA 15 M5 10 CPU 10 GPU 32GB 2TB SILVER 40W- SPLA","MBA 15 M5","M5 chip with 10 core CPU, 10 core GPU","Silver",null,"32GB","2TB","Magic Keyboard with Touch ID - Spanish (Latin America)",null,null,null,null,{"$f":"_xlfn.XLOOKUP(B116,Sheet2!B:B,Sheet2!C:C)","v":{"$error":"#N/A"}},{"$f":"_xlfn.XLOOKUP(B116,Sheet2!B:B,Sheet2!D:D)","v":{"$error":"#N/A"}}]
["Z1L6000S8","15591161","APL-Z1L6000S8","1115.0","CTO MBA 13 M5 10 CPU 10 GPU 16GB 512GB MIDNIGHT 40W- Japanese","MBA 13 M5","M5 chip with 10 core CPU, 10 core GPU","Midnight",null,"16GB","512GB","Magic Keyboard with Touch ID - Japanese",null,null,null,null,{"$f":"_xlfn.XLOOKUP(B117,Sheet2!B:B,Sheet2!C:C)","v":"C"},{"$f":"_xlfn.XLOOKUP(B117,Sheet2!B:B,Sheet2!D:D)","v":"D"}]
["Z1N20020U","15595024","APL-Z1N20020U",4892,"CTO MBP 16 M5 MAX 18 CPU 40 GPU 48GB 2TB SPACE BLACK NANO 140W - BRITISH","MBP 16 M5 Max","M5 Max with 18 core CPU, 40 core GPU","Space Black",null,"48GB","2TB","Magic Keyboard with Touch ID - British",null,null,null,null,{"$f":"_xlfn.XLOOKUP(B118,Sheet2!B:B,Sheet2!C:C)","v":"B"},{"$f":"_xlfn.XLOOKUP(B118,Sheet2!B:B,Sheet2!D:D)","v":"A"}]
["Z1L6001LD","15595030","APL-Z1L6001LD",1424,"CTO MBA 13 M5 10 CPU 10 GPU 24GB 512GB MIDNIGHT 40W - SPANISH Catalan","MBA 13 M5","M5 chip with 10 core CPU, 10 core GPU","Midnight",null,"24GB","512GB","Magic Keyboard with Touch ID - Spanish (Catalan)",null,null,null,null,{"$f":"_xlfn.XLOOKUP(B119,Sheet2!B:B,Sheet2!C:C)","v":"B"},{"$f":"_xlfn.XLOOKUP(B119,Sheet2!B:B,Sheet2!D:D)","v":"A"}]
["Z1ML002KM","15595031","APL-Z1ML002KM",2944,"CTO MBP 14 M5 PRO 15 CPU 16 GPU 48GB 1TB SPACE BLACK 70W - SPANISH Catalan","MBP 14 M5 Pro","M5 Pro chip with 15 core CPU, 16 core GPU","Space Black",null,"48GB","1TB","Magic Keyboard with Touch ID - Spanish (Catalan)",null,null,null,null,{"$f":"_xlfn.XLOOKUP(B120,Sheet2!B:B,Sheet2!C:C)","v":"B"},{"$f":"_xlfn.XLOOKUP(B120,Sheet2!B:B,Sheet2!D:D)","v":"A"}]
["Z1MZ2002479141","15616012","APL-Z1MZ2002479141",6222,"CTO MBP 16 M5 MAX 18 CPU 40 GPU 64GB 4TB SPACE BLACK NANO 140W - CHINESE Zhuyin","MBP 16 M5 Max","M5 Max with 18 core CPU, 40 core GPU","Space Black",null,"64GB","4TB","Magic Keyboard with Touch ID - Chinese (Zhuyin)",null,null,null,null,{"$f":"_xlfn.XLOOKUP(B121,Sheet2!B:B,Sheet2!C:C)","v":"B"},{"$f":"_xlfn.XLOOKUP(B121,Sheet2!B:B,Sheet2!D:D)","v":"A"}]
["Z1CE000RX","15625563","APL-Z1CE000RX",5808.99,"CTO MAC STUDIO M3U 28CPU 60GPU 96GB 2TB + FCP","Mac Studio M3U","M3 Ultra with 28-core CPU, 60-core GPU",null,null,"96GB","2TB",null,null,"Final Cut Pro",null,null,{"$f":"_xlfn.XLOOKUP(B122,Sheet2!B:B,Sheet2!C:C)","v":"B"},{"$f":"_xlfn.XLOOKUP(B122,Sheet2!B:B,Sheet2!D:D)","v":"A"}]
["Z1TP0003R","15631452","APL-Z1TP0003R",783,"CTO MBN 13 SLV 8GB 512GB-French","MBN 13 ","A18 Pro","Silver",null,"8GB","512GB","Magic Keyboard with Touch ID - French",null,null,null,null,{"$f":"_xlfn.XLOOKUP(B123,Sheet2!B:B,Sheet2!C:C)","v":"B"},{"$f":"_xlfn.XLOOKUP(B123,Sheet2!B:B,Sheet2!D:D)","v":"A"}]
["Z1MZ001AT","15631448","APL-Z1MZ001AT",3291.99,"CTO MBP 16 M5 PRO 18 CPU 20 GPU 24GB 1TB SPACE BLACK NANO 140W- FCP","MBP 16 M5 Pro","M5 chip with 18 core CPU, 20 core GPU","Space Black",null,"24GB","1TB","Magic Keyboard with Touch ID - US English",null,"Final Cut Pro",null,null,{"$f":"_xlfn.XLOOKUP(B124,Sheet2!B:B,Sheet2!C:C)","v":"B"},{"$f":"_xlfn.XLOOKUP(B124,Sheet2!B:B,Sheet2!D:D)","v":"A"}]
["Z1EU2112545768","15633882","APL-Z1EU2112545768",2469,"CTO IMAC M4 10CPU 10GPU 32GB 1TB TID PURPLE - SPLA","iMac M4","M4 chip with 10 core CPU, 10 core GPU","Purple",null,"32GB","1TB","Magic Keyboard with Touch ID - Spanish (Latin America)",null,"Final Cut Pro",null,null,{"$f":"_xlfn.XLOOKUP(B125,Sheet2!B:B,Sheet2!C:C)","v":"B"},{"$f":"_xlfn.XLOOKUP(B125,Sheet2!B:B,Sheet2!D:D)","v":"A"}]
["Z1LY000LQ","15633881","APL-Z1LY000LQ",2863.99,"CTO MBA 15 M5 10 CPU 10 GPU 32GB 2TB MIDNIGHT 40W- FCP","MBA 15 M5","M5 chip with 10 core CPU, 10 core GPU","Midnight",null,"32GB","2TB","Magic Keyboard with Touch ID - US English",null,null,null,null,{"$f":"_xlfn.XLOOKUP(B126,Sheet2!B:B,Sheet2!C:C)","v":"B"},{"$f":"_xlfn.XLOOKUP(B126,Sheet2!B:B,Sheet2!D:D)","v":"A"}]
["Z1ML0002L","15635547","APL-Z1ML0002L",2374,"CTO MBP 14 M5 PRO 15 CPU 16 GPU 24GB 1TB SPACE BLACK 70W - SWISS","MBP 14 M5 Pro","M5 Pro chip with 15 core CPU, 16 core GPU","Space Black",null,"24GB","1TB","Magic Keyboard with Touch ID - Swiss",null,null,null,null,{"$f":"_xlfn.XLOOKUP(B127,Sheet2!B:B,Sheet2!C:C)","v":"B"},{"$f":"_xlfn.XLOOKUP(B127,Sheet2!B:B,Sheet2!D:D)","v":"A"}]
["Z1LT2002480872","15636140","APL-Z1LT2002480872",1899,"CTO MBA 15 M5 10 CPU 10 GPU 24GB 1TB STARLIGHT 40W - SPANISH LA\n","MBA 15 M5","M5 chip with 10 core CPU, 10 core GPU","Starlight",null,"24GB","1TB","Magic Keyboard with Touch ID - Spanish (Latin America)",null,null,null,null,{"$f":"_xlfn.XLOOKUP(B128,Sheet2!B:B,Sheet2!C:C)","v":"B"},{"$f":"_xlfn.XLOOKUP(B128,Sheet2!B:B,Sheet2!D:D)","v":"A"}]
["Z1KJ000SY","15642055","APL-Z1KJ000SY",2108,null,null,null,null,null,null,null,null,null,null,null,null,{"$f":"_xlfn.XLOOKUP(B129,Sheet2!B:B,Sheet2!C:C)","v":"B"},{"$f":"_xlfn.XLOOKUP(B129,Sheet2!B:B,Sheet2!D:D)","v":"A"}]
["Z1MH002F1","15651307","APL-Z1MH002F1",3419,"CTO MBP 14 M5 PRO 15 CPU 16 GPU 48GB 2TB SILVER 70W- SPLA","MBP 14 M5 Pro","M5 Pro chip with 15 core CPU, 16 core GPU","Silver",null,"48GB","2TB","Magic Keyboard with Touch ID - Spanish (Latin America)",null,null,null,null,{"$f":"_xlfn.XLOOKUP(B130,Sheet2!B:B,Sheet2!C:C)","v":"B"},{"$f":"_xlfn.XLOOKUP(B130,Sheet2!B:B,Sheet2!D:D)","v":"A"}]
["Z1ML003AJ","15651306","APL-Z1ML003AJ",3419,"CTO MBP 14 M5 PRO 15 CPU 16 GPU 48GB 2TB SPACE BLACK 70W - SPLA","MBP 14 M5 Pro","M5 Pro chip with 15 core CPU, 16 core GPU","Space Black",null,"48GB","2TB","Magic Keyboard with Touch ID - Spanish (Latin America)",null,null,null,null,{"$f":"_xlfn.XLOOKUP(B131,Sheet2!B:B,Sheet2!C:C)","v":"B"},{"$f":"_xlfn.XLOOKUP(B131,Sheet2!B:B,Sheet2!D:D)","v":"A"}]
["Z1KJ000SY","15642055","APL-Z1KJ000SY",2108,"CTO MBP 14 M5 10CPU 10GPU 24GB 1TB SPACE BLACK 96W - SPANISH LA","MBP 14 M5 ","M5 chip with 10 core CPU, 10 core GPU","Space Black",null,"24GB","1TB","Magic Keyboard with Touch ID - Spanish (Latin America)",null,null,null,null,{"$f":"_xlfn.XLOOKUP(B132,Sheet2!B:B,Sheet2!C:C)","v":"B"},{"$f":"_xlfn.XLOOKUP(B132,Sheet2!B:B,Sheet2!D:D)","v":"A"}]
["Z1EJ000FR","15662171","APL-Z1EJ000FR",2254,"CTO IMAC M4 10CPU 10GPU 32GB 512GB TID NK MT SILVER","iMac M4","M4 chip with 10 core CPU, 10 core GPU","Silver ",null,"32GB","512GB","Magic Keyboard with Touch ID and Numeric Keypad - US English","Magic Trackpad",null,null,null,{"$f":"_xlfn.XLOOKUP(B133,Sheet2!B:B,Sheet2!C:C)","v":"B"},{"$f":"_xlfn.XLOOKUP(B133,Sheet2!B:B,Sheet2!D:D)","v":"A"}]
["Z1ML002ZQ","15664921","APL-Z1ML002ZQ",2944,"CTO MBP 14 M5 PRO 15 CPU 16 GPU 48GB 1TB SPACE BLACK 70W - FRENCH","MBP 14 M5 Pro","M5 Pro chip with 15 core CPU, 16 core GPU","Space Black",null,"48GB","1TB","Magic Keyboard with Touch ID - French",null,null,null,null,{"$f":"_xlfn.XLOOKUP(B134,Sheet2!B:B,Sheet2!C:C)","v":"B"},{"$f":"_xlfn.XLOOKUP(B134,Sheet2!B:B,Sheet2!D:D)","v":"A"}]
["Z1LQ000ZR","15667429","APL-Z1LQ000ZR",1614,"CTO MBA 15 M5 10 CPU 10 GPU 24GB 512GB SILVER 40W- SPLA","MBA 15 M5","M5 chip with 10 core CPU, 10 core GPU","Silver",null,"24GB","512Gb","Magic Keyboard with Touch ID - Spanish (Latin America)",null,null,null,null,{"$f":"_xlfn.XLOOKUP(B135,Sheet2!B:B,Sheet2!C:C)","v":"B"},{"$f":"_xlfn.XLOOKUP(B135,Sheet2!B:B,Sheet2!D:D)","v":"A"}]
["Z1N12002483036","15673475","APL-Z1N12002483036",6792,"CTO MBP 16 M5 MAX 18 CPU 40 GPU 128GB 2TB SPACE BLACK NANO 140W - HEBREW","MBP 16 M5 Max","M5 Max with 18 core CPU, 40 core GPU","Space Black",null,"128GB","2TB","Magic Keyboard with Touch ID - Hebrew",null,null,null,null,{"$f":"_xlfn.XLOOKUP(B136,Sheet2!B:B,Sheet2!C:C)","v":"B"},{"$f":"_xlfn.XLOOKUP(B136,Sheet2!B:B,Sheet2!D:D)","v":"A"}]
["Z1MZ2002483040","15673878","APL-Z1MZ2002483040",3324,"CTO MBP 16 M5 PRO 18 CPU 20 GPU 24GB 2TB SPACE BLACK 140W - FRENCH","MBP 16 M5 Pro","M5 Pro Chip with 18 core CPU, 20 Core GPU","Space Black",null,"24GB","2TB","Magic Keyboard with Touch ID - French",null,null,null,null,{"$f":"_xlfn.XLOOKUP(B137,Sheet2!B:B,Sheet2!C:C)","v":"A"},{"$f":"_xlfn.XLOOKUP(B137,Sheet2!B:B,Sheet2!D:D)","v":"A"}]
["Z1MV2002483864","15685237","APL-Z1MV2002483864",5224,"CTO MBP 16 M5 PRO 18 CPU 20 GPU 64GB 4TB SILVER 140W - HEBREW","MBP 16 M5 Pro","M5 Pro Chip with 18 core CPU, 20 Core GPU","Silver",null,"64GB","4TB","Magic Keyboard with Touch ID - Hebrew",null,null,null,null,{"$f":"_xlfn.XLOOKUP(B138,Sheet2!B:B,Sheet2!C:C)","v":"B"},{"$f":"_xlfn.XLOOKUP(B138,Sheet2!B:B,Sheet2!D:D)","v":"A"}]
["Z1L02002483676","15685596","APL-Z1L02002483676",1519,"CTO MBA 13.6 M5 SLV 10C GPU 16GB 1TB - SPLA","MBA 13 M5","M5 chip with 10 core CPU, 10 core GPU","Silver",null,"16GB","1TB","Magic Keyboard with Touch ID - Spanish (Latin America)",null,null,null,null,{"$f":"_xlfn.XLOOKUP(B139,Sheet2!B:B,Sheet2!C:C)","v":"B"},{"$f":"_xlfn.XLOOKUP(B139,Sheet2!B:B,Sheet2!D:D)","v":"A"}]
["Z1MK001MK",{"$error":"#N/A"},"APL-Z1MK001MK",4844,"CTO MBP 14 M5 MAX 18 CPU 40 GPU 64GB 2TB SILVER 96W - RUSSIAN","MBP 14 M5 Max","M5 Max with 18 core CPU, 40 core GPU","Silver",null,"64GB","2TB","Magic Keyboard with Touch ID - Russian",null,null,null,null,{"$f":"_xlfn.XLOOKUP(B140,Sheet2!B:B,Sheet2!C:C)","v":{"$error":"#N/A"}},{"$f":"_xlfn.XLOOKUP(B140,Sheet2!B:B,Sheet2!D:D)","v":{"$error":"#N/A"}}]
["Z1L72002485211",{"$error":"#N/A"},"APL-Z1L72002485211",1709,"CTO MBA 13 M5 10 CPU 10 GPU 24GB 1TB MIDNIGHT 40W - BRITISH","MBA 13 M5","M5 chip with 10 core CPU, 10 core GPU","Midnight",null,"24GB","1TB","Magic Keyboard with Touch ID - British",null,null,null,null,{"$f":"_xlfn.XLOOKUP(B141,Sheet2!B:B,Sheet2!C:C)","v":{"$error":"#N/A"}},{"$f":"_xlfn.XLOOKUP(B141,Sheet2!B:B,Sheet2!D:D)","v":{"$error":"#N/A"}}]

{"sheet":"Sheet2","index":15,"n_rows":12315,"n_cols":9,"rows_kept":4500,"cut":true,"hidden":true,"merged":[],"bounds":{"rows_first":2000,"rows_last":500,"rows_between":2000,"halvings":0}}
["PART#","Sku#","ABC Code","Active Status","VPC Code","Available For Sell",null,null,"Retail Price"]
["APL-Z1CG000AD","15702113","B","A","CTO BO","Y",{"$f":"TRIM(A2)","v":"APL-Z1CG000AD"},{"$f":"TRIM(B2)","v":"15702113"},1499]
["APL-Z1CG00016","15702054","B","A","CTO BO","Y","APL-Z1CG00016","15702054",1299]
["APL-Z1L72002485212","15701657","B","A","CTO BO","Y","APL-Z1L72002485212","15701657"]
["APL-Z1L72002485211","15701656","B","A","CTO BO","Y","APL-Z1L72002485211","15701656"]
["APL-Z1MK001MK","15700673","B","A","CTO BO","Y","APL-Z1MK001MK","15700673"]
["APL-Z1L0000RU-AMEX","15693892","C","D","CTO BO","N","APL-Z1L0000RU-AMEX","15693892"]
["APL-MGE44LL/A-AMEX","15693891","C","D","MACBOOK","N","APL-MGE44LL/A-AMEX","15693891"]
["APL-Z1L02002483676","15685596","B","A","CTO BO","Y","APL-Z1L02002483676","15685596"]
["APL-Z1MV2002483864","15685237","B","A","CTO BO","Y","APL-Z1MV2002483864","15685237"]
["APL-Z1L6001K1","15682212","B","A","CTO BO","Y","APL-Z1L6001K1","15682212"]
["APL-Z1MM0000Y","15675864","B","A","CTO BO","Y","APL-Z1MM0000Y","15675864"]
["APL-Z1MZ2002483040","15673878","A","A","CTO BO","Y","APL-Z1MZ2002483040","15673878"]
["APL-Z1N12002483036","15673475","B","A","CTO BO","Y","APL-Z1N12002483036","15673475"]
["APL-Z1LQ000ZR","15667429","B","A","CTO BO","Y","APL-Z1LQ000ZR","15667429"]
["APL-Z1MZ2002482971","15665121","B","A","CTO BO","Y","APL-Z1MZ2002482971","15665121"]
["APL-Z1ML002ZQ","15664921","B","A","CTO BO","Y","APL-Z1ML002ZQ","15664921"]
["APL-MGYX4AB/A","15662432","A","A","IPAD ACC 1","Y","APL-MGYX4AB/A","15662432",269]
["APL-Z1EJ000FR","15662171","B","A","CTO BO","Y","APL-Z1EJ000FR","15662171"]
["APL-Z1MH002F1","15651307","B","A","CTO BO","Y","APL-Z1MH002F1","15651307"]
["APL-Z1ML003AJ","15651306","B","A","CTO BO","Y","APL-Z1ML003AJ","15651306"]
["APL-Z1ML004EY","15649448","B","A","CTO BO","Y","APL-Z1ML004EY","15649448"]
["APL-Z1MZ2112554610","15649363","B","A","CTO BO","Y","APL-Z1MZ2112554610","15649363"]
["APL-Z1MZ0003F","15647384","B","A","CTO BO","Y","APL-Z1MZ0003F","15647384"]
["APL-Z1KJ0015W","15647383","B","A","CTO BO","Y","APL-Z1KJ0015W","15647383"]
["APL-Z1LQ2112551857","15645486","B","A","CTO BO","Y","APL-Z1LQ2112551857","15645486"]
["APLXX-MR7K3LL/A","15642511","C","D","MOD BEATS","N","APLXX-MR7K3LL/A","15642511"]
["APL-Z1ML002PP","15642141","B","A","CTO BO","Y","APL-Z1ML002PP","15642141"]
["APL-Z1KJ000SY","15642055","B","A","CTO BO","Y","APL-Z1KJ000SY","15642055"]
["APL-Z1MH002EK","15642049","A","A","CTO BO","Y","APL-Z1MH002EK","15642049"]
["APL-Z1ML002KX","15642048","A","A","CTO BO","Y","APL-Z1ML002KX","15642048"]
["APL-Z1LT2002480872","15636140","B","A","CTO BO","Y","APL-Z1LT2002480872","15636140"]
["APL-Z1ML0002L","15635547","B","A","CTO BO","Y","APL-Z1ML0002L","15635547"]
["APL-Z1EU2112545768","15633882","B","A","CTO BO","Y","APL-Z1EU2112545768","15633882"]
["APL-Z1LY000LQ","15633881","B","A","CTO BO","Y","APL-Z1LY000LQ","15633881"]
["APL-Z1TP0003R","15631452","B","A","CTO BO","Y","APL-Z1TP0003R","15631452"]
["APL-Z1MZ001AT","15631448","B","A","CTO BO","Y","APL-Z1MZ001AT","15631448"]
["APL-Z1KK0008P","15627422","B","A","CTO BO","Y","APL-Z1KK0008P","15627422"]
["APL-Z1CE000RX","15625563","B","A","CTO BO","Y","APL-Z1CE000RX","15625563"]
["APL-Z1CG00015","15618083","B","A","CTO BO","Y","APL-Z1CG00015","15618083",1099]
["APL-Z1CG000AK","15618082","B","A","CTO BO","Y","APL-Z1CG000AK","15618082",2099]
["APL-Z1CG000B0","15618081","B","A","CTO BO","Y","APL-Z1CG000B0","15618081",1999]
["APL-Z1CG000AH","15618080","B","A","CTO BO","Y","APL-Z1CG000AH","15618080",1399]
["APL-Z1CG000AW","15618079","B","A","CTO BO","Y","APL-Z1CG000AW","15618079",1899]
["APL-Z1CG00017","15618078","B","A","CTO BO","Y","APL-Z1CG00017","15618078",1799]
["APL-Z1CG000AL","15618077","B","A","CTO BO","Y","APL-Z1CG000AL","15618077",1599]
["APL-Z1CG0001A","15616059","B","A","CTO BO","Y","APL-Z1CG0001A","15616059",1299]
["APL-Z1MZ2002479141","15616012","B","A","CTO BO","Y","APL-Z1MZ2002479141","15616012"]
["APL-Z1ML002KM","15595031","B","A","CTO BO","Y","APL-Z1ML002KM","15595031"]
["APL-Z1L6001LD","15595030","B","A","CTO BO","Y","APL-Z1L6001LD","15595030"]
["APL-Z1N20020U","15595024","B","A","CTO BO","Y","APL-Z1N20020U","15595024"]
["APL-Z1N00001S","15592751","B","A","CTO BO","Y","APL-Z1N00001S","15592751"]
["APL-Z1LY0019W","15591188","B","A","CTO BO","Y","APL-Z1LY0019W","15591188"]
["APL-Z1L6000S8","15591161","C","D","CTO BO","N","APL-Z1L6000S8","15591161"]
["APL-Z1L0000RJ","15576218","B","A","CTO BO","Y","APL-Z1L0000RJ","15576218"]
["APL-Z1MK00016","15576217","B","A","CTO BO","Y","APL-Z1MK00016","15576217"]
["APL-Z1MH0000S","15576216","B","A","CTO BO","Y","APL-Z1MH0000S","15576216"]
["APL-Z1L6000RH","15574207","B","A","CTO BO","Y","APL-Z1L6000RH","15574207"]
["APL-Z1ML0001W","15574206","B","A","CTO BO","Y","APL-Z1ML0001W","15574206"]
["APL-Z1EJ2112521717","15569962","B","A","CTO BO","Y","APL-Z1EJ2112521717","15569962"]
["APL-Z1L60017X","15568146","B","A","CTO BO","Y","APL-Z1L60017X","15568146"]
["APL-Z1ML0002D","15568054","B","A","CTO BO","Y","APL-Z1ML0002D","15568054"]
["APL-Z1L0000XJ","15566313","B","A","CTO BO","Y","APL-Z1L0000XJ","15566313"]
["APL-Z1EQ000XM","15566004","B","A","CTO BO","Y","APL-Z1EQ000XM","15566004"]
["APL-Z1MZ001UE","15564053","A","A","CTO BO","Y","APL-Z1MZ001UE","15564053"]
["APL-MJ5C4AM/A","15561251","B","D","WATCH ACC 2","N",{"$f":"TRIM(A66)","v":"APL-MJ5C4AM/A"},{"$f":"TRIM(B66)","v":"15561251"}]
["APL-MJ5A4AM/A","15561250","B","D","WATCH ACC 2","N","APL-MJ5A4AM/A","15561250"]
["APL-MJ594AM/A","15561249","B","D","WATCH ACC 2","N","APL-MJ594AM/A","15561249"]
["APL-Z1L6000RK","15553020","B","A","CTO BO","Y","APL-Z1L6000RK","15553020"]
["APL-MGYY4AB/A","15549035","B","A","IPAD ACC 1","Y","APL-MGYY4AB/A","15549035",319]
["APL-Z1EP000ZS","15548996","B","A","CTO BO","Y","APL-Z1EP000ZS","15548996"]
["APL-Z1L6001ET","15548714","B","A","CTO BO","Y","APL-Z1L6001ET","15548714"]
["APL-Z1ML002HB","15548591","B","A","CTO BO","Y","APL-Z1ML002HB","15548591"]
["APL-Z1MZ001AK","15541538","B","A","CTO BO","Y","APL-Z1MZ001AK","15541538"]
["APL-Z1L12002474539","15541531","B","A","CTO BO","Y","APL-Z1L12002474539","15541531"]
["APL-Z1LZ2002474507","15539723","B","A","CTO BO","Y","APL-Z1LZ2002474507","15539723"]
["APL-Z1ML003MN","15538997","B","A","CTO BO","Y","APL-Z1ML003MN","15538997"]
["APL-Z1LA000NG","15538120","B","A","CTO BO","Y","APL-Z1LA000NG","15538120"]
["APL-MQDP3LA/A","15518804","A","A","IPAD ACC 1","Y","APL-MQDP3LA/A","15518804",249]
["APL-Z1TR0003T","15515071","B","A","CTO BO","Y","APL-Z1TR0003T","15515071"]
["APL-Z1MH00014","15515016","B","A","CTO BO","Y","APL-Z1MH00014","15515016"]
["APL-Z1L0000SA","15515015","B","A","CTO BO","Y","APL-Z1L0000SA","15515015"]
["APL-Z1CE000ZE","15513715","B","A","CTO BO","Y","APL-Z1CE000ZE","15513715"]
["APL-Z1CE000SN","15513544","B","A","CTO BO","Y","APL-Z1CE000SN","15513544"]
["APL- Z1L0000RU-INSIGHT","15507648","B","A","CTO BO","Y","APL- Z1L0000RU-INSIGHT","15507648",1199]
["APL-MHFA4LL/A-INSIGHT","15507643","B","A","MACBOOK","Y","APL-MHFA4LL/A-INSIGHT","15507643"]
["APL-MGE64LL/A-INSIGHT","15507642","B","A","MACBOOK","Y","APL-MGE64LL/A-INSIGHT","15507642",3099]
["APL-MGEC4LL/A-INSIGHT","15507641","B","A","MACBOOK","Y","APL-MGEC4LL/A-INSIGHT","15507641"]
["APL-MGE44LL/A-INSIGHT","15507640","B","A","MACBOOK","Y","APL-MGE44LL/A-INSIGHT","15507640",2699]
["APL-MGEA4LL/A-INSIGHT","15507639","B","A","MACBOOK","Y","APL-MGEA4LL/A-INSIGHT","15507639"]
["APL-MGDR4LL/A-INSIGHT","15507638","B","A","MACBOOK","Y","APL-MGDR4LL/A-INSIGHT","15507638"]
["APL-MGDN4LL/A-INSIGHT","15507637","B","A","MACBOOK","Y","APL-MGDN4LL/A-INSIGHT","15507637",2199]
["APL-MDV94LL/A-INSIGHT","15507636","B","A","MACBOOK","Y","APL-MDV94LL/A-INSIGHT","15507636",1299]
["APL-MDH74LL/A-INSIGHT","15507635","B","A","MACBOOK","Y","APL-MDH74LL/A-INSIGHT","15507635"]
["APL-MHRN4LL/A-INSIGHT","15507634","B","A","IPHONE","Y","APL-MHRN4LL/A-INSIGHT","15507634"]
["APL-MHFC4LL/A-INSIGHT","15507633","B","A","MACBOOK","Y","APL-MHFC4LL/A-INSIGHT","15507633"]
["APL-Z1L8000KE","15504588","B","A","CTO BO","Y","APL-Z1L8000KE","15504588"]
["APL-Z1KJ000A7","15504585","B","A","CTO BO","Y","APL-Z1KJ000A7","15504585"]
["APL-Z1KM000A7","15504584","B","A","CTO BO","Y","APL-Z1KM000A7","15504584"]
["APL-Z1LQ2002471839","15504165","B","A","CTO BO","Y","APL-Z1LQ2002471839","15504165"]
["APL-Z1MN00016","15504164","B","A","CTO BO","Y","APL-Z1MN00016","15504164"]
["APL-Z1MW0002Q","15503243","B","A","CTO BO","Y","APL-Z1MW0002Q","15503243"]
["APL-Z1MH003PH","15503242","B","A","CTO BO","Y","APL-Z1MH003PH","15503242"]
["APL-Z1LQ000RW","15503241","B","A","CTO BO","Y","APL-Z1LQ000RW","15503241"]
["APL-Z1L0000S7","15503240","B","A","CTO BO","Y","APL-Z1L0000S7","15503240"]
["APL-Z1MH00011","15500026","B","A","CTO BO","Y","APL-Z1MH00011","15500026"]
["APL-Z1MJ0001Q","15494534","B","A","CTO BO","Y","APL-Z1MJ0001Q","15494534"]
["APL-Z1MM00010","15494533","B","A","CTO BO","Y","APL-Z1MM00010","15494533"]
["APL-Z1MV2002470466","15433743","A","A","CTO BO","Y","APL-Z1MV2002470466","15433743"]
["APL-Z1N2000VE","15431349","B","A","CTO BO","Y","APL-Z1N2000VE","15431349"]
["APL-Z1LW000Z7","15428762","B","A","CTO BO","Y","APL-Z1LW000Z7","15428762"]
["APL-Z1LY000K6","15428761","B","A","CTO BO","Y","APL-Z1LY000K6","15428761"]
["APLX-MQDM3LL/A","15425595","C","D","HOME TV","N","APLX-MQDM3LL/A","15425595",99]
["APLX-Z1CT000V9","15425594","C","D","CTO BO","N","APLX-Z1CT000V9","15425594"]
["APLX-MW493AM/A","15425593","C","D","MAC ACC 3","N","APLX-MW493AM/A","15425593",19]
["APLX-MW2H3AM/A","15425574","C","D","MAC ACC 2","N","APLX-MW2H3AM/A","15425574",59]
["APLX-MX532LL/A","15425571","C","D","IPHONE ACC 3","N","APLX-MX532LL/A","15425571",29]
["APL-Z1N200177","15420584","B","A","CTO BO","Y","APL-Z1N200177","15420584"]
["APL-Z1MZ2002468751","15420295","B","A","CTO BO","Y","APL-Z1MZ2002468751","15420295"]
["APL-Z1MV2002469040","15419666","B","A","CTO BO","Y","APL-Z1MV2002469040","15419666"]
["APL-Z1MZ2002469039","15419114","B","A","CTO BO","Y","APL-Z1MZ2002469039","15419114"]
["APL-Z1N12002468273","15417842","B","A","CTO BO","Y","APL-Z1N12002468273","15417842"]
["APL-Z1L7000NH","15417681","B","A","CTO BO","Y","APL-Z1L7000NH","15417681"]
["APLX-MYME2LL/A","15417348","C","D","MOD BEATS","N","APLX-MYME2LL/A","15417348"]
["APL-Z1CD0018M","15415514","B","A","CTO BO","Y","APL-Z1CD0018M","15415514"]
["APL-Z1TT0003P","15415500","B","A","CTO BO","Y","APL-Z1TT0003P","15415500"]
["APL-Z1EJ001TS","15414582","B","A","CTO BO","Y","APL-Z1EJ001TS","15414582"]
["APL-Z1MZ2112470689","15410519","B","A","CTO BO","Y","APL-Z1MZ2112470689","15410519"]
["APL-Z1L9000XX","15408452","B","A","CTO BO","Y","APL-Z1L9000XX","15408452"]
["APL-MHX94LL/A","15408249","B","A","MOD BEATS","Y",{"$f":"TRIM(A130)","v":"APL-MHX94LL/A"},{"$f":"TRIM(B130)","v":"15408249"}]
["APL-MHX84LL/A","15408248","B","A","MOD BEATS","Y","APL-MHX84LL/A","15408248"]
["APL-MHX74LL/A","15408247","B","A","MOD BEATS","Y","APL-MHX74LL/A","15408247"]
["APL-MHX64LL/A","15408246","B","A","MOD BEATS","Y","APL-MHX64LL/A","15408246"]
["APL-Z1MZ00034","15405720","B","A","CTO BO","Y","APL-Z1MZ00034","15405720"]
["APL-Z1N20001S","15405719","B","A","CTO BO","Y","APL-Z1N20001S","15405719"]
["APL-Z1ML0002K","15405718","B","A","CTO BO","Y","APL-Z1ML0002K","15405718"]
["APL-Z1ML2002465186","15404005","B","A","CTO BO","Y","APL-Z1ML2002465186","15404005"]
["APL-Z1ML002JR","15403625","B","A","CTO BO","Y","APL-Z1ML002JR","15403625"]
["APL-Z1LW000S2","15401517","B","A","CTO BO","Y","APL-Z1LW000S2","15401517"]
["APL-Z1LW000R7","15401262","A","A","CTO BO","Y","APL-Z1LW000R7","15401262"]
["APL-Z1KK0008N","15398015","B","A","CTO BO","Y","APL-Z1KK0008N","15398015"]
["APL-Z1MZ2002462796","15395926","B","A","CTO BO","Y","APL-Z1MZ2002462796","15395926"]
["APL-Z1KJ000AU","15395908","A","A","CTO BO","Y","APL-Z1KJ000AU","15395908"]
["APL-Z1LQ000RY","15395618","B","A","CTO BO","Y","APL-Z1LQ000RY","15395618"]
["APL-Z1MZ001AS","15394021","B","A","CTO BO","Y","APL-Z1MZ001AS","15394021"]
["APL-Z1KM000YT","15393663","B","A","CTO BO","Y","APL-Z1KM000YT","15393663"]
["APL-Z1LY000KB","15393610","B","A","CTO BO","Y","APL-Z1LY000KB","15393610"]
["APL-Z1KM000A2","15393528","B","A","CTO BO","Y","APL-Z1KM000A2","15393528"]
["APL-Z1KM000A1","15393527","B","A","CTO BO","Y","APL-Z1KM000A1","15393527"]
["APL-Z1KK001R2","15390944","B","A","CTO BO","Y","APL-Z1KK001R2","15390944"]
["APL-Z1CD001RH","15390049","B","A","CTO BO","Y","APL-Z1CD001RH","15390049"]
["APL-Z1KJ2112460602","15390018","B","A","CTO BO","Y","APL-Z1KJ2112460602","15390018"]
["APL-Z1LW000R9","15386677","A","A","CTO BO","Y","APL-Z1LW000R9","15386677"]
["APL-Z1LS000KB","15386676","A","A","CTO BO","Y","APL-Z1LS000KB","15386676"]
["APL-Z1LQ000RA","15386675","A","A","CTO BO","Y","APL-Z1LQ000RA","15386675"]
["APL-Z1L8000KG","15386674","A","A","CTO BO","Y","APL-Z1L8000KG","15386674"]
["APL-Z1L2000KG","15386673","A","A","CTO BO","Y","APL-Z1L2000KG","15386673"]
["APL-Z1L0000RL","15386672","A","A","CTO BO","Y","APL-Z1L0000RL","15386672"]
["APL-Z1LB000KG","15386671","A","A","CTO BO","Y","APL-Z1LB000KG","15386671"]
["APL-Z1L9000RQ","15386670","A","A","CTO BO","Y","APL-Z1L9000RQ","15386670"]
["APL-Z1L3000RK","15386669","A","A","CTO BO","Y","APL-Z1L3000RK","15386669"]
["APL-MHWP4AM/A","15384646","B","A","ACC NBU","Y","APL-MHWP4AM/A","15384646",549]
["APL-MHWN4AM/A","15384645","B","A","ACC NBU","Y","APL-MHWN4AM/A","15384645",549]
["APL-MHWM4AM/A","15384644","A","A","ACC NBU","Y","APL-MHWM4AM/A","15384644",549]
["APL-MHWL4AM/A","15384643","A","A","ACC NBU","Y","APL-MHWL4AM/A","15384643",549]
["APL-MHWK4AM/A","15384642","A","A","ACC NBU","Y","APL-MHWK4AM/A","15384642",549]
["APL-MXCK3KU/A","15382819","B","A","MAC ACC 1","Y","APL-MXCK3KU/A","15382819",149]
["APL-Z1MZ2112456377","15382750","B","A","CTO BO","Y","APL-Z1MZ2112456377","15382750"]
["APL-Z1MH002TS","15381579","B","A","CTO BO","Y","APL-Z1MH002TS","15381579"]
["APL-Z1MV2112454729","15378717","A","A","CTO BO","Y","APL-Z1MV2112454729","15378717"]
["APL-Z1EJ000DX","15376463","B","A","CTO BO","Y","APL-Z1EJ000DX","15376463"]
["APL-Z1CD0019A","15376451","B","A","CTO BO","Y","APL-Z1CD0019A","15376451"]
["APL-Z1TP0003T","15376331","B","A","CTO BO","Y","APL-Z1TP0003T","15376331"]
["APL-Z1TN0003T","15376330","B","A","CTO BO","Y","APL-Z1TN0003T","15376330"]
["APL-Z1TS00035","15376329","A","A","CTO BO","Y","APL-Z1TS00035","15376329"]
["APL-Z1TV0003Q","15376328","B","A","CTO BO","Y","APL-Z1TV0003Q","15376328"]
["APL-Z1TU0003P","15376327","B","A","CTO BO","Y","APL-Z1TU0003P","15376327"]
["APL-Z1TR0003R","15376326","B","A","CTO BO","Y","APL-Z1TR0003R","15376326"]
["APL-Z1TQ0003P","15376325","B","A","CTO BO","Y","APL-Z1TQ0003P","15376325"]
["APL-Z1MK00018","15373862","B","A","CTO BO","Y","APL-Z1MK00018","15373862"]
["APL-Z1MN00018","15373861","B","A","CTO BO","Y","APL-Z1MN00018","15373861"]
["APL-Z1MH0000U","15373860","B","A","CTO BO","Y","APL-Z1MH0000U","15373860"]
["APL-Z1ML0001Y","15373859","B","A","CTO BO","Y","APL-Z1ML0001Y","15373859"]
["APL-Z1LW000TD","15370894","B","A","CTO BO","Y","APL-Z1LW000TD","15370894"]
["APL-Z1L60013Y","15370893","B","A","CTO BO","Y","APL-Z1L60013Y","15370893"]
["APL-Z1KM2112450135","15369441","B","A","CTO BO","Y","APL-Z1KM2112450135","15369441"]
["APL-Z1L0000YR","15369436","B","A","CTO BO","Y","APL-Z1L0000YR","15369436"]
["APL-Z1L6000X7","15369435","B","A","CTO BO","Y","APL-Z1L6000X7","15369435"]
["APL-Z1L00012Q","15368263","B","A","CTO BO","Y","APL-Z1L00012Q","15368263"]
["APL-Z1N100017","15368081","C","D","CTO BO","N","APL-Z1N100017","15368081"]
["APL-Z1LW000RM","15368080","C","D","CTO BO","N","APL-Z1LW000RM","15368080"]
["APL-Z1L6000RU","15368079","C","D","CTO BO","N","APL-Z1L6000RU","15368079"]
["APL-Z1L82002457678","15367329","B","A","CTO BO","Y","APL-Z1L82002457678","15367329"]
["APL-Z1MY00016","15367326","B","A","CTO BO","Y",{"$f":"TRIM(A194)","v":"APL-Z1MY00016"},{"$f":"TRIM(B194)","v":"15367326"}]
["APL-Z1N200016","15367325","B","A","CTO BO","Y","APL-Z1N200016","15367325"]
["APL-Z1MW0001U","15367324","B","A","CTO BO","Y","APL-Z1MW0001U","15367324"]
["APL-Z1MV0002C","15367323","B","A","CTO BO","Y","APL-Z1MV0002C","15367323"]
["APL-Z1MZ00020","15367322","B","A","CTO BO","Y","APL-Z1MZ00020","15367322"]
["APL-Z1LZ2002457004","15367321","B","A","CTO BO","Y","APL-Z1LZ2002457004","15367321"]
["APL-MHW54ZM/A","15366773","B","A","IPHONE ACC 2","Y","APL-MHW54ZM/A","15366773",49]
["APL-MHVT4ZM/A","15366772","B","A","IPHONE ACC 2","Y","APL-MHVT4ZM/A","15366772",49]
["APL-MHVM4ZM/A","15366771","B","A","IPHONE ACC 2","Y","APL-MHVM4ZM/A","15366771",49]
["APL-MHYY4LL/A","15366770","B","A","IPHONE ACC 2","Y","APL-MHYY4LL/A","15366770",59]
["APL-Z1L72112447124","15366749","B","A","CTO BO","Y","APL-Z1L72112447124","15366749"]
["APL-Z1N00001U","15366588","B","A","CTO BO","Y","APL-Z1N00001U","15366588"]
["APL-Z1L600120","15366454","B","A","CTO BO","Y","APL-Z1L600120","15366454"]
["APL-Z1MY000S3","15366448","B","A","CTO BO","Y","APL-Z1MY000S3","15366448"]
["APL-Z1N12112445215","15365491","B","A","CTO BO","Y","APL-Z1N12112445215","15365491"]
["APL-Z1KJ0012E","15359398","B","A","CTO BO","Y","APL-Z1KJ0012E","15359398",3849]
["APL-Z1KJ0012W","15359399","B","A","CTO BO","Y","APL-Z1KJ0012W","15359399",3869]
["APL-Z1KJ000VU","15359400","B","A","CTO BO","Y","APL-Z1KJ000VU","15359400",3899]
["APL-Z1KJ00183","15359401","B","A","CTO BO","Y","APL-Z1KJ00183","15359401",3919]
["APL-Z1KJ000VX","15359402","B","A","CTO BO","Y","APL-Z1KJ000VX","15359402",4049]
["APL-Z1KJ000VE","15359403","B","A","CTO BO","Y","APL-Z1KJ000VE","15359403",4069]
["APL-Z1KJ000X7","15359396","B","A","CTO BO","Y","APL-Z1KJ000X7","15359396",2849]
["APL-Z1KJ000Y2","15359397","B","A","CTO BO","Y","APL-Z1KJ000Y2","15359397",2869]
["APL-Z1KJ000RT","15359388","B","A","CTO BO","Y","APL-Z1KJ000RT","15359388",2549]
["APL-Z1KJ000RR","15359389","B","A","CTO BO","Y","APL-Z1KJ000RR","15359389",2569]
["APL-Z1KJ0009Z","15359390","B","A","CTO BO","Y","APL-Z1KJ0009Z","15359390",2499]
["APL-Z1KJ000SK","15359391","B","A","CTO BO","Y","APL-Z1KJ000SK","15359391",2519]
["APL-Z1KJ000T1","15359392","B","A","CTO BO","Y","APL-Z1KJ000T1","15359392",2649]
["APL-Z1KJ000RX","15359393","B","A","CTO BO","Y","APL-Z1KJ000RX","15359393",2669]
["APL-Z1KJ000S1","15359394","B","A","CTO BO","Y","APL-Z1KJ000S1","15359394",2699]
["APL-Z1KJ000S3","15359395","B","A","CTO BO","Y","APL-Z1KJ000S3","15359395",2719]
["APL-Z1KM000RL","15359378","B","A","CTO BO","Y","APL-Z1KM000RL","15359378",3919]
["APL-Z1KM000ZT","15359379","B","A","CTO BO","Y","APL-Z1KM000ZT","15359379",4049]
["APL-Z1KM000TT","15359380","B","A","CTO BO","Y","APL-Z1KM000TT","15359380",4069]
["APL-Z1KJ000AH","15359381","B","A","CTO BO","Y","APL-Z1KJ000AH","15359381",2019]
["APL-Z1KJ0009X","15359382","B","A","CTO BO","Y","APL-Z1KJ0009X","15359382",2149]
["APL-Z1KJ000QM","15359383","B","A","CTO BO","Y","APL-Z1KJ000QM","15359383",2169]
["APL-Z1KJ000RN","15359384","B","A","CTO BO","Y","APL-Z1KJ000RN","15359384",2219]
["APL-Z1KJ000S2","15359385","B","A","CTO BO","Y","APL-Z1KJ000S2","15359385",2349]
["APL-Z1KJ000RQ","15359386","B","A","CTO BO","Y","APL-Z1KJ000RQ","15359386",2369]
["APL-Z1KJ000RG","15359387","B","A","CTO BO","Y","APL-Z1KJ000RG","15359387",2419]
["APL-Z1KJ000T6","15359370","B","A","CTO BO","Y","APL-Z1KJ000T6","15359370",3049]
["APL-Z1KJ000XL","15359371","B","A","CTO BO","Y","APL-Z1KJ000XL","15359371",3069]
["APL-Z1KJ000A0","15359372","B","A","CTO BO","Y","APL-Z1KJ000A0","15359372",3499]
["APL-Z1KJ0016W","15359373","B","A","CTO BO","Y","APL-Z1KJ0016W","15359373",2519]
["APL-Z1KJ001FU","15359374","B","A","CTO BO","Y","APL-Z1KJ001FU","15359374",3649]
["APL-Z1KJ000WR","15359375","B","A","CTO BO","Y","APL-Z1KJ000WR","15359375",3669]
["APL-Z1KJ000U1","15359376","B","A","CTO BO","Y","APL-Z1KJ000U1","15359376",3699]
["APL-Z1KJ000VP","15359377","B","A","CTO BO","Y","APL-Z1KJ000VP","15359377",3719]
["APL-Z1KM000V6","15359363","B","A","CTO BO","Y","APL-Z1KM000V6","15359363",2849]
["APL-Z1KM000U2","15359364","B","A","CTO BO","Y","APL-Z1KM000U2","15359364",2869]
["APL-Z1KM000T3","15359365","B","A","CTO BO","Y","APL-Z1KM000T3","15359365",2899]
["APL-Z1KM000RE","15359366","B","A","CTO BO","Y","APL-Z1KM000RE","15359366",2919]
["APL-Z1KM000XA","15359367","B","A","CTO BO","Y","APL-Z1KM000XA","15359367",3049]
["APL-Z1KJ000RJ","15359368","B","A","CTO BO","Y","APL-Z1KJ000RJ","15359368",2899]
["APL-Z1KJ000RY","15359369","B","A","CTO BO","Y","APL-Z1KJ000RY","15359369",2919]
["APL-Z1KM000SS","15359358","B","A","CTO BO","Y","APL-Z1KM000SS","15359358",2519]
["APL-Z1KM000UF","15359359","B","A","CTO BO","Y","APL-Z1KM000UF","15359359",2649]
["APL-Z1KM000TZ","15359360","B","A","CTO BO","Y","APL-Z1KM000TZ","15359360",2669]
["APL-Z1KM000RG","15359361","B","A","CTO BO","Y","APL-Z1KM000RG","15359361",2699]
["APL-Z1KM0012W","15359362","B","A","CTO BO","Y","APL-Z1KM0012W","15359362",2719]
["APL-Z1KM000YJ","15359352","B","A","CTO BO","Y","APL-Z1KM000YJ","15359352",3669]
["APL-Z1KM000XH","15359353","B","A","CTO BO","Y","APL-Z1KM000XH","15359353",3699]
["APL-Z1KM001EL","15359354","B","A","CTO BO","Y","APL-Z1KM001EL","15359354",3719]
["APL-Z1KM001EM","15359355","B","A","CTO BO","Y",{"$f":"TRIM(A258)","v":"APL-Z1KM001EM"},{"$f":"TRIM(B258)","v":"15359355"},3849]
["APL-Z1KM001EN","15359356","B","A","CTO BO","Y","APL-Z1KM001EN","15359356",3869]
["APL-Z1KM0010Y","15359357","B","A","CTO BO","Y","APL-Z1KM0010Y","15359357",3899]
["APL-Z1KM000AH","15359338","B","A","CTO BO","Y","APL-Z1KM000AH","15359338",2019]
["APL-Z1KM0009T","15359339","B","A","CTO BO","Y","APL-Z1KM0009T","15359339",2149]
["APL-Z1KM000QM","15359340","B","A","CTO BO","Y","APL-Z1KM000QM","15359340",2169]
["APL-Z1KM000R7","15359341","B","A","CTO BO","Y","APL-Z1KM000R7","15359341",2219]
["APL-Z1KM000R9","15359342","B","A","CTO BO","Y","APL-Z1KM000R9","15359342",2349]
["APL-Z1KM000RB","15359343","B","A","CTO BO","Y","APL-Z1KM000RB","15359343",2369]
["APL-Z1KM000RS","15359344","B","A","CTO BO","Y","APL-Z1KM000RS","15359344",2419]
["APL-Z1KM000RK","15359345","B","A","CTO BO","Y","APL-Z1KM000RK","15359345",2549]
["APL-Z1KM000T8","15359346","B","A","CTO BO","Y","APL-Z1KM000T8","15359346",2569]
["APL-Z1KM0009V","15359347","B","A","CTO BO","Y","APL-Z1KM0009V","15359347",2499]
["APL-Z1KM000XJ","15359348","B","A","CTO BO","Y","APL-Z1KM000XJ","15359348",3069]
["APL-Z1KM0009W","15359349","B","A","CTO BO","Y","APL-Z1KM0009W","15359349",3499]
["APL-Z1KM0010M","15359350","B","A","CTO BO","Y","APL-Z1KM0010M","15359350",2519]
["APL-Z1KM001CZ","15359351","B","A","CTO BO","Y","APL-Z1KM001CZ","15359351",3649]
["APL-Z1MZ001DV","15358735","B","A","CTO BO","Y","APL-Z1MZ001DV","15358735",7149]
["APL-Z1MZ0002F","15358736","B","A","CTO BO","Y","APL-Z1MZ0002F","15358736",5999]
["APL-Z1MZ001E6","15358737","B","A","CTO BO","Y","APL-Z1MZ001E6","15358737",6149]
["APL-Z1MZ0002L","15358738","B","A","CTO BO","Y","APL-Z1MZ0002L","15358738",6399]
["APL-Z1MZ001E7","15358739","B","A","CTO BO","Y","APL-Z1MZ001E7","15358739",6549]
["APL-Z1MZ001DU","15358740","B","A","CTO BO","Y","APL-Z1MZ001DU","15358740",8149]
["APL-Z1MZ0002B","15358741","B","A","CTO BO","Y","APL-Z1MZ0002B","15358741",7999]
["APL-Z1MZ001E8","15358742","B","A","CTO BO","Y","APL-Z1MZ001E8","15358742",8149]
["APL-Z1MZ0002M","15358743","B","A","CTO BO","Y","APL-Z1MZ0002M","15358743",8399]
["APL-Z1MZ001E9","15358744","B","A","CTO BO","Y","APL-Z1MZ001E9","15358744",8549]
["APL-Z1MZ001B9","15358732","B","A","CTO BO","Y","APL-Z1MZ001B9","15358732",4649]
["APL-Z1MZ0002P","15358733","B","A","CTO BO","Y","APL-Z1MZ0002P","15358733",9999]
["APL-Z1MZ001EA","15358734","B","A","CTO BO","Y","APL-Z1MZ001EA","15358734",10149]
["APL-Z1MZ0002V","15358723","B","A","CTO BO","Y","APL-Z1MZ0002V","15358723",5149]
["APL-Z1MZ001AJ","15358724","B","A","STOCKED CTO","Y","APL-Z1MZ001AJ","15358724",3749]
["APL-Z1MZ00025","15358725","B","A","STOCKED CTO","Y","APL-Z1MZ00025","15358725",3999]
["APL-Z1MZ001DR","15358726","B","A","CTO BO","Y","APL-Z1MZ001DR","15358726",4149]
["APL-Z1MZ0002C","15358727","B","A","CTO BO","Y","APL-Z1MZ0002C","15358727",3499]
["APL-Z1MZ001AQ","15358728","B","A","CTO BO","Y","APL-Z1MZ001AQ","15358728",3649]
["APL-Z1MZ001AR","15358729","B","A","CTO BO","Y","APL-Z1MZ001AR","15358729",4249]
["APL-Z1MZ001DP","15358730","B","A","CTO BO","Y","APL-Z1MZ001DP","15358730",4649]
["APL-Z1MZ0002D","15358731","B","A","CTO BO","Y","APL-Z1MZ0002D","15358731",4499]
["APL-Z1MZ0002H","15358714","B","A","CTO BO","Y","APL-Z1MZ0002H","15358714",5099]
["APL-Z1MZ001BL","15358715","B","A","CTO BO","Y","APL-Z1MZ001BL","15358715",5249]
["APL-Z1MZ0002K","15358716","B","A","CTO BO","Y","APL-Z1MZ0002K","15358716",5499]
["APL-Z1MZ001E3","15358717","B","A","CTO BO","Y","APL-Z1MZ001E3","15358717",5649]
["APL-Z1MZ0002T","15358718","B","A","CTO BO","Y","APL-Z1MZ0002T","15358718",4549]
["APL-Z1MZ0002E","15358719","B","A","CTO BO","Y","APL-Z1MZ0002E","15358719",5399]
["APL-Z1MZ001E4","15358720","B","A","CTO BO","Y","APL-Z1MZ001E4","15358720",5549]
["APL-Z1MZ00027","15358721","B","A","CTO BO","Y","APL-Z1MZ00027","15358721",7399]
["APL-Z1MZ001E5","15358722","B","A","CTO BO","Y","APL-Z1MZ001E5","15358722",7549]
["APL-Z1MV001C7","15358704","B","A","CTO BO","Y","APL-Z1MV001C7","15358704",6549]
["APL-Z1MV00030","15358705","B","A","CTO BO","Y","APL-Z1MV00030","15358705",7999]
["APL-Z1MV001CG","15358706","B","A","CTO BO","Y","APL-Z1MV001CG","15358706",8149]
["APL-Z1MV0002P","15358707","B","A","CTO BO","Y","APL-Z1MV0002P","15358707",7999]
["APL-Z1MV001CH","15358708","B","A","CTO BO","Y","APL-Z1MV001CH","15358708",8149]
["APL-Z1MV0002Z","15358709","B","A","CTO BO","Y","APL-Z1MV0002Z","15358709",8399]
["APL-Z1MV001C8","15358710","B","A","CTO BO","Y","APL-Z1MV001C8","15358710",8549]
["APL-Z1MV00031","15358711","B","A","CTO BO","Y","APL-Z1MV00031","15358711",9999]
["APL-Z1MV001C6","15358712","B","A","CTO BO","Y","APL-Z1MV001C6","15358712",10149]
["APL-Z1MZ0001T","15358713","B","A","CTO BO","Y","APL-Z1MZ0001T","15358713",3149]
["APL-Z1MV001CB","15358694","B","A","CTO BO","Y","APL-Z1MV001CB","15358694",5549]
["APL-Z1MV0002K","15358695","B","A","CTO BO","Y","APL-Z1MV0002K","15358695",7399]
["APL-Z1MV001CC","15358696","B","A","CTO BO","Y","APL-Z1MV001CC","15358696",7549]
["APL-Z1MV00033","15358697","B","A","CTO BO","Y","APL-Z1MV00033","15358697",5149]
["APL-Z1MV001CF","15358698","B","A","CTO BO","Y","APL-Z1MV001CF","15358698",5549]
["APL-Z1MV0002N","15358699","B","A","CTO BO","Y","APL-Z1MV0002N","15358699",6999]
["APL-Z1MV001CD","15358700","B","A","CTO BO","Y",{"$f":"TRIM(A322)","v":"APL-Z1MV001CD"},{"$f":"TRIM(B322)","v":"15358700"},7149]
["APL-Z1MV0002X","15358701","B","A","CTO BO","Y","APL-Z1MV0002X","15358701",5999]
["APL-Z1MV001CE","15358702","B","A","CTO BO","Y","APL-Z1MV001CE","15358702",6149]
["APL-Z1MV0002Y","15358703","B","A","CTO BO","Y","APL-Z1MV0002Y","15358703",6399]
["APL-Z1ML002XR","15358688","B","A","CTO BO","Y","APL-Z1ML002XR","15358688",7249]
["APL-Z1ML00054","15358689","B","A","CTO BO","Y","APL-Z1ML00054","15358689",4699]
["APL-Z1ML0005R","15358690","B","A","CTO BO","Y","APL-Z1ML0005R","15358690",4849]
["APL-Z1ML002XT","15358691","B","A","STOCKED CTO","Y","APL-Z1ML002XT","15358691",5249]
["APL-Z1ML00056","15358692","B","A","CTO BO","Y","APL-Z1ML00056","15358692",6699]
["APL-Z1ML002XU","15358693","B","A","CTO BO","Y","APL-Z1ML002XU","15358693",6849]
["APL-Z1MV001CA","15358681","B","A","CTO BO","Y","APL-Z1MV001CA","15358681",5649]
["APL-Z1MV00032","15358682","B","A","CTO BO","Y","APL-Z1MV00032","15358682",4549]
["APL-Z1MV0002W","15358683","B","A","CTO BO","Y","APL-Z1MV0002W","15358683",5399]
["APL-Z1ML0005Q","15358684","B","A","CTO BO","Y","APL-Z1ML0005Q","15358684",4249]
["APL-Z1ML0005C","15358685","B","A","CTO BO","Y","APL-Z1ML0005C","15358685",5099]
["APL-Z1ML002XQ","15358686","B","A","CTO BO","Y","APL-Z1ML002XQ","15358686",5249]
["APL-Z1ML00053","15358687","B","A","CTO BO","Y","APL-Z1ML00053","15358687",7099]
["APL-Z1MV0002U","15358674","B","A","CTO BO","Y","APL-Z1MV0002U","15358674",4499]
["APL-Z1MV001CL","15358675","B","A","CTO BO","Y","APL-Z1MV001CL","15358675",4649]
["APL-Z1MV0002R","15358676","B","A","CTO BO","Y","APL-Z1MV0002R","15358676",4499]
["APL-Z1MV001A4","15358677","B","A","CTO BO","Y","APL-Z1MV001A4","15358677",4649]
["APL-Z1MV0002T","15358678","B","A","CTO BO","Y","APL-Z1MV0002T","15358678",5099]
["APL-Z1MV001CM","15358679","B","A","CTO BO","Y","APL-Z1MV001CM","15358679",5249]
["APL-Z1MV0002V","15358680","B","A","CTO BO","Y","APL-Z1MV0002V","15358680",5499]
["APL-Z1MH002Q9","15358665","B","A","CTO BO","Y","APL-Z1MH002Q9","15358665",8249]
["APL-Z1MH0004Z","15358666","B","A","CTO BO","Y","APL-Z1MH0004Z","15358666",9699]
["APL-Z1MH002QA","15358667","B","A","CTO BO","Y","APL-Z1MH002QA","15358667",9849]
["APL-Z1ML0002T","15358668","B","A","CTO BO","Y","APL-Z1ML0002T","15358668",2519]
["APL-Z1ML0001R","15358669","B","A","STOCKED CTO","Y","APL-Z1ML0001R","15358669",2649]
["APL-Z1ML002J0","15358670","B","A","CTO BO","Y","APL-Z1ML002J0","15358670",2669]
["APL-Z1ML00029","15358671","B","A","CTO BO","Y","APL-Z1ML00029","15358671",3249]
["APL-Z1ML002JL","15358672","B","A","CTO BO","Y","APL-Z1ML002JL","15358672",3269]
["APL-Z1ML002HY","15358673","B","A","CTO BO","Y","APL-Z1ML002HY","15358673",3019]
["APL-Z1MV0002S","15358663","B","A","CTO BO","Y","APL-Z1MV0002S","15358663",4099]
["APL-Z1MV001CK","15358664","B","A","CTO BO","Y","APL-Z1MV001CK","15358664",4249]
["APL-Z1ML0005K","15358655","B","A","CTO BO","Y","APL-Z1ML0005K","15358655",9699]
["APL-Z1ML002ZT","15358656","B","A","CTO BO","Y","APL-Z1ML002ZT","15358656",9849]
["APL-Z1MV00025","15358657","B","A","CTO BO","Y","APL-Z1MV00025","15358657",3149]
["APL-Z1MV001C2","15358658","B","A","CTO BO","Y","APL-Z1MV001C2","15358658",3749]
["APL-Z1MV0002H","15358659","B","A","CTO BO","Y","APL-Z1MV0002H","15358659",3999]
["APL-Z1MV001CJ","15358660","B","A","CTO BO","Y","APL-Z1MV001CJ","15358660",4149]
["APL-Z1MV0002Q","15358661","B","A","CTO BO","Y","APL-Z1MV0002Q","15358661",3499]
["APL-Z1MV001A0","15358662","B","A","CTO BO","Y","APL-Z1MV001A0","15358662",3649]
["APL-Z1MH0004K","15358642","B","A","STOCKED CTO","Y","APL-Z1MH0004K","15358642",5099]
["APL-Z1MH002QG","15358643","B","A","CTO BO","Y","APL-Z1MH002QG","15358643",5249]
["APL-Z1MH0004L","15358644","B","A","CTO BO","Y","APL-Z1MH0004L","15358644",6699]
["APL-Z1ML00057","15358651","B","A","CTO BO","Y","APL-Z1ML00057","15358651",7699]
["APL-Z1ML002ZS","15358652","B","A","CTO BO","Y","APL-Z1ML002ZS","15358652",7849]
["APL-Z1ML0005J","15358653","B","A","CTO BO","Y","APL-Z1ML0005J","15358653",8099]
["APL-Z1ML002Y6","15358654","B","A","CTO BO","Y","APL-Z1ML002Y6","15358654",8249]
["APL-Z1MH00054","15358635","B","A","CTO BO","Y","APL-Z1MH00054","15358635",4249]
["APL-Z1MH0004U","15358636","B","A","CTO BO","Y","APL-Z1MH0004U","15358636",5099]
["APL-Z1MH002QE","15358637","B","A","CTO BO","Y","APL-Z1MH002QE","15358637",5249]
["APL-Z1MH0004H","15358638","B","A","CTO BO","Y","APL-Z1MH0004H","15358638",7099]
["APL-Z1MH002QF","15358639","B","A","CTO BO","Y","APL-Z1MH002QF","15358639",7249]
["APL-Z1MH0004J","15358640","B","A","CTO BO","Y","APL-Z1MH0004J","15358640",4699]
["APL-Z1MH00057","15358641","B","A","CTO BO","Y","APL-Z1MH00057","15358641",4849]
["APL-Z1ML0005D","15358645","B","A","CTO BO","Y","APL-Z1ML0005D","15358645",5699]
["APL-Z1ML002XV","15358646","B","A","CTO BO","Y","APL-Z1ML002XV","15358646",5849]
["APL-Z1ML0005G","15358647","B","A","CTO BO","Y","APL-Z1ML0005G","15358647",6099]
["APL-Z1ML002XW","15358648","B","A","CTO BO","Y","APL-Z1ML002XW","15358648",6249]
["APL-Z1ML0005H","15358649","B","A","CTO BO","Y","APL-Z1ML0005H","15358649",7699]
["APL-Z1ML002XX","15358650","B","A","CTO BO","Y","APL-Z1ML002XX","15358650",7849]
["APL-Z1MH0004F","15358622","B","A","STOCKED CTO","Y","APL-Z1MH0004F","15358622",3699]
["APL-Z1MH002K8","15358623","B","A","CTO BO","Y",{"$f":"TRIM(A386)","v":"APL-Z1MH002K8"},{"$f":"TRIM(B386)","v":"15358623"},3849]
["APL-Z1MH002QU","15358624","B","A","CTO BO","Y","APL-Z1MH002QU","15358624",3349]
["APL-Z1ML00059","15358625","B","A","CTO BO","Y","APL-Z1ML00059","15358625",3799]
["APL-Z1ML002Y2","15358626","B","A","CTO BO","Y","APL-Z1ML002Y2","15358626",3949]
["APL-Z1ML0005A","15358627","B","A","STOCKED CTO","Y","APL-Z1ML0005A","15358627",4199]
["APL-Z1ML002Y3","15358628","B","A","CTO BO","Y","APL-Z1ML002Y3","15358628",4349]
["APL-Z1ML0005B","15358629","B","A","CTO BO","Y","APL-Z1ML0005B","15358629",4199]
["APL-Z1ML002Y4","15358630","B","A","CTO BO","Y","APL-Z1ML002Y4","15358630",4349]
["APL-Z1ML0005E","15358631","B","A","CTO BO","Y","APL-Z1ML0005E","15358631",4799]
["APL-Z1ML002XN","15358632","B","A","CTO BO","Y","APL-Z1ML002XN","15358632",4949]
["APL-Z1ML0005F","15358633","B","A","CTO BO","Y","APL-Z1ML0005F","15358633",5199]
["APL-Z1ML002XP","15358634","B","A","CTO BO","Y","APL-Z1ML002XP","15358634",5349]
["APL-Z1MH002KP","15358615","B","A","CTO BO","Y","APL-Z1MH002KP","15358615",4619]
["APL-Z1MH002QT","15358616","B","A","CTO BO","Y","APL-Z1MH002QT","15358616",4749]
["APL-Z1MH002FC","15358617","B","A","CTO BO","Y","APL-Z1MH002FC","15358617",4769]
["APL-Z1MH0004D","15358618","B","A","CTO BO","Y","APL-Z1MH0004D","15358618",2699]
["APL-Z1MH00051","15358619","B","A","CTO BO","Y","APL-Z1MH00051","15358619",2849]
["APL-Z1MH0004E","15358620","B","A","STOCKED CTO","Y","APL-Z1MH0004E","15358620",3299]
["APL-Z1MH002E6","15358621","B","A","CTO BO","Y","APL-Z1MH002E6","15358621",3449]
["APL-Z1ML00026","15358605","B","A","CTO BO","Y","APL-Z1ML00026","15358605",4599]
["APL-Z1ML002XZ","15358606","B","A","CTO BO","Y","APL-Z1ML002XZ","15358606",4619]
["APL-Z1ML0002B","15358607","B","A","CTO BO","Y","APL-Z1ML0002B","15358607",4749]
["APL-Z1ML002HJ","15358608","B","A","CTO BO","Y","APL-Z1ML002HJ","15358608",4769]
["APL-Z1ML0004Z","15358609","B","A","CTO BO","Y","APL-Z1ML0004Z","15358609",2699]
["APL-Z1ML0005P","15358610","B","A","CTO BO","Y","APL-Z1ML0005P","15358610",2849]
["APL-Z1ML002HC","15358611","B","A","STOCKED CTO","Y","APL-Z1ML002HC","15358611",3449]
["APL-Z1ML00051","15358612","B","A","STOCKED CTO","Y","APL-Z1ML00051","15358612",3699]
["APL-Z1ML002PF","15358613","B","A","CTO BO","Y","APL-Z1ML002PF","15358613",3849]
["APL-Z1ML002Y1","15358614","B","A","CTO BO","Y","APL-Z1ML002Y1","15358614",3349]
["APL-Z1MH0001P","15358600","B","A","CTO BO","Y","APL-Z1MH0001P","15358600",3999]
["APL-Z1MH002F7","15358601","B","A","CTO BO","Y","APL-Z1MH002F7","15358601",4019]
["APL-Z1MH002EW","15358602","B","A","CTO BO","Y","APL-Z1MH002EW","15358602",4149]
["APL-Z1MH002EX","15358603","B","A","CTO BO","Y","APL-Z1MH002EX","15358603",4169]
["APL-Z1MH0001R","15358604","B","A","CTO BO","Y","APL-Z1MH0001R","15358604",4599]
["APL-Z1MH002EU","15358595","B","A","CTO BO","Y","APL-Z1MH002EU","15358595",3169]
["APL-Z1MH0001Q","15358596","B","A","CTO BO","Y","APL-Z1MH0001Q","15358596",3599]
["APL-Z1MH002EN","15358597","B","A","CTO BO","Y","APL-Z1MH002EN","15358597",3619]
["APL-Z1MH002EZ","15358598","B","A","CTO BO","Y","APL-Z1MH002EZ","15358598",3749]
["APL-Z1MH002F6","15358599","B","A","CTO BO","Y","APL-Z1MH002F6","15358599",3769]
["APL-Z1ML00027","15358585","B","A","CTO BO","Y","APL-Z1ML00027","15358585",3149]
["APL-Z1ML002K7","15358586","B","A","CTO BO","Y","APL-Z1ML002K7","15358586",3169]
["APL-Z1ML00025","15358587","B","A","CTO BO","Y","APL-Z1ML00025","15358587",3599]
["APL-Z1ML002HA","15358588","B","A","CTO BO","Y","APL-Z1ML002HA","15358588",3619]
["APL-Z1ML0002A","15358589","B","A","CTO BO","Y","APL-Z1ML0002A","15358589",3749]
["APL-Z1ML002J3","15358590","B","A","CTO BO","Y","APL-Z1ML002J3","15358590",3769]
["APL-Z1ML00023","15358591","B","A","CTO BO","Y","APL-Z1ML00023","15358591",3999]
["APL-Z1ML002K4","15358592","B","A","CTO BO","Y","APL-Z1ML002K4","15358592",4019]
["APL-Z1ML00028","15358593","B","A","CTO BO","Y","APL-Z1ML00028","15358593",4149]
["APL-Z1ML002XY","15358594","B","A","CTO BO","Y","APL-Z1ML002XY","15358594",4169]
["APL-Z1MH002E2","15358580","B","A","CTO BO","Y","APL-Z1MH002E2","15358580",3119]
["APL-Z1MH002EH","15358581","B","A","CTO BO","Y","APL-Z1MH002EH","15358581",3249]
["APL-Z1MH002E1","15358582","B","A","CTO BO","Y","APL-Z1MH002E1","15358582",3269]
["APL-Z1MH002EL","15358583","B","A","CTO BO","Y","APL-Z1MH002EL","15358583",3019]
["APL-Z1MH002EG","15358584","B","A","CTO BO","Y","APL-Z1MH002EG","15358584",3149]
["APL-Z1MH002QM","15358571","B","A","CTO BO","Y","APL-Z1MH002QM","15358571",7849]
["APL-Z1MH0004M","15358572","B","A","CTO BO","Y","APL-Z1MH0004M","15358572",7699]
["APL-Z1MH002Q8","15358573","B","A","CTO BO","Y","APL-Z1MH002Q8","15358573",7849]
["APL-Z1MH0004X","15358574","B","A","CTO BO","Y","APL-Z1MH0004X","15358574",8099]
["APL-Z1LT000V7","15358575","B","A","CTO BO","Y","APL-Z1LT000V7","15358575",3719]
["APL-Z1MH0001T","15358576","B","A","CTO BO","Y","APL-Z1MH0001T","15358576",2519]
["APL-Z1MH0000M","15358577","B","A","CTO BO","Y","APL-Z1MH0000M","15358577",2649]
["APL-Z1MH002ES","15358578","B","A","CTO BO","Y","APL-Z1MH002ES","15358578",2669]
["APL-Z1MH0000Y","15358579","B","A","STOCKED CTO","Y","APL-Z1MH0000Y","15358579",3099]
["APL-Z1MH002QH","15358565","B","A","CTO BO","Y","APL-Z1MH002QH","15358565",6849]
["APL-Z1MH0004V","15358566","B","A","CTO BO","Y",{"$f":"TRIM(A450)","v":"APL-Z1MH0004V"},{"$f":"TRIM(B450)","v":"15358566"},5699]
["APL-Z1MH002QK","15358567","B","A","CTO BO","Y","APL-Z1MH002QK","15358567",5849]
["APL-Z1MH0004W","15358568","B","A","CTO BO","Y","APL-Z1MH0004W","15358568",6099]
["APL-Z1MH002QL","15358569","B","A","CTO BO","Y","APL-Z1MH002QL","15358569",6249]
["APL-Z1MH0004Y","15358570","B","A","CTO BO","Y","APL-Z1MH0004Y","15358570",7699]
["APL-Z1LT000VL","15358545","B","A","CTO BO","Y","APL-Z1LT000VL","15358545",2719]
["APL-Z1LT000VM","15358546","B","A","CTO BO","Y","APL-Z1LT000VM","15358546",2719]
["APL-Z1LT000RH","15358547","B","A","CTO BO","Y","APL-Z1LT000RH","15358547",3299]
["APL-Z1LT000VN","15358548","B","A","CTO BO","Y","APL-Z1LT000VN","15358548",3319]
["APL-Z1LT000VP","15358549","B","A","CTO BO","Y","APL-Z1LT000VP","15358549",3319]
["APL-Z1LT000RL","15358550","B","A","CTO BO","Y","APL-Z1LT000RL","15358550",3499]
["APL-Z1LT000V4","15358551","B","A","CTO BO","Y","APL-Z1LT000V4","15358551",3519]
["APL-Z1LT000V5","15358552","B","A","CTO BO","Y","APL-Z1LT000V5","15358552",3519]
["APL-Z1LT000RP","15358553","B","A","CTO BO","Y","APL-Z1LT000RP","15358553",3699]
["APL-Z1LT000V6","15358554","B","A","CTO BO","Y","APL-Z1LT000V6","15358554",3719]
["APL-Z1MH0004Q","15358555","B","A","CTO BO","Y","APL-Z1MH0004Q","15358555",3799]
["APL-Z1MH002QV","15358556","B","A","CTO BO","Y","APL-Z1MH002QV","15358556",3949]
["APL-Z1MH0004S","15358557","B","A","CTO BO","Y","APL-Z1MH0004S","15358557",4199]
["APL-Z1MH002QW","15358558","B","A","CTO BO","Y","APL-Z1MH002QW","15358558",4349]
["APL-Z1MH0004P","15358559","B","A","CTO BO","Y","APL-Z1MH0004P","15358559",4199]
["APL-Z1MH002QX","15358560","B","A","CTO BO","Y","APL-Z1MH002QX","15358560",4349]
["APL-Z1MH0004R","15358561","B","A","CTO BO","Y","APL-Z1MH0004R","15358561",4799]
["APL-Z1MH002QB","15358562","B","A","CTO BO","Y","APL-Z1MH002QB","15358562",4949]
["APL-Z1MH0004T","15358563","B","A","CTO BO","Y","APL-Z1MH0004T","15358563",5199]
["APL-Z1MH002QC","15358564","B","A","CTO BO","Y","APL-Z1MH002QC","15358564",5349]
["APL-Z1LT000VK","15358543","B","A","CTO BO","Y","APL-Z1LT000VK","15358543",2519]
["APL-Z1LT000RN","15358544","B","A","CTO BO","Y","APL-Z1LT000RN","15358544",2699]
["APL-Z1LT000T2","15358530","B","A","CTO BO","Y","APL-Z1LT000T2","15358530",1919]
["APL-Z1LT000VA","15358531","B","A","CTO BO","Y","APL-Z1LT000VA","15358531",1819]
["APL-Z1LT000VB","15358532","B","A","CTO BO","Y","APL-Z1LT000VB","15358532",1819]
["APL-Z1LT000VC","15358533","B","A","CTO BO","Y","APL-Z1LT000VC","15358533",2019]
["APL-Z1LT000VD","15358534","B","A","CTO BO","Y","APL-Z1LT000VD","15358534",2019]
["APL-Z1LT000RM","15358535","B","A","CTO BO","Y","APL-Z1LT000RM","15358535",2199]
["APL-Z1LT000VE","15358536","B","A","CTO BO","Y","APL-Z1LT000VE","15358536",2219]
["APL-Z1LT000VF","15358537","B","A","CTO BO","Y","APL-Z1LT000VF","15358537",2219]
["APL-Z1LT000RG","15358538","B","A","CTO BO","Y","APL-Z1LT000RG","15358538",2299]
["APL-Z1LT000VG","15358539","B","A","CTO BO","Y","APL-Z1LT000VG","15358539",2319]
["APL-Z1LT000VH","15358540","B","A","CTO BO","Y","APL-Z1LT000VH","15358540",2319]
["APL-Z1LT000RK","15358541","B","A","CTO BO","Y","APL-Z1LT000RK","15358541",2499]
["APL-Z1LT000VJ","15358542","B","A","CTO BO","Y","APL-Z1LT000VJ","15358542",2519]
["APL-Z1LT000RD","15358525","B","A","CTO BO","Y","APL-Z1LT000RD","15358525",1699]
["APL-Z1LT000V8","15358526","B","A","CTO BO","Y","APL-Z1LT000V8","15358526",1719]
["APL-Z1LT000SW","15358527","B","A","CTO BO","Y","APL-Z1LT000SW","15358527",1719]
["APL-Z1LT000RE","15358528","B","A","CTO BO","Y","APL-Z1LT000RE","15358528",1899]
["APL-Z1LT000UV","15358529","B","A","CTO BO","Y","APL-Z1LT000UV","15358529",1919]
["APL-Z1LQ000SY","15358507","B","A","CTO BO","Y","APL-Z1LQ000SY","15358507",1919]
["APL-Z1LQ000WN","15358508","B","A","CTO BO","Y","APL-Z1LQ000WN","15358508",1819]
["APL-Z1LQ000SX","15358509","B","A","CTO BO","Y","APL-Z1LQ000SX","15358509",1819]
["APL-Z1LQ000WP","15358510","B","A","CTO BO","Y","APL-Z1LQ000WP","15358510",2019]
["APL-Z1LQ000SZ","15358511","B","A","CTO BO","Y","APL-Z1LQ000SZ","15358511",2019]
["APL-Z1LQ000RN","15358512","B","A","CTO BO","Y","APL-Z1LQ000RN","15358512",2199]
["APL-Z1LQ000WQ","15358513","B","A","CTO BO","Y","APL-Z1LQ000WQ","15358513",2219]
["APL-Z1LQ000SV","15358514","B","A","CTO BO","Y","APL-Z1LQ000SV","15358514",2219]
["APL-Z1LQ000WX","15358515","B","A","CTO BO","Y","APL-Z1LQ000WX","15358515",3319]
["APL-Z1LQ000WY","15358516","B","A","CTO BO","Y","APL-Z1LQ000WY","15358516",3319]
["APL-Z1LQ000RT","15358517","B","A","CTO BO","Y","APL-Z1LQ000RT","15358517",3499]
["APL-Z1LQ000WZ","15358518","B","A","CTO BO","Y","APL-Z1LQ000WZ","15358518",3519]
["APL-Z1LQ000X0","15358519","B","A","CTO BO","Y","APL-Z1LQ000X0","15358519",3519]
["APL-Z1LQ000RU","15358520","B","A","CTO BO","Y","APL-Z1LQ000RU","15358520",3699]
["APL-Z1LQ000X1","15358521","B","A","CTO BO","Y","APL-Z1LQ000X1","15358521",3719]
["APL-Z1LQ000X2","15358522","B","A","CTO BO","Y","APL-Z1LQ000X2","15358522",3719]
["APL-Z1LT000RQ","15358523","B","A","CTO BO","Y","APL-Z1LT000RQ","15358523",1519]
["APL-Z1LT000RS","15358524","B","A","CTO BO","Y","APL-Z1LT000RS","15358524",1519]
["APL-Z1LQ000RF","15358505","B","A","CTO BO","Y","APL-Z1LQ000RF","15358505",1899]
["APL-Z1LQ000WM","15358506","B","A","CTO BO","Y",{"$f":"TRIM(A514)","v":"APL-Z1LQ000WM"},{"$f":"TRIM(B514)","v":"15358506"},1919]
["APL-Z1LQ000WT","15358499","B","A","CTO BO","Y","APL-Z1LQ000WT","15358499",2519]
["APL-Z1LQ000WU","15358500","B","A","CTO BO","Y","APL-Z1LQ000WU","15358500",2519]
["APL-Z1LQ000RR","15358501","B","A","CTO BO","Y","APL-Z1LQ000RR","15358501",2699]
["APL-Z1LQ000WV","15358502","B","A","CTO BO","Y","APL-Z1LQ000WV","15358502",2719]
["APL-Z1LQ000WW","15358503","B","A","CTO BO","Y","APL-Z1LQ000WW","15358503",2719]
["APL-Z1LQ000RS","15358504","B","A","CTO BO","Y","APL-Z1LQ000RS","15358504",3299]
["APL-Z1LQ000VY","15358493","B","A","CTO BO","Y","APL-Z1LQ000VY","15358493",1719]
["APL-Z1LQ000SW","15358494","B","A","CTO BO","Y","APL-Z1LQ000SW","15358494",1719]
["APL-Z1LQ000RP","15358495","B","A","CTO BO","Y","APL-Z1LQ000RP","15358495",2299]
["APL-Z1LQ000WR","15358496","B","A","CTO BO","Y","APL-Z1LQ000WR","15358496",2319]
["APL-Z1LQ000WS","15358497","B","A","CTO BO","Y","APL-Z1LQ000WS","15358497",2319]
["APL-Z1LQ000RQ","15358498","B","A","CTO BO","Y","APL-Z1LQ000RQ","15358498",2499]
["APL-Z1LZ000WK","15358485","B","A","CTO BO","Y","APL-Z1LZ000WK","15358485",3519]
["APL-Z1LZ000WL","15358486","B","A","CTO BO","Y","APL-Z1LZ000WL","15358486",3519]
["APL-Z1LZ000RM","15358487","B","A","CTO BO","Y","APL-Z1LZ000RM","15358487",3699]
["APL-Z1LZ000WM","15358488","B","A","CTO BO","Y","APL-Z1LZ000WM","15358488",3719]
["APL-Z1LZ000WN","15358489","B","A","CTO BO","Y","APL-Z1LZ000WN","15358489",3719]
["APL-Z1LQ000RG","15358490","B","A","CTO BO","Y","APL-Z1LQ000RG","15358490",1519]
["APL-Z1LQ000RJ","15358491","B","A","CTO BO","Y","APL-Z1LQ000RJ","15358491",1519]
["APL-Z1LQ000RE","15358492","B","A","CTO BO","Y","APL-Z1LQ000RE","15358492",1699]
["APL-Z1LZ000WQ","15358475","B","A","CTO BO","Y","APL-Z1LZ000WQ","15358475",1819]
["APL-Z1LZ000WR","15358476","B","A","CTO BO","Y","APL-Z1LZ000WR","15358476",1819]
["APL-Z1LZ000WS","15358477","B","A","CTO BO","Y","APL-Z1LZ000WS","15358477",2019]
["APL-Z1LZ000WT","15358478","B","A","CTO BO","Y","APL-Z1LZ000WT","15358478",2019]
["APL-Z1LZ000Q6","15358479","B","A","CTO BO","Y","APL-Z1LZ000Q6","15358479",2199]
["APL-Z1LZ000WU","15358480","B","A","CTO BO","Y","APL-Z1LZ000WU","15358480",2219]
["APL-Z1LZ000WB","15358481","B","A","CTO BO","Y","APL-Z1LZ000WB","15358481",2219]
["APL-Z1LZ000RG","15358482","B","A","CTO BO","Y","APL-Z1LZ000RG","15358482",2299]
["APL-Z1LZ000WC","15358483","B","A","CTO BO","Y","APL-Z1LZ000WC","15358483",2319]
["APL-Z1LZ000WD","15358484","B","A","CTO BO","Y","APL-Z1LZ000WD","15358484",2319]
["APL-Z1LZ000WE","15358466","B","A","CTO BO","Y","APL-Z1LZ000WE","15358466",2519]
["APL-Z1LZ000SS","15358467","B","A","CTO BO","Y","APL-Z1LZ000SS","15358467",2519]
["APL-Z1LZ000RJ","15358468","B","A","CTO BO","Y","APL-Z1LZ000RJ","15358468",2699]
["APL-Z1LZ000WF","15358469","B","A","CTO BO","Y","APL-Z1LZ000WF","15358469",2719]
["APL-Z1LZ000WG","15358470","B","A","CTO BO","Y","APL-Z1LZ000WG","15358470",2719]
["APL-Z1LZ000RK","15358471","B","A","CTO BO","Y","APL-Z1LZ000RK","15358471",3299]
["APL-Z1LZ000WH","15358472","B","A","CTO BO","Y","APL-Z1LZ000WH","15358472",3319]
["APL-Z1LZ000WJ","15358473","B","A","CTO BO","Y","APL-Z1LZ000WJ","15358473",3319]
["APL-Z1LZ000RL","15358474","B","A","CTO BO","Y","APL-Z1LZ000RL","15358474",3499]
["APL-Z1LY000SY","15358455","B","A","CTO BO","Y","APL-Z1LY000SY","15358455",3719]
["APL-Z1LY000R7","15358456","B","A","CTO BO","Y","APL-Z1LY000R7","15358456",3719]
["APL-Z1LZ000RN","15358457","B","A","CTO BO","Y","APL-Z1LZ000RN","15358457",1519]
["APL-Z1LZ000RP","15358458","B","A","CTO BO","Y","APL-Z1LZ000RP","15358458",1519]
["APL-Z1LZ000RC","15358459","B","A","CTO BO","Y","APL-Z1LZ000RC","15358459",1699]
["APL-Z1LZ000UY","15358460","B","A","CTO BO","Y","APL-Z1LZ000UY","15358460",1719]
["APL-Z1LZ000ST","15358461","B","A","CTO BO","Y","APL-Z1LZ000ST","15358461",1719]
["APL-Z1LZ000RD","15358462","B","A","CTO BO","Y","APL-Z1LZ000RD","15358462",1899]
["APL-Z1LZ000VT","15358463","B","A","CTO BO","Y","APL-Z1LZ000VT","15358463",1919]
["APL-Z1LZ000SX","15358464","B","A","CTO BO","Y","APL-Z1LZ000SX","15358464",1919]
["APL-Z1LZ000RH","15358465","B","A","CTO BO","Y","APL-Z1LZ000RH","15358465",2499]
["APL-Z1LY000RF","15358443","B","A","CTO BO","Y","APL-Z1LY000RF","15358443",2519]
["APL-Z1LY000LP","15358444","B","A","CTO BO","Y","APL-Z1LY000LP","15358444",2519]
["APL-Z1LY000KJ","15358445","B","A","CTO BO","Y","APL-Z1LY000KJ","15358445",2699]
["APL-Z1LY000R4","15358446","B","A","CTO BO","Y","APL-Z1LY000R4","15358446",2719]
["APL-Z1LY000LN","15358447","B","A","CTO BO","Y","APL-Z1LY000LN","15358447",2719]
["APL-Z1LX000NH","15358448","B","A","CTO BO","Y","APL-Z1LX000NH","15358448",3299]
["APL-Z1LX000RT","15358449","B","A","CTO BO","Y","APL-Z1LX000RT","15358449",3319]
["APL-Z1LX000RU","15358450","B","A","CTO BO","Y","APL-Z1LX000RU","15358450",3319]
["APL-Z1LY000KH","15358451","B","A","CTO BO","Y","APL-Z1LY000KH","15358451",3499]
["APL-Z1LY000SW","15358452","B","A","CTO BO","Y","APL-Z1LY000SW","15358452",3519]
["APL-Z1LY000SX","15358453","B","A","CTO BO","Y","APL-Z1LY000SX","15358453",3519]
["APL-Z1LY000KK","15358454","B","A","CTO BO","Y","APL-Z1LY000KK","15358454",3699]
["APL-Z1LX000NQ","15358435","B","A","CTO BO","Y","APL-Z1LX000NQ","15358435",1819]
["APL-Z1LY000KF","15358436","B","A","STOCKED CTO","Y",{"$f":"TRIM(A578)","v":"APL-Z1LY000KF"},{"$f":"TRIM(B578)","v":"15358436"},2199]
["APL-Z1LY000RA","15358437","B","A","CTO BO","Y","APL-Z1LY000RA","15358437",2219]
["APL-Z1LY000LK","15358438","B","A","CTO BO","Y","APL-Z1LY000LK","15358438",2219]
["APL-Z1LX000NG","15358439","B","A","CTO BO","Y","APL-Z1LX000NG","15358439",2299]
["APL-Z1LX000RS","15358440","B","A","CTO BO","Y","APL-Z1LX000RS","15358440",2319]
["APL-Z1LX000PW","15358441","B","A","CTO BO","Y","APL-Z1LX000PW","15358441",2319]
["APL-Z1LY000KG","15358442","B","A","CTO BO","Y","APL-Z1LY000KG","15358442",2499]
["APL-Z1L5000KP","15358426","B","A","CTO BO","Y","APL-Z1L5000KP","15358426",2499]
["APL-Z1L5000PJ","15358427","B","A","CTO BO","Y","APL-Z1L5000PJ","15358427",2519]
["APL-Z1L5000MK","15358428","B","A","CTO BO","Y","APL-Z1L5000MK","15358428",2519]
["APL-Z1L4000NR","15358429","B","A","CTO BO","Y","APL-Z1L4000NR","15358429",3099]
["APL-Z1L4000RY","15358430","B","A","CTO BO","Y","APL-Z1L4000RY","15358430",3119]
["APL-Z1L4000RZ","15358431","B","A","CTO BO","Y","APL-Z1L4000RZ","15358431",3119]
["APL-Z1L5000KN","15358432","B","A","CTO BO","Y","APL-Z1L5000KN","15358432",3299]
["APL-Z1L5000PX","15358433","B","A","CTO BO","Y","APL-Z1L5000PX","15358433",3319]
["APL-Z1L5000PY","15358434","B","A","CTO BO","Y","APL-Z1L5000PY","15358434",3319]
["APL-Z1L5000KQ","15358415","B","A","CTO BO","Y","APL-Z1L5000KQ","15358415",3499]
["APL-Z1L5000PA","15358416","B","A","CTO BO","Y","APL-Z1L5000PA","15358416",3519]
["APL-Z1L5000PT","15358417","B","A","CTO BO","Y","APL-Z1L5000PT","15358417",3519]
["APL-Z1LW000RF","15358418","B","A","CTO BO","Y","APL-Z1LW000RF","15358418",1519]
["APL-Z1LW000RH","15358419","B","A","CTO BO","Y","APL-Z1LW000RH","15358419",1519]
["APL-Z1LW000RD","15358420","B","A","STOCKED CTO","Y","APL-Z1LW000RD","15358420",1699]
["APL-Z1LW000T1","15358421","B","A","CTO BO","Y","APL-Z1LW000T1","15358421",1719]
["APL-Z1LW000RE","15358422","B","A","STOCKED CTO","Y","APL-Z1LW000RE","15358422",1899]
["APL-Z1LW000XB","15358423","B","A","CTO BO","Y","APL-Z1LW000XB","15358423",1919]
["APL-Z1LW000SY","15358424","B","A","CTO BO","Y","APL-Z1LW000SY","15358424",1919]
["APL-Z1L5000ML","15358425","B","A","CTO BO","Y","APL-Z1L5000ML","15358425",2319]
["APL-Z1L3000RP","15358404","B","A","CTO BO","Y","APL-Z1L3000RP","15358404",1319]
["APL-Z1L1000SU","15358395","B","A","CTO BO","Y","APL-Z1L1000SU","15358395",3119]
["APL-Z1L2000KN","15358396","B","A","CTO BO","Y","APL-Z1L2000KN","15358396",3299]
["APL-Z1L2000S7","15358397","B","A","CTO BO","Y","APL-Z1L2000S7","15358397",3319]
["APL-Z1L2000S6","15358398","B","A","CTO BO","Y","APL-Z1L2000S6","15358398",3319]
["APL-Z1L2000KQ","15358399","B","A","CTO BO","Y","APL-Z1L2000KQ","15358399",3499]
["APL-Z1L2000QY","15358400","B","A","CTO BO","Y","APL-Z1L2000QY","15358400",3519]
["APL-Z1L2000RV","15358401","B","A","CTO BO","Y","APL-Z1L2000RV","15358401",3519]
["APL-Z1L3000S1","15358402","B","A","CTO BO","Y","APL-Z1L3000S1","15358402",1299]
["APL-Z1L3000S3","15358403","B","A","CTO BO","Y","APL-Z1L3000S3","15358403",1319]
["APL-Z1L5000KR","15358405","B","A","CTO BO","Y","APL-Z1L5000KR","15358405",1819]
["APL-Z1L5000KT","15358406","B","A","CTO BO","Y","APL-Z1L5000KT","15358406",1819]
["APL-Z1L5000KL","15358407","B","A","CTO BO","Y","APL-Z1L5000KL","15358407",1999]
["APL-Z1L5000PB","15358408","B","A","CTO BO","Y","APL-Z1L5000PB","15358408",2019]
["APL-Z1L5000MH","15358409","B","A","CTO BO","Y","APL-Z1L5000MH","15358409",2019]
["APL-Z1L4000NQ","15358410","B","A","CTO BO","Y","APL-Z1L4000NQ","15358410",2099]
["APL-Z1L4000RW","15358411","B","A","CTO BO","Y","APL-Z1L4000RW","15358411",2119]
["APL-Z1L4000RX","15358412","B","A","CTO BO","Y","APL-Z1L4000RX","15358412",2119]
["APL-Z1L5000KM","15358413","B","A","CTO BO","Y","APL-Z1L5000KM","15358413",2299]
["APL-Z1L5000PW","15358414","B","A","CTO BO","Y","APL-Z1L5000PW","15358414",2319]
["APL-Z1L3000V4","15358385","B","A","CTO BO","Y","APL-Z1L3000V4","15358385",1419]
["APL-Z1L3000UW","15358386","B","A","CTO BO","Y","APL-Z1L3000UW","15358386",1419]
["APL-Z1L3000RQ","15358387","B","A","CTO BO","Y","APL-Z1L3000RQ","15358387",1499]
["APL-Z1L3000VK","15358388","B","A","CTO BO","Y","APL-Z1L3000VK","15358388",1519]
["APL-Z1L3000V3","15358389","B","A","CTO BO","Y","APL-Z1L3000V3","15358389",1519]
["APL-Z1L3000RR","15358390","B","A","CTO BO","Y","APL-Z1L3000RR","15358390",1699]
["APL-Z1L3000WB","15358391","B","A","CTO BO","Y","APL-Z1L3000WB","15358391",1719]
["APL-Z1L3000VJ","15358392","B","A","CTO BO","Y","APL-Z1L3000VJ","15358392",1719]
["APL-Z1L4000NW","15358393","B","A","CTO BO","Y","APL-Z1L4000NW","15358393",1619]
["APL-Z1L4000NX","15358394","B","A","CTO BO","Y","APL-Z1L4000NX","15358394",1619]
["APL-Z1L1000SV","15358375","B","A","CTO BO","Y","APL-Z1L1000SV","15358375",2119]
["APL-Z1L1000QP","15358376","B","A","CTO BO","Y","APL-Z1L1000QP","15358376",2119]
["APL-Z1L2000KM","15358377","B","A","CTO BO","Y","APL-Z1L2000KM","15358377",2299]
["APL-Z1L2000R5","15358378","B","A","CTO BO","Y","APL-Z1L2000R5","15358378",2319]
["APL-Z1L2000NM","15358379","B","A","CTO BO","Y","APL-Z1L2000NM","15358379",2319]
["APL-Z1L2000KP","15358380","B","A","CTO BO","Y","APL-Z1L2000KP","15358380",2499]
["APL-Z1L2000RH","15358381","B","A","CTO BO","Y","APL-Z1L2000RH","15358381",2519]
["APL-Z1L2000NF","15358382","B","A","CTO BO","Y",{"$f":"TRIM(A642)","v":"APL-Z1L2000NF"},{"$f":"TRIM(B642)","v":"15358382"},2519]
["APL-Z1L1000NP","15358383","B","A","CTO BO","Y","APL-Z1L1000NP","15358383",3099]
["APL-Z1L1000SL","15358384","B","A","CTO BO","Y","APL-Z1L1000SL","15358384",3119]
["APL-Z1L0000RW","15358374","B","A","CTO BO","Y","APL-Z1L0000RW","15358374",1699]
["APL-Z1LB000Q5","15358365","B","A","CTO BO","Y","APL-Z1LB000Q5","15358365",3519]
["APL-Z1LB000QZ","15358366","B","A","CTO BO","Y","APL-Z1LB000QZ","15358366",3519]
["APL-Z1L0000RQ","15358367","B","A","CTO BO","Y","APL-Z1L0000RQ","15358367",1319]
["APL-Z1L0000RS","15358368","B","A","CTO BO","Y","APL-Z1L0000RS","15358368",1319]
["APL-Z1L0000RU","15358369","B","A","STOCKED CTO","Y","APL-Z1L0000RU","15358369",1399]
["APL-Z1L0000YX","15358370","B","A","STOCKED CTO","Y","APL-Z1L0000YX","15358370",1419]
["APL-Z1L0000U6","15358371","B","A","CTO BO","Y","APL-Z1L0000U6","15358371",1419]
["APL-Z1L0000YY","15358372","B","A","CTO BO","Y","APL-Z1L0000YY","15358372",1519]
["APL-Z1L0000VZ","15358373","B","A","CTO BO","Y","APL-Z1L0000VZ","15358373",1519]
["APL-Z1L0000YZ","15358355","B","A","CTO BO","Y","APL-Z1L0000YZ","15358355",1719]
["APL-Z1L0000VT","15358356","B","A","CTO BO","Y","APL-Z1L0000VT","15358356",1719]
["APL-Z1L1000NU","15358357","B","A","CTO BO","Y","APL-Z1L1000NU","15358357",1619]
["APL-Z1L1000NV","15358358","B","A","CTO BO","Y","APL-Z1L1000NV","15358358",1619]
["APL-Z1L2000KR","15358359","B","A","CTO BO","Y","APL-Z1L2000KR","15358359",1819]
["APL-Z1L2000KS","15358360","B","A","CTO BO","Y","APL-Z1L2000KS","15358360",1819]
["APL-Z1L2000KL","15358361","B","A","CTO BO","Y","APL-Z1L2000KL","15358361",1999]
["APL-Z1L2000R7","15358362","B","A","CTO BO","Y","APL-Z1L2000R7","15358362",2019]
["APL-Z1L2000ND","15358363","B","A","CTO BO","Y","APL-Z1L2000ND","15358363",2019]
["APL-Z1L1000NN","15358364","B","A","CTO BO","Y","APL-Z1L1000NN","15358364",2099]
["APL-Z1LA000RQ","15358350","B","A","CTO BO","Y","APL-Z1LA000RQ","15358350",3119]
["APL-Z1LB000KN","15358351","B","A","CTO BO","Y","APL-Z1LB000KN","15358351",3299]
["APL-Z1LB000R9","15358352","B","A","CTO BO","Y","APL-Z1LB000R9","15358352",3319]
["APL-Z1LB000RA","15358353","B","A","CTO BO","Y","APL-Z1LB000RA","15358353",3319]
["APL-Z1LB000KQ","15358354","B","A","CTO BO","Y","APL-Z1LB000KQ","15358354",3499]
["APL-Z1LB000KP","15358345","B","A","CTO BO","Y","APL-Z1LB000KP","15358345",2499]
["APL-Z1LB000QF","15358346","B","A","CTO BO","Y","APL-Z1LB000QF","15358346",2519]
["APL-Z1LB000MS","15358347","B","A","CTO BO","Y","APL-Z1LB000MS","15358347",2519]
["APL-Z1LA000NP","15358348","B","A","CTO BO","Y","APL-Z1LA000NP","15358348",3099]
["APL-Z1LA000RP","15358349","B","A","CTO BO","Y","APL-Z1LA000RP","15358349",3119]
["APL-Z1LB000KT","15358335","B","A","CTO BO","Y","APL-Z1LB000KT","15358335",1819]
["APL-Z1LB000KL","15358336","B","A","CTO BO","Y","APL-Z1LB000KL","15358336",1999]
["APL-Z1LB000QR","15358337","B","A","CTO BO","Y","APL-Z1LB000QR","15358337",2019]
["APL-Z1LB000MT","15358338","B","A","CTO BO","Y","APL-Z1LB000MT","15358338",2019]
["APL-Z1LA000NN","15358339","B","A","CTO BO","Y","APL-Z1LA000NN","15358339",2099]
["APL-Z1LA000RN","15358340","B","A","CTO BO","Y","APL-Z1LA000RN","15358340",2119]
["APL-Z1LA000Q7","15358341","B","A","CTO BO","Y","APL-Z1LA000Q7","15358341",2119]
["APL-Z1LB000KM","15358342","B","A","CTO BO","Y","APL-Z1LB000KM","15358342",2299]
["APL-Z1LB000R7","15358343","B","A","CTO BO","Y","APL-Z1LB000R7","15358343",2319]
["APL-Z1LB000MY","15358344","B","A","CTO BO","Y","APL-Z1LB000MY","15358344",2319]
["APL-Z1L8000KN","15358325","B","A","CTO BO","Y","APL-Z1L8000KN","15358325",3299]
["APL-Z1L8000TS","15358326","B","A","CTO BO","Y","APL-Z1L8000TS","15358326",3319]
["APL-Z1L8000TT","15358327","B","A","CTO BO","Y","APL-Z1L8000TT","15358327",3319]
["APL-Z1L8000KQ","15358328","B","A","CTO BO","Y","APL-Z1L8000KQ","15358328",3499]
["APL-Z1L8000S1","15358329","B","A","CTO BO","Y","APL-Z1L8000S1","15358329",3519]
["APL-Z1L8000S4","15358330","B","A","CTO BO","Y","APL-Z1L8000S4","15358330",3519]
["APL-Z1L9000RU","15358331","B","A","CTO BO","Y","APL-Z1L9000RU","15358331",1319]
["APL-Z1L9000RW","15358332","B","A","CTO BO","Y","APL-Z1L9000RW","15358332",1319]
["APL-Z1L9000RY","15358333","B","A","CTO BO","Y","APL-Z1L9000RY","15358333",1399]
["APL-Z1L9000WL","15358334","B","A","CTO BO","Y","APL-Z1L9000WL","15358334",1419]
["APL-Z1L9000WF","15358305","B","A","CTO BO","Y","APL-Z1L9000WF","15358305",1419]
["APL-Z1L9000RZ","15358306","B","A","CTO BO","Y","APL-Z1L9000RZ","15358306",1499]
["APL-Z1L9000WM","15358307","B","A","CTO BO","Y","APL-Z1L9000WM","15358307",1519]
["APL-Z1L9000WQ","15358308","B","A","CTO BO","Y","APL-Z1L9000WQ","15358308",1519]
["APL-Z1L9000S0","15358309","B","A","CTO BO","Y","APL-Z1L9000S0","15358309",1699]
["APL-Z1L9000YA","15358310","B","A","CTO BO","Y","APL-Z1L9000YA","15358310",1719]
["APL-Z1L9000YJ","15358311","B","A","CTO BO","Y","APL-Z1L9000YJ","15358311",1719]
["APL-Z1LA000NU","15358312","B","A","CTO BO","Y","APL-Z1LA000NU","15358312",1619]
["APL-Z1LA000NW","15358313","B","A","CTO BO","Y","APL-Z1LA000NW","15358313",1619]
["APL-Z1LB000KR","15358314","B","A","CTO BO","Y","APL-Z1LB000KR","15358314",1819]
["APL-Z1L7000T5","15358315","B","A","CTO BO","Y","APL-Z1L7000T5","15358315",2119]
["APL-Z1L8000KM","15358316","B","A","CTO BO","Y",{"$f":"TRIM(A706)","v":"APL-Z1L8000KM"},{"$f":"TRIM(B706)","v":"15358316"},2299]
["APL-Z1L8000TR","15358317","B","A","CTO BO","Y","APL-Z1L8000TR","15358317",2319]
["APL-Z1L8000P9","15358318","B","A","CTO BO","Y","APL-Z1L8000P9","15358318",2319]
["APL-Z1L8000KP","15358319","B","A","STOCKED CTO","Y","APL-Z1L8000KP","15358319",2499]
["APL-Z1L8000SM","15358320","B","A","CTO BO","Y","APL-Z1L8000SM","15358320",2519]
["APL-Z1L8000P3","15358321","B","A","CTO BO","Y","APL-Z1L8000P3","15358321",2519]
["APL-Z1L7000NS","15358322","B","A","CTO BO","Y","APL-Z1L7000NS","15358322",3099]
["APL-Z1L7000T6","15358323","B","A","CTO BO","Y","APL-Z1L7000T6","15358323",3119]
["APL-Z1L7000T7","15358324","B","A","CTO BO","Y","APL-Z1L7000T7","15358324",3119]
["APL-Z1L7000NW","15358287","B","A","CTO BO","Y","APL-Z1L7000NW","15358287",1619]
["APL-Z1L8000KR","15358288","B","A","CTO BO","Y","APL-Z1L8000KR","15358288",1819]
["APL-Z1L8000KT","15358289","B","A","CTO BO","Y","APL-Z1L8000KT","15358289",1819]
["APL-Z1L8000KL","15358290","B","A","STOCKED CTO","Y","APL-Z1L8000KL","15358290",1999]
["APL-Z1L8000SG","15358291","B","A","CTO BO","Y","APL-Z1L8000SG","15358291",2019]
["APL-Z1L8000P6","15358292","B","A","CTO BO","Y","APL-Z1L8000P6","15358292",2019]
["APL-Z1L7000NP","15358293","B","A","CTO BO","Y","APL-Z1L7000NP","15358293",2099]
["APL-Z1L7000T4","15358294","B","A","CTO BO","Y","APL-Z1L7000T4","15358294",2119]
["APL-Z1L6000S0","15358295","B","A","CTO BO","Y","APL-Z1L6000S0","15358295",1319]
["APL-Z1L6000S1","15358296","B","A","CTO BO","Y","APL-Z1L6000S1","15358296",1319]
["APL-Z1L6000RP","15358297","B","A","STOCKED CTO","Y","APL-Z1L6000RP","15358297",1399]
["APL-Z1L6000X0","15358298","B","A","CTO BO","Y","APL-Z1L6000X0","15358298",1419]
["APL-Z1L6000XA","15358299","B","A","CTO BO","Y","APL-Z1L6000XA","15358299",1419]
["APL-Z1L6000RQ","15358300","B","A","STOCKED CTO","Y","APL-Z1L6000RQ","15358300",1499]
["APL-Z1L6000W7","15358301","B","A","CTO BO","Y","APL-Z1L6000W7","15358301",1519]
["APL-Z1L6000XM","15358302","B","A","CTO BO","Y","APL-Z1L6000XM","15358302",1519]
["APL-Z1L6000RR","15358303","B","A","STOCKED CTO","Y","APL-Z1L6000RR","15358303",1699]
["APL-Z1L6000X1","15358304","B","A","CTO BO","Y","APL-Z1L6000X1","15358304",1719]
["APL-Z1L6000WK","15358285","B","A","CTO BO","Y","APL-Z1L6000WK","15358285",1719]
["APL-Z1L7000NV","15358286","B","A","CTO BO","Y","APL-Z1L7000NV","15358286",1619]
["APL-Z1ML002C2","15357021","B","A","CTO BO","Y","APL-Z1ML002C2","15357021",3119]
["APL-Z1MZ0002J","15357022","B","A","CTO BO","Y","APL-Z1MZ0002J","15357022",4499]
["APL-MHFC4LL/A","15356967","A","A","MACBOOK","Y","APL-MHFC4LL/A","15356967",799]
["APL-MHFD4LL/A","15356968","A","A","MACBOOK","Y","APL-MHFD4LL/A","15356968",699]
["APL-MHFE4LL/A","15356969","A","A","MACBOOK","Y","APL-MHFE4LL/A","15356969",799]
["APL-MHFF4LL/A","15356970","A","A","MACBOOK","Y","APL-MHFF4LL/A","15356970",699]
["APL-MHFG4LL/A","15356971","A","A","MACBOOK","Y","APL-MHFG4LL/A","15356971",799]
["APL-MHFH4LL/A","15356972","A","A","MACBOOK","Y","APL-MHFH4LL/A","15356972",699]
["APL-MHFJ4LL/A","15356973","A","A","MACBOOK","Y","APL-MHFJ4LL/A","15356973",799]
["APL-MHFN4LL/A","15356961","B","D","MULTI MAC","N","APL-MHFN4LL/A","15356961"]
["APL-MHFP4LL/A","15356962","B","D","MULTI MAC","N","APL-MHFP4LL/A","15356962"]
["APL-MHFQ4LL/A","15356963","B","D","MULTI MAC","N","APL-MHFQ4LL/A","15356963"]
["APL-MHFR4LL/A","15356964","B","D","MULTI MAC","N","APL-MHFR4LL/A","15356964"]
["APL-MHFT4LL/A","15356965","B","D","MULTI MAC","N","APL-MHFT4LL/A","15356965"]
["APL-MHFA4LL/A","15356966","A","A","MACBOOK","Y","APL-MHFA4LL/A","15356966",699]
["APL-3P449LL/A","15356957","C","D","MACBOOK","N","APL-3P449LL/A","15356957"]
["APL-MHFK4LL/A","15356958","B","D","MULTI MAC","N","APL-MHFK4LL/A","15356958"]
["APL-MHFL4LL/A","15356959","B","D","MULTI MAC","N","APL-MHFL4LL/A","15356959"]
["APL-MHFM4LL/A","15356960","B","D","MULTI MAC","N","APL-MHFM4LL/A","15356960"]
["APL-3P442LL/A","15356949","C","D","MACBOOK","N","APL-3P442LL/A","15356949"]
["APL-3P443LL/A","15356950","C","D","MACBOOK","N","APL-3P443LL/A","15356950"]
["APL-3P444LL/A","15356951","C","D","MACBOOK","N","APL-3P444LL/A","15356951"]
["APL-3P445LL/A","15356952","C","D","MACBOOK","N","APL-3P445LL/A","15356952"]
["APL-3P446LL/A","15356953","B","A","MACBOOK","Y","APL-3P446LL/A","15356953"]
["APL-3P447LL/A","15356954","C","D","MACBOOK","N","APL-3P447LL/A","15356954"]
["APL-3P448LL/A","15356955","C","D","MACBOOK","N","APL-3P448LL/A","15356955"]
["APL-Z1L82002455152","15356738","B","A","CTO BO","Y","APL-Z1L82002455152","15356738"]
["APL-Z1K5001PR","15356734","B","A","CTO BO","Y","APL-Z1K5001PR","15356734"]
["APL-Z1N2000UN","15356729","B","A","CTO BO","Y","APL-Z1N2000UN","15356729"]
["APL-Z1ML00050","15355959","B","A","STOCKED CTO","Y","APL-Z1ML00050","15355959",3299]
["APL-Z1ML00055","15355960","B","A","STOCKED CTO","Y","APL-Z1ML00055","15355960",5099]
["APL-Z1MV0002M","15355961","B","A","STOCKED CTO","Y","APL-Z1MV0002M","15355961",5399]
["APL-Z1MZ0002G","15355962","B","A","STOCKED CTO","Y","APL-Z1MZ0002G","15355962",4099]
["APL-Z1L0000RV","15355953","B","A","STOCKED CTO","Y","APL-Z1L0000RV","15355953",1499]
["APL-Z1LW000W0","15355954","B","A","STOCKED CTO","Y","APL-Z1LW000W0","15355954",1719]
["APL-Z1LW000W1","15355955","B","A","STOCKED CTO","Y",{"$f":"TRIM(A770)","v":"APL-Z1LW000W1"},{"$f":"TRIM(B770)","v":"15355955"},1819]
["APL-Z1LW000W2","15355956","B","A","STOCKED CTO","Y","APL-Z1LW000W2","15355956",2019]
["APL-Z1LW000W3","15355957","B","A","STOCKED CTO","Y","APL-Z1LW000W3","15355957",2019]
["APL-Z1ML00024","15355958","B","A","STOCKED CTO","Y","APL-Z1ML00024","15355958",3099]
["APL-Z1MZ00029","15355949","B","A","STOCKED CTO","Y","APL-Z1MZ00029","15355949",5399]
["APL-Z1MZ001AM","15355950","B","A","STOCKED CTO","Y","APL-Z1MZ001AM","15355950",5549]
["APL-Z1MZ0002A","15355951","B","A","STOCKED CTO","Y","APL-Z1MZ0002A","15355951",6999]
["APL-Z1MZ0002N","15355952","B","A","STOCKED CTO","Y","APL-Z1MZ0002N","15355952",7999]
["APL-MDHR4LL/A","15351141","B","D","MULTI MAC","N","APL-MDHR4LL/A","15351141"]
["APL-MDVQ4LL/A","15350977","A","A","MACBOOK","Y","APL-MDVQ4LL/A","15350977"]
["APL-MDVT4LL/A","15350978","A","A","MACBOOK","Y","APL-MDVT4LL/A","15350978"]
["APL-MDVU4LL/A","15350979","A","A","MACBOOK","Y","APL-MDVU4LL/A","15350979"]
["APL-MDHK4LL/A","15350973","A","A","MACBOOK","Y","APL-MDHK4LL/A","15350973",1799]
["APL-MDV94LL/A","15350974","A","A","MACBOOK","Y","APL-MDV94LL/A","15350974"]
["APL-MDVA4LL/A","15350975","A","A","MACBOOK","Y","APL-MDVA4LL/A","15350975"]
["APL-MDVN4LL/A","15350976","A","A","MACBOOK","Y","APL-MDVN4LL/A","15350976"]
["APL-MGEQ4LL/A","15350971","B","D","MULTI MAC","N","APL-MGEQ4LL/A","15350971"]
["APL-MJ3G4LL/A","15350972","B","D","MULTI MAC","N","APL-MJ3G4LL/A","15350972"]
["APL-MDW04LL/A","15350960","B","D","MULTI MAC","N","APL-MDW04LL/A","15350960"]
["APL-MDHY4LL/A","15350955","B","D","MULTI MAC","N","APL-MDHY4LL/A","15350955"]
["APL-MDVV4LL/A","15350956","B","D","MULTI MAC","N","APL-MDVV4LL/A","15350956"]
["APL-MDVW4LL/A","15350957","B","D","MULTI MAC","N","APL-MDVW4LL/A","15350957"]
["APL-MDVX4LL/A","15350958","B","D","MULTI MAC","N","APL-MDVX4LL/A","15350958"]
["APL-MDVY4LL/A","15350959","B","D","MULTI MAC","N","APL-MDVY4LL/A","15350959"]
["APL-3P355LL/A","15350952","C","D","MACBOOK","N","APL-3P355LL/A","15350952"]
["APL-3P356LL/A","15350953","C","D","MACBOOK","N","APL-3P356LL/A","15350953"]
["APL-MDHL4LL/A","15350954","B","D","MULTI MAC","N","APL-MDHL4LL/A","15350954"]
["APL-MGED4LL/A","15350950","A","A","MACBOOK","Y","APL-MGED4LL/A","15350950",4399]
["APL-MGEE4LL/A","15350951","A","A","MACBOOK","Y","APL-MGEE4LL/A","15350951",4999]
["APL-MDHN4LL/A","15350946","B","D","MULTI MAC","N","APL-MDHN4LL/A","15350946"]
["APL-MDHP4LL/A","15350947","B","D","MULTI MAC","N","APL-MDHP4LL/A","15350947"]
["APL-MDHQ4LL/A","15350948","B","D","MULTI MAC","N","APL-MDHQ4LL/A","15350948"]
["APL-MDHT4LL/A","15350949","B","D","MULTI MAC","N","APL-MDHT4LL/A","15350949"]
["APL-3P266LL/A","15350944","C","D","MACBOOK","N","APL-3P266LL/A","15350944"]
["APL-3P267LL/A","15350945","C","D","MACBOOK","N","APL-3P267LL/A","15350945"]
["APL-MFF14LL/A","15350936","A","A","ACC NBU","Y","APL-MFF14LL/A","15350936"]
["APL-MFF24LL/A","15350937","B","A","ACC NBU","Y","APL-MFF24LL/A","15350937"]
["APL-MFEL4LL/A","15350928","A","A","ACC NBU","Y","APL-MFEL4LL/A","15350928"]
["APL-MFEN4LL/A","15350929","A","A","ACC NBU","Y","APL-MFEN4LL/A","15350929"]
["APL-MFEP4LL/A","15350930","B","A","ACC NBU","Y","APL-MFEP4LL/A","15350930"]
["APL-MFEQ4LL/A","15350931","A","A","ACC NBU","Y","APL-MFEQ4LL/A","15350931"]
["APL-MFEW4LL/A","15350932","A","A","ACC NBU","Y","APL-MFEW4LL/A","15350932"]
["APL-MFEX4LL/A","15350933","A","A","ACC NBU","Y","APL-MFEX4LL/A","15350933"]
["APL-MFEY4LL/A","15350934","A","A","ACC NBU","Y","APL-MFEY4LL/A","15350934"]
["APL-MFF04LL/A","15350935","B","A","ACC NBU","Y","APL-MFF04LL/A","15350935"]
["APL-MGE64LL/A","15350916","A","A","MACBOOK","Y","APL-MGE64LL/A","15350916",3599]
["APL-MGE74LL/A","15350917","A","A","MACBOOK","Y","APL-MGE74LL/A","15350917",4399]
["APL-MGE94LL/A","15350918","A","A","MACBOOK","Y","APL-MGE94LL/A","15350918",4999]
["APL-MGEA4LL/A","15350919","A","A","MACBOOK","Y","APL-MGEA4LL/A","15350919",2999]
["APL-MGEC4LL/A","15350920","A","A","MACBOOK","Y","APL-MGEC4LL/A","15350920",3599]
["APL-MJ3D4LL/A","15350921","A","A","MACBOOK","Y","APL-MJ3D4LL/A","15350921",2399]
["APL-MJ3E4LL/A","15350922","A","A","MACBOOK","Y","APL-MJ3E4LL/A","15350922",2399]
["APL-MJLV4LL/A","15350923","A","A","MACBOOK","Y","APL-MJLV4LL/A","15350923",2999]
["APL-MGDN4LL/A","15350890","A","A","MACBOOK","Y","APL-MGDN4LL/A","15350890",2499]
["APL-MGDP4LL/A","15350891","A","A","MACBOOK","Y","APL-MGDP4LL/A","15350891",3199]
["APL-MGDQ4LL/A","15350892","A","A","MACBOOK","Y","APL-MGDQ4LL/A","15350892",4099]
["APL-MGDR4LL/A","15350893","A","A","MACBOOK","Y","APL-MGDR4LL/A","15350893",2499]
["APL-MGDT4LL/A","15350894","A","A","MACBOOK","Y","APL-MGDT4LL/A","15350894",3199]
["APL-MGDU4LL/A","15350895","A","A","MACBOOK","Y","APL-MGDU4LL/A","15350895",4099]
["APL-MGE44LL/A","15350896","A","A","MACBOOK","Y","APL-MGE44LL/A","15350896",2999]
["APL-MDVC4LL/A","15350884","A","A","MACBOOK","Y","APL-MDVC4LL/A","15350884"]
["APL-MDVD4LL/A","15350885","A","A","MACBOOK","Y","APL-MDVD4LL/A","15350885"]
["APL-MDVE4LL/A","15350886","A","A","MACBOOK","Y","APL-MDVE4LL/A","15350886"]
["APL-MDVF4LL/A","15350887","A","A","MACBOOK","Y","APL-MDVF4LL/A","15350887"]
["APL-MDVH4LL/A","15350888","A","A","MACBOOK","Y",{"$f":"TRIM(A834)","v":"APL-MDVH4LL/A"},{"$f":"TRIM(B834)","v":"15350888"}]
["APL-MDVK4LL/A","15350889","A","A","MACBOOK","Y","APL-MDVK4LL/A","15350889"]
["APL-MJLW4LL/A","15350881","A","A","MACBOOK","Y","APL-MJLW4LL/A","15350881",2999]
["APL-MDH84LL/A","15350871","A","A","MACBOOK","Y","APL-MDH84LL/A","15350871"]
["APL-MDH94LL/A","15350872","A","A","MACBOOK","Y","APL-MDH94LL/A","15350872"]
["APL-MDHA4LL/A","15350873","A","A","MACBOOK","Y","APL-MDHA4LL/A","15350873"]
["APL-MDHC4LL/A","15350874","A","A","MACBOOK","Y","APL-MDHC4LL/A","15350874"]
["APL-MDHD4LL/A","15350875","A","A","MACBOOK","Y","APL-MDHD4LL/A","15350875"]
["APL-MDHE4LL/A","15350876","A","A","MACBOOK","Y","APL-MDHE4LL/A","15350876"]
["APL-MDHF4LL/A","15350877","A","A","MACBOOK","Y","APL-MDHF4LL/A","15350877"]
["APL-MDHG4LL/A","15350878","A","A","MACBOOK","Y","APL-MDHG4LL/A","15350878"]
["APL-MDHH4LL/A","15350879","A","A","MACBOOK","Y","APL-MDHH4LL/A","15350879",1299]
["APL-MDHJ4LL/A","15350880","A","A","MACBOOK","Y","APL-MDHJ4LL/A","15350880",1599]
["APL-MDW54LL/A","15350861","B","D","MULTI MAC","N","APL-MDW54LL/A","15350861"]
["APL-MDW64LL/A","15350862","B","D","MULTI MAC","N","APL-MDW64LL/A","15350862"]
["APL-MDW74LL/A","15350863","B","D","MULTI MAC","N","APL-MDW74LL/A","15350863"]
["APL-MGDV4LL/A","15350864","B","D","MULTI MAC","N","APL-MGDV4LL/A","15350864"]
["APL-MGDW4LL/A","15350865","B","D","MULTI MAC","N","APL-MGDW4LL/A","15350865"]
["APL-MGDX4LL/A","15350866","B","D","MULTI MAC","N","APL-MGDX4LL/A","15350866"]
["APL-MGDY4LL/A","15350867","B","D","MULTI MAC","N","APL-MGDY4LL/A","15350867"]
["APL-MGE04LL/A","15350868","B","D","MULTI MAC","N","APL-MGE04LL/A","15350868"]
["APL-MGE14LL/A","15350869","B","D","MULTI MAC","N","APL-MGE14LL/A","15350869"]
["APL-MGEF4LL/A","15350870","B","D","MULTI MAC","N","APL-MGEF4LL/A","15350870"]
["APL-MDW24LL/A","15350858","B","D","MULTI MAC","N","APL-MDW24LL/A","15350858"]
["APL-MDW34LL/A","15350859","B","D","MULTI MAC","N","APL-MDW34LL/A","15350859"]
["APL-MDW44LL/A","15350860","B","D","MULTI MAC","N","APL-MDW44LL/A","15350860"]
["APL-MDW14LL/A","15350857","B","D","MULTI MAC","N","APL-MDW14LL/A","15350857"]
["APL-MGEG4LL/A","15350848","B","D","MULTI MAC","N","APL-MGEG4LL/A","15350848"]
["APL-MGEH4LL/A","15350849","B","D","MULTI MAC","N","APL-MGEH4LL/A","15350849"]
["APL-MGEK4LL/A","15350850","B","D","MULTI MAC","N","APL-MGEK4LL/A","15350850"]
["APL-MGEL4LL/A","15350851","B","D","MULTI MAC","N","APL-MGEL4LL/A","15350851"]
["APL-MGEN4LL/A","15350852","B","D","MULTI MAC","N","APL-MGEN4LL/A","15350852"]
["APL-MGEU4LL/A","15350853","B","D","MULTI MAC","N","APL-MGEU4LL/A","15350853"]
["APL-MJ3F4LL/A","15350854","B","D","MULTI MAC","N","APL-MJ3F4LL/A","15350854"]
["APL-MDH74LL/A","15350855","A","A","MACBOOK","Y","APL-MDH74LL/A","15350855",1299]
["APL-3P268LL/A","15350841","C","D","MACBOOK","N","APL-3P268LL/A","15350841"]
["APL-3P269LL/A","15350842","C","D","MACBOOK","N","APL-3P269LL/A","15350842"]
["APL-3P270LL/A","15350843","C","D","MACBOOK","N","APL-3P270LL/A","15350843"]
["APL-3P271LL/A","15350844","C","D","MACBOOK","N","APL-3P271LL/A","15350844"]
["APL-3P272LL/A","15350845","C","D","MACBOOK","N","APL-3P272LL/A","15350845"]
["APL-3P353LL/A","15350846","C","D","MACBOOK","N","APL-3P353LL/A","15350846"]
["APL-3P354LL/A","15350847","C","D","MACBOOK","N","APL-3P354LL/A","15350847"]
["APL-MDHM4LL/A","15350836","B","D","MULTI MAC","N","APL-MDHM4LL/A","15350836"]
["APL-MDHU4LL/A","15350837","B","D","MULTI MAC","N","APL-MDHU4LL/A","15350837"]
["APL-MDHV4LL/A","15350838","B","D","MULTI MAC","N","APL-MDHV4LL/A","15350838"]
["APL-MDHW4LL/A","15350839","B","D","MULTI MAC","N","APL-MDHW4LL/A","15350839"]
["APL-MDHX4LL/A","15350840","B","D","MULTI MAC","N","APL-MDHX4LL/A","15350840"]
["APL-3P265LL/A","15350834","C","D","MACBOOK","N","APL-3P265LL/A","15350834"]
["APL-Z1CY001LV","15349460","C","D","CTO BO","N","APL-Z1CY001LV","15349460"]
["APL-MHWC4ZM/A","15347538","B","A","IPHONE ACC 2","Y","APL-MHWC4ZM/A","15347538",49]
["APL-MHWE4ZM/A","15347539","A","D","IPHONE ACC 2","N","APL-MHWE4ZM/A","15347539",49]
["APL-MHWG4ZM/A","15347540","A","D","IPHONE ACC 2","N","APL-MHWG4ZM/A","15347540",49]
["APL-MHWJ4ZM/A","15347541","B","A","IPHONE ACC 2","Y","APL-MHWJ4ZM/A","15347541",49]
["APL-MHWD4ZM/A","15347535","A","A","IPHONE ACC 2","Y","APL-MHWD4ZM/A","15347535",49]
["APL-MHWF4ZM/A","15347536","A","D","IPHONE ACC 2","N","APL-MHWF4ZM/A","15347536",49]
["APL-MHWH4ZM/A","15347537","A","D","IPHONE ACC 2","N","APL-MHWH4ZM/A","15347537",49]
["APL-3P396LL/A","15347517","C","D","IPAD","N","APL-3P396LL/A","15347517"]
["APL-3P397LL/A","15347518","C","D","IPAD","N","APL-3P397LL/A","15347518"]
["APL-3P398LL/A","15347519","A","D","IPAD","N","APL-3P398LL/A","15347519"]
["APL-3P390LL/A","15347515","A","D","IPAD","N","APL-3P390LL/A","15347515"]
["APL-3P391LL/A","15347516","C","D","IPAD","N","APL-3P391LL/A","15347516"]
["APL-MHDK4LL/A","15347512","B","A","IPAD","Y","APL-MHDK4LL/A","15347512",1549]
["APL-3P388LL/A","15347513","C","D","IPAD","N","APL-3P388LL/A","15347513"]
["APL-3P389LL/A","15347514","A","D","IPAD","N","APL-3P389LL/A","15347514"]
["APL-MH794LL/A","15347511","B","A","IPAD - LTE/CELL","Y",{"$f":"TRIM(A898)","v":"APL-MH794LL/A"},{"$f":"TRIM(B898)","v":"15347511"},899]
["APL-MH784LL/A","15347510","A","A","IPAD - LTE/CELL","Y","APL-MH784LL/A","15347510",899]
["APL-MH634LL/A","15347507","B","A","IPAD","Y","APL-MH634LL/A","15347507",1549]
["APL-MH644LL/A","15347508","B","A","IPAD","Y","APL-MH644LL/A","15347508",1549]
["APL-MH654LL/A","15347509","B","A","IPAD","Y","APL-MH654LL/A","15347509",1549]
["APL-MH624LL/A","15347506","B","A","IPAD","Y","APL-MH624LL/A","15347506",1249]
["APL-MH604LL/A","15347504","B","A","IPAD","Y","APL-MH604LL/A","15347504",1249]
["APL-MH614LL/A","15347505","B","A","IPAD","Y","APL-MH614LL/A","15347505",1249]
["APL-MH5Y4LL/A","15347503","A","A","IPAD","Y","APL-MH5Y4LL/A","15347503",1249]
["APL-MH5X4LL/A","15347502","A","A","IPAD","Y","APL-MH5X4LL/A","15347502",1049]
["APL-MH5U4LL/A","15347498","A","A","IPAD","Y","APL-MH5U4LL/A","15347498",1049]
["APL-MH5V4LL/A","15347499","A","A","IPAD","Y","APL-MH5V4LL/A","15347499",1049]
["APL-MH5W4LL/A","15347500","A","A","IPAD","Y","APL-MH5W4LL/A","15347500",1049]
["APL-MH3K4LL/A","15347493","B","A","IPAD","Y","APL-MH3K4LL/A","15347493",1349]
["APL-MH5N4LL/A","15347494","A","A","IPAD","Y","APL-MH5N4LL/A","15347494",949]
["APL-MH5P4LL/A","15347495","A","A","IPAD","Y","APL-MH5P4LL/A","15347495",949]
["APL-MH5Q4LL/A","15347496","A","A","IPAD","Y","APL-MH5Q4LL/A","15347496",949]
["APL-MH5T4LL/A","15347497","A","A","IPAD","Y","APL-MH5T4LL/A","15347497",949]
["APL-MH3H4LL/A","15347491","B","A","IPAD","Y","APL-MH3H4LL/A","15347491",1349]
["APL-MH3J4LL/A","15347492","B","A","IPAD","Y","APL-MH3J4LL/A","15347492",1349]
["APL-MH3D4LL/A","15347488","B","A","IPAD","Y","APL-MH3D4LL/A","15347488",1049]
["APL-MH3E4LL/A","15347489","B","A","IPAD","Y","APL-MH3E4LL/A","15347489",1049]
["APL-MH3G4LL/A","15347490","B","A","IPAD","Y","APL-MH3G4LL/A","15347490",1349]
["APL-MH374LL/A","15347484","A","A","IPAD","Y","APL-MH374LL/A","15347484",849]
["APL-MH394LL/A","15347485","A","A","IPAD","Y","APL-MH394LL/A","15347485",849]
["APL-MH3A4LL/A","15347486","A","A","IPAD","Y","APL-MH3A4LL/A","15347486",1049]
["APL-MH3C4LL/A","15347487","B","A","IPAD","Y","APL-MH3C4LL/A","15347487",1049]
["APL-MH344LL/A","15347481","A","A","IPAD","Y","APL-MH344LL/A","15347481",749]
["APL-MH354LL/A","15347482","A","A","IPAD","Y","APL-MH354LL/A","15347482",849]
["APL-MH364LL/A","15347483","A","A","IPAD","Y","APL-MH364LL/A","15347483",849]
["APL-MH334LL/A","15347462","A","A","IPAD","Y","APL-MH334LL/A","15347462",749]
["APL-MH304LL/A","15347460","A","A","IPAD","Y","APL-MH304LL/A","15347460",749]
["APL-MH314LL/A","15347461","A","A","IPAD","Y","APL-MH314LL/A","15347461",749]
["APL-MHRT4LL/A","15347476","B","A","IPHONE","Y","APL-MHRT4LL/A","15347476",799]
["APL-MHRU4LL/A","15347477","B","A","IPHONE","Y","APL-MHRU4LL/A","15347477",799]
["APL-3P658LL/A","15347478","C","D","IPHONE","N","APL-3P658LL/A","15347478"]
["APL-3P659LL/A","15347479","C","D","IPHONE","N","APL-3P659LL/A","15347479"]
["APL-3P660LL/A","15347480","C","D","IPHONE","N","APL-3P660LL/A","15347480"]
["APL-MH6T4LL/A","15347458","A","D","MULTI IPAD","N","APL-MH6T4LL/A","15347458"]
["APL-MH6U4LL/A","15347459","A","D","MULTI IPAD","N","APL-MH6U4LL/A","15347459"]
["APL-MHRR4LL/A","15347475","B","A","IPHONE","Y","APL-MHRR4LL/A","15347475",799]
["APL-MH5D4LL/A","15347455","A","D","MULTI IPAD","N","APL-MH5D4LL/A","15347455"]
["APL-MH6Q4LL/A","15347456","A","D","MULTI IPAD","N","APL-MH6Q4LL/A","15347456"]
["APL-MH6R4LL/A","15347457","A","D","MULTI IPAD","N","APL-MH6R4LL/A","15347457"]
["APL-MHRN4LL/A","15347472","A","A","IPHONE","Y","APL-MHRN4LL/A","15347472",599]
["APL-MHRP4LL/A","15347473","B","A","IPHONE","Y","APL-MHRP4LL/A","15347473",599]
["APL-MHRQ4LL/A","15347474","B","A","IPHONE","Y","APL-MHRQ4LL/A","15347474",599]
["APL-MH5C4LL/A","15347454","A","D","MULTI IPAD","N","APL-MH5C4LL/A","15347454"]
["APL-3P399LL/A","15347463","A","D","IPAD","N","APL-3P399LL/A","15347463"]
["APL-3P422LL/A","15347464","A","D","IPAD - LTE/CELL","N","APL-3P422LL/A","15347464"]
["APL-3P423LL/A","15347465","A","D","IPAD - LTE/CELL","N","APL-3P423LL/A","15347465"]
["APL-3P424LL/A","15347466","A","D","IPAD - LTE/CELL","N","APL-3P424LL/A","15347466"]
["APL-3P425LL/A","15347467","A","D","IPAD - LTE/CELL","N","APL-3P425LL/A","15347467"]
["APL-3P430LL/A","15347468","A","D","IPAD - LTE/CELL","N","APL-3P430LL/A","15347468"]
["APL-3P431LL/A","15347469","A","D","IPAD - LTE/CELL","N","APL-3P431LL/A","15347469"]
["APL-3P432LL/A","15347470","A","D","IPAD - LTE/CELL","N","APL-3P432LL/A","15347470"]
["APL-3P433LL/A","15347471","A","D","IPAD - LTE/CELL","N","APL-3P433LL/A","15347471"]
["APL-MH5A4LL/A","15347453","A","D","MULTI IPAD","N","APL-MH5A4LL/A","15347453"]
["APL-MH9K4LL/A","15347443","B","A","IPAD - LTE/CELL","Y","APL-MH9K4LL/A","15347443",1199]
["APL-MH9L4LL/A","15347444","B","A","IPAD - LTE/CELL","Y","APL-MH9L4LL/A","15347444",1199]
["APL-MH9M4LL/A","15347445","B","A","IPAD - LTE/CELL","Y","APL-MH9M4LL/A","15347445",1399]
["APL-MH9N4LL/A","15347446","B","A","IPAD - LTE/CELL","Y","APL-MH9N4LL/A","15347446",1399]
["APL-MH9P4LL/A","15347447","B","A","IPAD - LTE/CELL","Y","APL-MH9P4LL/A","15347447",1399]
["APL-MH9Q4LL/A","15347448","B","A","IPAD - LTE/CELL","Y","APL-MH9Q4LL/A","15347448",1399]
["APL-MH9R4LL/A","15347449","B","A","IPAD - LTE/CELL","Y",{"$f":"TRIM(A962)","v":"APL-MH9R4LL/A"},{"$f":"TRIM(B962)","v":"15347449"},1699]
["APL-MH9T4LL/A","15347450","B","A","IPAD - LTE/CELL","Y","APL-MH9T4LL/A","15347450",1699]
["APL-MH9U4LL/A","15347451","B","A","IPAD - LTE/CELL","Y","APL-MH9U4LL/A","15347451",1699]
["APL-MH9V4LL/A","15347452","B","A","IPAD - LTE/CELL","Y","APL-MH9V4LL/A","15347452",1699]
["APL-MH9H4LL/A","15347441","A","A","IPAD - LTE/CELL","Y","APL-MH9H4LL/A","15347441",1199]
["APL-MH9J4LL/A","15347442","B","A","IPAD - LTE/CELL","Y","APL-MH9J4LL/A","15347442",1199]
["APL-MH7M4LL/A","15347433","B","A","IPAD - LTE/CELL","Y","APL-MH7M4LL/A","15347433",1499]
["APL-MH7N4LL/A","15347434","B","A","IPAD - LTE/CELL","Y","APL-MH7N4LL/A","15347434",1499]
["APL-MH7P4LL/A","15347435","B","A","IPAD - LTE/CELL","Y","APL-MH7P4LL/A","15347435",1499]
["APL-MH7Q4LL/A","15347436","B","A","IPAD - LTE/CELL","Y","APL-MH7Q4LL/A","15347436",1499]
["APL-MH9D4LL/A","15347437","A","A","IPAD - LTE/CELL","Y","APL-MH9D4LL/A","15347437",1099]
["APL-MH9E4LL/A","15347438","B","A","IPAD - LTE/CELL","Y","APL-MH9E4LL/A","15347438",1099]
["APL-MH9F4LL/A","15347439","B","A","IPAD - LTE/CELL","Y","APL-MH9F4LL/A","15347439",1099]
["APL-MH9G4LL/A","15347440","B","A","IPAD - LTE/CELL","Y","APL-MH9G4LL/A","15347440",1099]
["APL-MHR34LL/A","15347421","A","D","IPHONE ACC 3","N","APL-MHR34LL/A","15347421",45]
["APL-MH594LL/A","15347422","A","D","MULTI IPAD","N","APL-MH594LL/A","15347422"]
["APL-MH7J4LL/A","15347430","B","A","IPAD - LTE/CELL","Y","APL-MH7J4LL/A","15347430",1199]
["APL-MH7K4LL/A","15347431","B","A","IPAD - LTE/CELL","Y","APL-MH7K4LL/A","15347431",1199]
["APL-MH7L4LL/A","15347432","B","A","IPAD - LTE/CELL","Y","APL-MH7L4LL/A","15347432",1199]
["APL-MHR24LL/A","15347420","A","D","IPHONE ACC 3","N","APL-MHR24LL/A","15347420",45]
["APL-MH7A4LL/A","15347423","B","A","IPAD - LTE/CELL","Y","APL-MH7A4LL/A","15347423",899]
["APL-MH7C4LL/A","15347424","B","A","IPAD - LTE/CELL","Y","APL-MH7C4LL/A","15347424",899]
["APL-MH7D4LL/A","15347425","A","A","IPAD - LTE/CELL","Y","APL-MH7D4LL/A","15347425",999]
["APL-MH7E4LL/A","15347426","B","A","IPAD - LTE/CELL","Y","APL-MH7E4LL/A","15347426",999]
["APL-MH7F4LL/A","15347427","A","A","IPAD - LTE/CELL","Y","APL-MH7F4LL/A","15347427",999]
["APL-MH7G4LL/A","15347428","B","A","IPAD - LTE/CELL","Y","APL-MH7G4LL/A","15347428",999]
["APL-MH7H4LL/A","15347429","B","A","IPAD - LTE/CELL","Y","APL-MH7H4LL/A","15347429",1199]
["APL-Z1FW000F9","15341596","C","D","CTO BO","N","APL-Z1FW000F9","15341596"]
["APL-Z1EH000GG","15341107","B","A","CTO BO","Y","APL-Z1EH000GG","15341107"]
["APL-Z1K10006J","15330557","B","A","CTO BO","Y","APL-Z1K10006J","15330557"]
["APL-Z1EP000LT","15322178","B","A","CTO BO","Y","APL-Z1EP000LT","15322178"]
["APL-Z1CU00130","15321787","C","D","CTO BO","N","APL-Z1CU00130","15321787"]
["APL-Z1FP2002450662","15316508","C","D","CTO BO","N","APL-Z1FP2002450662","15316508"]
["APLX-MX542LL/A","15306629","C","D","IPHONE ACC 3","N","APLX-MX542LL/A","15306629",99]
["APL-Z1FG000L2","15300583","C","D","CTO BO","N","APL-Z1FG000L2","15300583"]
["APL-Z1KH00268","15294610","C","D","CTO BO","N","APL-Z1KH00268","15294610"]
["APL-Z1FT000DJ","15293805","C","D","CTO BO","N","APL-Z1FT000DJ","15293805"]
["APL-Z1CX001FX","15291043","C","D","CTO BO","N","APL-Z1CX001FX","15291043"]
["APL-Z1CY000L9","15281000","C","D","CTO BO","N","APL-Z1CY000L9","15281000"]
["APL-Z1FE000PH","15281001","C","D","CTO BO","N","APL-Z1FE000PH","15281001"]
["APL-Z1DG000GE","15279496","C","D","CTO BO","N","APL-Z1DG000GE","15279496"]
["APL-MU9D3LL/A-INSIGHT","15276042","C","D","MACBOOK","N","APL-MU9D3LL/A-INSIGHT","15276042",599]
["APL-MW0W3LL/A-UHG","15276043","C","D","MACBOOK","N","APL-MW0W3LL/A-UHG","15276043"]
["APL-MX2Y3LL/A-UHG","15276039","C","D","MACBOOK","N","APL-MX2Y3LL/A-UHG","15276039",2899]
["APL-Z1DB000G1-UHG","15276037","C","D","CTO BO","N","APL-Z1DB000G1-UHG","15276037"]
["APL-Z1KH2112395358","15275647","C","D","CTO BO","N","APL-Z1KH2112395358","15275647"]
["APL-Z1FT002SS","15274493","C","D","CTO BO","N","APL-Z1FT002SS","15274493"]
["APL-MFE94LL/A","15272189","A","A","IPHONE ACC 3","Y","APL-MFE94LL/A","15272189",29]
["APL-MFEA4LL/A","15272190","A","A","IPHONE ACC 3","Y","APL-MFEA4LL/A","15272190",99]
["APL-Z1KH002ZR","15271523","C","D","CTO BO","N","APL-Z1KH002ZR","15271523"]
["APL-Z1FW000M3","15271089","C","D","CTO BO","N","APL-Z1FW000M3","15271089"]
["APL-Z1FE004LZ","15257545","C","D","CTO BO","N","APL-Z1FE004LZ","15257545"]
["APL-Z1CY000T0","15257546","C","D","CTO BO","N","APL-Z1CY000T0","15257546"]
["APL-Z1FG000NK","15257528","C","D","CTO BO","N","APL-Z1FG000NK","15257528"]
["APL-Z1CD0018V","15255639","B","A","CTO BO","Y","APL-Z1CD0018V","15255639"]
["APL-Z1CD0018E","15252267","B","A","CTO BO","Y","APL-Z1CD0018E","15252267"]
["APL-Z1JZ001C3","15250910","E","D","CTO BO","N","APL-Z1JZ001C3","15250910"]
["APL-Z1FW000RU","15250895","C","D","CTO BO","N","APL-Z1FW000RU","15250895"]
["APL-Z1GS000H3","15245629","C","D","CTO BO","N","APL-Z1GS000H3","15245629"]
["APL-Z1FG000AB","15238917","C","D","CTO BO","N","APL-Z1FG000AB","15238917"]
["APL-Z1DG0015F","15236558","C","D","CTO BO","N","APL-Z1DG0015F","15236558"]
["APL-Z1KL000BL","15236516","C","D","CTO BO","N","APL-Z1KL000BL","15236516"]
["APL-Z1CT000SC","15236517","C","D","CTO BO","N","APL-Z1CT000SC","15236517"]
["APL-Z1CT000RF","15233291","C","D","CTO BO","N","APL-Z1CT000RF","15233291"]
["APL-Z1CT000RL","15233292","C","D","CTO BO","N",{"$f":"TRIM(A1026)","v":"APL-Z1CT000RL"},{"$f":"TRIM(B1026)","v":"15233292"}]
["APL-Z1CT000RE","15233293","C","D","CTO BO","N","APL-Z1CT000RE","15233293"]
["APL-Z1CT000S7","15233294","C","D","CTO BO","N","APL-Z1CT000S7","15233294"]
["APL-Z1CT000S8","15233295","C","D","CTO BO","N","APL-Z1CT000S8","15233295"]
["APL-Z1CT000RM","15233296","C","D","CTO BO","N","APL-Z1CT000RM","15233296"]
["APL-Z1CT000RG","15232145","C","D","CTO BO","N","APL-Z1CT000RG","15232145"]
["APL-Z1KL000C7","15231821","C","D","CTO BO","N","APL-Z1KL000C7","15231821"]
["APL-Z1FF00103","15227894","C","D","CTO BO","N","APL-Z1FF00103","15227894"]
["APL-Z1CD0015J","15223232","B","A","CTO BO","Y","APL-Z1CD0015J","15223232"]
["APL-Z1FT000KK","15221868","C","D","CTO BO","N","APL-Z1FT000KK","15221868","2998.99"]
["APL-Z1FE00312","15220650","C","D","CTO BO","N","APL-Z1FE00312","15220650"]
["APL-Z1K0000V0","15220380","E","D","CTO BO","N","APL-Z1K0000V0","15220380"]
["APL-Z1FE00348","15219339","C","D","CTO BO","N","APL-Z1FE00348","15219339"]
["APL-Z1EJ000FL","15219194","B","A","CTO BO","Y","APL-Z1EJ000FL","15219194"]
["APL-MXK83AC/A","15219186","A","D","MAC ACC 1","N","APL-MXK83AC/A","15219186",199]
["APL-Z1FW001P5","15219169","C","D","CTO BO","N","APL-Z1FW001P5","15219169"]
["APL-Z1KK0008Q","15216987","A","A","CTO BO","Y","APL-Z1KK0008Q","15216987"]
["APL-Z1KN0008S","15216988","C","D","CTO BO","N","APL-Z1KN0008S","15216988"]
["APL-Z1CT000RJ","15216989","C","D","CTO BO","N","APL-Z1CT000RJ","15216989"]
["APL-Z1CY000KX","15216990","C","D","CTO BO","N","APL-Z1CY000KX","15216990"]
["APL-Z1GU000GU","15216991","C","D","CTO BO","N","APL-Z1GU000GU","15216991"]
["APL-Z1DG000FS","15216992","C","D","CTO BO","N","APL-Z1DG000FS","15216992"]
["APL-Z1H2000B9","15216993","C","D","CTO BO","N","APL-Z1H2000B9","15216993"]
["APL-Z1CU000LL","15215397","C","D","CTO BO","N","APL-Z1CU000LL","15215397"]
["APL-Z1KH2002445500","15211637","C","D","CTO BO","N","APL-Z1KH2002445500","15211637"]
["APL-Z1CX2002444968","15211480","C","D","CTO BO","N","APL-Z1CX2002444968","15211480"]
["APL-Z1CY000NK","15210457","C","D","CTO BO","N","APL-Z1CY000NK","15210457"]
["APL-Z1CY000LL","15210458","C","D","CTO BO","N","APL-Z1CY000LL","15210458"]
["APL-Z1CY000T9","15210459","C","D","CTO BO","N","APL-Z1CY000T9","15210459"]
["APL-Z1FV000AW","15205943","C","D","CTO BO","N","APL-Z1FV000AW","15205943"]
["APL-Z1FB000M6","15204174","C","D","CTO BO","N","APL-Z1FB000M6","15204174"]
["APL-Z1FB000M9","15204175","C","D","CTO BO","N","APL-Z1FB000M9","15204175"]
["APL-Z1FB000ME","15204176","C","D","CTO BO","N","APL-Z1FB000ME","15204176"]
["APL-Z1FB000M8","15204177","C","D","CTO BO","N","APL-Z1FB000M8","15204177"]
["APL-Z1FB000PP","15204178","C","D","CTO BO","N","APL-Z1FB000PP","15204178"]
["APL-Z1FB000PQ","15204179","C","D","CTO BO","N","APL-Z1FB000PQ","15204179"]
["APL-Z1FB000MD","15204180","C","D","CTO BO","N","APL-Z1FB000MD","15204180"]
["APL-Z1FB000MC","15204181","C","D","CTO BO","N","APL-Z1FB000MC","15204181"]
["APL-Z1FB000MF","15204182","C","D","CTO BO","N","APL-Z1FB000MF","15204182"]
["APL-MXCK3RS/A","15197970","B","D","MAC ACC 1","N","APL-MXCK3RS/A","15197970",149]
["APLX-MCA94LL/A","15197792","C","D","IPAD","N","APLX-MCA94LL/A","15197792"]
["APL-Z1KH2002443928","15197724","C","D","STOCKED CTO","N","APL-Z1KH2002443928","15197724"]
["APL-Z1FT0020L","15196452","C","D","CTO BO","N","APL-Z1FT0020L","15196452"]
["APL-Z1KL001VT","15183376","C","D","CTO BO","N","APL-Z1KL001VT","15183376"]
["APL-Z1CY001LE","15182416","C","D","CTO BO","N","APL-Z1CY001LE","15182416"]
["APL-MXCJ3E/A","15182225","A","A","MAC ACC 1","Y","APL-MXCJ3E/A","15182225",129]
["APL-Z1KH000VQ","15182207","C","D","CTO BO","N","APL-Z1KH000VQ","15182207"]
["APL-Z1FD000BB","15181916","C","D","CTO BO","N","APL-Z1FD000BB","15181916"]
["APL-Z1E2000K3","15175319","B","A","CTO BO","Y","APL-Z1E2000K3","15175319"]
["APL-Z1KH001W3","15172107","C","D","CTO BO","N","APL-Z1KH001W3","15172107"]
["APL-Z1FR000FA","15170383","C","D","CTO BO","N","APL-Z1FR000FA","15170383"]
["APL-Z1CX000RG","15164802","C","D","CTO BO","N","APL-Z1CX000RG","15164802"]
["APLX-MYQT3AM/A","15162023","C","D","IPHONE ACC 3","N","APLX-MYQT3AM/A","15162023",29]
["APLX-MYAP3LL/A","15162025","C","D","IPHONE","N","APLX-MYAP3LL/A","15162025"]
["APLX-MW2M3AM/A","15162020","C","D","MAC ACC 2","N","APLX-MW2M3AM/A","15162020",99]
["APLX-MYQW3AM/A","15161985","C","D","IPAD ACC 2","N","APLX-MYQW3AM/A","15161985",99]
["APLX-MXCL3LL/A","15161984","C","D","MAC ACC 2","N","APLX-MXCL3LL/A","15161984",99]
["APLX-MQ8R3LL/A","15161978","C","D","IPHONE","N","APLX-MQ8R3LL/A","15161978",0]
["APL-Z1FV000AR","15161508","C","D","CTO BO","N","APL-Z1FV000AR","15161508"]
["APL-Z1FV00296","15161509","C","D","CTO BO","N","APL-Z1FV00296","15161509"]
["APL-Z1KH000BK","15161507","C","D","CTO BO","N","APL-Z1KH000BK","15161507"]
["APL-Z1KH000ZR","15161168","C","D","CTO BO","N","APL-Z1KH000ZR","15161168"]
["APL-Z1CY001M7","15160659","C","D","CTO BO","N","APL-Z1CY001M7","15160659"]
["APL-Z1CD0LL/A","15154571","C","A","ZPN STOCKED","Y","APL-Z1CD0LL/A","15154571",3699]
["APL-Z1CX000RJ","15152307","C","D","CTO BO","N",{"$f":"TRIM(A1090)","v":"APL-Z1CX000RJ"},{"$f":"TRIM(B1090)","v":"15152307"}]
["APL-Z1FB001KY","15149679","C","D","CTO BO","N","APL-Z1FB001KY","15149679"]
["APL-Z1FD000AD","15149676","C","D","CTO BO","N","APL-Z1FD000AD","15149676"]
["APL-Z1FR000AY","15149677","C","D","CTO BO","N","APL-Z1FR000AY","15149677"]
["APL-Z1FS00071","15149678","C","D","CTO BO","N","APL-Z1FS00071","15149678"]
["APL-Z1FE002CK","15149237","C","D","CTO BO","N","APL-Z1FE002CK","15149237"]
["APL-Z1CY00118","15142285","C","D","CTO BO","N","APL-Z1CY00118","15142285"]
["APL-ME2N4LL/A-SKYWEST","15133366","B","A","IPAD - LTE/CELL","Y","APL-ME2N4LL/A-SKYWEST","15133366",1199]
["APL-Z1E20LL/A","15132606","B","A","ZPN BO","Y","APL-Z1E20LL/A","15132606",1529]
["APL-Z1E70LL/A","15132607","B","A","ZPN BO","Y","APL-Z1E70LL/A","15132607",1499]
["APL-Z1E22LL/A","15132608","B","A","ZPN BO","Y","APL-Z1E22LL/A","15132608",1999]
["APL-Z1E23LL/A","15132609","B","A","ZPN BO","Y","APL-Z1E23LL/A","15132609",1729]
["APL-Z1EJ4LL/A","15132610","A","A","ZPN BO","Y","APL-Z1EJ4LL/A","15132610",2199]
["APL-Z1EJ5LL/A","15132611","B","A","ZPN BO","Y","APL-Z1EJ5LL/A","15132611",1929]
["APL-Z1K10LL/A","15132612","B","A","ZPN BO","Y","APL-Z1K10LL/A","15132612",2399]
["APL-Z1K11LL/A","15132613","B","A","ZPN STOCKED","Y","APL-Z1K11LL/A","15132613",2599]
["APL-Z1EJ6LL/A","15132614","C","D","ZPN STOCKED","N","APL-Z1EJ6LL/A","15132614"]
["APL-Z1CD3LL/A","15132615","C","A","ZPN STOCKED","Y","APL-Z1CD3LL/A","15132615",2199]
["APL-Z1H92LL/A","15132596","C","D","ZPN BO","N","APL-Z1H92LL/A","15132596"]
["APL-Z1GU2LL/A","15132597","C","D","ZPN BO","N","APL-Z1GU2LL/A","15132597"]
["APL-Z1GU3LL/A","15132598","C","D","ZPN BO","N","APL-Z1GU3LL/A","15132598"]
["APL-Z1H93LL/A","15132599","C","D","ZPN BO","N","APL-Z1H93LL/A","15132599"]
["APL-Z1JV5LL/A","15132600","C","A","ZPN STOCKED","Y","APL-Z1JV5LL/A","15132600",1599]
["APL-Z1CG0LL/A","15132601","C","A","ZPN STOCKED","Y","APL-Z1CG0LL/A","15132601",999]
["APL-Z1JX1LL/A","15132602","C","A","ZPN BO","Y","APL-Z1JX1LL/A","15132602",1199]
["APL-Z1JX2LL/A","15132603","C","A","ZPN STOCKED","Y","APL-Z1JX2LL/A","15132603",1399]
["APL-Z1JV9LL/A","15132604","C","A","ZPN STOCKED","Y","APL-Z1JV9LL/A","15132604",1999]
["APL-Z1E21LL/A","15132605","B","A","ZPN BO","Y","APL-Z1E21LL/A","15132605",1699]
["APL-Z1CD4LL/A","15132593","C","D","ZPN STOCKED","N","APL-Z1CD4LL/A","15132593",2899]
["APL-Z1CD9LL/A","15132594","C","A","ZPN STOCKED","Y","APL-Z1CD9LL/A","15132594",0]
["APL-Z1CD8LL/A","15132595","C","A","ZPN BO","Y","APL-Z1CD8LL/A","15132595",3299]
["APL-MDYG4LL/A","15130654","B","I","MULTI IPAD","N","APL-MDYG4LL/A","15130654"]
["APL-MDYH4LL/A","15130655","B","I","MULTI IPAD","N","APL-MDYH4LL/A","15130655"]
["APL-ME2C4LL/A","15130656","B","I","MULTI IPAD","N","APL-ME2C4LL/A","15130656"]
["APL-ME2D4LL/A","15130657","B","I","MULTI IPAD","N","APL-ME2D4LL/A","15130657"]
["APL-MXNP3LL/A","15130658","B","I","MULTI IPAD","N","APL-MXNP3LL/A","15130658"]
["APL-MXNQ3LL/A","15130659","B","I","MULTI IPAD","N","APL-MXNQ3LL/A","15130659"]
["APL-MXNR3LL/A","15130660","B","I","MULTI IPAD","N","APL-MXNR3LL/A","15130660"]
["APL-MXNT3LL/A","15130661","B","I","MULTI IPAD","N","APL-MXNT3LL/A","15130661"]
["APL-MD6Q4LL/A","15130644","B","I","MULTI IPAD","N","APL-MD6Q4LL/A","15130644"]
["APL-MD6R4LL/A","15130645","B","I","MULTI IPAD","N","APL-MD6R4LL/A","15130645"]
["APL-MD6T4LL/A","15130646","B","I","MULTI IPAD","N","APL-MD6T4LL/A","15130646"]
["APL-MD6U4LL/A","15130647","B","I","MULTI IPAD","N","APL-MD6U4LL/A","15130647"]
["APL-MD6V4LL/A","15130648","B","I","MULTI IPAD","N","APL-MD6V4LL/A","15130648"]
["APL-MD6W4LL/A","15130649","B","I","MULTI IPAD","N","APL-MD6W4LL/A","15130649"]
["APL-MD6X4LL/A","15130650","B","I","MULTI IPAD","N","APL-MD6X4LL/A","15130650"]
["APL-MD6Y4LL/A","15130651","B","I","MULTI IPAD","N","APL-MD6Y4LL/A","15130651"]
["APL-MD8H4LL/A","15130652","B","I","MULTI IPAD","N","APL-MD8H4LL/A","15130652"]
["APL-MD8J4LL/A","15130653","B","I","MULTI IPAD","N","APL-MD8J4LL/A","15130653"]
["APL-MCQM4LL/A","15130636","C","I","MULTI IPAD","N","APL-MCQM4LL/A","15130636"]
["APL-MCQN4LL/A","15130637","C","I","MULTI IPAD","N","APL-MCQN4LL/A","15130637"]
["APL-MCQP4LL/A","15130638","C","I","MULTI IPAD","N","APL-MCQP4LL/A","15130638"]
["APL-MCQQ4LL/A","15130639","C","I","MULTI IPAD","N","APL-MCQQ4LL/A","15130639"]
["APL-MD6L4LL/A","15130640","B","I","MULTI IPAD","N","APL-MD6L4LL/A","15130640"]
["APL-MD6M4LL/A","15130641","B","I","MULTI IPAD","N","APL-MD6M4LL/A","15130641"]
["APL-MD6N4LL/A","15130642","B","I","MULTI IPAD","N","APL-MD6N4LL/A","15130642"]
["APL-MD6P4LL/A","15130643","B","I","MULTI IPAD","N","APL-MD6P4LL/A","15130643"]
["APL-MCF14LL/A","15130634","C","I","MULTI IPAD","N","APL-MCF14LL/A","15130634"]
["APL-MCF24LL/A","15130635","C","I","MULTI IPAD","N","APL-MCF24LL/A","15130635"]
["APL-MX323LL/A","15130624","C","I","MULTI MAC","N","APL-MX323LL/A","15130624"]
["APL-MX333LL/A","15130625","C","I","MULTI MAC","N","APL-MX333LL/A","15130625"]
["APL-MX343LL/A","15130626","C","I","MULTI MAC","N","APL-MX343LL/A","15130626"]
["APL-MX353LL/A","15130627","C","I","MULTI MAC","N","APL-MX353LL/A","15130627"]
["APL-MX363LL/A","15130628","C","I","MULTI MAC","N","APL-MX363LL/A","15130628"]
["APL-MX373LL/A","15130629","C","I","MULTI MAC","N",{"$f":"TRIM(A1154)","v":"APL-MX373LL/A"},{"$f":"TRIM(B1154)","v":"15130629"}]
["APL-MX393LL/A","15130630","C","I","MULTI MAC","N","APL-MX393LL/A","15130630"]
["APL-MX3A3LL/A","15130631","C","I","MULTI MAC","N","APL-MX3A3LL/A","15130631"]
["APL-MCDY4LL/A","15130632","C","I","MULTI IPAD","N","APL-MCDY4LL/A","15130632"]
["APL-MCF04LL/A","15130633","C","I","MULTI IPAD","N","APL-MCF04LL/A","15130633"]
["APL-MW1W3LL/A","15130614","C","I","MULTI MAC","N","APL-MW1W3LL/A","15130614"]
["APL-MW1X3LL/A","15130615","C","I","MULTI MAC","N","APL-MW1X3LL/A","15130615"]
["APL-MW1Y3LL/A","15130616","C","I","MULTI MAC","N","APL-MW1Y3LL/A","15130616"]
["APL-MW203LL/A","15130617","C","I","MULTI MAC","N","APL-MW203LL/A","15130617"]
["APL-MX2L3LL/A","15130618","C","I","MULTI MAC","N","APL-MX2L3LL/A","15130618"]
["APL-MX2M3LL/A","15130619","C","I","MULTI MAC","N","APL-MX2M3LL/A","15130619"]
["APL-MX2N3LL/A","15130620","C","I","MULTI MAC","N","APL-MX2N3LL/A","15130620"]
["APL-MX2P3LL/A","15130621","C","I","MULTI MAC","N","APL-MX2P3LL/A","15130621"]
["APL-MX2Q3LL/A","15130622","C","I","MULTI MAC","N","APL-MX2Q3LL/A","15130622"]
["APL-MX2R3LL/A","15130623","C","I","MULTI MAC","N","APL-MX2R3LL/A","15130623"]
["APL-MW193LL/A","15130608","C","I","MULTI MAC","N","APL-MW193LL/A","15130608"]
["APL-MW1A3LL/A","15130609","C","I","MULTI MAC","N","APL-MW1A3LL/A","15130609"]
["APL-MW1C3LL/A","15130610","C","I","MULTI MAC","N","APL-MW1C3LL/A","15130610"]
["APL-MW1D3LL/A","15130611","C","I","MULTI MAC","N","APL-MW1D3LL/A","15130611"]
["APL-MW1U3LL/A","15130612","C","I","MULTI MAC","N","APL-MW1U3LL/A","15130612"]
["APL-MW1V3LL/A","15130613","C","I","MULTI MAC","N","APL-MW1V3LL/A","15130613"]
["APL-MU9G3LL/A","15130604","B","I","MULTI MAC","N","APL-MU9G3LL/A","15130604"]
["APL-MU9H3LL/A","15130605","B","I","MULTI MAC","N","APL-MU9H3LL/A","15130605"]
["APL-MW173LL/A","15130606","C","I","MULTI MAC","N","APL-MW173LL/A","15130606"]
["APL-MW183LL/A","15130607","C","I","MULTI MAC","N","APL-MW183LL/A","15130607"]
["APL-MC7F4LL/A","15130594","C","I","MULTI MAC","N","APL-MC7F4LL/A","15130594"]
["APL-MC7G4LL/A","15130595","C","I","MULTI MAC","N","APL-MC7G4LL/A","15130595"]
["APL-MCX54LL/A","15130596","B","I","MULTI MAC","N","APL-MCX54LL/A","15130596"]
["APL-MCYW4LL/A","15130597","B","I","MULTI MAC","N","APL-MCYW4LL/A","15130597"]
["APL-MDE74LL/A","15130598","C","I","MULTI MAC","N","APL-MDE74LL/A","15130598"]
["APL-MDE94LL/A","15130599","B","I","MULTI MAC","N","APL-MDE94LL/A","15130599"]
["APL-MDEA4LL/A","15130600","B","I","MULTI MAC","N","APL-MDEA4LL/A","15130600"]
["APL-MDED4LL/A","15130601","C","I","MULTI MAC","N","APL-MDED4LL/A","15130601"]
["APL-MDEE4LL/A","15130602","B","I","MULTI MAC","N","APL-MDEE4LL/A","15130602"]
["APL-MDEF4LL/A","15130603","B","I","MULTI MAC","N","APL-MDEF4LL/A","15130603"]
["APL-MD8Q4LL/A","15130578","B","I","MULTI IPAD","N","APL-MD8Q4LL/A","15130578"]
["APL-MD8R4LL/A","15130579","B","I","MULTI IPAD","N","APL-MD8R4LL/A","15130579"]
["APL-MD8T4LL/A","15130580","B","I","MULTI IPAD","N","APL-MD8T4LL/A","15130580"]
["APL-MD8U4LL/A","15130581","B","I","MULTI IPAD","N","APL-MD8U4LL/A","15130581"]
["APL-MD8V4LL/A","15130582","B","I","MULTI IPAD","N","APL-MD8V4LL/A","15130582"]
["APL-MD8W4LL/A","15130583","B","I","MULTI IPAD","N","APL-MD8W4LL/A","15130583"]
["APL-MC6E4LL/A","15130584","C","I","MULTI MAC","N","APL-MC6E4LL/A","15130584"]
["APL-MC6F4LL/A","15130585","C","I","MULTI MAC","N","APL-MC6F4LL/A","15130585"]
["APL-MC6G4LL/A","15130586","C","I","MULTI MAC","N","APL-MC6G4LL/A","15130586"]
["APL-MC6N4LL/A","15130587","C","I","MULTI MAC","N","APL-MC6N4LL/A","15130587"]
["APL-MC6P4LL/A","15130588","C","I","MULTI MAC","N","APL-MC6P4LL/A","15130588"]
["APL-MC6Q4LL/A","15130589","C","I","MULTI MAC","N","APL-MC6Q4LL/A","15130589"]
["APL-MC6W4LL/A","15130590","C","I","MULTI MAC","N","APL-MC6W4LL/A","15130590"]
["APL-MC6X4LL/A","15130591","C","I","MULTI MAC","N","APL-MC6X4LL/A","15130591"]
["APL-MC6Y4LL/A","15130592","C","I","MULTI MAC","N","APL-MC6Y4LL/A","15130592"]
["APL-MC7E4LL/A","15130593","C","I","MULTI MAC","N","APL-MC7E4LL/A","15130593"]
["APL-MD8K4LL/A","15130574","B","I","MULTI IPAD","N","APL-MD8K4LL/A","15130574"]
["APL-MD8M4LL/A","15130575","B","I","MULTI IPAD","N","APL-MD8M4LL/A","15130575"]
["APL-MD8N4LL/A","15130576","B","I","MULTI IPAD","N","APL-MD8N4LL/A","15130576"]
["APL-MD8P4LL/A","15130577","B","I","MULTI IPAD","N","APL-MD8P4LL/A","15130577"]
["APL-Z1CU000U1","15127154","C","D","CTO BO","N","APL-Z1CU000U1","15127154"]
["APL-Z1CU000KX","15126996","C","D","CTO BO","N","APL-Z1CU000KX","15126996"]
["APL-Z1FW00075","15126515","C","D","CTO BO","N","APL-Z1FW00075","15126515"]
["APL-Z1CU001CP","15126427","C","D","CTO BO","N","APL-Z1CU001CP","15126427"]
["APL-MYAP3LL/A-SANOFI","15120726","B","A","IPHONE","Y","APL-MYAP3LL/A-SANOFI","15120726",729]
["APL-MQTP3LL/A-THD","15117038","A","A","LEG BEATS","Y","APL-MQTP3LL/A-THD","15117038","1396.25"]
["APL-MQTR3LL/A-THD","15117039","A","A","LEG BEATS","Y","APL-MQTR3LL/A-THD","15117039","1396.25"]
["APL-MQTT3LL/A-THD","15117040","A","A","LEG BEATS","Y","APL-MQTT3LL/A-THD","15117040","1396.25"]
["APL-Z1EH000DD","15113158","B","A","CTO BO","Y","APL-Z1EH000DD","15113158"]
["APL-Z1KH000VH","15112696","C","D","CTO BO","N",{"$f":"TRIM(A1218)","v":"APL-Z1KH000VH"},{"$f":"TRIM(B1218)","v":"15112696"}]
["APL-Z1KH2002435760","15112697","C","D","CTO BO","N","APL-Z1KH2002435760","15112697"]
["APL-Z1KL000BR","15112698","C","D","CTO BO","N","APL-Z1KL000BR","15112698"]
["APL-Z1KL2002435762","15112699","C","D","CTO BO","N","APL-Z1KL2002435762","15112699"]
["APL-Z1KL2002435763","15112700","C","D","CTO BO","N","APL-Z1KL2002435763","15112700"]
["APL-Z1KH000BR","15112695","C","D","CTO BO","N","APL-Z1KH000BR","15112695"]
["APL-Z1KH2002435765","15112667","C","D","CTO BO","N","APL-Z1KH2002435765","15112667"]
["APL-Z1FV0011D","15112642","C","D","CTO BO","N","APL-Z1FV0011D","15112642"]
["APLX-MVVC3LL/A","15110298","C","D","IPAD","N","APLX-MVVC3LL/A","15110298"]
["APL-Z1DG2002435091","15109864","C","D","CTO BO","N","APL-Z1DG2002435091","15109864"]
["APL-Z1FE00135","15109525","C","D","CTO BO","N","APL-Z1FE00135","15109525"]
["APL-Z1FF0020D","15106134","C","D","CTO BO","N","APL-Z1FF0020D","15106134"]
["APL-MXCK3LA/A","15104460","B","A","MAC ACC 1","Y","APL-MXCK3LA/A","15104460",149]
["APL-Z1FV000TG","15100099","C","D","CTO BO","N","APL-Z1FV000TG","15100099"]
["APL-Z1KH000VG","15099878","C","D","CTO BO","N","APL-Z1KH000VG","15099878",1819]
["APL-Z1KH000VD","15099879","C","D","CTO BO","N","APL-Z1KH000VD","15099879",1949]
["APL-Z1KH000VK","15099880","C","D","CTO BO","N","APL-Z1KH000VK","15099880",1969]
["APL-Z1KL000VW","15099881","C","D","CTO BO","N","APL-Z1KL000VW","15099881",2999]
["APL-Z1KL000VX","15099882","C","D","CTO BO","N","APL-Z1KL000VX","15099882",3349]
["APL-Z1KH0014M","15099795","C","D","CTO BO","N","APL-Z1KH0014M","15099795",2999]
["APL-Z1KH0014N","15099796","C","D","CTO BO","N","APL-Z1KH0014N","15099796",3349]
["APL-Z1KL000UL","15098681","C","D","CTO BO","N","APL-Z1KL000UL","15098681",1819]
["APL-Z1KL000V3","15098682","C","D","CTO BO","N","APL-Z1KL000V3","15098682",1949]
["APL-Z1KL000V9","15098683","C","D","CTO BO","N","APL-Z1KL000V9","15098683",1969]
["APL-Z1KL000W3","15098491","C","D","CTO BO","N","APL-Z1KL000W3","15098491",2419]
["APL-Z1KL000W4","15098492","C","D","CTO BO","N","APL-Z1KL000W4","15098492",2549]
["APL-Z1KL000UP","15098493","C","D","CTO BO","N","APL-Z1KL000UP","15098493",2569]
["APL-Z1KL000UT","15098494","C","D","CTO BO","N","APL-Z1KL000UT","15098494",2599]
["APL-Z1KL000VN","15098495","C","D","CTO BO","N","APL-Z1KL000VN","15098495",2619]
["APL-Z1KL000W5","15098496","C","D","STOCKED CTO","N","APL-Z1KL000W5","15098496",2749]
["APL-Z1KL000W6","15098497","C","D","CTO BO","N","APL-Z1KL000W6","15098497",2769]
["APL-Z1KL000W1","15098488","C","D","CTO BO","N","APL-Z1KL000W1","15098488",2349]
["APL-Z1KL000W2","15098489","C","D","CTO BO","N","APL-Z1KL000W2","15098489",2369]
["APL-Z1KL000V4","15098490","C","D","CTO BO","N","APL-Z1KL000V4","15098490",2399]
["APL-Z1KL000UH","15098479","C","D","CTO BO","N","APL-Z1KL000UH","15098479",2019]
["APL-Z1KL000UQ","15098480","C","D","CTO BO","N","APL-Z1KL000UQ","15098480",2149]
["APL-Z1KL000UG","15098481","C","D","CTO BO","N","APL-Z1KL000UG","15098481",2169]
["APL-Z1KL000U7","15098482","C","D","STOCKED CTO","N","APL-Z1KL000U7","15098482",2199]
["APL-Z1KL000US","15098483","C","D","CTO BO","N","APL-Z1KL000US","15098483",2219]
["APL-Z1KL000U6","15098484","C","D","CTO BO","N","APL-Z1KL000U6","15098484",2349]
["APL-Z1KL000VJ","15098485","C","D","CTO BO","N","APL-Z1KL000VJ","15098485",2369]
["APL-Z1KL000BH","15098486","C","D","CTO BO","N","APL-Z1KL000BH","15098486",2199]
["APL-Z1KL000W0","15098487","C","D","CTO BO","N","APL-Z1KL000W0","15098487",2219]
["APL-Z1KL000V6","15098478","C","D","CTO BO","N","APL-Z1KL000V6","15098478",1949]
["APL-Z1KL000C1","15098468","C","D","CTO BO","N","APL-Z1KL000C1","15098468",1619]
["APL-Z1KL000B8","15098469","C","D","CTO BO","N","APL-Z1KL000B8","15098469",1749]
["APL-Z1KL000V1","15098470","C","D","CTO BO","N","APL-Z1KL000V1","15098470",1769]
["APL-Z1KL000BZ","15098471","C","D","CTO BO","N","APL-Z1KL000BZ","15098471",1799]
["APL-Z1KL000UV","15098472","C","D","CTO BO","N","APL-Z1KL000UV","15098472",1969]
["APL-Z1KL000C0","15098473","C","D","CTO BO","N","APL-Z1KL000C0","15098473",1999]
["APL-Z1KL000UJ","15098474","C","D","CTO BO","N","APL-Z1KL000UJ","15098474",2019]
["APL-Z1KL000VY","15098475","C","D","CTO BO","N","APL-Z1KL000VY","15098475",2149]
["APL-Z1KL000V2","15098476","C","D","CTO BO","N","APL-Z1KL000V2","15098476",2169]
["APL-Z1KL000VZ","15098477","C","D","CTO BO","N","APL-Z1KL000VZ","15098477",1819]
["APL-Z1KH000Y8","15098458","C","D","CTO BO","N","APL-Z1KH000Y8","15098458",2349]
["APL-Z1KH000Y9","15098459","C","D","CTO BO","N","APL-Z1KH000Y9","15098459",2369]
["APL-Z1KH000VN","15098460","C","D","CTO BO","N","APL-Z1KH000VN","15098460",2399]
["APL-Z1KH000YA","15098461","C","D","CTO BO","N","APL-Z1KH000YA","15098461",2419]
["APL-Z1KH000X0","15098462","C","D","CTO BO","N","APL-Z1KH000X0","15098462",2549]
["APL-Z1KH000YB","15098463","C","D","CTO BO","N","APL-Z1KH000YB","15098463",2569]
["APL-Z1KH000WL","15098464","C","D","CTO BO","N","APL-Z1KH000WL","15098464",2599]
["APL-Z1KH000YC","15098465","C","D","CTO BO","N","APL-Z1KH000YC","15098465",2619]
["APL-Z1KH000W0","15098466","C","D","CTO BO","N","APL-Z1KH000W0","15098466",2749]
["APL-Z1KH000VR","15098467","C","D","CTO BO","N","APL-Z1KH000VR","15098467",2769]
["APL-Z1KL000WB","15098443","C","D","CTO BO","N",{"$f":"TRIM(A1282)","v":"APL-Z1KL000WB"},{"$f":"TRIM(B1282)","v":"15098443"},3149]
["APL-Z1KL000WC","15098444","C","D","CTO BO","N","APL-Z1KL000WC","15098444",3169]
["APL-Z1KL000WD","15098445","C","D","CTO BO","N","APL-Z1KL000WD","15098445",3199]
["APL-Z1KL000WE","15098446","C","D","CTO BO","N","APL-Z1KL000WE","15098446",3219]
["APL-Z1KL000WF","15098447","C","D","CTO BO","N","APL-Z1KL000WF","15098447",3369]
["APL-Z1KH000VJ","15098448","C","D","STOCKED CTO","N","APL-Z1KH000VJ","15098448",1949]
["APL-Z1KH000W2","15098449","C","D","CTO BO","N","APL-Z1KH000W2","15098449",2019]
["APL-Z1KH000WZ","15098450","C","D","CTO BO","N","APL-Z1KH000WZ","15098450",2149]
["APL-Z1KH000Y7","15098451","C","D","STOCKED CTO","N","APL-Z1KH000Y7","15098451",2169]
["APL-Z1KH000US","15098452","C","D","STOCKED CTO","N","APL-Z1KH000US","15098452",2199]
["APL-Z1KH000VT","15098453","C","D","CTO BO","N","APL-Z1KH000VT","15098453",2219]
["APL-Z1KH000UW","15098454","C","D","CTO BO","N","APL-Z1KH000UW","15098454",2349]
["APL-Z1KH000WP","15098455","C","D","CTO BO","N","APL-Z1KH000WP","15098455",2369]
["APL-Z1KH000BH","15098456","C","D","CTO BO","N","APL-Z1KH000BH","15098456",2199]
["APL-Z1KH000VW","15098457","C","D","CTO BO","N","APL-Z1KH000VW","15098457",2219]
["APL-Z1KL000BJ","15098438","C","D","CTO BO","N","APL-Z1KL000BJ","15098438",2799]
["APL-Z1KL000W7","15098439","C","D","CTO BO","N","APL-Z1KL000W7","15098439",2819]
["APL-Z1KL000W8","15098440","C","D","CTO BO","N","APL-Z1KL000W8","15098440",2949]
["APL-Z1KL000W9","15098441","C","D","CTO BO","N","APL-Z1KL000W9","15098441",2969]
["APL-Z1KL000WA","15098442","C","D","CTO BO","N","APL-Z1KL000WA","15098442",3019]
["APL-Z1KH000BJ","15098418","C","D","CTO BO","N","APL-Z1KH000BJ","15098418",2799]
["APL-Z1KH000YD","15098419","C","D","CTO BO","N","APL-Z1KH000YD","15098419",2819]
["APL-Z1KH000YE","15098420","C","D","CTO BO","N","APL-Z1KH000YE","15098420",2949]
["APL-Z1KH000YF","15098421","C","D","CTO BO","N","APL-Z1KH000YF","15098421",2969]
["APL-Z1KH000YG","15098422","C","D","CTO BO","N","APL-Z1KH000YG","15098422",3019]
["APL-Z1KH000YH","15098423","C","D","CTO BO","N","APL-Z1KH000YH","15098423",3149]
["APL-Z1KH000YJ","15098424","C","D","CTO BO","N","APL-Z1KH000YJ","15098424",3169]
["APL-Z1KH000YK","15098425","C","D","CTO BO","N","APL-Z1KH000YK","15098425",3199]
["APL-Z1KH000YL","15098426","C","D","CTO BO","N","APL-Z1KH000YL","15098426",3219]
["APL-Z1KH000YN","15098427","C","D","CTO BO","N","APL-Z1KH000YN","15098427",3369]
["APL-Z1KH000C1","15098428","C","D","CTO BO","N","APL-Z1KH000C1","15098428",1619]
["APL-Z1KH000BF","15098429","C","D","STOCKED CTO","N","APL-Z1KH000BF","15098429",1749]
["APL-Z1KH000TQ","15098430","C","D","CTO BO","N","APL-Z1KH000TQ","15098430",1769]
["APL-Z1KH000BZ","15098431","C","A","STOCKED CTO","Y","APL-Z1KH000BZ","15098431",1799]
["APL-Z1KH000WB","15098432","C","D","CTO BO","N","APL-Z1KH000WB","15098432",1969]
["APL-Z1KH000C0","15098433","C","D","STOCKED CTO","N","APL-Z1KH000C0","15098433",1999]
["APL-Z1KH000V1","15098434","C","D","CTO BO","N","APL-Z1KH000V1","15098434",2019]
["APL-Z1KH000VF","15098435","C","D","CTO BO","N","APL-Z1KH000VF","15098435",2149]
["APL-Z1KH000VV","15098436","C","D","CTO BO","N","APL-Z1KH000VV","15098436",2169]
["APL-Z1KH000Y6","15098437","C","D","CTO BO","N","APL-Z1KH000Y6","15098437",1819]
["APL-MHQH4LL/A","15098309","C","A","MACBOOK","Y","APL-MHQH4LL/A","15098309",3799]
["APL-ME6A4LL/A","15098184","B","A","IPAD - LTE/CELL","Y","APL-ME6A4LL/A","15098184",2499]
["APL-ME2N4LL/A","15098175","A","A","IPAD - LTE/CELL","Y","APL-ME2N4LL/A","15098175",1399]
["APL-ME2P4LL/A","15098176","B","A","IPAD - LTE/CELL","Y","APL-ME2P4LL/A","15098176",1399]
["APL-ME2Q4LL/A","15098177","A","A","IPAD - LTE/CELL","Y","APL-ME2Q4LL/A","15098177",1599]
["APL-ME2T4LL/A","15098178","B","A","IPAD - LTE/CELL","Y","APL-ME2T4LL/A","15098178",1599]
["APL-ME2U4LL/A","15098179","B","A","IPAD - LTE/CELL","Y","APL-ME2U4LL/A","15098179",1999]
["APL-ME2V4LL/A","15098180","B","A","IPAD - LTE/CELL","Y","APL-ME2V4LL/A","15098180",1999]
["APL-ME2W4LL/A","15098181","B","A","IPAD - LTE/CELL","Y","APL-ME2W4LL/A","15098181",2099]
["APL-ME2X4LL/A","15098182","B","A","IPAD - LTE/CELL","Y","APL-ME2X4LL/A","15098182",2099]
["APL-ME2Y4LL/A","15098183","B","A","IPAD - LTE/CELL","Y","APL-ME2Y4LL/A","15098183",2499]
["APL-ME8K4LL/A","15098172","B","A","IPAD - LTE/CELL","Y","APL-ME8K4LL/A","15098172",2799]
["APL-ME8M4LL/A","15098173","B","A","IPAD - LTE/CELL","Y","APL-ME8M4LL/A","15098173",2899]
["APL-ME8N4LL/A","15098174","B","A","IPAD - LTE/CELL","Y","APL-ME8N4LL/A","15098174",2899]
["APL-3P035LL/A","15098168","C","D","IPAD - LTE/CELL","N","APL-3P035LL/A","15098168"]
["APL-3P036LL/A","15098169","C","D","IPAD - LTE/CELL","N","APL-3P036LL/A","15098169"]
["APL-3P037LL/A","15098170","C","D","IPAD - LTE/CELL","N","APL-3P037LL/A","15098170"]
["APL-ME8J4LL/A","15098171","B","A","IPAD - LTE/CELL","Y","APL-ME8J4LL/A","15098171",2799]
["APL-ME6C4LL/A","15098155","B","A","IPAD - LTE/CELL","Y","APL-ME6C4LL/A","15098155",2599]
["APL-ME6D4LL/A","15098156","B","A","IPAD - LTE/CELL","Y","APL-ME6D4LL/A","15098156",2599]
["APL-ME7W4LL/A","15098157","A","A","IPAD - LTE/CELL","Y","APL-ME7W4LL/A","15098157",1699]
["APL-ME7X4LL/A","15098158","B","A","IPAD - LTE/CELL","Y","APL-ME7X4LL/A","15098158",1699]
["APL-ME7Y4LL/A","15098159","B","A","IPAD - LTE/CELL","Y","APL-ME7Y4LL/A","15098159",1899]
["APL-ME8C4LL/A","15098160","B","A","IPAD - LTE/CELL","Y","APL-ME8C4LL/A","15098160",1899]
["APL-ME8D4LL/A","15098161","B","A","IPAD - LTE/CELL","Y",{"$f":"TRIM(A1346)","v":"APL-ME8D4LL/A"},{"$f":"TRIM(B1346)","v":"15098161"},2299]
["APL-ME8F4LL/A","15098162","B","A","IPAD - LTE/CELL","Y","APL-ME8F4LL/A","15098162",2299]
["APL-ME8G4LL/A","15098163","B","A","IPAD - LTE/CELL","Y","APL-ME8G4LL/A","15098163",2399]
["APL-ME8H4LL/A","15098164","B","A","IPAD - LTE/CELL","Y","APL-ME8H4LL/A","15098164",2399]
["APL-3P028LL/A","15098165","C","D","IPAD - LTE/CELL","N","APL-3P028LL/A","15098165"]
["APL-3P029LL/A","15098166","C","D","IPAD - LTE/CELL","N","APL-3P029LL/A","15098166"]
["APL-3P034LL/A","15098167","C","D","IPAD - LTE/CELL","N","APL-3P034LL/A","15098167"]
["APL-3P026LL/A","15098153","C","D","IPAD - LTE/CELL","N","APL-3P026LL/A","15098153"]
["APL-3P027LL/A","15098154","C","D","IPAD - LTE/CELL","N","APL-3P027LL/A","15098154"]
["APL-MDYT4LL/A","15098144","B","A","IPAD","Y","APL-MDYT4LL/A","15098144",2599]
["APL-MDYU4LL/A","15098145","B","A","IPAD","Y","APL-MDYU4LL/A","15098145",2599]
["APL-MDYV4LL/A","15098146","B","A","IPAD","Y","APL-MDYV4LL/A","15098146",2699]
["APL-MDYW4LL/A","15098147","B","A","IPAD","Y","APL-MDYW4LL/A","15098147",2699]
["APL-MDWU4LL/A","15098132","B","A","IPAD","Y","APL-MDWU4LL/A","15098132",2299]
["APL-MDWV4LL/A","15098133","B","A","IPAD","Y","APL-MDWV4LL/A","15098133",2299]
["APL-MDWW4LL/A","15098134","B","A","IPAD","Y","APL-MDWW4LL/A","15098134",2399]
["APL-MDWX4LL/A","15098135","B","A","IPAD","Y","APL-MDWX4LL/A","15098135",2399]
["APL-MDYJ4LL/A","15098136","A","A","IPAD","Y","APL-MDYJ4LL/A","15098136",1499]
["APL-MDYK4LL/A","15098137","A","A","IPAD","Y","APL-MDYK4LL/A","15098137",1499]
["APL-MDYL4LL/A","15098138","A","A","IPAD","Y","APL-MDYL4LL/A","15098138",1699]
["APL-MDYM4LL/A","15098139","A","A","IPAD","Y","APL-MDYM4LL/A","15098139",1699]
["APL-MDYN4LL/A","15098140","B","A","IPAD","Y","APL-MDYN4LL/A","15098140",2099]
["APL-MDYP4LL/A","15098141","B","A","IPAD","Y","APL-MDYP4LL/A","15098141",2099]
["APL-MDYQ4LL/A","15098142","B","A","IPAD","Y","APL-MDYQ4LL/A","15098142",2199]
["APL-MDYR4LL/A","15098143","B","A","IPAD","Y","APL-MDYR4LL/A","15098143",2199]
["APL-MDWP4LL/A","15098128","B","A","IPAD","Y","APL-MDWP4LL/A","15098128",1799]
["APL-MDWQ4LL/A","15098129","B","A","IPAD","Y","APL-MDWQ4LL/A","15098129",1799]
["APL-MDWR4LL/A","15098130","B","A","IPAD","Y","APL-MDWR4LL/A","15098130",1899]
["APL-MDWT4LL/A","15098131","B","A","IPAD","Y","APL-MDWT4LL/A","15098131",1899]
["APL-MDWK4LL/A","15098124","A","A","IPAD","Y","APL-MDWK4LL/A","15098124",1199]
["APL-MDWL4LL/A","15098125","A","A","IPAD","Y","APL-MDWL4LL/A","15098125",1199]
["APL-MDWM4LL/A","15098126","A","A","IPAD","Y","APL-MDWM4LL/A","15098126",1399]
["APL-MDWN4LL/A","15098127","B","A","IPAD","Y","APL-MDWN4LL/A","15098127",1399]
["APL-MGYX4LL/A","15098106","A","A","IPAD ACC 1","Y","APL-MGYX4LL/A","15098106",269]
["APL-MGYY4LL/A","15098107","A","A","IPAD ACC 1","Y","APL-MGYY4LL/A","15098107",319]
["APL-3P043LL/A","15098108","C","D","MACBOOK","N","APL-3P043LL/A","15098108"]
["APL-3P044LL/A","15098109","C","D","MACBOOK","N","APL-3P044LL/A","15098109"]
["APL-MDE04LL/A","15098110","C","D","MACBOOK","N","APL-MDE04LL/A","15098110",1599]
["APL-MDE14LL/A","15098111","A","A","MACBOOK","Y","APL-MDE14LL/A","15098111",1999]
["APL-MDE34LL/A","15098112","A","A","MACBOOK","Y","APL-MDE34LL/A","15098112",2199]
["APL-MDE44LL/A","15098113","C","D","MACBOOK","N","APL-MDE44LL/A","15098113",1599]
["APL-MDE54LL/A","15098114","A","A","MACBOOK","Y","APL-MDE54LL/A","15098114",1999]
["APL-MDE64LL/A","15098115","A","A","MACBOOK","Y","APL-MDE64LL/A","15098115",2199]
["APL-3P001LL/A","15098116","C","D","IPAD","N","APL-3P001LL/A","15098116"]
["APL-3P002LL/A","15098117","C","D","IPAD","N","APL-3P002LL/A","15098117"]
["APL-3P003LL/A","15098118","C","D","IPAD","N","APL-3P003LL/A","15098118"]
["APL-3P004LL/A","15098119","C","D","IPAD","N","APL-3P004LL/A","15098119"]
["APL-3P009LL/A","15098120","B","A","IPAD","Y","APL-3P009LL/A","15098120"]
["APL-3P010LL/A","15098121","C","D","IPAD","N","APL-3P010LL/A","15098121"]
["APL-3P011LL/A","15098122","C","D","IPAD","N","APL-3P011LL/A","15098122"]
["APL-3P012LL/A","15098123","C","D","IPAD","N","APL-3P012LL/A","15098123"]
["APL-Z1FW000L8","15074311","C","D","CTO BO","N","APL-Z1FW000L8","15074311"]
["APL-Z1FE005JG","15067659","C","D","CTO BO","N","APL-Z1FE005JG","15067659"]
["APL-Z1FE000MB","15062854","C","D","CTO BO","N","APL-Z1FE000MB","15062854"]
["APL-Z1CD001RJ","15049081","C","D","CTO BO","N","APL-Z1CD001RJ","15049081"]
["APL-Z1FE004F4","15044483","C","D","CTO BO","N","APL-Z1FE004F4","15044483"]
["APL-Z1FB2002429416","15044069","C","D","CTO BO","N","APL-Z1FB2002429416","15044069"]
["APL-Z1CY2002429226","15043396","C","D","CTO BO","N","APL-Z1CY2002429226","15043396"]
["APL-Z1FG000Z9","15037080","C","D","CTO BO","N","APL-Z1FG000Z9","15037080"]
["APL-Z1FQ00099","15034422","C","D","CTO BO","N","APL-Z1FQ00099","15034422"]
["APL-Z1FU0003E","15034423","C","D","CTO BO","N","APL-Z1FU0003E","15034423"]
["APL-Z1FG000GE","15030652","C","D","CTO BO","N","APL-Z1FG000GE","15030652"]
["APL-Z1FT000EX","15028629","C","D","CTO BO","N","APL-Z1FT000EX","15028629"]
["APL-Z1CY000KV","15026344","C","D","CTO BO","N","APL-Z1CY000KV","15026344"]
["APL-MG184LL/A-INSIGHT","15026234","B","A","IPHONE","Y",{"$f":"TRIM(A1410)","v":"APL-MG184LL/A-INSIGHT"},{"$f":"TRIM(B1410)","v":"15026234"},999]
["APL-MFXG4LL/A-INSIGHT","15026231","B","A","IPHONE","Y","APL-MFXG4LL/A-INSIGHT","15026231",1199]
["APL-MG464LL/A-INSIGHT","15026232","B","A","IPHONE","Y","APL-MG464LL/A-INSIGHT","15026232",829]
["APL-MG7K4LL/A-INSIGHT","15026233","B","A","IPHONE","Y","APL-MG7K4LL/A-INSIGHT","15026233",1099]
["APL-APPLEBEATSSHIPPERFY25","15026196","C","D","MOD BEATS","N","APL-APPLEBEATSSHIPPERFY25","15026196","7222.58"]
["APL-APPLEBEATSSHIPPERFY25-NFM","15026195","C","D","MOD BEATS","N","APL-APPLEBEATSSHIPPERFY25-NFM","15026195","7222.58"]
["APL-Z1FD000AY","15024332","C","D","STOCKED CTO","N","APL-Z1FD000AY","15024332"]
["APL-Z1FD000AZ","15024333","C","D","STOCKED CTO","N","APL-Z1FD000AZ","15024333"]
["APL-Z1FS00075","15024334","C","D","STOCKED CTO","N","APL-Z1FS00075","15024334"]
["APL-Z1FR00083","15024335","C","D","STOCKED CTO","N","APL-Z1FR00083","15024335"]
["APL-Z1DB000FQ","15019572","C","D","CTO BO","N","APL-Z1DB000FQ","15019572"]
["APL-MH024ZM/A","15017274","B","A","IPHONE ACC 2","Y","APL-MH024ZM/A","15017274",39]
["APL-MGEV4ZM/A","15017254","B","A","IPHONE ACC 2","Y","APL-MGEV4ZM/A","15017254",49]
["APL-MGEW4ZM/A","15017255","B","A","IPHONE ACC 2","Y","APL-MGEW4ZM/A","15017255",49]
["APL-MGEX4ZM/A","15017256","B","A","IPHONE ACC 2","Y","APL-MGEX4ZM/A","15017256",49]
["APL-MGF04ZM/A","15017257","B","A","IPHONE ACC 2","Y","APL-MGF04ZM/A","15017257",49]
["APL-MGF34LL/A","15017258","B","A","IPHONE ACC 2","Y","APL-MGF34LL/A","15017258",59]
["APL-MGF44LL/A","15017259","B","A","IPHONE ACC 2","Y","APL-MGF44LL/A","15017259",59]
["APL-MGF54LL/A","15017260","B","A","IPHONE ACC 2","Y","APL-MGF54LL/A","15017260",59]
["APL-MGF64LL/A","15017261","B","A","IPHONE ACC 2","Y","APL-MGF64LL/A","15017261",59]
["APL-MGF84LL/A","15017262","B","A","IPHONE ACC 2","Y","APL-MGF84LL/A","15017262",59]
["APL-MGF94LL/A","15017263","B","A","IPHONE ACC 2","Y","APL-MGF94LL/A","15017263",59]
["APL-MGFA4LL/A","15017264","B","A","IPHONE ACC 2","Y","APL-MGFA4LL/A","15017264",59]
["APL-MGFG4ZM/A","15017265","B","A","IPHONE ACC 2","Y","APL-MGFG4ZM/A","15017265",49]
["APL-MGFH4ZM/A","15017266","B","A","IPHONE ACC 2","Y","APL-MGFH4ZM/A","15017266",49]
["APL-MGFN4ZM/A","15017267","B","A","IPHONE ACC 2","Y","APL-MGFN4ZM/A","15017267",49]
["APL-MGFP4ZM/A","15017268","B","A","IPHONE ACC 2","Y","APL-MGFP4ZM/A","15017268",49]
["APL-MGH24LL/A","15017269","B","A","IPHONE ACC 2","Y","APL-MGH24LL/A","15017269",49]
["APL-MGH34LL/A","15017270","B","A","IPHONE ACC 2","Y","APL-MGH34LL/A","15017270",49]
["APL-MGH94ZM/A","15017271","B","A","IPHONE ACC 2","Y","APL-MGH94ZM/A","15017271",59]
["APL-MGYW4ZM/A","15017272","B","A","IPHONE ACC 2","Y","APL-MGYW4ZM/A","15017272",39]
["APL-MH004ZM/A","15017273","B","A","IPHONE ACC 2","Y","APL-MH004ZM/A","15017273",39]
["APL-MGGN4LL/A","15015490","B","A","IPHONE ACC 2","Y","APL-MGGN4LL/A","15015490",59]
["APL-MGGG4LL/A","15015486","B","A","ACC NBU","Y","APL-MGGG4LL/A","15015486",59]
["APL-MGGK4LL/A","15015487","B","A","IPHONE ACC 2","Y","APL-MGGK4LL/A","15015487",59]
["APL-MGGL4LL/A","15015488","B","A","IPHONE ACC 2","Y","APL-MGGL4LL/A","15015488",59]
["APL-MGGM4LL/A","15015489","B","A","IPHONE ACC 2","Y","APL-MGGM4LL/A","15015489",59]
["APL-Z1CX000S4","15009327","C","D","CTO BO","N","APL-Z1CX000S4","15009327"]
["APL-Z1EV000RX","15008550","B","A","CTO BO","Y","APL-Z1EV000RX","15008550"]
["APL-MFHP4LL/A","15007615","A","A","ACC NBU","Y","APL-MFHP4LL/A","15007615",249]
["APL-MGD74LL/A","15007616","A","A","IPHONE ACC 2","Y","APL-MGD74LL/A","15007616",39]
["APL-MGDM4LL/A","15007617","A","A","IPHONE ACC 2","Y","APL-MGDM4LL/A","15007617",49]
["APL-MGKN4AM/A","15007613","A","A","IPHONE ACC 2","Y","APL-MGKN4AM/A","15007613",39]
["APL-MGPG4AM/A","15007614","B","A","IPHONE ACC 2","Y","APL-MGPG4AM/A","15007614",99]
["APL-MFCY4LW/A","15007603","B","A","WATCH","Y","APL-MFCY4LW/A","15007603",799]
["APL-MFD04LW/A","15007604","B","A","WATCH","Y","APL-MFD04LW/A","15007604",799]
["APL-MFD14LW/A","15007605","B","A","WATCH","Y","APL-MFD14LW/A","15007605",749]
["APL-MFD24LW/A","15007606","B","A","WATCH","Y","APL-MFD24LW/A","15007606",749]
["APL-MFD34LW/A","15007607","B","A","WATCH","Y","APL-MFD34LW/A","15007607",799]
["APL-MFD44LW/A","15007608","B","A","WATCH","Y","APL-MFD44LW/A","15007608",799]
["APL-MFD54LW/A","15007609","B","A","WATCH","Y","APL-MFD54LW/A","15007609",749]
["APL-MFD64LW/A","15007610","B","A","WATCH","Y","APL-MFD64LW/A","15007610",749]
["APL-MFD74LW/A","15007611","B","A","WATCH","Y","APL-MFD74LW/A","15007611",799]
["APL-MFD84LW/A","15007612","B","A","WATCH","Y","APL-MFD84LW/A","15007612",799]
["APL-MFC24LW/A","15007593","B","A","WATCH","Y","APL-MFC24LW/A","15007593",529]
["APL-MFC44LW/A","15007594","B","A","WATCH","Y","APL-MFC44LW/A","15007594",529]
["APL-MFC94LW/A","15007595","B","A","WATCH","Y","APL-MFC94LW/A","15007595",529]
["APL-MFCA4LW/A","15007596","B","A","WATCH","Y","APL-MFCA4LW/A","15007596",529]
["APL-MFCG4LW/A","15007597","B","A","WATCH","Y","APL-MFCG4LW/A","15007597",529]
["APL-MFCJ4LW/A","15007598","B","A","WATCH","Y","APL-MFCJ4LW/A","15007598",529]
["APL-MFCP4LW/A","15007599","B","A","WATCH","Y","APL-MFCP4LW/A","15007599",529]
["APL-MFCR4LW/A","15007600","B","A","WATCH","Y","APL-MFCR4LW/A","15007600",529]
["APL-MFCW4LW/A","15007601","B","A","WATCH","Y","APL-MFCW4LW/A","15007601",749]
["APL-MFCX4LW/A","15007602","B","A","WATCH","Y","APL-MFCX4LW/A","15007602",749]
["APL-MEU64LW/A","15007588","B","A","WATCH","Y",{"$f":"TRIM(A1474)","v":"APL-MEU64LW/A"},{"$f":"TRIM(B1474)","v":"15007588"},399]
["APL-MEU74LW/A","15007589","B","A","WATCH","Y","APL-MEU74LW/A","15007589",399]
["APL-MEUW4LW/A","15007590","A","A","WATCH","Y","APL-MEUW4LW/A","15007590",429]
["APL-MEUX4LW/A","15007591","A","A","WATCH","Y","APL-MEUX4LW/A","15007591",429]
["APL-MEV04LW/A","15007592","B","A","WATCH","Y","APL-MEV04LW/A","15007592",429]
["APL-MF8U4LW/A","15007579","B","A","WATCH","Y","APL-MF8U4LW/A","15007579",749]
["APL-MF8W4LW/A","15007580","B","A","WATCH","Y","APL-MF8W4LW/A","15007580",699]
["APL-MF8X4LW/A","15007581","B","A","WATCH","Y","APL-MF8X4LW/A","15007581",699]
["APL-MF8Y4LW/A","15007582","B","A","WATCH","Y","APL-MF8Y4LW/A","15007582",749]
["APL-MEQU4LW/A","15007583","A","A","WATCH","Y","APL-MEQU4LW/A","15007583",399]
["APL-MEQW4LW/A","15007584","B","A","WATCH","Y","APL-MEQW4LW/A","15007584",399]
["APL-MEQX4LW/A","15007585","B","A","WATCH","Y","APL-MEQX4LW/A","15007585",399]
["APL-MEU04LW/A","15007586","A","A","WATCH","Y","APL-MEU04LW/A","15007586",399]
["APL-MEU44LW/A","15007587","A","A","WATCH","Y","APL-MEU44LW/A","15007587",399]
["APL-MF8J4LW/A","15007573","B","A","WATCH","Y","APL-MF8J4LW/A","15007573",499]
["APL-MF8M4LW/A","15007574","B","A","WATCH","Y","APL-MF8M4LW/A","15007574",699]
["APL-MF8N4LW/A","15007575","B","A","WATCH","Y","APL-MF8N4LW/A","15007575",699]
["APL-MF8P4LW/A","15007576","B","A","WATCH","Y","APL-MF8P4LW/A","15007576",749]
["APL-MF8R4LW/A","15007577","B","A","WATCH","Y","APL-MF8R4LW/A","15007577",699]
["APL-MF8T4LW/A","15007578","B","A","WATCH","Y","APL-MF8T4LW/A","15007578",699]
["APL-MEHQ4LW/A","15007563","A","A","WATCH","Y","APL-MEHQ4LW/A","15007563",279]
["APL-MEP64LW/A","15007564","B","A","WATCH","Y","APL-MEP64LW/A","15007564",299]
["APL-MEP74LW/A","15007565","B","A","WATCH","Y","APL-MEP74LW/A","15007565",299]
["APL-MEP94LW/A","15007566","B","A","WATCH","Y","APL-MEP94LW/A","15007566",299]
["APL-MEPC4LW/A","15007567","B","A","WATCH","Y","APL-MEPC4LW/A","15007567",299]
["APL-MEPE4LW/A","15007568","B","A","WATCH","Y","APL-MEPE4LW/A","15007568",329]
["APL-MEPF4LW/A","15007569","B","A","WATCH","Y","APL-MEPF4LW/A","15007569",329]
["APL-MEPH4LW/A","15007570","B","A","WATCH","Y","APL-MEPH4LW/A","15007570",329]
["APL-MEPJ4LW/A","15007571","B","A","WATCH","Y","APL-MEPJ4LW/A","15007571",329]
["APL-MEQT4LW/A","15007572","A","A","WATCH","Y","APL-MEQT4LW/A","15007572",399]
["APL-MF1N4LW/A","15007553","B","A","WATCH","Y","APL-MF1N4LW/A","15007553",899]
["APL-MF1Q4LW/A","15007554","B","A","WATCH","Y","APL-MF1Q4LW/A","15007554",899]
["APL-MF1T4LW/A","15007555","B","A","WATCH","Y","APL-MF1T4LW/A","15007555",899]
["APL-MF834LW/A","15007556","B","A","WATCH","Y","APL-MF834LW/A","15007556",499]
["APL-MF854LW/A","15007557","B","A","WATCH","Y","APL-MF854LW/A","15007557",499]
["APL-MF8A4LW/A","15007558","B","A","WATCH","Y","APL-MF8A4LW/A","15007558",499]
["APL-MF8C4LW/A","15007559","B","A","WATCH","Y","APL-MF8C4LW/A","15007559",499]
["APL-MF8E4LW/A","15007560","B","A","WATCH","Y","APL-MF8E4LW/A","15007560",499]
["APL-MF8F4LW/A","15007561","B","A","WATCH","Y","APL-MF8F4LW/A","15007561",499]
["APL-MF8H4LW/A","15007562","B","A","WATCH","Y","APL-MF8H4LW/A","15007562",499]
["APL-3P420LW/A","15007543","B","D","WATCH","N","APL-3P420LW/A","15007543"]
["APL-3P438LW/A","15007544","B","D","WATCH","N","APL-3P438LW/A","15007544"]
["APL-3P440LW/A","15007545","B","D","WATCH","N","APL-3P440LW/A","15007545"]
["APL-MEH34LW/A","15007546","A","A","WATCH","Y","APL-MEH34LW/A","15007546",249]
["APL-MEH54LW/A","15007547","A","A","WATCH","Y","APL-MEH54LW/A","15007547",249]
["APL-MEH94LW/A","15007548","A","A","WATCH","Y","APL-MEH94LW/A","15007548",249]
["APL-MEHC4LW/A","15007549","A","A","WATCH","Y","APL-MEHC4LW/A","15007549",249]
["APL-MEHG4LW/A","15007550","A","A","WATCH","Y","APL-MEHG4LW/A","15007550",279]
["APL-MEHJ4LW/A","15007551","B","A","WATCH","Y","APL-MEHJ4LW/A","15007551",279]
["APL-MEHN4LW/A","15007552","A","A","WATCH","Y","APL-MEHN4LW/A","15007552",279]
["APL-MEWU4LW/A","15007532","A","A","WATCH","Y","APL-MEWU4LW/A","15007532",799]
["APL-MEWW4LW/A","15007533","B","A","WATCH","Y","APL-MEWW4LW/A","15007533",899]
["APL-MEWY4LW/A","15007534","B","A","WATCH","Y","APL-MEWY4LW/A","15007534",899]
["APL-MF0E4LW/A","15007535","B","A","WATCH","Y","APL-MF0E4LW/A","15007535",899]
["APL-MF0J4LW/A","15007536","A","A","WATCH","Y","APL-MF0J4LW/A","15007536",799]
["APL-MF0Q4LW/A","15007537","A","A","WATCH","Y","APL-MF0Q4LW/A","15007537",799]
["APL-MF0V4LW/A","15007538","A","A","WATCH","Y","APL-MF0V4LW/A","15007538",799]
["APL-MF0X4LW/A","15007539","B","A","WATCH","Y","APL-MF0X4LW/A","15007539",799]
["APL-MF1D4LW/A","15007540","A","A","WATCH","Y","APL-MF1D4LW/A","15007540",799]
["APL-MF1H4LW/A","15007541","A","A","WATCH","Y","APL-MF1H4LW/A","15007541",799]
["APL-3P406LW/A","15007525","B","D","WATCH","N","APL-3P406LW/A","15007525"]
["APL-3P408LW/A","15007526","B","D","WATCH","N","APL-3P408LW/A","15007526"]
["APL-3P410LW/A","15007527","B","D","WATCH","N","APL-3P410LW/A","15007527"]
["APL-3P412LW/A","15007528","B","D","WATCH","N","APL-3P412LW/A","15007528"]
["APL-3P414LW/A","15007529","B","D","WATCH","N",{"$f":"TRIM(A1538)","v":"APL-3P414LW/A"},{"$f":"TRIM(B1538)","v":"15007529"}]
["APL-3P416LW/A","15007530","B","D","WATCH","N","APL-3P416LW/A","15007530"]
["APL-3P418LW/A","15007531","B","D","WATCH","N","APL-3P418LW/A","15007531"]
["APL-MEWP4LW/A","15007520","A","A","WATCH","Y","APL-MEWP4LW/A","15007520",799]
["APL-MEWR4LW/A","15007521","A","A","WATCH","Y","APL-MEWR4LW/A","15007521",799]
["APL-3P339LW/A","15007522","B","D","WATCH","N","APL-3P339LW/A","15007522"]
["APL-3P340LW/A","15007523","B","D","WATCH","N","APL-3P340LW/A","15007523"]
["APL-3P404LW/A","15007524","B","D","WATCH","N","APL-3P404LW/A","15007524"]
["APL-MEV44LW/A","15007512","A","A","WATCH","Y","APL-MEV44LW/A","15007512",429]
["APL-MEV64LW/A","15007513","A","A","WATCH","Y","APL-MEV64LW/A","15007513",429]
["APL-MEV74LW/A","15007514","A","A","WATCH","Y","APL-MEV74LW/A","15007514",429]
["APL-MEV94LW/A","15007515","B","A","WATCH","Y","APL-MEV94LW/A","15007515",429]
["APL-MEVA4LW/A","15007516","B","A","WATCH","Y","APL-MEVA4LW/A","15007516",429]
["APL-MEWH4LW/A","15007517","B","A","WATCH","Y","APL-MEWH4LW/A","15007517",799]
["APL-MEWK4LW/A","15007518","A","A","WATCH","Y","APL-MEWK4LW/A","15007518",799]
["APL-MEWM4LW/A","15007519","A","A","WATCH","Y","APL-MEWM4LW/A","15007519",799]
["APL-3P287LW/A","15007502","B","D","WATCH","N","APL-3P287LW/A","15007502"]
["APL-3P289LW/A","15007503","B","D","WATCH","N","APL-3P289LW/A","15007503"]
["APL-3P291LW/A","15007504","B","D","WATCH","N","APL-3P291LW/A","15007504"]
["APL-3P292LW/A","15007505","B","D","WATCH","N","APL-3P292LW/A","15007505"]
["APL-3P293LW/A","15007506","B","D","WATCH","N","APL-3P293LW/A","15007506"]
["APL-3P294LW/A","15007507","B","D","WATCH","N","APL-3P294LW/A","15007507"]
["APL-3P303LW/A","15007508","B","D","WATCH","N","APL-3P303LW/A","15007508"]
["APL-3P304LW/A","15007509","B","D","WATCH","N","APL-3P304LW/A","15007509"]
["APL-3P306LW/A","15007510","B","D","WATCH","N","APL-3P306LW/A","15007510"]
["APL-3P308LW/A","15007511","B","D","WATCH","N","APL-3P308LW/A","15007511"]
["APL-3P315LW/A","15007491","B","D","WATCH","N","APL-3P315LW/A","15007491"]
["APL-3P317LW/A","15007492","B","D","WATCH","N","APL-3P317LW/A","15007492"]
["APL-3P319LW/A","15007493","B","D","WATCH","N","APL-3P319LW/A","15007493"]
["APL-3P321LW/A","15007494","B","D","WATCH","N","APL-3P321LW/A","15007494"]
["APL-3P331LW/A","15007495","B","D","WATCH","N","APL-3P331LW/A","15007495"]
["APL-3P333LW/A","15007496","B","D","WATCH","N","APL-3P333LW/A","15007496"]
["APL-3P334LW/A","15007497","B","D","WATCH","N","APL-3P334LW/A","15007497"]
["APL-3P336LW/A","15007498","B","D","WATCH","N","APL-3P336LW/A","15007498"]
["APL-3P337LW/A","15007499","B","D","WATCH","N","APL-3P337LW/A","15007499"]
["APL-3P338LW/A","15007500","B","D","WATCH","N","APL-3P338LW/A","15007500"]
["APL-3P273LW/A","15007486","B","D","WATCH","N","APL-3P273LW/A","15007486"]
["APL-3P274LW/A","15007487","B","D","WATCH","N","APL-3P274LW/A","15007487"]
["APL-3P276LW/A","15007488","B","D","WATCH","N","APL-3P276LW/A","15007488"]
["APL-3P278LW/A","15007489","B","D","WATCH","N","APL-3P278LW/A","15007489"]
["APL-3P279LW/A","15007490","B","D","WATCH","N","APL-3P279LW/A","15007490"]
["APL-MG7R4LL/A","15007450","B","A","IPHONE","Y","APL-MG7R4LL/A","15007450",1499]
["APL-MG7T4LL/A","15007451","B","A","IPHONE","Y","APL-MG7T4LL/A","15007451",1499]
["APL-MG7U4LL/A","15007452","B","A","IPHONE","Y","APL-MG7U4LL/A","15007452",1499]
["APL-MGFK4ZM/A","15007453","B","A","IPHONE ACC 2","Y","APL-MGFK4ZM/A","15007453",49]
["APL-MGFR4ZM/A","15007454","B","A","IPHONE ACC 2","Y","APL-MGFR4ZM/A","15007454",49]
["APL-MGHA4ZM/A","15007431","B","A","IPHONE ACC 2","Y","APL-MGHA4ZM/A","15007431",59]
["APL-MG4F4LL/A","15007432","B","A","IPHONE","Y","APL-MG4F4LL/A","15007432",1029]
["APL-MG4H4LL/A","15007433","B","A","IPHONE","Y","APL-MG4H4LL/A","15007433",1029]
["APL-MG4J4LL/A","15007434","B","A","IPHONE","Y","APL-MG4J4LL/A","15007434",1029]
["APL-MG4Q4LL/A","15007435","B","A","IPHONE","Y","APL-MG4Q4LL/A","15007435",1029]
["APL-MG7K4LL/A","15007436","B","A","IPHONE","Y","APL-MG7K4LL/A","15007436",1099]
["APL-MG7L4LL/A","15007437","B","A","IPHONE","Y","APL-MG7L4LL/A","15007437",1099]
["APL-MG7M4LL/A","15007438","B","A","IPHONE","Y","APL-MG7M4LL/A","15007438",1099]
["APL-MG7N4LL/A","15007439","B","A","IPHONE","Y","APL-MG7N4LL/A","15007439",1299]
["APL-MG7P4LL/A","15007440","B","A","IPHONE","Y","APL-MG7P4LL/A","15007440",1299]
["APL-MG7Q4LL/A","15007441","B","A","IPHONE","Y","APL-MG7Q4LL/A","15007441",1299]
["APL-MGFX4ZM/A","15007426","B","A","MAC ACC 2","Y","APL-MGFX4ZM/A","15007426",35]
["APL-MGFY4ZM/A","15007427","B","A","MAC ACC 2","Y","APL-MGFY4ZM/A","15007427",35]
["APL-MGG04ZM/A","15007428","B","A","MAC ACC 2","Y","APL-MGG04ZM/A","15007428",35]
["APL-MGG14ZM/A","15007429","B","A","MAC ACC 2","Y","APL-MGG14ZM/A","15007429",35]
["APL-MGG24ZM/A","15007430","B","A","MAC ACC 2","Y","APL-MGG24ZM/A","15007430",35]
["APL-MG4E4LL/A","15007425","B","A","IPHONE","Y","APL-MG4E4LL/A","15007425",1029]
["APL-MFXT4LL/A","15007406","B","A","IPHONE","Y","APL-MFXT4LL/A","15007406",1999]
["APL-MFXU4LL/A","15007407","B","A","IPHONE","Y",{"$f":"TRIM(A1602)","v":"APL-MFXU4LL/A"},{"$f":"TRIM(B1602)","v":"15007407"},1999]
["APL-MG184LL/A","15007408","B","A","IPHONE","Y","APL-MG184LL/A","15007408",999]
["APL-MG194LL/A","15007409","B","A","IPHONE","Y","APL-MG194LL/A","15007409",999]
["APL-MG1A4LL/A","15007410","B","A","IPHONE","Y","APL-MG1A4LL/A","15007410",999]
["APL-MG1D4LL/A","15007411","B","A","IPHONE","Y","APL-MG1D4LL/A","15007411",999]
["APL-MG1E4LL/A","15007412","B","A","IPHONE","Y","APL-MG1E4LL/A","15007412",1199]
["APL-MG1G4LL/A","15007413","B","A","IPHONE","Y","APL-MG1G4LL/A","15007413",1199]
["APL-MG1H4LL/A","15007414","B","A","IPHONE","Y","APL-MG1H4LL/A","15007414",1199]
["APL-MG1J4LL/A","15007415","B","A","IPHONE","Y","APL-MG1J4LL/A","15007415",1199]
["APL-MG1L4LL/A","15007416","B","A","IPHONE","Y","APL-MG1L4LL/A","15007416",1399]
["APL-MG1N4LL/A","15007417","B","A","IPHONE","Y","APL-MG1N4LL/A","15007417",1399]
["APL-MG1P4LL/A","15007418","B","A","IPHONE","Y","APL-MG1P4LL/A","15007418",1399]
["APL-MG1Q4LL/A","15007419","B","A","IPHONE","Y","APL-MG1Q4LL/A","15007419",1399]
["APL-MG464LL/A","15007420","B","A","IPHONE","Y","APL-MG464LL/A","15007420",829]
["APL-MG474LL/A","15007421","B","A","IPHONE","Y","APL-MG474LL/A","15007421",829]
["APL-MG484LL/A","15007422","B","A","IPHONE","Y","APL-MG484LL/A","15007422",829]
["APL-MG494LL/A","15007423","B","A","IPHONE","Y","APL-MG494LL/A","15007423",829]
["APL-MG4A4LL/A","15007424","B","A","IPHONE","Y","APL-MG4A4LL/A","15007424",829]
["APL-MFXK4LL/A","15007399","B","A","IPHONE","Y","APL-MFXK4LL/A","15007399",1399]
["APL-MFXL4LL/A","15007400","B","A","IPHONE","Y","APL-MFXL4LL/A","15007400",1399]
["APL-MFXM4LL/A","15007401","B","A","IPHONE","Y","APL-MFXM4LL/A","15007401",1399]
["APL-MFXN4LL/A","15007402","B","A","IPHONE","Y","APL-MFXN4LL/A","15007402",1599]
["APL-MFXP4LL/A","15007403","B","A","IPHONE","Y","APL-MFXP4LL/A","15007403",1599]
["APL-MFXQ4LL/A","15007404","B","A","IPHONE","Y","APL-MFXQ4LL/A","15007404",1599]
["APL-MFXR4LL/A","15007405","B","A","IPHONE","Y","APL-MFXR4LL/A","15007405",1999]
["APL-MFXG4LL/A","15007396","B","A","IPHONE","Y","APL-MFXG4LL/A","15007396",1199]
["APL-MFXH4LL/A","15007397","B","A","IPHONE","Y","APL-MFXH4LL/A","15007397",1199]
["APL-MFXJ4LL/A","15007398","B","A","IPHONE","Y","APL-MFXJ4LL/A","15007398",1199]
["APL-3P184LL/A","15007382","B","D","IPHONE","N","APL-3P184LL/A","15007382",622]
["APL-3P185LL/A","15007383","B","D","IPHONE","N","APL-3P185LL/A","15007383",622]
["APL-3P186LL/A","15007384","B","D","IPHONE","N","APL-3P186LL/A","15007384",622]
["APL-3P187LL/A","15007385","B","D","IPHONE","N","APL-3P187LL/A","15007385",622]
["APL-3P188LL/A","15007386","B","D","IPHONE","N","APL-3P188LL/A","15007386",622]
["APL-MGFT4LL/A","15007387","B","A","IPHONE ACC 2","Y","APL-MGFT4LL/A","15007387",49]
["APL-MGFW4LL/A","15007388","B","A","IPHONE ACC 2","Y","APL-MGFW4LL/A","15007388",49]
["APL-MGF14ZM/A","15007380","B","A","IPHONE ACC 2","Y","APL-MGF14ZM/A","15007380",49]
["APL-MGF24LL/A","15007381","B","A","IPHONE ACC 2","Y","APL-MGF24LL/A","15007381",49]
["APL-3P137LL/A","15007373","B","D","IPHONE","N","APL-3P137LL/A","15007373",749]
["APL-3P138LL/A","15007374","B","D","IPHONE","N","APL-3P138LL/A","15007374",749]
["APL-3P139LL/A","15007375","B","D","IPHONE","N","APL-3P139LL/A","15007375",749]
["APL-3P140LL/A","15007376","B","D","IPHONE","N","APL-3P140LL/A","15007376",749]
["APL-3P161LL/A","15007377","B","D","IPHONE","N","APL-3P161LL/A","15007377",824]
["APL-3P162LL/A","15007378","B","D","IPHONE","N","APL-3P162LL/A","15007378",824]
["APL-3P163LL/A","15007379","B","D","IPHONE","N","APL-3P163LL/A","15007379",824]
["APL-3P119LL/A","15007370","B","D","IPHONE","N","APL-3P119LL/A","15007370",899]
["APL-3P120LL/A","15007371","B","D","IPHONE","N","APL-3P120LL/A","15007371",899]
["APL-3P121LL/A","15007372","B","D","IPHONE","N","APL-3P121LL/A","15007372",899]
["APL-Z1CT000S4","15007364","C","D","CTO BO","N","APL-Z1CT000S4","15007364"]
["APL-Z1JZ000VH","14992762","E","D","CTO BO","N","APL-Z1JZ000VH","14992762"]
["APL-Z1DS0005Y","14992453","C","D","CTO BO","N","APL-Z1DS0005Y","14992453"]
["APL-Z1DS00062","14992444","C","D","CTO BO","N","APL-Z1DS00062","14992444"]
["APL-ME2M4LL/A","14992363","B","A","MOD BEATS","Y","APL-ME2M4LL/A","14992363","199.99"]
["APL-ME2J4LL/A","14992360","A","A","MOD BEATS","Y","APL-ME2J4LL/A","14992360","199.99"]
["APL-ME2K4LL/A","14992361","B","A","MOD BEATS","Y","APL-ME2K4LL/A","14992361","199.99"]
["APL-ME2L4LL/A","14992362","B","A","MOD BEATS","Y","APL-ME2L4LL/A","14992362","199.99"]
["APL-MXCL3FC/A","14989150","B","A","IPAD ACC 1","Y","APL-MXCL3FC/A","14989150",99]
["APL-Z1FD001FJ","14986929","C","D","CTO BO","N","APL-Z1FD001FJ","14986929"]
["APL-Z1FC0014W","14982530","C","D","CTO BO","N","APL-Z1FC0014W","14982530"]
["APL-Z1JZ2002424261","14978573","E","D","CTO BO","N","APL-Z1JZ2002424261","14978573"]
["APL-Z1EH000PC","14974605","B","A","CTO BO","Y","APL-Z1EH000PC","14974605"]
["APL-Z1EH001VZ","14973039","B","A","CTO BO","Y","APL-Z1EH001VZ","14973039"]
["APL-Z1FT000D4-UHG","14970803","C","D","STOCKED CTO","N","APL-Z1FT000D4-UHG","14970803",4199]
["APL-Z1ET000TS","14965517","B","A","CTO BO","Y","APL-Z1ET000TS","14965517"]
["APL-Z1EX0011P","14959281","B","A","CTO BO","Y","APL-Z1EX0011P","14959281"]
["APL-Z1K1000B7","14955873","B","A","CTO BO","Y",{"$f":"TRIM(A1666)","v":"APL-Z1K1000B7"},{"$f":"TRIM(B1666)","v":"14955873"}]
["APLX-MD3Y4LL/A","14953686","C","D","IPAD","N","APLX-MD3Y4LL/A","14953686",349]
["APLX-MWY13LW/A","14953683","C","D","WATCH","N","APLX-MWY13LW/A","14953683",529]
["APL-Z1EJ0008D","14951322","B","A","CTO BO","Y","APL-Z1EJ0008D","14951322"]
["APL-Z1CY2002421926","14939450","C","D","CTO BO","N","APL-Z1CY2002421926","14939450"]
["APL-Z1FT001ZY","14939309","C","D","CTO BO","N","APL-Z1FT001ZY","14939309"]
["APL-Z1JR001DC","14934225","C","D","CTO BO","N","APL-Z1JR001DC","14934225"]
["APL-Z1HD2002421419","14930098","C","D","CTO BO","N","APL-Z1HD2002421419","14930098"]
["APL-Z1FV0013N","14907411","C","D","CTO BO","N","APL-Z1FV0013N","14907411"]
["APL-Z1FB000VW","14903395","C","D","CTO BO","N","APL-Z1FB000VW","14903395"]
["APL-Z1FV2002419531","14898058","C","D","CTO BO","N","APL-Z1FV2002419531","14898058"]
["APLX-MA6A4ZM/A","14891111","C","D","IPHONE ACC 2","N","APLX-MA6A4ZM/A","14891111",49]
["APLX-MLR93LL/A","14891112","C","D","IPHONE","N","APLX-MLR93LL/A","14891112"]
["APLX-MPQ33LL/A","14891113","C","D","IPAD","N","APLX-MPQ33LL/A","14891113"]
["APLX-MX5T3LW/A","14891114","C","D","WATCH","N","APLX-MX5T3LW/A","14891114",899]
["APL-Z1FT2002419145","14888409","C","D","CTO BO","N","APL-Z1FT2002419145","14888409"]
["APL-Z1FU000ZV","14888165","C","D","CTO BO","N","APL-Z1FU000ZV","14888165"]
["APL-Z1FS0006Z","14885144","C","D","CTO BO","N","APL-Z1FS0006Z","14885144"]
["APL-Z1GU001CW","14884104","C","D","CTO BO","N","APL-Z1GU001CW","14884104"]
["APL-Z1CY2112193203","14884105","C","D","STOCKED CTO","N","APL-Z1CY2112193203","14884105"]
["APL-Z1CY2112193307","14884106","C","D","CTO BO","N","APL-Z1CY2112193307","14884106"]
["APL-MDW94AM/A","14874408","A","A","MAC ACC 1","Y","APL-MDW94AM/A","14874408",69]
["APL-Z1FQ0009C","14874124","C","D","CTO BO","N","APL-Z1FQ0009C","14874124"]
["APL-Z1DB00149","14873892","C","D","CTO BO","N","APL-Z1DB00149","14873892"]
["APL-Z1DB2112190509","14873267","C","D","CTO BO","N","APL-Z1DB2112190509","14873267"]
["APL-Z1FF0019A","14866706","C","D","CTO BO","N","APL-Z1FF0019A","14866706"]
["APL-Z1DS0005F","14866707","C","D","CTO BO","N","APL-Z1DS0005F","14866707"]
["APL-Z1FU000F1","14866632","C","D","CTO BO","N","APL-Z1FU000F1","14866632"]
["APL-Z1CU0015X","14866452","C","D","CTO BO","N","APL-Z1CU0015X","14866452"]
["APL-Z1FV000ME","14864988","C","D","CTO BO","N","APL-Z1FV000ME","14864988"]
["APL-Z1FR2112184756","14864175","C","D","CTO BO","N","APL-Z1FR2112184756","14864175"]
["APL-Z1FE000M7","14862680","C","D","CTO BO","N","APL-Z1FE000M7","14862680"]
["APL-Z1FF000LK","14861150","C","D","CTO BO","N","APL-Z1FF000LK","14861150"]
["APL-MDFV4AB/A","14853662","B","D","IPAD ACC 1","N","APL-MDFV4AB/A","14853662"]
["APL-MW6A3AM/A","14850835","A","A","WATCH ACC 2","Y","APL-MW6A3AM/A","14850835",29]
["APL-MD3Y4LL/A-INSIGHT","14849144","B","A","IPAD","Y","APL-MD3Y4LL/A-INSIGHT","14849144"]
["APL-MD7F4LL/A-INSIGHT","14849145","B","A","IPAD","Y","APL-MD7F4LL/A-INSIGHT","14849145"]
["APL-Z1FC000VA","14846284","C","D","CTO BO","N","APL-Z1FC000VA","14846284"]
["APL-Z1E900122","14844599","B","A","CTO BO","Y","APL-Z1E900122","14844599"]
["APL-Z1FU0014J","14843320","C","D","CTO BO","N","APL-Z1FU0014J","14843320"]
["APL-Z1FC0014E","14838536","C","D","CTO BO","N","APL-Z1FC0014E","14838536"]
["APL-Z1FT2112159654","14825397","C","D","CTO BO","N","APL-Z1FT2112159654","14825397"]
["APL-Z1GU000H6","14816440","C","D","CTO BO","N","APL-Z1GU000H6","14816440"]
["APL-Z1CY000LC","14814734","C","D","CTO BO","N","APL-Z1CY000LC","14814734"]
["APL-Z1DS2112154943","14810793","C","D","CTO BO","N","APL-Z1DS2112154943","14810793"]
["APL-MDFW4LA/A","14803833","B","A","IPAD ACC 1","Y","APL-MDFW4LA/A","14803833",319]
["APL-MDFV4LA/A","14803834","B","A","IPAD ACC 1","Y","APL-MDFV4LA/A","14803834",269]
["APL-Z1FB000PL","14799338","C","D","CTO BO","N","APL-Z1FB000PL","14799338"]
["APL-Z1FG000A5","14799114","C","D","CTO BO","N","APL-Z1FG000A5","14799114"]
["APL-Z1EH2112145242","14791268","B","A","CTO BO","Y","APL-Z1EH2112145242","14791268"]
["APLX-MYML3LL/A","14790140","C","D","IPHONE","N","APLX-MYML3LL/A","14790140",1299]
["APL-Z1FE000X6","14788545","C","D","CTO BO","N","APL-Z1FE000X6","14788545"]
["APL-Z1FV2112142433","14787611","C","D","CTO BO","N","APL-Z1FV2112142433","14787611"]
["APL-Z1CY2112140608","14779271","C","D","CTO BO","N","APL-Z1CY2112140608","14779271"]
["APL-Z1FW001DT","14775883","C","D","CTO BO","N","APL-Z1FW001DT","14775883"]
["APL-Z1CY2112135148","14769205","C","D","CTO BO","N","APL-Z1CY2112135148","14769205"]
["APL-Z1CW000KR","14767574","C","D","CTO BO","N","APL-Z1CW000KR","14767574"]
["APL-Z1EH000H9","14757932","B","A","CTO BO","Y","APL-Z1EH000H9","14757932"]
["APL-Z1JR0003W","14754880","C","D","CTO BO","N","APL-Z1JR0003W","14754880"]
["APL-Z1FG000Q8","14750659","C","D","CTO BO","N","APL-Z1FG000Q8","14750659"]
["APL-Z1CF000LD","14750290","C","D","CTO BO","N","APL-Z1CF000LD","14750290"]
["APL-Z1CX2002408594","14750291","C","D","CTO BO","N","APL-Z1CX2002408594","14750291"]
["APL-MDEW4LL/A","14740241","B","A","HOMEPOD","Y","APL-MDEW4LL/A","14740241"]
["APL-MDEY4LL/A","14740242","B","A","HOMEPOD","Y","APL-MDEY4LL/A","14740242"]
["APL-Z1JZ000N0","14739371","E","D","CTO BO","N",{"$f":"TRIM(A1730)","v":"APL-Z1JZ000N0"},{"$f":"TRIM(B1730)","v":"14739371"}]
["APL-Z1FR000J1","14735255","C","D","CTO BO","N","APL-Z1FR000J1","14735255"]
["APL-Z1FF000EJ","14735178","C","D","CTO BO","N","APL-Z1FF000EJ","14735178"]
["APL-Z1CD001RC","14733799","C","D","CTO BO","N","APL-Z1CD001RC","14733799"]
["APL-Z1CD001HX","14731763","B","A","CTO BO","Y","APL-Z1CD001HX","14731763"]
["APL-Z1FE2002407044","14720865","C","D","CTO BO","N","APL-Z1FE2002407044","14720865"]
["APL-Z1FF000EH","14719408","C","D","CTO BO","N","APL-Z1FF000EH","14719408"]
["APL-Z1FC000EK","14719353","C","D","CTO BO","N","APL-Z1FC000EK","14719353"]
["APL-Z1CU000KV","14717482","C","D","CTO BO","N","APL-Z1CU000KV","14717482"]
["APL-Z1CU000LE","14717479","C","D","CTO BO","N","APL-Z1CU000LE","14717479"]
["APL-MW123LL/A-INSIGHT","14712496","C","D","MACBOOK","N","APL-MW123LL/A-INSIGHT","14712496"]
["APL-MW133LL/A-INSIGHT","14712497","C","D","MACBOOK","N","APL-MW133LL/A-INSIGHT","14712497"]
["APL-MW1L3LL/A-INSIGHT","14712498","B","A","MACBOOK","Y","APL-MW1L3LL/A-INSIGHT","14712498"]
["APL-MW1M3LL/A-INSIGHT","14712499","C","D","MACBOOK","N","APL-MW1M3LL/A-INSIGHT","14712499"]
["APL-Z1CX2002406172","14710027","C","D","CTO BO","N","APL-Z1CX2002406172","14710027"]
["APL-MXCJ3J/A","14709587","B","D","MAC ACC 1","N","APL-MXCJ3J/A","14709587",129]
["APL-Z1FE000PL","14708150","C","D","CTO BO","N","APL-Z1FE000PL","14708150"]
["APL-Z1JR000SM","14703385","C","D","CTO BO","N","APL-Z1JR000SM","14703385"]
["APL-Z1FE002QU","14701808","C","D","CTO BO","N","APL-Z1FE002QU","14701808"]
["APL-MMY23LL/A","14700723","C","D","IPHONE","N","APL-MMY23LL/A","14700723"]
["APL-MQDP3F/A","14673473","B","D","IPAD ACC 1","N","APL-MQDP3F/A","14673473",249]
["APL-Z1CD001R8","14673470","B","A","CTO BO","Y","APL-Z1CD001R8","14673470"]
["APL-Z1CD001JJ","14673195","B","A","CTO BO","Y","APL-Z1CD001JJ","14673195"]
["APL-Z1FE2002403103","14658201","C","D","CTO BO","N","APL-Z1FE2002403103","14658201"]
["APL-Z1FE001Q7","14646800","C","D","CTO BO","N","APL-Z1FE001Q7","14646800"]
["APL-Z1FE2002401446","14643819","C","D","CTO BO","N","APL-Z1FE2002401446","14643819"]
["APL-MDV84AM/A","14643316","A","A","IPAD ACC 3","Y","APL-MDV84AM/A","14643316",39]
["APL-Z1JZ000RG","14640990","E","D","CTO BO","N","APL-Z1JZ000RG","14640990"]
["APL-Z1FV000B6","14640936","C","D","CTO BO","N","APL-Z1FV000B6","14640936"]
["APL-MDGG4LL/A","14633450","B","A","MOD BEATS","Y","APL-MDGG4LL/A","14633450","18.99"]
["APL-MDGH4LL/A","14633451","B","A","MOD BEATS","Y","APL-MDGH4LL/A","14633451","34.99"]
["APL-MDGJ4LL/A","14633452","B","A","MOD BEATS","Y","APL-MDGJ4LL/A","14633452","18.99"]
["APL-MDGK4LL/A","14633453","B","A","MOD BEATS","Y","APL-MDGK4LL/A","14633453","18.99"]
["APL-MDGL4LL/A","14633454","B","A","MOD BEATS","Y","APL-MDGL4LL/A","14633454","18.99"]
["APL-MEQL4LL/A","14633445","B","A","MOD BEATS","Y","APL-MEQL4LL/A","14633445","18.99"]
["APL-MEQM4LL/A","14633446","B","A","MOD BEATS","Y","APL-MEQM4LL/A","14633446","18.99"]
["APL-MFEH4LL/A","14633447","B","A","MOD BEATS","Y","APL-MFEH4LL/A","14633447","18.99"]
["APL-MFEJ4LL/A","14633448","B","A","MOD BEATS","Y","APL-MFEJ4LL/A","14633448","18.99"]
["APL-MDGF4LL/A","14633449","B","A","MOD BEATS","Y","APL-MDGF4LL/A","14633449","18.99"]
["APL-MEQ94LL/A","14633444","B","A","MOD BEATS","Y","APL-MEQ94LL/A","14633444","18.99"]
["APL-MDGE4LL/A","14633430","B","A","MOD BEATS","Y","APL-MDGE4LL/A","14633430","18.99"]
["APL-MDGD4LL/A","14633429","B","A","MOD BEATS","Y","APL-MDGD4LL/A","14633429","18.99"]
["APL-MDGC4LL/A","14633428","B","A","MOD BEATS","Y","APL-MDGC4LL/A","14633428","34.99"]
["APL-MDGA4LL/A","14633427","B","A","MOD BEATS","Y","APL-MDGA4LL/A","14633427","18.99"]
["APL-Z1FT0023U","14632685","C","D","CTO BO","N","APL-Z1FT0023U","14632685"]
["APL-MDGU4ZM/A","14631975","B","A","IPHONE ACC 2","Y","APL-MDGU4ZM/A","14631975",49]
["APL-MDGV4ZM/A","14631976","B","A","IPHONE ACC 2","Y","APL-MDGV4ZM/A","14631976",49]
["APL-MDGW4ZM/A","14631977","C","D","IPHONE ACC 2","N","APL-MDGW4ZM/A","14631977",49]
["APL-MDGX4ZM/A","14631978","B","A","IPHONE ACC 2","Y","APL-MDGX4ZM/A","14631978",49]
["APL-MDGY4ZM/A","14631979","C","D","IPHONE ACC 2","N","APL-MDGY4ZM/A","14631979",49]
["APL-MDH04ZM/A","14631980","C","D","IPHONE ACC 2","N","APL-MDH04ZM/A","14631980",49]
["APL-MDG14ZM/A","14631968","B","A","IPHONE ACC 2","Y","APL-MDG14ZM/A","14631968",49]
["APL-MDGM4ZM/A","14631969","C","D","IPHONE ACC 2","N","APL-MDGM4ZM/A","14631969",49]
["APL-MDGN4ZM/A","14631970","B","A","IPHONE ACC 2","Y","APL-MDGN4ZM/A","14631970",49]
["APL-MDGP4ZM/A","14631971","B","A","IPHONE ACC 2","Y","APL-MDGP4ZM/A","14631971",49]
["APL-MDGQ4ZM/A","14631972","B","A","IPHONE ACC 2","Y","APL-MDGQ4ZM/A","14631972",49]
["APL-MDGR4ZM/A","14631973","B","A","IPHONE ACC 2","Y","APL-MDGR4ZM/A","14631973",49]
["APL-MDGT4ZM/A","14631974","B","A","IPHONE ACC 2","Y","APL-MDGT4ZM/A","14631974",49]
["APL-MDFX4ZM/A","14631965","C","D","IPHONE ACC 2","N","APL-MDFX4ZM/A","14631965",49]
["APL-MDFY4ZM/A","14631966","B","A","IPHONE ACC 2","Y","APL-MDFY4ZM/A","14631966",49]
["APL-MDG04ZM/A","14631967","B","A","IPHONE ACC 2","Y","APL-MDG04ZM/A","14631967",49]
["APL-Z1FV000AS","14627481","C","D","CTO BO","N","APL-Z1FV000AS","14627481"]
["APL-Z1FV000BD","14591230","C","D","CTO BO","N","APL-Z1FV000BD","14591230"]
["APL-Z1JX0007X","14591194","C","D","CTO BO","N","APL-Z1JX0007X","14591194"]
["APL-Z1FV000AV","14589911","C","D","CTO BO","N",{"$f":"TRIM(A1794)","v":"APL-Z1FV000AV"},{"$f":"TRIM(B1794)","v":"14589911"}]
["APL-MQDM3LL/A","14589879","B","A","HOME TV","Y","APL-MQDM3LL/A","14589879",99]
["APL-Z1CD001Q4","14577675","C","A","CTO BO","Y","APL-Z1CD001Q4","14577675"]
["APL-Z1CD001Q5","14577676","C","D","CTO BO","N","APL-Z1CD001Q5","14577676",11699]
["APL-Z1CD00145","14577677","B","A","CTO BO","Y","APL-Z1CD00145","14577677",14299]
["APL-Z1CD001Q6","14577678","C","A","CTO BO","Y","APL-Z1CD001Q6","14577678"]
["APL-Z1CD001Q7","14577679","C","D","CTO BO","N","APL-Z1CD001Q7","14577679",14099]
["APL-Z1CD0017Z","14577665","A","A","STOCKED CTO","Y","APL-Z1CD0017Z","14577665",3799]
["APL-Z1CD00180","14577666","C","A","STOCKED CTO","Y","APL-Z1CD00180","14577666"]
["APL-Z1CD0014H","14577667","B","A","CTO BO","Y","APL-Z1CD0014H","14577667",0]
["APL-Z1CD00181","14577668","A","A","CTO BO","Y","APL-Z1CD00181","14577668",4299]
["APL-Z1CD00182","14577669","C","A","CTO BO","Y","APL-Z1CD00182","14577669"]
["APL-Z1CD0014J","14577670","B","A","CTO BO","Y","APL-Z1CD0014J","14577670",0]
["APL-Z1CD00183","14577671","B","A","CTO BO","Y","APL-Z1CD00183","14577671",5299]
["APL-Z1CD00184","14577672","C","A","CTO BO","Y","APL-Z1CD00184","14577672"]
["APL-Z1CD0014K","14577673","B","A","CTO BO","Y","APL-Z1CD0014K","14577673",0]
["APL-Z1CD00185","14577674","B","A","CTO BO","Y","APL-Z1CD00185","14577674",7299]
["APL-Z1CD0013P","14577658","B","A","CTO BO","Y","APL-Z1CD0013P","14577658",3299]
["APL-Z1CD0013Q","14577659","B","A","CTO BO","Y","APL-Z1CD0013Q","14577659",4299]
["APL-Z1CD0013R","14577660","B","A","CTO BO","Y","APL-Z1CD0013R","14577660",6299]
["APL-Z1CD0013W","14577661","B","A","CTO BO","Y","APL-Z1CD0013W","14577661",0]
["APL-Z1CD0013X","14577662","B","A","CTO BO","Y","APL-Z1CD0013X","14577662",3499]
["APL-Z1CD0013Y","14577663","C","A","CTO BO","Y","APL-Z1CD0013Y","14577663"]
["APL-Z1CD0014G","14577664","A","A","STOCKED CTO","Y","APL-Z1CD0014G","14577664"]
["APL-Z1DG000G3","14577655","C","D","CTO BO","N","APL-Z1DG000G3","14577655"]
["APL-Z1DG000QR","14577656","C","D","CTO BO","N","APL-Z1DG000QR","14577656"]
["APL-Z1CD0013M","14577657","A","A","STOCKED CTO","Y","APL-Z1CD0013M","14577657",2799]
["APL-Z1DD000QV","14577645","C","D","CTO BO","N","APL-Z1DD000QV","14577645"]
["APL-Z1DG000G4","14577646","C","D","CTO BO","N","APL-Z1DG000G4","14577646"]
["APL-Z1DG000FW","14577647","C","D","STOCKED CTO","N","APL-Z1DG000FW","14577647"]
["APL-Z1DG000QM","14577648","C","D","CTO BO","N","APL-Z1DG000QM","14577648"]
["APL-Z1DG000FX","14577649","C","D","CTO BO","N","APL-Z1DG000FX","14577649"]
["APL-Z1DG000QT","14577650","C","D","CTO BO","N","APL-Z1DG000QT","14577650"]
["APL-Z1DG000R1","14577651","C","D","CTO BO","N","APL-Z1DG000R1","14577651"]
["APL-Z1DG000QS","14577652","C","D","CTO BO","N","APL-Z1DG000QS","14577652"]
["APL-Z1DG000G1","14577653","C","D","CTO BO","N","APL-Z1DG000G1","14577653"]
["APL-Z1DG000RG","14577654","C","D","CTO BO","N","APL-Z1DG000RG","14577654"]
["APL-Z1DD000G2","14577642","C","D","CTO BO","N","APL-Z1DD000G2","14577642"]
["APL-Z1DD000RG","14577643","C","D","CTO BO","N","APL-Z1DD000RG","14577643"]
["APL-Z1DD000G3","14577644","C","D","CTO BO","N","APL-Z1DD000G3","14577644"]
["APL-Z1CD00142","14577625","B","A","CTO BO","Y","APL-Z1CD00142","14577625",6799]
["APL-Z1CD00143","14577626","C","A","CTO BO","Y","APL-Z1CD00143","14577626"]
["APL-Z1CD00144","14577627","C","D","CTO BO","N","APL-Z1CD00144","14577627",9499]
["APL-Z1CD0014Q","14577628","B","A","CTO BO","Y","APL-Z1CD0014Q","14577628",7299]
["APL-Z1CD001Q0","14577629","C","A","CTO BO","Y","APL-Z1CD001Q0","14577629"]
["APL-Z1CD001Q1","14577630","C","D","CTO BO","N","APL-Z1CD001Q1","14577630",9899]
["APL-Z1CD0014R","14577631","B","A","CTO BO","Y","APL-Z1CD0014R","14577631",8299]
["APL-Z1CD001Q2","14577632","C","A","CTO BO","Y","APL-Z1CD001Q2","14577632"]
["APL-Z1CD001Q3","14577633","C","D","CTO BO","N","APL-Z1CD001Q3","14577633",10499]
["APL-Z1CD0014S","14577634","B","A","CTO BO","Y","APL-Z1CD0014S","14577634",10299]
["APL-Z1DD000R6","14577635","C","D","CTO BO","N","APL-Z1DD000R6","14577635"]
["APL-Z1DD000G0","14577636","C","D","CTO BO","N","APL-Z1DD000G0","14577636"]
["APL-Z1DD000QU","14577637","C","D","CTO BO","N","APL-Z1DD000QU","14577637"]
["APL-Z1DD000G1","14577638","C","D","CTO BO","N","APL-Z1DD000G1","14577638"]
["APL-Z1DD000QW","14577639","C","D","CTO BO","N","APL-Z1DD000QW","14577639"]
["APL-Z1DD000FK","14577640","C","D","CTO BO","N","APL-Z1DD000FK","14577640"]
["APL-Z1DD000RF","14577641","C","D","CTO BO","N","APL-Z1DD000RF","14577641"]
["APL-Z1DB000QA","14577620","C","D","CTO BO","N","APL-Z1DB000QA","14577620"]
["APL-Z1DB000G7","14577621","C","D","CTO BO","N","APL-Z1DB000G7","14577621"]
["APL-Z1DB000QE","14577622","C","D","CTO BO","N","APL-Z1DB000QE","14577622"]
["APL-Z1DB000G8","14577623","C","D","CTO BO","N","APL-Z1DB000G8","14577623"]
["APL-Z1DB000QJ","14577624","C","D","CTO BO","N","APL-Z1DB000QJ","14577624"]
["APL-Z1CD00186","14577605","C","A","CTO BO","Y","APL-Z1CD00186","14577605"]
["APL-Z1CD00140","14577606","C","A","CTO BO","Y","APL-Z1CD00140","14577606"]
["APL-Z1CD0014M","14577607","B","A","CTO BO","Y",{"$f":"TRIM(A1858)","v":"APL-Z1CD0014M"},{"$f":"TRIM(B1858)","v":"14577607"},5799]
["APL-Z1CD001HR","14577608","C","A","STOCKED CTO","Y","APL-Z1CD001HR","14577608"]
["APL-Z1CD0014N","14577609","B","A","CTO BO","Y","APL-Z1CD0014N","14577609",6799]
["APL-Z1CD001HS","14577610","C","A","CTO BO","Y","APL-Z1CD001HS","14577610"]
["APL-Z1CD0014P","14577611","B","A","CTO BO","Y","APL-Z1CD0014P","14577611",8799]
["APL-Z1CD001HT","14577612","C","A","CTO BO","Y","APL-Z1CD001HT","14577612"]
["APL-Z1CD00141","14577613","B","A","CTO BO","Y","APL-Z1CD00141","14577613",12799]
["APL-Z1CD001HU","14577614","C","A","CTO BO","Y","APL-Z1CD001HU","14577614"]
["APL-Z1DB000G5","14577615","C","D","CTO BO","N","APL-Z1DB000G5","14577615"]
["APL-Z1DB000QD","14577616","C","D","CTO BO","N","APL-Z1DB000QD","14577616"]
["APL-Z1DB000G6","14577617","C","D","CTO BO","N","APL-Z1DB000G6","14577617"]
["APL-Z1DB000QH","14577618","C","D","CTO BO","N","APL-Z1DB000QH","14577618"]
["APL-Z1DB000FN","14577619","C","D","CTO BO","N","APL-Z1DB000FN","14577619"]
["APL-Z1HD000G2","14577600","C","D","CTO BO","N","APL-Z1HD000G2","14577600"]
["APL-Z1HD000RT","14577601","C","D","CTO BO","N","APL-Z1HD000RT","14577601"]
["APL-Z1HD000G3","14577602","C","D","CTO BO","N","APL-Z1HD000G3","14577602"]
["APL-Z1HD000QT","14577603","C","D","CTO BO","N","APL-Z1HD000QT","14577603"]
["APL-Z1DB000G1","14577604","C","D","CTO BO","N","APL-Z1DB000G1","14577604"]
["APL-Z1DG000FJ","14577585","C","D","STOCKED CTO","N","APL-Z1DG000FJ","14577585"]
["APL-Z1DG000RB","14577586","C","D","CTO BO","N","APL-Z1DG000RB","14577586"]
["APL-Z1DG000FZ","14577587","C","D","STOCKED CTO","N","APL-Z1DG000FZ","14577587"]
["APL-Z1DG000QV","14577588","C","D","STOCKED CTO","N","APL-Z1DG000QV","14577588"]
["APL-Z1DG000G2","14577589","C","D","CTO BO","N","APL-Z1DG000G2","14577589"]
["APL-Z1DG000QQ","14577590","C","D","CTO BO","N","APL-Z1DG000QQ","14577590"]
["APL-Z1DG000FK","14577591","C","D","CTO BO","N","APL-Z1DG000FK","14577591"]
["APL-Z1DG000S0","14577592","C","D","CTO BO","N","APL-Z1DG000S0","14577592"]
["APL-Z1DG000G0","14577593","C","D","CTO BO","N","APL-Z1DG000G0","14577593"]
["APL-Z1DG000S1","14577594","C","D","CTO BO","N","APL-Z1DG000S1","14577594"]
["APL-Z1HD000R9","14577595","C","D","CTO BO","N","APL-Z1HD000R9","14577595"]
["APL-Z1HD000G1","14577596","C","D","CTO BO","N","APL-Z1HD000G1","14577596"]
["APL-Z1HD000QM","14577597","C","D","CTO BO","N","APL-Z1HD000QM","14577597"]
["APL-Z1HD000FK","14577598","C","D","CTO BO","N","APL-Z1HD000FK","14577598"]
["APL-Z1HD000RS","14577599","C","D","CTO BO","N","APL-Z1HD000RS","14577599"]
["APL-Z1HD000QL","14577575","C","D","CTO BO","N","APL-Z1HD000QL","14577575"]
["APL-Z1HD000FX","14577576","C","D","CTO BO","N","APL-Z1HD000FX","14577576"]
["APL-Z1HD000RN","14577577","C","D","CTO BO","N","APL-Z1HD000RN","14577577"]
["APL-Z1HD000QJ","14577578","C","D","CTO BO","N","APL-Z1HD000QJ","14577578"]
["APL-Z1HD000QV","14577579","C","D","CTO BO","N","APL-Z1HD000QV","14577579"]
["APL-Z1HD000FZ","14577580","C","D","CTO BO","N","APL-Z1HD000FZ","14577580"]
["APL-Z1HD000QS","14577581","C","D","CTO BO","N","APL-Z1HD000QS","14577581"]
["APL-Z1HD000FJ","14577582","C","D","CTO BO","N","APL-Z1HD000FJ","14577582"]
["APL-Z1HD000QU","14577583","C","D","CTO BO","N","APL-Z1HD000QU","14577583"]
["APL-Z1HD000G0","14577584","C","D","CTO BO","N","APL-Z1HD000G0","14577584"]
["APL-Z1DD000G4","14577565","C","D","CTO BO","N","APL-Z1DD000G4","14577565"]
["APL-Z1DD000FW","14577566","C","D","CTO BO","N","APL-Z1DD000FW","14577566"]
["APL-Z1DD000R9","14577567","C","D","CTO BO","N","APL-Z1DD000R9","14577567"]
["APL-Z1DD000FX","14577568","C","D","CTO BO","N","APL-Z1DD000FX","14577568"]
["APL-Z1DD000RA","14577569","C","D","CTO BO","N","APL-Z1DD000RA","14577569"]
["APL-Z1DD000QQ","14577570","C","D","CTO BO","N","APL-Z1DD000QQ","14577570"]
["APL-Z1DD000QR","14577571","C","D","CTO BO","N","APL-Z1DD000QR","14577571"]
["APL-Z1DD000FZ","14577572","C","D","CTO BO","N","APL-Z1DD000FZ","14577572"]
["APL-Z1DD000RE","14577573","C","D","CTO BO","N","APL-Z1DD000RE","14577573"]
["APL-Z1DD000FJ","14577574","C","D","CTO BO","N","APL-Z1DD000FJ","14577574"]
["APL-Z1CX000RZ","14577561","C","D","CTO BO","N","APL-Z1CX000RZ","14577561"]
["APL-Z1CX000WT","14577562","C","D","CTO BO","N","APL-Z1CX000WT","14577562"]
["APL-Z1HD000G4","14577563","C","D","STOCKED CTO","N","APL-Z1HD000G4","14577563"]
["APL-Z1HD000FW","14577564","C","D","CTO BO","N","APL-Z1HD000FW","14577564"]
["APL-Z1DB000G0","14577547","C","D","CTO BO","N","APL-Z1DB000G0","14577547"]
["APL-Z1DB000QF","14577548","C","D","CTO BO","N","APL-Z1DB000QF","14577548"]
["APL-Z1DB000Q8","14577549","C","D","CTO BO","N","APL-Z1DB000Q8","14577549"]
["APL-Z1DB000QC","14577550","C","D","CTO BO","N","APL-Z1DB000QC","14577550"]
["APL-Z1DB000G4","14577551","C","D","CTO BO","N","APL-Z1DB000G4","14577551"]
["APL-Z1DB000QG","14577552","C","D","CTO BO","N","APL-Z1DB000QG","14577552"]
["APL-Z1DB000FM","14577553","C","D","CTO BO","N","APL-Z1DB000FM","14577553"]
["APL-Z1DB000Q9","14577554","C","D","CTO BO","N",{"$f":"TRIM(A1922)","v":"APL-Z1DB000Q9"},{"$f":"TRIM(B1922)","v":"14577554"}]
["APL-Z1CX000RX","14577555","C","D","CTO BO","N","APL-Z1CX000RX","14577555"]
["APL-Z1CX000V8","14577556","C","D","STOCKED CTO","N","APL-Z1CX000V8","14577556"]
["APL-Z1CX000RT","14577557","C","D","CTO BO","N","APL-Z1CX000RT","14577557"]
["APL-Z1CX000WS","14577558","C","D","CTO BO","N","APL-Z1CX000WS","14577558"]
["APL-Z1CX000RY","14577559","C","D","CTO BO","N","APL-Z1CX000RY","14577559"]
["APL-Z1CX000UT","14577560","C","D","CTO BO","N","APL-Z1CX000UT","14577560"]
["APL-Z1DB000FZ","14577545","C","D","CTO BO","N","APL-Z1DB000FZ","14577545"]
["APL-Z1DB000QB","14577546","C","D","CTO BO","N","APL-Z1DB000QB","14577546"]
["APL-Z1CV000UZ","14577541","C","D","CTO BO","N","APL-Z1CV000UZ","14577541"]
["APL-Z1CV000RV","14577542","C","D","CTO BO","N","APL-Z1CV000RV","14577542"]
["APL-Z1CV000V0","14577543","C","D","CTO BO","N","APL-Z1CV000V0","14577543"]
["APL-Z1CV000RZ","14577544","C","D","CTO BO","N","APL-Z1CV000RZ","14577544"]
["APL-Z1CX000WR","14577525","C","D","CTO BO","N","APL-Z1CX000WR","14577525"]
["APL-Z1CX000UC","14577526","C","D","CTO BO","N","APL-Z1CX000UC","14577526"]
["APL-Z1CX000UJ","14577527","C","D","STOCKED CTO","N","APL-Z1CX000UJ","14577527"]
["APL-Z1CX000UG","14577528","C","D","CTO BO","N","APL-Z1CX000UG","14577528"]
["APL-Z1CX000RV","14577529","C","D","CTO BO","N","APL-Z1CX000RV","14577529"]
["APL-Z1CX000WN","14577530","C","D","CTO BO","N","APL-Z1CX000WN","14577530"]
["APL-Z1CX000RS","14577531","C","D","CTO BO","N","APL-Z1CX000RS","14577531"]
["APL-Z1CX000VZ","14577532","C","D","CTO BO","N","APL-Z1CX000VZ","14577532"]
["APL-Z1CX000RW","14577533","C","D","STOCKED CTO","N","APL-Z1CX000RW","14577533"]
["APL-Z1CX000UH","14577534","C","D","CTO BO","N","APL-Z1CX000UH","14577534"]
["APL-Z1CV000UL","14577535","C","D","CTO BO","N","APL-Z1CV000UL","14577535"]
["APL-Z1CV000RU","14577536","C","D","CTO BO","N","APL-Z1CV000RU","14577536"]
["APL-Z1CV000UY","14577537","C","D","CTO BO","N","APL-Z1CV000UY","14577537"]
["APL-Z1CV000RY","14577538","C","D","CTO BO","N","APL-Z1CV000RY","14577538"]
["APL-Z1CV000UR","14577539","C","D","CTO BO","N","APL-Z1CV000UR","14577539"]
["APL-Z1CV000RR","14577540","C","D","CTO BO","N","APL-Z1CV000RR","14577540"]
["APL-Z1CV000UE","14577505","C","D","CTO BO","N","APL-Z1CV000UE","14577505"]
["APL-Z1CV000UU","14577506","C","D","CTO BO","N","APL-Z1CV000UU","14577506"]
["APL-Z1CV000RW","14577507","C","D","CTO BO","N","APL-Z1CV000RW","14577507"]
["APL-Z1CV000U8","14577508","C","D","CTO BO","N","APL-Z1CV000U8","14577508"]
["APL-Z1CV000UV","14577509","C","D","CTO BO","N","APL-Z1CV000UV","14577509"]
["APL-Z1CV000UF","14577510","C","D","CTO BO","N","APL-Z1CV000UF","14577510"]
["APL-Z1CV000UW","14577511","C","D","CTO BO","N","APL-Z1CV000UW","14577511"]
["APL-Z1CV000RX","14577512","C","D","CTO BO","N","APL-Z1CV000RX","14577512"]
["APL-Z1CV000UX","14577513","C","D","CTO BO","N","APL-Z1CV000UX","14577513"]
["APL-Z1CV000RQ","14577514","C","D","CTO BO","N","APL-Z1CV000RQ","14577514"]
["APL-Z1CV000V1","14577515","C","D","CTO BO","N","APL-Z1CV000V1","14577515"]
["APL-Z1CX000S0","14577516","C","D","CTO BO","N","APL-Z1CX000S0","14577516"]
["APL-Z1CX000S2","14577517","C","D","CTO BO","N","APL-Z1CX000S2","14577517"]
["APL-Z1CX000RN","14577518","C","D","STOCKED CTO","N","APL-Z1CX000RN","14577518"]
["APL-Z1CX000TW","14577519","C","D","CTO BO","N","APL-Z1CX000TW","14577519"]
["APL-Z1CX000WQ","14577520","C","D","CTO BO","N","APL-Z1CX000WQ","14577520"]
["APL-Z1CX000RP","14577521","C","D","CTO BO","N","APL-Z1CX000RP","14577521"]
["APL-Z1CX000V7","14577522","C","D","CTO BO","N","APL-Z1CX000V7","14577522"]
["APL-Z1CX000TU","14577523","C","D","CTO BO","N","APL-Z1CX000TU","14577523"]
["APL-Z1CX000RQ","14577524","C","D","CTO BO","N","APL-Z1CX000RQ","14577524"]
["APL-Z1CT000S3","14577487","C","D","CTO BO","N","APL-Z1CT000S3","14577487"]
["APL-Z1CT000V7","14577488","C","D","CTO BO","N","APL-Z1CT000V7","14577488"]
["APL-Z1CV000S0","14577489","C","D","CTO BO","N","APL-Z1CV000S0","14577489"]
["APL-Z1CV000S1","14577490","C","D","CTO BO","N","APL-Z1CV000S1","14577490"]
["APL-Z1CV000RN","14577491","C","D","CTO BO","N","APL-Z1CV000RN","14577491"]
["APL-Z1CV000UK","14577492","C","D","CTO BO","N","APL-Z1CV000UK","14577492"]
["APL-Z1CV000UT","14577493","C","D","CTO BO","N","APL-Z1CV000UT","14577493"]
["APL-Z1CV000RS","14577494","C","D","CTO BO","N","APL-Z1CV000RS","14577494"]
["APL-Z1CT000W3","14577495","C","D","CTO BO","N","APL-Z1CT000W3","14577495"]
["APL-Z1CT000W4","14577496","C","D","CTO BO","N","APL-Z1CT000W4","14577496"]
["APL-Z1CT000RT","14577497","C","D","STOCKED CTO","N","APL-Z1CT000RT","14577497"]
["APL-Z1CT000UK","14577498","C","D","CTO BO","N","APL-Z1CT000UK","14577498"]
["APL-Z1CT000UX","14577499","C","D","CTO BO","N","APL-Z1CT000UX","14577499"]
["APL-Z1CT000RU","14577500","C","D","CTO BO","N","APL-Z1CT000RU","14577500"]
["APL-Z1CT000W5","14577501","C","D","CTO BO","N","APL-Z1CT000W5","14577501"]
["APL-Z1CT000VK","14577502","C","D","CTO BO","N",{"$f":"TRIM(A1986)","v":"APL-Z1CT000VK"},{"$f":"TRIM(B1986)","v":"14577502"}]
["APL-Z1CT000UM","14577503","C","D","CTO BO","N","APL-Z1CT000UM","14577503"]
["APL-Z1CT000V9","14577504","C","D","STOCKED CTO","N","APL-Z1CT000V9","14577504"]
["APL-Z1CT000S2","14577485","C","D","CTO BO","N","APL-Z1CT000S2","14577485"]
["APL-Z1CT000W7","14577486","C","D","CTO BO","N","APL-Z1CT000W7","14577486"]
["APL-Z1CT000RY","14577467","C","D","CTO BO","N","APL-Z1CT000RY","14577467"]
["APL-Z1CT000UW","14577468","C","D","CTO BO","N","APL-Z1CT000UW","14577468"]
["APL-Z1CT000RZ","14577469","C","D","CTO BO","N","APL-Z1CT000RZ","14577469"]
["APL-Z1CT000U4","14577470","C","D","CTO BO","N","APL-Z1CT000U4","14577470"]
["APL-Z1CT000S0","14577471","C","D","CTO BO","N","APL-Z1CT000S0","14577471"]
["APL-Z1CT000W2","14577472","C","D","CTO BO","N","APL-Z1CT000W2","14577472"]
["APL-Z1CT000S1","14577473","C","D","CTO BO","N","APL-Z1CT000S1","14577473"]
["APL-Z1CT000W6","14577474","C","D","CTO BO","N","APL-Z1CT000W6","14577474"]
["APL-Z1H7000X5","14577475","C","D","CTO BO","N","APL-Z1H7000X5","14577475"]
["APL-Z1H7000V4","14577476","C","D","CTO BO","N","APL-Z1H7000V4","14577476"]
["APL-Z1H7000RX","14577478","C","D","CTO BO","N","APL-Z1H7000RX","14577478"]
["APL-Z1H7000RU","14577482","C","D","CTO BO","N","APL-Z1H7000RU","14577482"]
["APL-Z1H7000S0","14577445","C","D","CTO BO","N","APL-Z1H7000S0","14577445"]
["APL-Z1H7000U8","14577451","C","D","CTO BO","N","APL-Z1H7000U8","14577451"]
["APL-Z1H7000RR","14577456","C","D","CTO BO","N","APL-Z1H7000RR","14577456"]
["APL-Z1H7000U9","14577461","C","D","CTO BO","N","APL-Z1H7000U9","14577461"]
["APL-MW1M3LL/A","14576413","C","D","MACBOOK","N","APL-MW1M3LL/A","14576413"]
["APL-MW123LL/A","14576406","C","D","MACBOOK","N","APL-MW123LL/A","14576406"]
["APL-MC6J4LL/A","14576403","C","D","MACBOOK","N","APL-MC6J4LL/A","14576403"]
["APL-MYLJ3LL/A","14576388","C","D","ACC NBU","N","APL-MYLJ3LL/A","14576388",5999]
["APL-3M791LL/A","14576392","C","D","MACBOOK","N","APL-3M791LL/A","14576392"]
["APL-3M793LL/A","14576393","C","D","MACBOOK","N","APL-3M793LL/A","14576393"]
["APL-MW0Y3LL/A","14576374","C","D","MACBOOK","N","APL-MW0Y3LL/A","14576374"]
["APL-MW0X3LL/A","14576373","C","D","MACBOOK","N","APL-MW0X3LL/A","14576373"]
["APL-MYJK3LL/A","14576385","C","D","ACC NBU","N","APL-MYJK3LL/A","14576385",1899]
["APL-MX5M3LL/A","14576379","C","D","MAC ACC 1","N","APL-MX5M3LL/A","14576379",199]
["APL-3N799LL/A","14569202","C","D","IPAD - LTE/CELL","N","APL-3N799LL/A","14569202"]
["APL-MDEQ4ZM/A","14569207","B","A","IPAD ACC 2","Y","APL-MDEQ4ZM/A","14569207",79]
["APL-3N729LL/A","14569194","C","D","IPAD","N","APL-3N729LL/A","14569194"]
["APL-3N687LL/A","14569189","C","D","IPAD - LTE/CELL","N","APL-3N687LL/A","14569189"]
["APL-MCNR4LL/A","14569181","C","D","IPAD","N","APL-MCNR4LL/A","14569181"]
["APL-MCNY4LL/A","14569185","C","D","IPAD","N","APL-MCNY4LL/A","14569185"]
["APL-3N672LL/A","14569172","C","D","IPAD","N","APL-3N672LL/A","14569172"]
["APL-3N681LL/A","14569177","C","D","IPAD - LTE/CELL","N","APL-3N681LL/A","14569177"]
["APL-MCGC4LL/A","14569157","C","D","IPAD - LTE/CELL","N","APL-MCGC4LL/A","14569157"]
["APL-MCJG4LL/A","14569162","C","D","IPAD - LTE/CELL","N","APL-MCJG4LL/A","14569162"]
["APL-MCNL4LL/A","14569167","C","D","IPAD","N","APL-MCNL4LL/A","14569167"]
["APL-MCG74LL/A","14569153","C","D","IPAD - LTE/CELL","N","APL-MCG74LL/A","14569153"]
["APL-MCJ84LL/A","14569145","C","D","IPAD - LTE/CELL","N","APL-MCJ84LL/A","14569145"]
["APL-MCA34LL/A","14569131","C","D","IPAD","N","APL-MCA34LL/A","14569131"]
["APL-MCAA4LL/A","14569136","C","D","IPAD","N","APL-MCAA4LL/A","14569136"]
["APL-MCJ44LL/A","14569141","C","D","IPAD - LTE/CELL","N","APL-MCJ44LL/A","14569141"]
["APL-MCG14LL/A","14569127","C","D","IPAD - LTE/CELL","N","APL-MCG14LL/A","14569127"]
["APL-MCAU4LL/A","14569121","C","D","IPAD","N","APL-MCAU4LL/A","14569121"]
["APL-MD5C4LL/A","14569113","B","A","IPAD","Y","APL-MD5C4LL/A","14569113",749]
["APL-MD4Y4LL/A","14569111","B","A","IPAD","Y","APL-MD4Y4LL/A","14569111",749]
["APL-MD7R4LL/A","14569104","B","A","IPAD - LTE/CELL","Y","APL-MD7R4LL/A","14569104",899]
["APL-MD7T4LL/A","14569105","B","A","IPAD - LTE/CELL","Y","APL-MD7T4LL/A","14569105",899]
["APL-MD7P4LL/A","14569102","B","A","IPAD - LTE/CELL","Y","APL-MD7P4LL/A","14569102",899]
["APL-MD4G4LL/A","14569097","A","A","IPAD","Y","APL-MD4G4LL/A","14569097",549]
["APL-Z1FT000Z8","14555768","C","D","CTO BO","N","APL-Z1FT000Z8","14555768"]
["APL-MD3N4ZM/A","14553872","B","A","IPHONE ACC 2","Y","APL-MD3N4ZM/A","14553872",39]
["APL-MD0J4LL/A-PP","14552815","C","D","IPHONE","N","APL-MD0J4LL/A-PP","14552815",899]
["APL-MD0G4LL/A","14551996","C","D","IPHONE","N","APL-MD0G4LL/A","14551996",699]
["APLX-MXK63AM/A","14551723","C","D","MAC ACC 2","N","APLX-MXK63AM/A","14551723"]
["APL-MXN43AM/A","14542483","A","A","IPAD ACC 1","Y","APL-MXN43AM/A","14542483",129]
["APL-Z1FV000B8","14529968","C","D","CTO BO","N","APL-Z1FV000B8","14529968"]
["APLX-MW2Q3AM/A","14524939","C","D","IPAD ACC 3","N","APLX-MW2Q3AM/A","14524939"]
["APLX-MXK83LL/A","14520681","C","D","MAC ACC 1","N","APLX-MXK83LL/A","14520681"]
["APLX-MV6R3LL/A","14520686","C","D","IPAD","N","APLX-MV6R3LL/A","14520686"]
["APL-Z1EJ000BE","14519582","B","A","CTO BO","Y","APL-Z1EJ000BE","14519582"]
["APL-Z1FE0023H","14506130","C","D","CTO BO","N","APL-Z1FE0023H","14506130"]
["APL-Z1DS0005V","14499360","C","D","CTO BO","N","APL-Z1DS0005V","14499360"]
["APL-MX723LL/A","14479979","A","A","MOD BEATS","Y","APL-MX723LL/A","14479979","249.99"]
["APL-Z1FE2002369356","14475677","C","D","CTO BO","N","APL-Z1FE2002369356","14475677"]
["APLX-MWUW3LL/A","14475079","C","D","IMAC","N","APLX-MWUW3LL/A","14475079",1499]
["APLX-MV273LL/A","14474835","C","D","IPAD","N","APLX-MV273LL/A","14474835"]
["APL-MYMG3LL/A-INSIGHT","14473631","C","D","IPHONE","N","APL-MYMG3LL/A-INSIGHT","14473631"]
["APL-Z1FE2002362943","14465409","C","D","CTO BO","N","APL-Z1FE2002362943","14465409"]
["APLX-MLEG3LL/A","14461458","C","D","IPHONE","N","APLX-MLEG3LL/A","14461458"]
["APL-Z1EN000LU","14458356","B","A","CTO BO","Y","APL-Z1EN000LU","14458356"]
["APL-Z1EQ2002360300","14419427","B","A","CTO BO","Y","APL-Z1EQ2002360300","14419427"]
["APL-MXN63LL/A+SFI001EC","14411308","B","A","IPAD","Y","APL-MXN63LL/A+SFI001EC","14411308","549.48"]
["APL-MXPN3LL/A+SFI001EC","14411309","B","A","IPAD","Y","APL-MXPN3LL/A+SFI001EC","14411309","699.48"]
["APL-MVX23LL/A+SFI009EC","14411315","C","D","IPAD","N","APL-MVX23LL/A+SFI009EC","14411315","1364.48"]
["APL-MYH83LL/A","14392301","C","D","MAC ACC 2","N","APL-MYH83LL/A","14392301",79]
["APLX-Z170000FU","14392016","C","D","CTO BO","N","APLX-Z170000FU","14392016"]
["APL-Z1K02002345696","14386751","E","D","CTO BO","N","APL-Z1K02002345696","14386751"]
["APL-Z1FG000BC","14381934","C","D","CTO BO","N","APL-Z1FG000BC","14381934"]
["APL-Z1FT2002341602","14374010","C","D","CTO BO","N","APL-Z1FT2002341602","14374010"]
["APL-Z1HW000J1","14371485","C","D","CTO BO","N","APL-Z1HW000J1","14371485"]
["APL-Z1HW000JJ","14370620","C","D","CTO BO","N","APL-Z1HW000JJ","14370620"]
["APL-Z1HW000K5","14370616","C","D","CTO BO","N","APL-Z1HW000K5","14370616"]
["APL-Z1HW0006M","14370606","C","D","CTO BO","N","APL-Z1HW0006M","14370606"]
["APL-Z1HV000E1","14370597","C","D","CTO BO","N","APL-Z1HV000E1","14370597"]
["APL-Z1HV000DX","14370598","C","D","CTO BO","N","APL-Z1HV000DX","14370598"]
["APL-Z1HV000ES","14370602","C","D","CTO BO","N","APL-Z1HV000ES","14370602"]
["APL-Z1HU000DL","14370593","C","D","CTO BO","N","APL-Z1HU000DL","14370593"]
["APL-Z1HU000GB","14370588","C","D","CTO BO","N","APL-Z1HU000GB","14370588"]
["APL-Z1HV000GV","14370583","C","D","CTO BO","N","APL-Z1HV000GV","14370583"]
["APL-Z1HU000D5","14370578","C","D","CTO BO","N","APL-Z1HU000D5","14370578"]
["APL-Z1HU0006M","14370572","C","D","CTO BO","N","APL-Z1HU0006M","14370572"]
["APL-Z1HT000JL","14370568","C","D","CTO BO","N","APL-Z1HT000JL","14370568"]
["APL-Z1HT000FF","14370560","C","D","CTO BO","N","APL-Z1HT000FF","14370560"]
["APL-Z1HT000EV","14370556","C","D","CTO BO","N","APL-Z1HT000EV","14370556"]
["APL-Z1HT2002337274","14366486","C","D","CTO BO","N","APL-Z1HT2002337274","14366486"]
["APLX-MYQY3AM/A","14364507","C","D","IPAD ACC 3","N","APLX-MYQY3AM/A","14364507"]
["APLX-MWR23LL/A","14364460","C","D","IPAD ACC 1","N","APLX-MWR23LL/A","14364460"]
["APLX-MXD23LL/A","14362969","C","D","MACBOOK","N","APLX-MXD23LL/A","14362969"]
["APL-MX2U3LL/A-INSIGHT","14340333","C","D","MACBOOK","N","APL-MX2U3LL/A-INSIGHT","14340333",2899]
["APL-MX303LL/A-INSIGHT","14340334","C","D","MACBOOK","N","APL-MX303LL/A-INSIGHT","14340334"]
["APL-Z1FE2002333728","14339815","C","D","CTO BO","N","APL-Z1FE2002333728","14339815"]
["APL-Z1HW000C4","14327521","E","D","CTO BO","N","APL-Z1HW000C4","14327521",1319]
["APL-Z1HW0006H","14327516","E","D","CTO BO","N","APL-Z1HW0006H","14327516",1119]
["APL-Z1HV0009A","14327511","E","D","CTO BO","N","APL-Z1HV0009A","14327511",1499]
["APL-Z1HV000AZ","14327507","E","D","CTO BO","N","APL-Z1HV000AZ","14327507",1319]
["APL-Z1HU00068","14327504","E","D","CTO BO","N","APL-Z1HU00068","14327504",1199]
["APL-Z1HT000BL","14327499","E","D","CTO BO","N","APL-Z1HT000BL","14327499",1899]
["APL-Z1HT000BZ","14327488","E","D","CTO BO","N","APL-Z1HT000BZ","14327488",1219]
["APL-Z1HT000BN","14327493","C","D","CTO BO","N","APL-Z1HT000BN","14327493"]
["APL-Z1HN0012G","14327477","C","D","CTO BO","N","APL-Z1HN0012G","14327477",1399]
["APL-Z1HN0014V","14327482","C","D","CTO BO","N","APL-Z1HN0014V","14327482",1799]
["APL-Z1HM0015A","14327470","C","D","CTO BO","N","APL-Z1HM0015A","14327470",1199]
["APL-Z1HM0015B","14327471","C","D","CTO BO","N","APL-Z1HM0015B","14327471",1219]
["APL-Z1HM0012N","14327466","C","D","CTO BO","N","APL-Z1HM0012N","14327466",1019]
["APL-Z1HW000EE","14327462","E","D","CTO BO","N","APL-Z1HW000EE","14327462",1899]
["APL-Z1HL0010S","14327450","C","D","CTO BO","N","APL-Z1HL0010S","14327450"]
["APL-Z1HL0013V","14327455","C","D","CTO BO","N","APL-Z1HL0013V","14327455"]
["APL-Z1HU000AF","14327440","E","D","CTO BO","N","APL-Z1HU000AF","14327440",1899]
["APL-Z1HV00068","14327445","E","D","CTO BO","N","APL-Z1HV00068","14327445",1199]
["APL-Z1HK000QR","14327431","C","D","CTO BO","N","APL-Z1HK000QR","14327431"]
["APL-Z1HK000R0","14327436","C","D","CTO BO","N","APL-Z1HK000R0","14327436"]
["APL-Z1HU000AG","14327421","E","D","CTO BO","N","APL-Z1HU000AG","14327421",1319]
["APL-Z1HU0006E","14327427","E","D","CTO BO","N","APL-Z1HU0006E","14327427",1699]
["APL-Z1HK000QV","14327405","C","D","CTO BO","N","APL-Z1HK000QV","14327405"]
["APL-Z1HN0010W","14327410","C","D","CTO BO","N","APL-Z1HN0010W","14327410",1099]
["APL-Z1HN00168","14327411","C","D","CTO BO","N","APL-Z1HN00168","14327411",1119]
["APL-Z1HN0014R","14327416","C","D","CTO BO","N","APL-Z1HN0014R","14327416",1199]
["APL-Z1FP000CG","14327382","C","D","CTO BO","N","APL-Z1FP000CG","14327382",4599]
["APL-Z1FP000CH","14327384","C","D","CTO BO","N","APL-Z1FP000CH","14327384",5399]
["APL-Z1HM0015E","14327389","C","D","CTO BO","N","APL-Z1HM0015E","14327389",1399]
["APL-Z1HM00159","14327395","C","D","CTO BO","N","APL-Z1HM00159","14327395",1799]
["APL-Z1HL00140","14327376","C","D","CTO BO","N","APL-Z1HL00140","14327376"]
["APL-Z1FP000FP","14327361","C","D","CTO BO","N","APL-Z1FP000FP","14327361",4049]
["APL-Z1FP000J5","14327367","C","D","CTO BO","N","APL-Z1FP000J5","14327367",4349]
["APL-Z1HL0013Y","14327372","C","D","CTO BO","N","APL-Z1HL0013Y","14327372"]
["APL-Z1FP000CP","14327356","C","D","CTO BO","N","APL-Z1FP000CP","14327356",7199]
["APL-Z1FT000CU","14327341","C","D","CTO BO","N","APL-Z1FT000CU","14327341",6199]
["APL-Z1FT000T6","14327346","C","D","CTO BO","N","APL-Z1FT000T6","14327346",7349]
["APL-Z1FP000CL","14327350","C","D","CTO BO","N","APL-Z1FP000CL","14327350",5999]
["APL-Z1FP000CM","14327352","C","D","CTO BO","N","APL-Z1FP000CM","14327352",6199]
["APL-Z1FP000GZ","14327330","C","D","CTO BO","N","APL-Z1FP000GZ","14327330",3249]
["APL-Z1FP000BV","14327335","C","D","CTO BO","N","APL-Z1FP000BV","14327335",3699]
["APL-Z1FT000K4","14327320","C","D","CTO BO","N","APL-Z1FT000K4","14327320",5149]
["APL-Z1FT000CG","14327298","C","D","STOCKED CTO","N","APL-Z1FT000CG","14327298",4099]
["APL-Z1FT000CZ","14327303","C","D","CTO BO","N","APL-Z1FT000CZ","14327303",4499]
["APL-Z1FT000EQ","14327308","C","D","CTO BO","N","APL-Z1FT000EQ","14327308",2649]
["APL-Z1FT000CF","14327314","C","D","STOCKED CTO","N","APL-Z1FT000CF","14327314",3499]
["APL-Z1JC000KE","14324983","C","D","STOCKED CTO","N","APL-Z1JC000KE","14324983"]
["APL-Z1JB000KD","14324974","C","D","CTO BO","N","APL-Z1JB000KD","14324974"]
["APL-Z1JC000KB","14324976","C","D","CTO BO","N","APL-Z1JC000KB","14324976"]
["APL-Z1JB000MC","14324973","C","D","CTO BO","N","APL-Z1JB000MC","14324973"]
["APL-Z1JB000LD","14324971","C","D","CTO BO","N","APL-Z1JB000LD","14324971"]
["APL-Z1JB000JY","14324968","C","D","CTO BO","N","APL-Z1JB000JY","14324968"]
["APL-Z1FB0010T","14324960","C","D","CTO BO","N","APL-Z1FB0010T","14324960",5849]
["APL-Z1JA000JZ","14324945","C","D","CTO BO","N","APL-Z1JA000JZ","14324945"]
["APL-Z1JA000LQ","14324950","C","D","CTO BO","N","APL-Z1JA000LQ","14324950"]
["APL-Z1FB000P0","14324957","C","D","CTO BO","N","APL-Z1FB000P0","14324957",4899]
["APL-Z1FB000NT","14324941","C","D","CTO BO","N","APL-Z1FB000NT","14324941",4299]
["APL-Z1J9000MU","14324929","C","D","CTO BO","N","APL-Z1J9000MU","14324929"]
["APL-Z1FB0010M","14324938","C","D","CTO BO","N","APL-Z1FB0010M","14324938",4849]
["APL-Z1FB0010N","14324940","C","D","CTO BO","N","APL-Z1FB0010N","14324940",4249]
["APL-Z1FB0010W","14324906","C","D","CTO BO","N","APL-Z1FB0010W","14324906",7049]
["APL-Z1J9000MS","14324911","C","D","CTO BO","N","APL-Z1J9000MS","14324911"]
["APL-Z1FB000NP","14324917","C","D","CTO BO","N","APL-Z1FB000NP","14324917",3599]
["APL-Z1FB0010H","14324918","C","D","CTO BO","N","APL-Z1FB0010H","14324918",3749]
["APL-Z1FB000NV","14324912","C","D","CTO BO","N","APL-Z1FB000NV","14324912",3399]
["APL-Z1FB000NN","14324898","C","D","CTO BO","N","APL-Z1FB000NN","14324898",2799]
["APL-Z1FB000NG","14324893","C","D","CTO BO","N","APL-Z1FB000NG","14324893",2599]
["APL-Z1FB000VT","14324884","C","D","CTO BO","N","APL-Z1FB000VT","14324884",2769]
["APL-Z1FB000NL","14324871","C","D","CTO BO","N","APL-Z1FB000NL","14324871",2599]
["APL-Z1FB000MG","14324863","C","A","STOCKED CTO","Y","APL-Z1FB000MG","14324863",2399]
["APL-Z1FB000TU","14324869","C","D","CTO BO","N","APL-Z1FB000TU","14324869",2349]
["APL-Z1FB00109","14324875","C","D","CTO BO","N","APL-Z1FB00109","14324875",3349]
["APL-Z1FE000NS","14324846","C","D","CTO BO","N","APL-Z1FE000NS","14324846",5099]
["APL-Z1FE001CH","14324855","C","D","CTO BO","N","APL-Z1FE001CH","14324855",6049]
["APL-Z1FB000PH","14324860","C","D","CTO BO","N","APL-Z1FB000PH","14324860",2019]
["APL-Z1FE000NZ","14324852","C","D","CTO BO","N","APL-Z1FE000NZ","14324852",5699]
["APL-Z1FE001CG","14324853","C","D","CTO BO","N","APL-Z1FE001CG","14324853",5849]
["APL-Z1FE001CB","14324829","C","D","CTO BO","N","APL-Z1FE001CB","14324829",4049]
["APL-Z1FE000TN","14324840","C","D","CTO BO","N","APL-Z1FE000TN","14324840",2949]
["APL-Z1FE000NT","14324832","C","D","CTO BO","N","APL-Z1FE000NT","14324832",3599]
["APL-Z1FE000P7","14324837","C","D","CTO BO","N","APL-Z1FE000P7","14324837",2349]
["APL-Z1DW000M3","14324816","C","D","CTO BO","N","APL-Z1DW000M3","14324816",2749]
["APL-Z1FE001C8","14324806","C","D","CTO BO","N","APL-Z1FE001C8","14324806",3549]
["APL-Z1FE000ZC","14324811","C","D","CTO BO","N","APL-Z1FE000ZC","14324811",3749]
["APL-Z1DW000PX","14324793","C","D","CTO BO","N","APL-Z1DW000PX","14324793",2219]
["APL-Z1DW000Q1","14324798","C","D","CTO BO","N","APL-Z1DW000Q1","14324798",2349]
["APL-Z1FE0010V","14324783","C","D","CTO BO","N","APL-Z1FE0010V","14324783",2769]
["APL-Z1FE001BA","14324789","C","D","CTO BO","N","APL-Z1FE001BA","14324789",3219]
["APL-Z1DW000MD","14324763","C","D","CTO BO","N","APL-Z1DW000MD","14324763",2019]
["APL-Z1DW000MZ","14324764","C","D","CTO BO","N","APL-Z1DW000MZ","14324764",2149]
["APL-Z1DW000PW","14324769","C","D","CTO BO","N","APL-Z1DW000PW","14324769",2019]
["APL-Z1FE000S7","14324774","C","D","CTO BO","N","APL-Z1FE000S7","14324774",2219]
["APL-Z1FE000U1","14324779","C","D","CTO BO","N","APL-Z1FE000U1","14324779",2769]
["APL-Z1DS000PC","14324744","C","D","CTO BO","N","APL-Z1DS000PC","14324744",1949]
["APL-Z1DS000QE","14324750","C","D","CTO BO","N","APL-Z1DS000QE","14324750",2219]
["APL-Z1DW0005S","14324755","C","D","CTO BO","N","APL-Z1DW0005S","14324755",1619]
["APL-Z1DW000PG","14324760","C","D","CTO BO","N","APL-Z1DW000PG","14324760",1949]
["APL-Z1DS000KK","14324737","C","D","CTO BO","N","APL-Z1DS000KK","14324737",2399]
["APL-Z1DS0005S","14324722","C","D","STOCKED CTO","N","APL-Z1DS0005S","14324722"]
["APL-Z1DS000MN","14324727","C","D","CTO BO","N","APL-Z1DS000MN","14324727",1949]
["APL-Z1EW000DQ","14324539","B","A","CTO BO","Y","APL-Z1EW000DQ","14324539",3129]
["APL-Z1EW000DA","14324531","B","A","CTO BO","Y","APL-Z1EW000DA","14324531",2499]
["APL-Z1EW000DD","14324535","B","A","CTO BO","Y","APL-Z1EW000DD","14324535",2329]
["APL-Z1EW000BU","14324536","B","A","CTO BO","Y","APL-Z1EW000BU","14324536",2329]
["APL-Z1EV00090","14324520","B","A","CTO BO","Y","APL-Z1EV00090","14324520",1899]
["APL-Z1EW0007K","14324526","B","A","CTO BO","Y","APL-Z1EW0007K","14324526",1899]
["APL-Z1EW0007P","14324510","B","A","CTO BO","Y","APL-Z1EW0007P","14324510",2699]
["APL-Z1EW000CE","14324516","B","A","CTO BO","Y","APL-Z1EW000CE","14324516",2729]
["APL-Z1EU000EB","14324503","B","A","CTO BO","Y","APL-Z1EU000EB","14324503",2329]
["APL-Z1EU000C8","14324508","B","A","CTO BO","Y","APL-Z1EU000C8","14324508",2599]
["APL-Z1EW000CD","14324494","B","A","CTO BO","Y","APL-Z1EW000CD","14324494",2229]
["APL-Z1ET0008D","14324479","B","A","CTO BO","Y","APL-Z1ET0008D","14324479",1729]
["APL-Z1EU0007M","14324484","B","A","CTO BO","Y","APL-Z1EU0007M","14324484",2099]
["APL-Z1EU000E8","14324488","B","A","CTO BO","Y","APL-Z1EU000E8","14324488",2499]
["APL-Z1EU000EG","14324474","B","A","CTO BO","Y","APL-Z1EU000EG","14324474",2929]
["APL-Z1EU000BP","14324475","B","A","CTO BO","Y","APL-Z1EU000BP","14324475",2929]
["APL-Z1EL000BU","14324460","B","A","CTO BO","Y","APL-Z1EL000BU","14324460",2729]
["APL-Z1EL000DL","14324465","B","A","CTO BO","Y","APL-Z1EL000DL","14324465",3329]
["APL-Z1EU000C1","14324451","B","A","CTO BO","Y","APL-Z1EU000C1","14324451",2229]
["APL-Z1EU000BT","14324456","B","A","CTO BO","Y","APL-Z1EU000BT","14324456",2829]
["APL-Z1EK0008D","14324436","B","A","CTO BO","Y","APL-Z1EK0008D","14324436",1729]
["APL-Z1EL000BZ","14324442","B","A","CTO BO","Y","APL-Z1EL000BZ","14324442",2629]
["APL-Z1EL000DF","14324447","B","A","CTO BO","Y","APL-Z1EL000DF","14324447",3099]
["APL-Z1EK00089","14324433","B","A","CTO BO","Y","APL-Z1EK00089","14324433",1899]
["APL-Z1EN000AM","14324413","B","A","CTO BO","Y","APL-Z1EN000AM","14324413",2899]
["APL-Z1EL000D6","14324419","B","A","CTO BO","Y","APL-Z1EL000D6","14324419",2329]
["APL-Z1EL000D9","14324425","B","A","CTO BO","Y",{"$f":"TRIM(A3074)","v":"APL-Z1EL000D9"},{"$f":"TRIM(B3074)","v":"14324425"},2599]
["APL-Z1EN000DW","14324410","B","A","CTO BO","Y","APL-Z1EN000DW","14324410",2829]
["APL-Z1EL0008C","14324393","B","A","CTO BO","Y","APL-Z1EL0008C","14324393",2299]
["APL-Z1EK000DX","14324398","B","A","CTO BO","Y","APL-Z1EK000DX","14324398",2129]
["APL-Z1EN000BW","14324405","B","A","CTO BO","Y","APL-Z1EN000BW","14324405",2129]
["APL-Z1EL0008B","14324391","B","A","CTO BO","Y","APL-Z1EL0008B","14324391",2099]
["APL-Z1EN000AN","14324373","B","A","CTO BO","Y","APL-Z1EN000AN","14324373",2599]
["APL-Z1EN000CP","14324378","B","A","CTO BO","Y","APL-Z1EN000CP","14324378",2629]
["APL-Z1ES000C2","14324386","B","A","CTO BO","Y","APL-Z1ES000C2","14324386",2729]
["APL-Z1EN0007N","14324369","B","A","CTO BO","Y","APL-Z1EN0007N","14324369",2199]
["APL-Z1ES000CU","14324366","B","A","CTO BO","Y","APL-Z1ES000CU","14324366",2329]
["APL-Z1ES000D8","14324351","B","A","CTO BO","Y","APL-Z1ES000D8","14324351",3329]
["APL-Z1EM000D9","14324356","B","A","CTO BO","Y","APL-Z1EM000D9","14324356",1929]
["APL-Z1ES000CD","14324364","B","A","CTO BO","Y",{"$f":"TRIM(A3138)","v":"APL-Z1ES000CD"},{"$f":"TRIM(B3138)","v":"14324364"},2129]
["APL-Z1ES000AM","14324332","B","A","CTO BO","Y","APL-Z1ES000AM","14324332",2599]
["APL-Z1ES000D0","14324337","B","A","CTO BO","Y","APL-Z1ES000D0","14324337",2629]
["APL-Z1ES000D1","14324338","B","A","CTO BO","Y","APL-Z1ES000D1","14324338",2629]
["APL-Z1EQ000C0","14324343","B","A","CTO BO","Y","APL-Z1EQ000C0","14324343",2229]
["APL-Z1EQ000DH","14324315","B","A","CTO BO","Y","APL-Z1EQ000DH","14324315",2329]
["APL-Z1ER000DL","14324327","B","A","CTO BO","Y","APL-Z1ER000DL","14324327",2129]
["APL-Z1EQ000KA","14324310","B","A","CTO BO","Y","APL-Z1EQ000KA","14324310",2499]
["APL-Z1EQ000BL","14324320","B","A","CTO BO","Y","APL-Z1EQ000BL","14324320",3329]
["APL-Z1EP00089","14324290","B","A","CTO BO","Y","APL-Z1EP00089","14324290",1899]
["APL-Z1EP000FM","14324296","B","A","CTO BO","Y","APL-Z1EP000FM","14324296",2129]
["APL-Z1EQ000AM","14324301","B","A","CTO BO","Y","APL-Z1EQ000AM","14324301",2899]
["APL-Z1EQ000HE","14324306","B","A","CTO BO","Y","APL-Z1EQ000HE","14324306",2929]
["APL-Z1FE000NH","14323907","C","D","STOCKED CTO","N",{"$f":"TRIM(A3202)","v":"APL-Z1FE000NH"},{"$f":"TRIM(B3202)","v":"14323907"},2599]
["APL-Z1FT000CV","14323894","C","D","STOCKED CTO","N","APL-Z1FT000CV","14323894",2699]
["APL-Z1FP000BT","14323891","C","D","STOCKED CTO","N","APL-Z1FP000BT","14323891",2699]
["APL-Z1FP000C6","14323892","C","D","STOCKED CTO","N","APL-Z1FP000C6","14323892",3099]
["APL-MX2G3LL/A","14323254","C","A","MACBOOK","Y","APL-MX2G3LL/A","14323254"]
["APL-MX2T3LL/A","14323258","C","D","MACBOOK","N","APL-MX2T3LL/A","14323258",2499]
["APL-MX2W3LL/A","14323235","C","D","MACBOOK","N","APL-MX2W3LL/A","14323235"]
["APL-3N282LL/A","14323240","C","D","MACBOOK","N","APL-3N282LL/A","14323240"]
["APL-MCX04LL/A","14323246","C","D","MACBOOK","N","APL-MCX04LL/A","14323246"]
["APL-MC9F4LL/A","14323162","C","D","MACBOOK","N","APL-MC9F4LL/A","14323162"]
["APL-MC7X4LL/A","14323151","C","D","MACBOOK","N","APL-MC7X4LL/A","14323151"]
["APL-MC8M4LL/A","14323156","C","D","MACBOOK","N","APL-MC8M4LL/A","14323156"]
["APL-MC7U4LL/A","14323148","C","D","MACBOOK","N","APL-MC7U4LL/A","14323148"]
["APL-Z1JV000KH","14316938","B","A","CTO BO","Y",{"$f":"TRIM(A3266)","v":"APL-Z1JV000KH"},{"$f":"TRIM(B3266)","v":"14316938"},2699]
["APL-Z1JV000VS","14316924","C","D","CTO BO","N","APL-Z1JV000VS","14316924",4499]
["APL-Z1JV0002B","14316925","B","A","CTO BO","Y","APL-Z1JV0002B","14316925",1799]
["APL-Z1JV0002D","14316929","C","A","CTO BO","Y","APL-Z1JV0002D","14316929",2199]
["APL-Z1JV000UU","14316914","B","A","CTO BO","Y","APL-Z1JV000UU","14316914",3499]
["APL-Z1JV000MF","14316920","B","A","CTO BO","Y","APL-Z1JV000MF","14316920",5499]
["APL-Z1JV000KM","14316912","C","A","CTO BO","Y","APL-Z1JV000KM","14316912",2699]
["APL-Z1JV00026","14316907","B","A","CTO BO","Y","APL-Z1JV00026","14316907",2399]
["APL-Z1JV000KU","14316902","B","A","CTO BO","Y","APL-Z1JV000KU","14316902",1999]
["APL-Z1JV00027","14316897","B","A","CTO BO","Y","APL-Z1JV00027","14316897",2199]
["APL-Z1CF000DS","14316889","C","A","CTO BO","Y","APL-Z1CF000DS","14316889",1499]
["APL-Z1CF000BP","14316885","C","D","CTO BO","N","APL-Z1CF000BP","14316885",1099]
["APL-Z1CF0001E","14316865","C","A","STOCKED CTO","Y","APL-Z1CF0001E","14316865",799]
["APL-Z1CF000CF","14316870","C","D","CTO BO","N","APL-Z1CF000CF","14316870",1099]
["APL-Z1JV000PA","14316875","B","A","CTO BO","Y","APL-Z1JV000PA","14316875",4299]
["APL-Z1JV000SB","14316880","B","A","CTO BO","Y","APL-Z1JV000SB","14316880",6199]
["APL-Z1JV000VN","14316881","B","A","CTO BO","Y","APL-Z1JV000VN","14316881",6299]
["APL-Z1E7000DQ","14316846","B","A","CTO BO","Y","APL-Z1E7000DQ","14316846",2079]
["APL-Z1E80008U","14316852","B","A","CTO BO","Y","APL-Z1E80008U","14316852",1699]
["APL-Z1E8000AF","14316857","B","A","CTO BO","Y","APL-Z1E8000AF","14316857",2029]
["APL-Z1E8000DM","14316862","B","A","CTO BO","Y","APL-Z1E8000DM","14316862",2279]
["APL-Z1E3000DH","14316824","B","A","CTO BO","Y","APL-Z1E3000DH","14316824",1779]
["APL-Z1E3000AK","14316829","B","A","CTO BO","Y","APL-Z1E3000AK","14316829",2029]
["APL-Z1E8000DD","14316836","B","A","CTO BO","Y","APL-Z1E8000DD","14316836",1779]
["APL-Z1E700085","14316804","B","A","CTO BO","Y","APL-Z1E700085","14316804",1699]
["APL-Z1E7000DN","14316809","B","A","CTO BO","Y","APL-Z1E7000DN","14316809",1809]
["APL-Z1E300087","14316816","B","A","CTO BO","Y","APL-Z1E300087","14316816",1579]
["APL-Z1E3000AH","14316821","B","A","CTO BO","Y","APL-Z1E3000AH","14316821",1729]
["APL-Z1E700083","14316786","C","D","CTO BO","N","APL-Z1E700083","14316786",1299]
["APL-Z1E70008W","14316787","B","A","CTO BO","Y","APL-Z1E70008W","14316787",1529]
["APL-Z1E7000DL","14316792","B","A","CTO BO","Y","APL-Z1E7000DL","14316792",1779]
["APL-Z1E4000ER","14316800","B","A","CTO BO","Y","APL-Z1E4000ER","14316800",2279]
["APL-Z1E4000EN","14316793","B","A","CTO BO","Y","APL-Z1E4000EN","14316793",2009]
["APL-Z1E6000E2","14316766","B","A","CTO BO","Y","APL-Z1E6000E2","14316766",2109]
["APL-Z1E40008U","14316770","B","A","CTO BO","Y","APL-Z1E40008U","14316770",1699]
["APL-Z1E400085","14316776","B","A","CTO BO","Y","APL-Z1E400085","14316776",1699]
["APL-Z1E4000E0","14316781","B","A","CTO BO","Y","APL-Z1E4000E0","14316781",1809]
["APL-Z1E60008W","14316746","B","A","CTO BO","Y","APL-Z1E60008W","14316746",1529]
["APL-Z1E6000DV","14316751","B","A","CTO BO","Y","APL-Z1E6000DV","14316751",1779]
["APL-Z1E6000DX","14316757","B","A","CTO BO","Y","APL-Z1E6000DX","14316757",1779]
["APL-Z1E5000AH","14316723","B","A","CTO BO","Y","APL-Z1E5000AH","14316723",1929]
["APL-Z1E500086","14316728","B","A","CTO BO","Y","APL-Z1E500086","14316728",1999]
["APL-Z1E5000AJ","14316729","B","A","CTO BO","Y","APL-Z1E5000AJ","14316729",2029]
["APL-Z1E50008U","14316734","B","A","CTO BO","Y","APL-Z1E50008U","14316734",1699]
["APL-Z1E5000FK","14316739","B","A","CTO BO","Y","APL-Z1E5000FK","14316739",1809]
["APL-Z1K0000N9","14316438","C","D","CTO BO","N","APL-Z1K0000N9","14316438",9699]
["APL-Z1K0000N7","14316440","C","D","CTO BO","N","APL-Z1K0000N7","14316440",9499]
["APL-Z1K0000N1","14316426","C","D","CTO BO","N","APL-Z1K0000N1","14316426",8699]
["APL-Z1K0000KM","14316431","C","D","CTO BO","N","APL-Z1K0000KM","14316431",9699]
["APL-Z1JZ000Q2","14316416","C","D","CTO BO","N","APL-Z1JZ000Q2","14316416",10199]
["APL-Z1K0000KJ","14316422","C","D","CTO BO","N","APL-Z1K0000KJ","14316422",7499]
["APL-Z1JZ000QT","14316413","C","D","CTO BO","N","APL-Z1JZ000QT","14316413",10199]
["APL-Z1JZ000QQ","14316408","C","D","CTO BO","N","APL-Z1JZ000QQ","14316408",9599]
["APL-Z1JZ000QD","14316397","C","D","CTO BO","N","APL-Z1JZ000QD","14316397",9399]
["APL-Z1JZ000PY","14316402","C","D","CTO BO","N","APL-Z1JZ000PY","14316402",9599]
["APL-Z1JZ000QG","14316403","C","D","CTO BO","N","APL-Z1JZ000QG","14316403",9999]
["APL-Z1JZ000M3","14316378","C","D","CTO BO","N","APL-Z1JZ000M3","14316378",7799]
["APL-Z1JZ000M4","14316380","C","D","CTO BO","N","APL-Z1JZ000M4","14316380",8599]
["APL-Z1JZ000PW","14316386","C","D","CTO BO","N","APL-Z1JZ000PW","14316386",9999]
["APL-Z1JZ000QL","14316391","C","D","CTO BO","N","APL-Z1JZ000QL","14316391",8399]
["APL-3M536LL/A","14316320","C","D","MACBOOK","N","APL-3M536LL/A","14316320"]
["APL-Z1EJ000CJ","14309801","B","A","CTO BO","Y","APL-Z1EJ000CJ","14309801",3329]
["APL-Z1EJ000CB","14309795","B","A","CTO BO","Y","APL-Z1EJ000CB","14309795",3299]
["APL-Z1EJ000BJ","14309788","B","A","CTO BO","Y","APL-Z1EJ000BJ","14309788",2629]
["APL-Z1EJ000DU","14309783","B","A","CTO BO","Y","APL-Z1EJ000DU","14309783",2799]
["APL-Z1E2000EZ","14309769","B","A","CTO BO","Y","APL-Z1E2000EZ","14309769",2109]
["APL-Z1EH000DX","14309775","B","A","CTO BO","Y","APL-Z1EH000DX","14309775",1929]
["APL-Z1EH000DZ","14309777","B","A","CTO BO","Y","APL-Z1EH000DZ","14309777",2129]
["APL-Z1E2000EX","14309763","B","A","CTO BO","Y","APL-Z1E2000EX","14309763",2009]
["APL-Z1E2000EY","14309768","B","A","CTO BO","Y","APL-Z1E2000EY","14309768",2079]
["APL-Z1E20008U","14309740","B","A","CTO BO","Y","APL-Z1E20008U","14309740",1699]
["APL-Z1E200085","14309746","C","D","CTO BO","N","APL-Z1E200085","14309746",1499]
["APL-Z1EJ000E2","14309751","B","A","CTO BO","Y","APL-Z1EJ000E2","14309751",2499]
["APL-Z1EJ000E4","14309757","B","A","CTO BO","Y","APL-Z1EJ000E4","14309757",2529]
["APL-MWUG3LL/A","14309296","A","A","IMAC","Y","APL-MWUG3LL/A","14309296",1499]
["APL-MWUW3LL/A","14309301","B","A","IMAC","Y","APL-MWUW3LL/A","14309301",1699]
["APL-MWV43LL/A","14309287","B","A","IMAC","Y","APL-MWV43LL/A","14309287",1699]
["APL-MWV93LL/A","14309292","C","D","IMAC","N","APL-MWV93LL/A","14309292",1699]
["APL-3N786LL/A","14309273","B","D","IMAC","N","APL-3N786LL/A","14309273"]
["APL-MD3H4LL/A","14309281","B","A","IMAC","Y","APL-MD3H4LL/A","14309281",1899]
["APL-3N252LL/A","14309267","B","D","IMAC","N","APL-3N252LL/A","14309267"]
["APL-3N253LL/A","14309268","B","A","IMAC","Y","APL-3N253LL/A","14309268"]
["APL-3N247LL/A","14309262","B","D","IMAC","N","APL-3N247LL/A","14309262"]
["APL-MXK73LL/A","14309234","A","A","MAC ACC 1","Y","APL-MXK73LL/A","14309234",179]
["APL-MPUA3LL/A-INSIGHT","14293949","C","D","IPHONE","N","APL-MPUA3LL/A-INSIGHT","14293949",629]
["APLX-Z1B60016J","14292701","C","D","STOCKED CTO","N","APLX-Z1B60016J","14292701",1299]
["APL-Z1712002323436","14291775","C","D","CTO BO","N","APL-Z1712002323436","14291775",0]
["APL-MYHD3LL/A","14290309","B","A","IPAD - LTE/CELL","Y","APL-MYHD3LL/A","14290309",1049]
["APL-MXNE3LL/A","14290295","B","A","IPAD","Y","APL-MXNE3LL/A","14290295",699]
["APL-MXPT3LL/A","14290300","A","A","IPAD - LTE/CELL","Y","APL-MXPT3LL/A","14290300",849]
["APL-MXN93LL/A","14290291","A","A","IPAD","Y","APL-MXN93LL/A","14290291",599]
["APL-MC2T4ZM/A","14290277","B","A","IPAD ACC 2","Y","APL-MC2T4ZM/A","14290277",59]
["APL-3N305LL/A","14290283","C","D","IPAD","N","APL-3N305LL/A","14290283"]
["APL-MXN63LL/A","14290288","A","A","IPAD","Y","APL-MXN63LL/A","14290288",599]
["APL-MYMQ3LL/A-INSIGHT","14289698","C","D","IPHONE","N","APL-MYMQ3LL/A-INSIGHT","14289698"]
["APL-MX542LL/A-DIY","14286786","C","D","IPHONE ACC 3","N","APL-MX542LL/A-DIY","14286786",783]
["APL-MPUA3LL/A-GENZYME","14221546","C","D","IPHONE","N","APL-MPUA3LL/A-GENZYME","14221546"]
["APLX-MWK63ZM/A","14218774","C","D","IPAD ACC 2","N","APLX-MWK63ZM/A","14218774"]
["APL-MXD13LL/A-SER","14218709","C","D","MACBOOK","N","APL-MXD13LL/A-SER","14218709"]
["APL-3G661AM/A","14218630","B","D","WATCH ACC 2","N","APL-3G661AM/A","14218630",49]
["APLX-Z170000FR","14218611","C","D","CTO BO","N","APLX-Z170000FR","14218611",2099]
["APLX-MNXJ3LL/A","14210129","C","D","IPAD","N","APLX-MNXJ3LL/A","14210129"]
["APL-MYWA3LL/A-PP","14209226","C","D","IPHONE","N","APL-MYWA3LL/A-PP","14209226"]
["APL-MYMN3LL/A-PP","14209213","C","D","IPHONE","N","APL-MYMN3LL/A-PP","14209213"]
["APL-MYMU3LL/A-PP","14209218","C","D","IPHONE","N","APL-MYMU3LL/A-PP","14209218",1499]
["APL-MYMM3LL/A-PP","14209212","C","D","IPHONE","N","APL-MYMM3LL/A-PP","14209212"]
["APL-MYMG3LL/A-PP","14209207","C","D","IPHONE","N","APL-MYMG3LL/A-PP","14209207"]
["APL-MYMH3LL/A-PP","14209208","C","D","IPHONE","N","APL-MYMH3LL/A-PP","14209208"]
["APL-MXV13LL/A-PP","14209195","C","D","IPHONE","N","APL-MXV13LL/A-PP","14209195"]
["APL-MXV73LL/A-PP","14209200","C","D","IPHONE","N","APL-MXV73LL/A-PP","14209200",1229]
["APL-MXUV3LL/A-PP","14209190","C","D","IPHONE","N","APL-MXUV3LL/A-PP","14209190"]
["APL-MYD53LL/A-PP","14209185","C","D","IPHONE","N","APL-MYD53LL/A-PP","14209185"]
["APL-MYAR3LL/A-PP","14209175","C","D","IPHONE","N","APL-MYAR3LL/A-PP","14209175"]
["APL-MYD13LL/A-PP","14209181","C","D","IPHONE","N","APL-MYD13LL/A-PP","14209181"]
["APL-Z1AH000VY","14205034","C","D","CTO BO","N","APL-Z1AH000VY","14205034"]
["APL-Z1AX002ZJ","14204512","C","D","CTO BO","N","APL-Z1AX002ZJ","14204512"]
["APLX-Z16K000RF","14203262","C","D","CTO BO","N","APLX-Z16K000RF","14203262"]
["APL-Z1710017A","14199307","C","D","CTO BO","N","APL-Z1710017A","14199307"]
["APL-MYY63ZM/A","14198211","B","A","IPHONE ACC 2","Y","APL-MYY63ZM/A","14198211",49]
["APL-MYYU3ZM/A","14198216","B","A","IPHONE ACC 2","Y","APL-MYYU3ZM/A","14198216",49]
["APL-MYYV3ZM/A","14198217","B","A","IPHONE ACC 2","Y","APL-MYYV3ZM/A","14198217",49]
["APL-MA7K4ZM/A","14198000","B","A","MAC ACC 2","Y","APL-MA7K4ZM/A","14198000",35]
["APL-MA6W4ZM/A","14198001","C","D","IPHONE ACC 2","N","APL-MA6W4ZM/A","14198001",59]
["APL-MYYT3ZM/A","14195576","B","A","IPHONE ACC 2","Y","APL-MYYT3ZM/A","14195576",49]
["APL-MYW83LL/A","14195477","C","D","IPHONE","N","APL-MYW83LL/A","14195477"]
["APL-MYWE3LL/A","14195482","C","D","IPHONE","N","APL-MYWE3LL/A","14195482"]
["APL-MYW73LL/A","14195476","C","D","IPHONE","N","APL-MYW73LL/A","14195476"]
["APL-MYMN3LL/A","14195466","C","D","IPHONE","N","APL-MYMN3LL/A","14195466"]
["APL-MXV73LL/A","14195453","C","D","IPHONE","N","APL-MXV73LL/A","14195453"]
["APL-MYMC3LL/A","14195458","C","D","IPHONE","N","APL-MYMC3LL/A","14195458"]
["APL-MXUU3LL/A","14195442","B","A","IPHONE","Y","APL-MXUU3LL/A","14195442",829]
["APL-MXV13LL/A","14195448","B","A","IPHONE","Y","APL-MXV13LL/A","14195448",929]
["APL-MXV53LL/A","14195451","C","D","IPHONE","N","APL-MXV53LL/A","14195451"]
["APL-MYD63LL/A","14195439","C","D","IPHONE","N","APL-MYD63LL/A","14195439"]
["APL-MYD73LL/A","14195440","C","D","IPHONE","N","APL-MYD73LL/A","14195440"]
["APL-MX5T3LW/A","14195425","C","D","WATCH","N","APL-MX5T3LW/A","14195425"]
["APL-MA7F4ZM/A","14195431","B","A","IPHONE ACC 2","Y","APL-MA7F4ZM/A","14195431",49]
["APL-MYAW3LL/A","14195412","B","A","IPHONE","Y","APL-MYAW3LL/A","14195412",729]
["APL-MWX63LW/A","14195417","C","D","WATCH","N","APL-MWX63LW/A","14195417"]
["APL-MWXD3LW/A","14195423","C","D","WATCH","N","APL-MWXD3LW/A","14195423"]
["APL-MX4P3LW/A","14195390","C","D","WATCH","N","APL-MX4P3LW/A","14195390"]
["APL-MX4W3LW/A","14195396","C","D","WATCH","N","APL-MX4W3LW/A","14195396"]
["APL-MWWP3LW/A","14195401","C","D","WATCH","N","APL-MWWP3LW/A","14195401"]
["APL-MWWT3LW/A","14195404","C","D","WATCH","N","APL-MWWT3LW/A","14195404"]
["APL-MWWE3LW/A","14195382","C","D","WATCH","N","APL-MWWE3LW/A","14195382"]
["APL-MWYY3LW/A","14195367","C","D","WATCH","N","APL-MWYY3LW/A","14195367"]
["APL-MX083LW/A","14195372","C","D","WATCH","N","APL-MX083LW/A","14195372"]
["APL-MX4D3LW/A","14195373","C","D","WATCH","N","APL-MX4D3LW/A","14195373"]
["APL-MWY63LW/A","14195347","C","D","WATCH","N","APL-MWY63LW/A","14195347"]
["APL-MWYD3LW/A","14195353","C","D","WATCH","N","APL-MWYD3LW/A","14195353"]
["APL-MXG23LL/A","14195358","C","D","WATCH","N","APL-MXG23LL/A","14195358"]
["APL-MXG73LL/A","14195363","C","D","WATCH","N","APL-MXG73LL/A","14195363"]
["APL-MWXG3LW/A","14195329","C","D","WATCH","N","APL-MWXG3LW/A","14195329"]
["APL-MWY43LW/A","14195335","C","D","WATCH","N","APL-MWY43LW/A","14195335"]
["APL-MXFQ3LL/A","14195338","C","D","WATCH","N","APL-MXFQ3LL/A","14195338"]
["APL-MXFX3LL/A","14195344","C","D","WATCH","N","APL-MXFX3LL/A","14195344"]
["APL-MXET3LL/A","14195314","C","D","WATCH","N","APL-MXET3LL/A","14195314"]
["APL-MXE73LL/A","14195320","C","D","WATCH","N","APL-MXE73LL/A","14195320"]
["APL-MXEE3LL/A","14195325","C","D","WATCH","N","APL-MXEE3LL/A","14195325"]
["APL-MXEK3LL/A","14195310","C","D","WATCH","N","APL-MXEK3LL/A","14195310"]
["APL-MXEP3LL/A","14195311","C","D","WATCH","N","APL-MXEP3LL/A","14195311"]
["APL-KOHLSBEATSSHIPQ424V1","14190520","C","D","MOD BEATS","N","APL-KOHLSBEATSSHIPQ424V1","14190520","2126.25"]
["APL-Z1720015R","14165027","C","D","CTO BO","N","APL-Z1720015R","14165027"]
["APLX-MMX73LL/A","14159435","C","D","IPHONE","N","APLX-MMX73LL/A","14159435"]
["APL-Z170001D7","14150917","C","D","CTO BO","N","APL-Z170001D7","14150917",0]
["APLX-MWR43LL/A","14043852","C","D","IPAD ACC 1","N","APLX-MWR43LL/A","14043852"]
["APLX-MWK23ZM/A","14043849","C","D","IPAD ACC 2","N","APLX-MWK23ZM/A","14043849"]
["APL-MW5Q3ZM/A","14035524","B","A","IPHONE ACC 2","Y","APL-MW5Q3ZM/A","14035524",49]
["APL-MXN53AM/A","14035518","A","A","MAC ACC 2","Y","APL-MXN53AM/A","14035518",59]
["APL-Z19H001SP","14029119","C","D","CTO BO","N","APL-Z19H001SP","14029119"]
["APL-Z1AZ001CT","14027635","C","D","CTO BO","N","APL-Z1AZ001CT","14027635"]
["APL-Z19K00126","14023082","C","D","CTO BO","N","APL-Z19K00126","14023082"]
["APL-Z1B62002304340","14002272","C","D","CTO BO","N","APL-Z1B62002304340","14002272"]
["APL-Z1B6001L7","14001496","C","D","CTO BO","N","APL-Z1B6001L7","14001496"]
["APLX-Z18T000SM","9928440","C","D","CTO BO","N","APLX-Z18T000SM","9928440",2099]
["APL-Z1BB000SM","9824653","C","D","CTO BO","N","APL-Z1BB000SM","9824653"]
["APLXX-MM0A3AM/A","9803872","C","D","MAC ACC 3","N","APLXX-MM0A3AM/A","9803872"]
["APL-MMMR3B/A","9800644","C","D","MAC ACC 1","N","APL-MMMR3B/A","9800644"]
["APL-Z1B60027C","9791002","C","D","CTO BO","N","APL-Z1B60027C","9791002"]
["APLX-MR7J3LL/A","9790639","C","D","MACBOOK","N","APLX-MR7J3LL/A","9790639"]
["APLX-MRW23LL/A","9790644","C","D","MACBOOK","N","APLX-MRW23LL/A","9790644"]
["APLX-MLY13LL/A","9790630","C","D","MACBOOK","N","APLX-MLY13LL/A","9790630"]
["APLX-MQ6M3LL/A","9790635","C","D","IPAD - LTE/CELL","N","APLX-MQ6M3LL/A","9790635"]
["APL-Z1BP2002286211","9781922","C","D","CTO BO","N","APL-Z1BP2002286211","9781922"]
["APL-MW2R3AM/A","9780583","A","A","MAC ACC 3","Y","APL-MW2R3AM/A","9780583",29]
["APL-Z19U000YU","9777539","C","D","CTO BO","N","APL-Z19U000YU","9777539"]
["APL-Z1AF001AU","9777469","C","D","CTO BO","N","APL-Z1AF001AU","9777469"]
["APLX-Z1B80015N","9749861","C","D","CTO BO","N","APLX-Z1B80015N","9749861"]
["APLX-3K596LL/A","9749840","C","D","WATCH","N","APLX-3K596LL/A","9749840"]
["APLX-Z1B600166","9720140","C","D","CTO BO","N","APLX-Z1B600166","9720140",1899]
["APLX-MK2C3B/A","9720121","C","D","MAC ACC 1","N","APLX-MK2C3B/A","9720121",0]
["APL-MW463LL/A","9713084","B","A","MOD BEATS","Y","APL-MW463LL/A","9713084","149.99"]
["APL-MWR03LA/A","9704762","B","A","IPAD ACC 1","Y","APL-MWR03LA/A","9704762",299]
["APL-Z1AU0031P","9688906","C","D","CTO BO","N","APL-Z1AU0031P","9688906"]
["APL-3N184LL/A","9684834","C","D","IPAD","N","APL-3N184LL/A","9684834"]
["APL-3N193LL/A","9684839","C","D","IPAD","N","APL-3N193LL/A","9684839"]
["APL-3M722LL/A","9684827","C","D","IPAD - LTE/CELL","N","APL-3M722LL/A","9684827"]
["APL-3M781LL/A","9684831","C","D","IPAD","N","APL-3M781LL/A","9684831",1299]
["APL-3M671LL/A","9684815","C","D","IPAD","N","APL-3M671LL/A","9684815"]
["APL-3M672LL/A","9684816","C","D","IPAD","N","APL-3M672LL/A","9684816"]
["APL-3M683LL/A","9684821","C","D","IPAD","N","APL-3M683LL/A","9684821"]
["APL-MWR93LL/A","9684701","C","D","IPAD","N","APL-MWR93LL/A","9684701"]
["APL-MWRQ3LL/A","9684707","C","D","IPAD - LTE/CELL","N","APL-MWRQ3LL/A","9684707"]
["APL-MVXU3LL/A","9684692","C","D","IPAD - LTE/CELL","N","APL-MVXU3LL/A","9684692"]
["APL-MVVG3LL/A","9684682","C","D","IPAD","N","APL-MVVG3LL/A","9684682"]
["APL-MVW43LL/A","9684687","C","D","IPAD - LTE/CELL","N","APL-MVW43LL/A","9684687"]
["APL-MV6V3LL/A","9684664","C","D","IPAD - LTE/CELL","N","APL-MV6V3LL/A","9684664"]
["APL-MV703LL/A","9684668","C","D","IPAD - LTE/CELL","N","APL-MV703LL/A","9684668"]
["APL-MWRY3LL/A","9684674","C","D","IPAD - LTE/CELL","N","APL-MWRY3LL/A","9684674"]
["APL-MV6U3LL/A","9684663","C","D","IPAD - LTE/CELL","N",{"$f":"TRIM(A4290)","v":"APL-MV6U3LL/A"},{"$f":"TRIM(B4290)","v":"9684663"}]
["APL-MVW53LL/A","9684652","C","D","IPAD - LTE/CELL","N","APL-MVW53LL/A","9684652"]
["APL-MV2H3LL/A","9684651","C","D","IPAD","N","APL-MV2H3LL/A","9684651"]
["APL-MUXU3LL/A","9684642","C","D","IPAD - LTE/CELL","N","APL-MUXU3LL/A","9684642"]
["APL-MV2C3LL/A","9684647","C","D","IPAD","N","APL-MV2C3LL/A","9684647"]
["APL-MVV83LL/A","9684640","C","D","IPAD","N","APL-MVV83LL/A","9684640"]
["APL-3M673LL/A","9684636","C","D","IPAD","N","APL-3M673LL/A","9684636"]
["APL-MUXQ3LL/A","9684629","C","D","IPAD - LTE/CELL","N","APL-MUXQ3LL/A","9684629"]
["APL-MUXL3LL/A","9684625","C","D","IPAD - LTE/CELL","N","APL-MUXL3LL/A","9684625"]
["APL-MV2T3LL/A","9684619","C","D","IPAD","N","APL-MV2T3LL/A","9684619"]
["APL-MV2N3LL/A","9684615","C","D","IPAD","N","APL-MV2N3LL/A","9684615"]
["APL-MUXG3LL/A","9684611","C","D","IPAD - LTE/CELL","N","APL-MUXG3LL/A","9684611"]
["APL-MUWU3LL/A","9684607","C","D","IPAD","N","APL-MUWU3LL/A","9684607"]
["APL-MUWJ3LL/A","9684598","C","D","IPAD","N",{"$f":"TRIM(A4354)","v":"APL-MUWJ3LL/A"},{"$f":"TRIM(B4354)","v":"9684598"}]
["APL-MUWE3LL/A","9684594","C","D","IPAD","N","APL-MUWE3LL/A","9684594"]
["APL-MWK63ZM/A","9684478","B","A","IPAD ACC 2","Y","APL-MWK63ZM/A","9684478",79]
["APL-MWK73ZM/A","9684479","B","A","IPAD ACC 2","Y","APL-MWK73ZM/A","9684479",79]
["APL-MWKD3ZM/A","9684484","B","A","IPAD ACC 2","Y","APL-MWKD3ZM/A","9684484",99]
["APL-MW993ZM/A","9684473","B","A","IPAD ACC 2","Y","APL-MW993ZM/A","9684473",79]
["APL-Z19900025","9680510","C","D","CTO BO","N","APL-Z19900025","9680510"]
["APLX-MUWA3AM/A","9669826","C","D","IPAD ACC 2","N","APLX-MUWA3AM/A","9669826"]
["APLX-MK6A3LL/A","9669819","C","D","IPAD","N","APLX-MK6A3LL/A","9669819"]
["APLX-Z1AF001AG","9648856","C","D","STOCKED CTO","N","APLX-Z1AF001AG","9648856"]
["APLX-Z1950001B","9648852","C","D","CTO BO","N","APLX-Z1950001B","9648852"]
["APLX-MJMG3ZM/A","9648835","C","D","IPAD ACC 2","N","APLX-MJMG3ZM/A","9648835"]
["APLX-MNC73AM/A","9648840","C","D","IPHONE ACC 2","N","APLX-MNC73AM/A","9648840"]
["APLX-MXK22AM/A","9648845","C","D","IPHONE ACC 3","N",{"$f":"TRIM(A4418)","v":"APLX-MXK22AM/A"},{"$f":"TRIM(B4418)","v":"9648845"}]
["APL-Z1BT2002277637","9648831","C","D","CTO BO","N","APL-Z1BT2002277637","9648831"]
["APLX-Z19F0011H","9644326","C","D","CTO BO","N","APLX-Z19F0011H","9644326"]
["APL-Z1BP2002277169","9644193","C","D","CTO BO","N","APL-Z1BP2002277169","9644193"]
["APL-DO_NOT_USE_1","9615301","E","I","IPHONE ACC 2","N","APL-DO_NOT_USE_1","9615301",0]
["APL-MW5J3AM/A","9597496","A","A","MAC ACC 1","Y","APL-MW5J3AM/A","9597496",129]
["APL-MME73LL/A","9597499","C","D","ACC NBU","N","APL-MME73LL/A","9597499",179]
["APL-Z19P001D0","9596794","C","D","CTO BO","N","APL-Z19P001D0","9596794",0]
["APLX-MP6M3LL/A","9596541","C","D","WATCH","N","APLX-MP6M3LL/A","9596541"]
["APLX-MGTF3LL/A","9596537","C","D","IMAC","N","APLX-MGTF3LL/A","9596537"]
["APLX-Z16K000RD","9591879","C","D","CTO BO","N","APLX-Z16K000RD","9591879"]
["APL-Z1G52002273377","9574327","C","D","CTO BO","N","APL-Z1G52002273377","9574327"]
["APL-Z19K001Q2","9480570","C","D","CTO BO","N","APL-Z19K001Q2","9480570"]
["APL-MUW43LL/A","9480426","A","A","LEG BEATS","Y",{"$f":"TRIM(A4482)","v":"APL-MUW43LL/A"},{"$f":"TRIM(B4482)","v":"9480426"},"199.99"]
["APL-MT1J3ZM/A","9477901","C","D","IPHONE ACC 2","N","APL-MT1J3ZM/A","9477901",49]
["APL-Z1AJ2002271824","9475944","C","D","CTO BO","N","APL-Z1AJ2002271824","9475944"]
["APLX-MK2G3LL/A","9464720","C","D","MOD BEATS","N","APLX-MK2G3LL/A","9464720"]
["APLX-MQTT3LL/A","9464723","C","D","LEG BEATS","N","APLX-MQTT3LL/A","9464723"]
["APLX-Z19800022","9464719","C","D","CTO BO","N","APLX-Z19800022","9464719"]
["APLX-MJ1L2AM/A","9446609","C","D","MAC ACC 2","N","APLX-MJ1L2AM/A","9446609"]
["APL-Z19E0018G","9442205","C","D","CTO BO","N","APL-Z19E0018G","9442205"]
["APL-Z1600096M","9368960","C","D","CTO BO","N","APL-Z1600096M","9368960",1419]
["APL-Z160009E0","9368966","C","D","CTO BO","N","APL-Z160009E0","9368966",1799]
["APL-Z15Y00650","9368971","C","D","CTO BO","N","APL-Z15Y00650","9368971",1219]
["APL-Z15Y0069J","9368977","C","D","CTO BO","N","APL-Z15Y0069J","9368977",1399]
["APL-Z1600099G","9368939","C","D","CTO BO","N","APL-Z1600099G","9368939",1419]
["APL-Z15W005Q3","9368959","C","D","CTO BO","N",{"$f":"TRIM(A4546)","v":"APL-Z15W005Q3"},{"$f":"TRIM(B4546)","v":"9368959"},2199]
["APL-Z15S006GB","9368924","C","D","CTO BO","N","APL-Z15S006GB","9368924",2199]
["APL-Z15Y0069M","9368930","C","D","CTO BO","N","APL-Z15Y0069M","9368930",1599]
["APL-Z15Y0069N","9368931","C","D","CTO BO","N","APL-Z15Y0069N","9368931",1799]
["APL-Z1600094T","9368936","C","D","CTO BO","N","APL-Z1600094T","9368936",1219]
["APL-Z15S006KL","9368943","C","D","CTO BO","N","APL-Z15S006KL","9368943",1399]
["APL-Z15W005LS","9368950","C","D","CTO BO","N","APL-Z15W005LS","9368950",1419]
["APL-Z15W005PZ","9368955","C","D","CTO BO","N","APL-Z15W005PZ","9368955",1599]
["APL-Z1AU003RH","9359455","C","D","CTO BO","N","APL-Z1AU003RH","9359455"]
["APL-Z1BA0016G","9358946","C","D","CTO BO","N","APL-Z1BA0016G","9358946",1519]
["APL-Z1BA001ET","9358951","C","D","CTO BO","N","APL-Z1BA001ET","9358951",1699]
["APL-Z1B8001EH","9358936","C","D","CTO BO","N","APL-Z1B8001EH","9358936",2299]
["APL-Z1BA001EQ","9358941","C","D","CTO BO","N","APL-Z1BA001EQ","9358941",1219]
["APL-Z1B8001EE","9358931","C","D","CTO BO","N","APL-Z1B8001EE","9358931",1899]
["APL-Z1B6001FS","9358917","C","D","CTO BO","N","APL-Z1B6001FS","9358917",2099]
["APL-Z1B80015N","9358923","C","D","CTO BO","N","APL-Z1B80015N","9358923",1699]
["APL-Z1B8001ED","9358928","C","D","CTO BO","N","APL-Z1B8001ED","9358928",1699]
["APL-Z1BC00180","9358903","C","D","CTO BO","N","APL-Z1BC00180","9358903",1519]
["APL-Z1BC001JK","9358908","C","D","CTO BO","N","APL-Z1BC001JK","9358908",1699]
["APL-Z1BA001F0","9358872","C","D","CTO BO","N","APL-Z1BA001F0","9358872",2299]
["APL-Z1BC0019L","9358877","C","D","CTO BO","N","APL-Z1BC0019L","9358877",1219]
["APL-Z1B6001FK","9358882","C","D","CTO BO","N","APL-Z1B6001FK","9358882",1519]
["APL-Z1B6001DP","9358887","C","D","CTO BO","N","APL-Z1B6001DP","9358887",1499]
["APL-Z1BA001EV","9358892","C","D","CTO BO","N","APL-Z1BA001EV","9358892",1499]
["APL-Z1BA001EY","9358898","C","D","CTO BO","N","APL-Z1BA001EY","9358898",1899]
["APL-Z1B6000B0","9358863","C","D","CTO BO","N","APL-Z1B6000B0","9358863",1119]
["APL-Z1B60019P","9358868","C","D","CTO BO","N","APL-Z1B60019P","9358868",1319]
["APL-Z1B80018G","9358855","C","D","CTO BO","N","APL-Z1B80018G","9358855",1319]
["APL-Z1B8001E9","9358860","C","D","CTO BO","N","APL-Z1B8001E9","9358860",1299]
["APL-Z1BC001JP","9358847","C","D","CTO BO","N","APL-Z1BC001JP","9358847",1899]
["APL-Z1BC00146","9358848","C","D","CTO BO","N","APL-Z1BC00146","9358848",2099]
["APLX-Z172000M2","9357896","C","D","CTO BO","N","APLX-Z172000M2","9357896"]
["APLX-MPQ83LL/A","9357894","C","D","IPAD","N","APLX-MPQ83LL/A","9357894"]
["APLX-MMX83LL/A","9357887","C","D","IPHONE","N","APLX-MMX83LL/A","9357887"]
["APL-Z1AF001RP","9357412","C","D","CTO BO","N","APL-Z1AF001RP","9357412"]
["APL-Z1BT000L8","9357405","C","D","CTO BO","N","APL-Z1BT000L8","9357405",1899]
["APL-Z1BT000LA","9357410","C","D","CTO BO","N","APL-Z1BT000LA","9357410",2299]
["APL-Z1BV0006P","9357395","C","D","STOCKED CTO","N","APL-Z1BV0006P","9357395",1899]
["APL-Z1BV000S1","9357388","C","D","CTO BO","N","APL-Z1BV000S1","9357388",2299]
["APL-Z1BR000LB","9357361","C","D","CTO BO","N","APL-Z1BR000LB","9357361",2099]
["APL-Z1BT000LB","9357367","C","D","CTO BO","N","APL-Z1BT000LB","9357367",2299]
["APL-Z1BV000QA","9357372","C","D","CTO BO","N","APL-Z1BV000QA","9357372",1499]
["APL-Z1BR000KW","9357377","C","D","CTO BO","N","APL-Z1BR000KW","9357377",2499]
["APL-Z1BR000LF","9357378","C","D","CTO BO","N","APL-Z1BR000LF","9357378",2499]
["APL-Z1BT000L6","9357386","C","D","CTO BO","N","APL-Z1BT000L6","9357386",1899]
["APL-Z1BR000L9","9357358","C","D","CTO BO","N","APL-Z1BR000L9","9357358",1699]
["APL-Z1BP000M7","9357331","C","D","CTO BO","N","APL-Z1BP000M7","9357331",1699]
["APL-Z1BP0006D","9357336","C","D","CTO BO","N","APL-Z1BP0006D","9357336",1699]
["APL-Z1BP0006E","9357342","C","D","CTO BO","N","APL-Z1BP0006E","9357342",2099]
["APL-Z1BP000LV","9357347","C","D","CTO BO","N","APL-Z1BP000LV","9357347",2499]
["APL-Z1BR000L8","9357352","C","D","CTO BO","N","APL-Z1BR000L8","9357352",1699]
["APL-MWNC3ZM/A","9357263","C","D","IPHONE ACC 2","N","APL-MWNC3ZM/A","9357263",49]
["APL-MWNJ3ZM/A","9357268","B","A","IPHONE ACC 2","Y","APL-MWNJ3ZM/A","9357268",49]
["APL-Z199001AJ","9357173","C","D","CTO BO","N","APL-Z199001AJ","9357173"]
["APL-MUQ93AM/A","9356687","A","A","MAC ACC 3","Y","APL-MUQ93AM/A","9356687",19]
["APL-MXCU3LL/A","9356657","C","D","MACBOOK","N","APL-MXCU3LL/A","9356657"]
["APL-MXCV3LL/A","9356658","C","D","MACBOOK","N","APL-MXCV3LL/A","9356658"]
["APL-MRXT3LL/A","9356601","C","D","MACBOOK","N","APL-MRXT3LL/A","9356601",1099]
["APL-MRXN3LL/A","9356597","C","D","MACBOOK","N","APL-MRXN3LL/A","9356597",1099]
["APL-3M532LL/A","9356596","C","D","MACBOOK","N","APL-3M532LL/A","9356596",1099]
["APL-3M530LL/A","9356571","C","D","MACBOOK","N","APL-3M530LL/A","9356571",1299]
["APL-3M527LL/A","9356569","C","D","MACBOOK","N","APL-3M527LL/A","9356569",1299]
["APLX-Z19K0001X","9354588","C","D","CTO BO","N","APLX-Z19K0001X","9354588"]
["APLX-Z1AJ00196","9354593","C","D","CTO BO","N","APLX-Z1AJ00196","9354593"]
["APLX-Z18L000PN","9354583","C","D","STOCKED CTO","N","APLX-Z18L000PN","9354583"]
["APLX-Z1AJ0019L","9354568","C","D","CTO BO","N","APLX-Z1AJ0019L","9354568"]
["APLX-Z1AX0029U","9354576","C","D","CTO BO","N","APLX-Z1AX0029U","9354576"]
["APLX-Z19500023","9354563","C","D","CTO BO","N","APLX-Z19500023","9354563"]
["APLX-Z15W000B9","9354549","C","D","CTO BO","N","APLX-Z15W000B9","9354549"]
["APLX-Z15W00452","9354550","C","D","CTO BO","N","APLX-Z15W00452","9354550"]
["APLX-Z171000QP","9354555","C","D","CTO BO","N","APLX-Z171000QP","9354555"]
["APL-MK753LL/A","9352661","C","D","IPAD","N","APL-MK753LL/A","9352661"]
["APL-Z1AX002B5","9348455","C","D","CTO BO","N","APL-Z1AX002B5","9348455"]
["APL-3M589LW/A","9348421","C","D","WATCH","N","APL-3M589LW/A","9348421"]
["APLX-MU673LL/A-PP","9326779","C","D","IPHONE","N","APLX-MU673LL/A-PP","9326779",0]
["APL-Z1AV001JY","9324164","C","D","CTO BO","N","APL-Z1AV001JY","9324164"]
["APLX-Z1AJ0018K","9217755","C","D","CTO BO","N","APLX-Z1AJ0018K","9217755",2699]
["APLX-Z1950001Z","9217751","C","D","CTO BO","N","APLX-Z1950001Z","9217751",1499]
["APL-Z19K0012K","9200282","C","D","CTO BO","N","APL-Z19K0012K","9200282"]
["APLX-Z1C80001D","9199963","C","D","STOCKED CTO","N","APLX-Z1C80001D","9199963"]
["APLX-Z17Z000N4","9199185","C","D","CTO BO","N","APLX-Z17Z000N4","9199185"]
["APLX-Z1AU0029K","9199190","C","D","STOCKED CTO","N","APLX-Z1AU0029K","9199190"]
["APLX-Z1AU0029V","9199191","C","D","STOCKED CTO","N","APLX-Z1AU0029V","9199191"]
["APLX_Z1AF001AE","9199149","C","D","CTO BO","N","APLX_Z1AF001AE","9199149"]
["APLX_Z17Z000TV","9199154","C","D","CTO BO","N","APLX_Z17Z000TV","9199154"]
["APLX_Z16R0005S","9199145","C","D","STOCKED CTO","N","APLX_Z16R0005S","9199145"]
["APLX-MPQA3LL/A","9195021","C","D","IPAD","N","APLX-MPQA3LL/A","9195021"]
["APLX-MMFK3LL/A","9195017","C","D","IPAD","N","APLX-MMFK3LL/A","9195017"]
["APL-Z195001BC","9192408","C","D","CTO BO","N","APL-Z195001BC","9192408"]
["APLX-MQ6T3LL/A","9187457","C","D","IPAD - LTE/CELL","N","APLX-MQ6T3LL/A","9187457"]
["APLX-MRX83LL/A","9187463","C","D","MACBOOK","N","APLX-MRX83LL/A","9187463"]
["APL-Z18T001TJ","9185749","C","D","CTO BO","N","APL-Z18T001TJ","9185749"]
["APL-Z19E000YY","9179178","C","D","CTO BO","N","APL-Z19E000YY","9179178"]
["APL-15298303","9170154","C","D","CTO BO","N","APL-15298303","9170154"]
["APL-Z15T0005D","9153286","C","D","CTO BO","N","APL-Z15T0005D","9153286",0]
["APL-Z19H0016A","9153277","C","D","CTO BO","N","APL-Z19H0016A","9153277",0]
["APL-MMX83LL/A-GENZYME","9148108","C","D","IPHONE","N","APL-MMX83LL/A-GENZYME","9148108",0]
["APL-MR903LW/A","9142224","C","D","WATCH","N","APL-MR903LW/A","9142224",399]
["APL-MRHR3LW/A","9142235","C","D","WATCH","N","APL-MRHR3LW/A","9142235",499]
["APL-MREH3LW/A","9142243","C","D","WATCH","N","APL-MREH3LW/A","9142243",799]
["APL-MR983LW/A","9142252","C","D","WATCH","N","APL-MR983LW/A","9142252",429]
["APL-MR9E3LW/A","9142257","C","D","WATCH","N","APL-MR9E3LW/A","9142257",429]
["APL-MRMM3LW/A","9142264","C","D","WATCH","N","APL-MRMM3LW/A","9142264",529]
["APL-MRMX3LW/A","9142273","C","D","WATCH","N","APL-MRMX3LW/A","9142273",799]
["APL-MRHX3LW/A","9142280","C","D","WATCH","N","APL-MRHX3LW/A","9142280",499]
["APL-MRJ33LW/A","9142285","C","D","WATCH","N","APL-MRJ33LW/A","9142285",699]
["APL-MRJA3LW/A","9142292","C","D","WATCH","N","APL-MRJA3LW/A","9142292",749]
["APL-MRET3LW/A","9142299","C","D","WATCH","N","APL-MRET3LW/A","9142299",799]
["APL-MREW3LW/A","9142300","C","D","WATCH","N","APL-MREW3LW/A","9142300",799]
["APL-MRF23LW/A","9142305","C","D","WATCH","N","APL-MRF23LW/A","9142305",799]
["APL-MR8V3LW/A","9142220","C","D","WATCH","N","APL-MR8V3LW/A","9142220",399]
["APL-MR9J3LW/A","9142231","C","D","WATCH","N","APL-MR9J3LW/A","9142231",429]
["APL-MRYG3LW/A","9142241","C","D","WATCH","N","APL-MRYG3LW/A","9142241",529]
["APL-MRMR3LW/A","9142268","C","D","WATCH","N","APL-MRMR3LW/A","9142268",749]
["APL-MRJ63LW/A","9142288","C","D","WATCH","N","APL-MRJ63LW/A","9142288",699]
["APL-Z1602002255171","9139549","C","D","CTO BO","N","APL-Z1602002255171","9139549",0]
["APL-MQDP3C/A","9126739","C","D","IPAD ACC 1","N","APL-MQDP3C/A","9126739",0]
["APL-Z19Z0011X","9119609","C","D","CTO BO","N","APL-Z19Z0011X","9119609",0]
["APL-PHNH3LL/A","9085176","C","D","IPAD","N","APL-PHNH3LL/A","9085176",1199]
["APL-Z17Z000QZ","9067300","C","D","CTO BO","N","APL-Z17Z000QZ","9067300"]
["APL-Z19D001HR","9063004","C","D","CTO BO","N","APL-Z19D001HR","9063004",0]
["APL-Z1AF2002248416","9059602","C","D","CTO BO","N","APL-Z1AF2002248416","9059602",0]
["APL-Z124000Q3","9050921","C","D","CTO BO","N","APL-Z124000Q3","9050921",0]
["APLX-MWUG2LL/A","9048563","C","D","ACC NBU","N","APLX-MWUG2LL/A","9048563",0]
["APLX-MPLL3LL/A","9048547","C","D","MOD BEATS","N","APLX-MPLL3LL/A","9048547",0]
["APLX-MK2F3LL/A","9048552","C","D","MOD BEATS","N","APLX-MK2F3LL/A","9048552",0]
["APLX-MGYH3AM/A","9048542","C","D","ACC NBU","N","APLX-MGYH3AM/A","9048542",0]
["APL-Z1712002242685","9047340","C","D","CTO BO","N","APL-Z1712002242685","9047340",0]
["APL-APL-Z124000FL","9046071","C","D","STOCKED CTO","N","APL-APL-Z124000FL","9046071",0]
["APL-Z1AJ2002239277","9041203","C","D","CTO BO","N","APL-Z1AJ2002239277","9041203",0]
["APL-Z19U000YX","9039274","C","D","CTO BO","N","APL-Z19U000YX","9039274",0]
["APL-Z1AX002B4","9035633","C","D","CTO BO","N","APL-Z1AX002B4","9035633",0]
["APL-Z198001ES","9034147","C","D","CTO BO","N","APL-Z198001ES","9034147",2149]
["APL-Z198001EU","9034140","C","D","CTO BO","N","APL-Z198001EU","9034140",1809]
["APL-Z198001EN","9034141","C","D","CTO BO","N","APL-Z198001EN","9034141",1749]
["APL-Z198001BM","9034134","C","D","CTO BO","N","APL-Z198001BM","9034134",2129]
["APL-Z198001EH","9034131","C","D","CTO BO","N","APL-Z198001EH","9034131",1949]
["APL-Z198001ED","9034125","C","D","CTO BO","N","APL-Z198001ED","9034125",1929]
["APL-Z198001EJ","9034118","C","D","CTO BO","N","APL-Z198001EJ","9034118",1979]
["APL-Z198001EE","9034113","C","D","CTO BO","N","APL-Z198001EE","9034113",1579]
["APL-Z1980019J","9034109","C","D","CTO BO","N","APL-Z1980019J","9034109",1529]
["APL-Z19800025","9034104","C","D","CTO BO","N","APL-Z19800025","9034104",1329]
["APL-Z196001HE","9034098","C","D","CTO BO","N","APL-Z196001HE","9034098",1949]
["APL-Z196001AC","9034092","C","D","CTO BO","N","APL-Z196001AC","9034092",1929]
["APL-Z196001BX","9034089","C","D","CTO BO","N","APL-Z196001BX","9034089",2209]
["APL-Z196001HF","9034081","C","D","CTO BO","N","APL-Z196001HF","9034081",2179]
["APL-Z196001H6","9034076","C","D","CTO BO","N","APL-Z196001H6","9034076",1579]
["APL-Z196001FS","9034077","C","D","CTO BO","N","APL-Z196001FS","9034077",1979]
["APL-Z1960019A","9034070","C","D","CTO BO","N","APL-Z1960019A","9034070",1529]
["APL-Z196001DR","9034066","C","D","CTO BO","N","APL-Z196001DR","9034066",1609]
["APL-Z1960019W","9034061","C","D","CTO BO","N","APL-Z1960019W","9034061",1749]
["APL-Z196001AL","9034054","C","D","CTO BO","N","APL-Z196001AL","9034054",1379]
["APL-Z1960001Y","9034048","C","D","CTO BO","N","APL-Z1960001Y","9034048",1699]
["APL-Z1960001X","9034044","C","D","CTO BO","N","APL-Z1960001X","9034044",1499]
["APL-Z19P0001Y","9033486","C","D","CTO BO","N","APL-Z19P0001Y","9033486",2699]
["APL-Z19P00018","9033481","C","D","CTO BO","N","APL-Z19P00018","9033481",1899]
["APL-Z19P0001U","9033474","C","D","CTO BO","N","APL-Z19P0001U","9033474",2099]
["APL-Z19P0001A","9033471","C","D","CTO BO","N","APL-Z19P0001A","9033471",1529]
["APL-Z19R0012K","9033465","C","D","CTO BO","N","APL-Z19R0012K","9033465",2529]
["APL-Z19R0012L","9033458","C","D","CTO BO","N","APL-Z19R0012L","9033458",2329]
["APL-Z19R0001U","9033455","C","D","CTO BO","N","APL-Z19R0001U","9033455",2099]
["APL-Z19R0014F","9033452","C","D","CTO BO","N","APL-Z19R0014F","9033452",2129]
["APL-Z19R00111","9033449","C","D","CTO BO","N","APL-Z19R00111","9033449",1929]
["APL-Z19R0001Q","9033440","C","D","CTO BO","N","APL-Z19R0001Q","9033440",1899]
["APL-Z19F0001V","9033439","C","D","CTO BO","N","APL-Z19F0001V","9033439",2499]
["APL-Z19F00018","9033432","C","D","CTO BO","N","APL-Z19F00018","9033432",1899]
["APL-Z19F0001W","9033426","C","D","CTO BO","N","APL-Z19F0001W","9033426",2099]
["APL-Z19F0001A","9033423","C","D","CTO BO","N","APL-Z19F0001A","9033423",1529]
["APL-Z19M0001X","9033417","C","D","CTO BO","N","APL-Z19M0001X","9033417",2499]
["APL-Z19M0011B","9033412","C","D","CTO BO","N","APL-Z19M0011B","9033412",1929]
["APL-Z19M0001V","9033407","C","D","CTO BO","N","APL-Z19M0001V","9033407",2099]
["APL-Z19M0001P","9033400","C","D","CTO BO","N","APL-Z19M0001P","9033400",1699]
["APL-Z19H0016Y","9033394","C","D","CTO BO","N","APL-Z19H0016Y","9033394",2329]
["APL-Z19M0001A","9033395","C","D","CTO BO","N","APL-Z19M0001A","9033395",1529]
["APL-Z19H00125","9033390","C","D","CTO BO","N","APL-Z19H00125","9033390",2329]
["APL-Z19H0016X","9033384","C","D","CTO BO","N","APL-Z19H0016X","9033384",2129]
["APL-Z19H00017","9033378","C","D","STOCKED CTO","N","APL-Z19H00017","9033378",1699]
["APL-Z19H0001P","9033374","C","D","CTO BO","N","APL-Z19H0001P","9033374",1699]
["APL-MRX43LL/A-INSIGHT","9031601","C","D","MACBOOK","N","APL-MRX43LL/A-INSIGHT","9031601",0]
["APLX-Z16S000S6","9030055","C","D","CTO BO","N","APLX-Z16S000S6","9030055",0]
["APLX-Z17K002M8","9030051","C","D","CTO BO","N","APLX-Z17K002M8","9030051",0]
["APL-Z19K0011D","9029850","C","D","CTO BO","N","APL-Z19K0011D","9029850",2129]
["APL-Z19K00121","9029844","C","D","CTO BO","N","APL-Z19K00121","9029844",1929]
["APL-Z19K00017","9029838","C","D","STOCKED CTO","N","APL-Z19K00017","9029838",1699]
["APL-Z19K0001W","9029835","C","D","CTO BO","N","APL-Z19K0001W","9029835",2299]
["APL-Z19K0011N","9029829","C","D","CTO BO","N","APL-Z19K0011N","9029829",1729]
["APL-Z19K0001Q","9029825","C","D","CTO BO","N","APL-Z19K0001Q","9029825",1899]
["APL-Z19D0011J","9029822","C","D","CTO BO","N","APL-Z19D0011J","9029822",1729]
["APL-Z19D0001Y","9029817","C","D","CTO BO","N","APL-Z19D0001Y","9029817",2699]
["APL-Z19D0001X","9029811","C","D","CTO BO","N","APL-Z19D0001X","9029811",2299]
["APL-Z197001HV","9029808","C","D","CTO BO","N","APL-Z197001HV","9029808",1809]
["APL-Z19D0001P","9029801","C","D","CTO BO","N","APL-Z19D0001P","9029801",1699]
["APL-Z1970019V","9029795","C","D","CTO BO","N","APL-Z1970019V","9029795",1779]
["APL-Z197001FE","9029792","C","D","CTO BO","N","APL-Z197001FE","9029792",1979]
["APL-Z19700022","9029785","C","D","CTO BO","N","APL-Z19700022","9029785",1899]
["APL-Z1970019P","9029782","C","D","CTO BO","N","APL-Z1970019P","9029782",1929]
["APL-Z1970001C","9029775","C","D","CTO BO","N","APL-Z1970001C","9029775",1379]
["APL-Z197001EW","9029769","C","D","CTO BO","N","APL-Z197001EW","9029769",1549]
["APL-Z197001GF","9029766","C","D","CTO BO","N","APL-Z197001GF","9029766",1929]
["APL-Z195001MN","9029759","C","D","CTO BO","N","APL-Z195001MN","9029759",2179]
["APL-Z197001L3","9029760","C","D","CTO BO","N","APL-Z197001L3","9029760",1779]
["APL-Z197001L9","9029754","C","D","CTO BO","N","APL-Z197001L9","9029754",1779]
["APL-Z1950019S","9029749","C","D","CTO BO","N","APL-Z1950019S","9029749",1929]
["APL-Z1950001C","9029743","C","D","CTO BO","N","APL-Z1950001C","9029743",1699]
["APL-Z195001AJ","9029739","C","D","CTO BO","N","APL-Z195001AJ","9029739",1779]
["APL-Z195001A1","9029731","C","D","CTO BO","N","APL-Z195001A1","9029731",1749]
["APL-Z195001AN","9029727","C","D","CTO BO","N","APL-Z195001AN","9029727",1549]
["APL-Z195001MJ","9029724","C","D","CTO BO","N","APL-Z195001MJ","9029724",1979]
["APL-Z1950019P","9029718","C","D","CTO BO","N","APL-Z1950019P","9029718",1729]
["APL-Z1950019H","9029712","C","D","CTO BO","N","APL-Z1950019H","9029712",1609]
["APL-Z1950001D","9029707","C","D","CTO BO","N","APL-Z1950001D","9029707",1349]
["APL-Z19500027","9029702","C","D","CTO BO","N","APL-Z19500027","9029702",1329]
["NON-STOCK-APL","8960222","C","D","TBD","N","NON-STOCK-APL","8960222",0]
["APL-Z1AF2002234527","8954879","C","D","CTO BO","N","APL-Z1AF2002234527","8954879",0]
["APL-MTMF3LL/A-PP","8921399","C","D","IPHONE","N","APL-MTMF3LL/A-PP","8921399",0]
["APL-Z17Z000S5","8912154","C","D","CTO BO","N","APL-Z17Z000S5","8912154"]
["APL-Z1AJ0019K","8912029","C","D","CTO BO","N","APL-Z1AJ0019K","8912029",5399]
["APL-Z1AJ0019D","8912025","C","D","STOCKED CTO","N","APL-Z1AJ0019D","8912025",4199]
["APL-Z1AJ0018W","8912019","C","D","CTO BO","N","APL-Z1AJ0018W","8912019",3799]
["APL-Z1AJ00191","8912013","C","D","CTO BO","N","APL-Z1AJ00191","8912013",4499]
["APL-Z1AJ0018K","8912008","C","D","STOCKED CTO","N","APL-Z1AJ0018K","8912008",2699]
["APL-Z1AJ0016C","8912003","C","D","CTO BO","N","APL-Z1AJ0016C","8912003",4099]
["APL-Z1AF001AK","8911996","C","D","CTO BO","N","APL-Z1AF001AK","8911996",4799]
["APL-Z1AF001A8","8911990","C","D","STOCKED CTO","N","APL-Z1AF001A8","8911990",4699]
["APL-Z1AF001AG","8911987","C","D","STOCKED CTO","N","APL-Z1AF001AG","8911987",4599]
["APL-Z1AF0019L","8911982","C","D","STOCKED CTO","N","APL-Z1AF0019L","8911982",2699]
["APL-Z1AF001A1","8911979","C","D","CTO BO","N","APL-Z1AF001A1","8911979",5699]
["APL-Z1AX002A4","8911974","C","D","CTO BO","N","APL-Z1AX002A4","8911974",5099]
["APL-Z1AX0029X","8911972","C","D","CTO BO","N","APL-Z1AX0029X","8911972",4699]
["APL-Z1AX002AG","8911966","C","D","CTO BO","N","APL-Z1AX002AG","8911966",6199]
["APL-Z1AX002AE","8911961","C","D","CTO BO","N","APL-Z1AX002AE","8911961",5899]
["APL-Z1AX002A0","8911955","C","D","CTO BO","N","APL-Z1AX002A0","8911955",4099]
["APL-Z1AX001JZ","8911948","C","D","CTO BO","N","APL-Z1AX001JZ","8911948",2999]
["APL-Z1AX002A6","8911943","C","D","CTO BO","N","APL-Z1AX002A6","8911943",4199]
["APL-Z1AX0029P","8911937","C","D","CTO BO","N","APL-Z1AX0029P","8911937",3799]
["APL-Z1AU002AJ","8911934","C","D","CTO BO","N","APL-Z1AU002AJ","8911934",5099]
["APL-Z1AX0029V","8911928","C","D","CTO BO","N","APL-Z1AX0029V","8911928",2799]
["APL-Z1AX002G1","8911922","C","D","CTO BO","N","APL-Z1AX002G1","8911922",3219]
["APL-Z1AU002A1","8911921","C","D","CTO BO","N","APL-Z1AU002A1","8911921",5399]
["APL-Z1AX002F0","8911918","C","D","CTO BO","N","APL-Z1AX002F0","8911918",2619]
["APL-Z1AU0029Y","8911911","C","D","STOCKED CTO","N","APL-Z1AU0029Y","8911911",3199]
["APL-Z1AU0029L","8911907","C","D","CTO BO","N","APL-Z1AU0029L","8911907",2999]
["APL-Z1AU002AD","8911902","C","D","CTO BO","N","APL-Z1AU002AD","8911902",4299]
["APL-Z1AU002RH","8911895","C","D","CTO BO","N","APL-Z1AU002RH","8911895",3619]
["APL-Z1AU002FV","8911891","C","D","CTO BO","N","APL-Z1AU002FV","8911891",2619]
["APL-Z1AU002MS","8911884","C","D","CTO BO","N","APL-Z1AU002MS","8911884",3219]
["APL-Z1AU002DS","8911880","C","D","CTO BO","N","APL-Z1AU002DS","8911880",3019]
["APL-Z1A9000MM","8911875","C","D","CTO BO","N","APL-Z1A9000MM","8911875",2219]
["APL-Z1A90001F","8911870","C","D","CTO BO","N","APL-Z1A90001F","8911870",2199]
["APL-Z1A9000NN","8911868","C","D","CTO BO","N","APL-Z1A9000NN","8911868",2019]
["APL-Z1C800016","8911858","C","D","CTO BO","N","APL-Z1C800016","8911858",2199]
["APL-Z1C8000MS","8911853","C","D","CTO BO","N","APL-Z1C8000MS","8911853",2019]
["APL-Z1C80001F","8911854","C","D","STOCKED CTO","N","APL-Z1C80001F","8911854",1999]
["APL-Z1C80001K","8911847","C","D","CTO BO","N","APL-Z1C80001K","8911847",1619]
["APL-Z1AU0029J","8894803","C","D","STOCKED CTO","N","APL-Z1AU0029J","8894803",2399]
["APL-MQRR3LL/A","8892810","C","D","IMAC","N","APL-MQRR3LL/A","8892810",0]
["APL-MUW73LL/A","8892803","C","D","MACBOOK","N","APL-MUW73LL/A","8892803",0]
["APL-MRX83LL/A","8892797","C","D","MACBOOK","N","APL-MRX83LL/A","8892797",3199]
["APL-MUW63LL/A","8892790","C","D","MACBOOK","N","APL-MUW63LL/A","8892790",0]
["APL-MRW13LL/A","8892787","C","D","MACBOOK","N","APL-MRW13LL/A","8892787",0]
["APL-3M716LL/A","8892780","C","D","IMAC","N","APL-3M716LL/A","8892780",0]
["APL-3M713LL/A","8892776","C","D","IMAC","N",{"$f":"TRIM(A5826)","v":"APL-3M713LL/A"},{"$f":"TRIM(B5826)","v":"8892776"},0]
["APL-3M524LL/A","8892770","C","D","MACBOOK","N","APL-3M524LL/A","8892770",0]
["APL-Z16R000VT","8891090","C","D","CTO BO","N","APL-Z16R000VT","8891090",0]
["APLX-Z124000FL","8888514","C","D","STOCKED CTO","N","APLX-Z124000FL","8888514",0]
["APLX-Z17K002HY","8888515","C","D","CTO BO","N","APLX-Z17K002HY","8888515",0]
["APLX-Z17400184","8887213","C","D","STOCKED CTO","N","APLX-Z17400184","8887213",0]
["APLX-Z14K0007J","8887208","C","D","STOCKED CTO","N","APLX-Z14K0007J","8887208",0]
["APLX-MWPE2LL/A","8887201","C","D","ACC NBU","N","APLX-MWPE2LL/A","8887201",0]
["APLX-MK233LL/A","8887196","C","D","MACBOOK","N","APLX-MK233LL/A","8887196",0]
["APLX-MK0Q3LL/A","8887192","C","D","ACC NBU","N","APLX-MK0Q3LL/A","8887192",0]
["APLX-Z177000E7","8887177","C","D","STOCKED CTO","N","APLX-Z177000E7","8887177",0]
["APLX-Z174000EE","8887174","C","D","STOCKED CTO","N","APLX-Z174000EE","8887174",0]
["APLX-Z17G000QA","8887167","C","D","STOCKED CTO","N","APLX-Z17G000QA","8887167",0]
["APLX-Z16000190","8887161","C","D","STOCKED CTO","N",{"$f":"TRIM(A5890)","v":"APLX-Z16000190"},{"$f":"TRIM(B5890)","v":"8887161"},0]
["APLX-Z15S000CT","8887158","C","D","STOCKED CTO","N","APLX-Z15S000CT","8887158",0]
["APLX-MXNL2LL/A","8887150","C","D","IPAD ACC 1","N","APLX-MXNL2LL/A","8887150",0]
["APLX-MNWM3AM/A","8887147","C","D","MAC ACC 2","N","APLX-MNWM3AM/A","8887147",0]
["APLX-MQDT3ZM/A","8887145","C","D","IPAD ACC 2","N","APLX-MQDT3ZM/A","8887145",0]
["APLX-MN713AM/A","8887141","C","D","MAC ACC 1","N","APLX-MN713AM/A","8887141",0]
["APLX-MKQ42AM/A","8887134","C","D","MAC ACC 3","N","APLX-MKQ42AM/A","8887134",0]
["APLX-MK293LL/A","8887128","C","D","MAC ACC 1","N","APLX-MK293LL/A","8887128",0]
["APLX-MD565LL/A","8887123","C","D","MAC ACC 2","N","APLX-MD565LL/A","8887123",0]
["APLX-MD464LL/A","8887119","C","D","MAC ACC 3","N","APLX-MD464LL/A","8887119",0]
["APL-MK293B/A","8884741","C","D","MAC ACC 1","N","APL-MK293B/A","8884741",0]
["APL-MUWA3AM/A","8828250","A","A","IPAD ACC 2","Y","APL-MUWA3AM/A","8828250",79]
["APL-MU6G3LL/A-PP","8823722","C","D","IPHONE","N","APL-MU6G3LL/A-PP","8823722",0]
["APL-MU063LL/A-PP","8823718","C","D","IPHONE","N",{"$f":"TRIM(A5954)","v":"APL-MU063LL/A-PP"},{"$f":"TRIM(B5954)","v":"8823718"},1129]
["APL-MU6J3LL/A-PP","8823715","C","D","IPHONE","N","APL-MU6J3LL/A-PP","8823715",0]
["SNO-Z14R000VJ","8803970","C","D","SNO - APPLE","N","SNO-Z14R000VJ","8803970",0]
["SNO-Z0ZT0004H","8803964","C","D","SNO - APPLE","N","SNO-Z0ZT0004H","8803964",0]
["SNO-Z12N000G8","8803965","C","D","SNO - APPLE","N","SNO-Z12N000G8","8803965",0]
["APLX-Z170000FL","8550289","C","D","STOCKED CTO","N","APLX-Z170000FL","8550289",0]
["APLX-Z17G002HU","8550287","C","D","STOCKED CTO","N","APLX-Z17G002HU","8550287",0]
["APL-Z18L000TB-CAP1","8289533","C","D","CTO BO","N","APL-Z18L000TB-CAP1","8289533",0]
["APLX-MLL82AM/A","8213734","C","D","MAC ACC 3","N","APLX-MLL82AM/A","8213734",0]
["APLX-MM0A3AM/A","8213721","C","D","MAC ACC 3","N","APLX-MM0A3AM/A","8213721",0]
["APLX-MMEL2AM/A","8213707","C","D","MAC ACC 2","N","APLX-MMEL2AM/A","8213707",0]
["APLX-MK0W2AM/A","8213694","C","D","IPAD ACC 3","N","APLX-MK0W2AM/A","8213694",0]
["APLX-MD826AM/A","8213679","C","D","IPOD ACC","N","APLX-MD826AM/A","8213679",0]
["APLX-MPHE3LL/A","8213670","C","D","MACBOOK","N",{"$f":"TRIM(A6018)","v":"APLX-MPHE3LL/A"},{"$f":"TRIM(B6018)","v":"8213670"},0]
["APLX-MKH53LL/A","8213662","C","D","MACBOOK","N","APLX-MKH53LL/A","8213662",0]
["APL-MTQV3LL/A-PP","7867079","C","D","IPHONE","N","APL-MTQV3LL/A-PP","7867079",0]
["APL-MU013LL/A-PP","7867076","C","D","IPHONE","N","APL-MU013LL/A-PP","7867076",929]
["APL-MTQP3LL/A-PP","7867058","C","D","IPHONE","N","APL-MTQP3LL/A-PP","7867058",0]
["APL-MU003LL/A-PP","7867059","C","D","IPHONE","N","APL-MU003LL/A-PP","7867059",929]
["APL-MTXW3LL/A-PP","7867048","C","D","IPHONE","N","APL-MTXW3LL/A-PP","7867048",0]
["APL-MTLX3LL/A-PP","7867037","C","D","IPHONE","N","APL-MTLX3LL/A-PP","7867037",729]
["APL-MTLV3LL/A-PP","7867029","B","A","IPHONE","Y","APL-MTLV3LL/A-PP","7867029",729]
["APL-Z12R000U9","7836468","C","D","CTO BO","N","APL-Z12R000U9","7836468",0]
["APL-MT4U3ZM/A","7833592","C","D","IPHONE ACC 2","N","APL-MT4U3ZM/A","7833592",0]
["APL-MT123ZM/A","7833589","C","D","IPHONE ACC 2","N","APL-MT123ZM/A","7833589",0]
["APL-MT4X3ZM/A","7833582","C","D","IPHONE ACC 2","N","APL-MT4X3ZM/A","7833582",0]
["APL-MT4D3ZM/A","7833578","B","A","IPHONE ACC 2","Y",{"$f":"TRIM(A6082)","v":"APL-MT4D3ZM/A"},{"$f":"TRIM(B6082)","v":"7833578"},59]
["APL-MT1P3ZM/A","7833575","B","A","IPHONE ACC 2","Y","APL-MT1P3ZM/A","7833575",49]
["APL-3M580LL/A","7832097","C","D","WATCH","N","APL-3M580LL/A","7832097",0]
["APL-3M603LL/A","7832092","C","D","WATCH","N","APL-3M603LL/A","7832092",0]
["APL-3M578LL/A","7832086","C","D","WATCH","N","APL-3M578LL/A","7832086",0]
["APL-3M592LL/A","7832087","C","D","WATCH","N","APL-3M592LL/A","7832087",0]
["APL-3M736LL/A","7832079","C","D","IPHONE","N","APL-3M736LL/A","7832079",0]
["APL-3M588LL/A","7832076","C","D","WATCH","N","APL-3M588LL/A","7832076",0]
["APL-3M434LL/A","7832071","C","D","IPHONE","N","APL-3M434LL/A","7832071",0]
["APL-3M414LL/A","7832063","C","D","IPHONE","N","APL-3M414LL/A","7832063"]
["APL-3M431LL/A","7832060","C","D","IPHONE","N","APL-3M431LL/A","7832060",0]
["APL-MT233ZM/A","7831471","B","A","IPHONE ACC 2","Y","APL-MT233ZM/A","7831471",49]
["APL-MT2L3ZM/A","7831468","C","D","MAC ACC 2","N","APL-MT2L3ZM/A","7831468",35]
["APL-MRF03LL/A","7831461","C","D","WATCH","N","APL-MRF03LL/A","7831461",799]
["APL-MREK3LL/A","7831456","C","D","WATCH","N","APL-MREK3LL/A","7831456",799]
["APL-MRMW3LL/A","7831448","C","D","WATCH","N","APL-MRMW3LL/A","7831448",749]
["APL-MT1A3ZM/A","7831443","B","A","IPHONE ACC 2","Y","APL-MT1A3ZM/A","7831443",49]
["APL-MT103ZM/A","7831441","C","D","IPHONE ACC 2","N","APL-MT103ZM/A","7831441",0]
["APL-MT0J3ZM/A","7831439","C","D","IPHONE ACC 2","N","APL-MT0J3ZM/A","7831439",0]
["APL-MRMM3LL/A","7831434","C","D","WATCH","N","APL-MRMM3LL/A","7831434",529]
["APL-MRF63LL/A","7831427","C","D","WATCH","N","APL-MRF63LL/A","7831427",799]
["APL-MRJA3LL/A","7831422","C","D","WATCH","N","APL-MRJA3LL/A","7831422",749]
["APL-MRJ93LL/A","7831418","C","D","WATCH","N","APL-MRJ93LL/A","7831418",699]
["APL-MRY83LL/A","7831412","C","D","WATCH","N","APL-MRY83LL/A","7831412",499]
["APL-MRJ33LL/A","7831410","C","D","WATCH","N","APL-MRJ33LL/A","7831410",699]
["APL-MRMP3LL/A","7831404","C","D","WATCH","N","APL-MRMP3LL/A","7831404",749]
["APL-MRMF3LL/A","7831396","C","D","WATCH","N","APL-MRMF3LL/A","7831396",529]
["APL-MR963LL/A","7831391","C","D","WATCH","N","APL-MR963LL/A","7831391",429]
["APL-MR913LL/A","7831385","C","D","WATCH","N","APL-MR913LL/A","7831385",399]
["APL-MR8W3LL/A","7831381","C","D","WATCH","N","APL-MR8W3LL/A","7831381",399]
["APL-MRHY3LL/A","7831377","C","D","WATCH","N","APL-MRHY3LL/A","7831377",499]
["APL-MRHW3LL/A","7831374","C","D","WATCH","N","APL-MRHW3LL/A","7831374",499]
["APL-MRHQ3LL/A","7831371","C","D","WATCH","N","APL-MRHQ3LL/A","7831371",499]
["APL-MRGW3LL/A","7831365","C","D","WATCH","N","APL-MRGW3LL/A","7831365",329]
["APL-MR9D3LL/A","7831361","C","D","WATCH","N","APL-MR9D3LL/A","7831361",429]
["APL-MREC3LL/A","7831354","C","D","WATCH","N","APL-MREC3LL/A","7831354",279]
["APL-MRE53LL/A","7831348","C","D","WATCH","N","APL-MRE53LL/A","7831348",279]
["APL-MRHL3LL/A","7831345","C","D","WATCH","N","APL-MRHL3LL/A","7831345",329]
["APL-MRGP3LL/A","7831338","C","D","WATCH","N","APL-MRGP3LL/A","7831338",299]
["APL-MRG63LL/A","7831332","C","D","WATCH","N","APL-MRG63LL/A","7831332",299]
["APL-MREF3LL/A","7831327","C","D","WATCH","N","APL-MREF3LL/A","7831327",279]
["APL-MTU53LL/A","7831320","C","D","IPHONE","N","APL-MTU53LL/A","7831320",1499]
["APL-MRE23LL/A","7831316","C","D","WATCH","N","APL-MRE23LL/A","7831316",249]
["APL-MTQT3LL/A","7831313","C","D","IPHONE","N","APL-MTQT3LL/A","7831313",1099]
["APL-MTQR3LL/A","7831310","C","D","IPHONE","N","APL-MTQR3LL/A","7831310",1099]
["APL-MU063LL/A","7831305","C","D","IPHONE","N","APL-MU063LL/A","7831305"]
["APL-MTU63LL/A","7831300","C","D","IPHONE","N","APL-MTU63LL/A","7831300",1499]
["APL-MTXV3LL/A","7831297","C","D","IPHONE","N","APL-MTXV3LL/A","7831297"]
["APL-MTQV3LL/A","7831291","C","D","IPHONE","N","APL-MTQV3LL/A","7831291",1099]
["APL-MU053LL/A","7831283","C","D","IPHONE","N","APL-MU053LL/A","7831283"]
["APL-MTM63LL/A","7831280","C","D","IPHONE","N","APL-MTM63LL/A","7831280"]
["APL-MTLX3LL/A","7831274","C","D","IPHONE","N","APL-MTLX3LL/A","7831274"]
["APL-MTXU3LL/A","7831270","C","D","IPHONE","N","APL-MTXU3LL/A","7831270"]
["SNO-MHNR3LL/A","7822912","C","D","PCW-IPADLTE","N","SNO-MHNR3LL/A","7822912",1299]
["SNO-MHP13LL/A","7822918","C","D","PCW-IPADLTE","N","SNO-MHP13LL/A","7822918",1999]
["SNO-MHNF3LL/A","7822906","C","D","PCW-IPAD","N","SNO-MHNF3LL/A","7822906",1099]
["SNO-MHNP3LL/A","7822911","C","D","PCW-IPAD","N","SNO-MHNP3LL/A","7822911",2199]
["APL-MK293UA/A","7707649","C","D","MAC ACC 1","N","APL-MK293UA/A","7707649",0]
["APL-Z18L000TB-UNTAG","7695745","C","D","CTO BO","N","APL-Z18L000TB-UNTAG","7695745",0]
["APL-Z13S000Y3","7693176","C","D","CTO BO","N","APL-Z13S000Y3","7693176",0]
["APL-D6702Z/A-25","7690903","B","A","VPP Credits","Y","APL-D6702Z/A-25","7690903",25]
["APL-Z0W32002219680","7681612","C","D","CTO BO","N","APL-Z0W32002219680","7681612",0]
["APL-MQE63AM/A","7673924","C","D","WATCH ACC 1","N","APL-MQE63AM/A","7673924",0]
["APL-Z176000J7","7657079","C","D","CTO BO","N","APL-Z176000J7","7657079",0]
["APL-Z0W32002217275","7646200","C","D","CTO BO","N","APL-Z0W32002217275","7646200",0]
["APL-MK2K3LL/A-INSIGHT","7629011","C","D","IPAD","N","APL-MK2K3LL/A-INSIGHT","7629011",0]
["APL-Z171000UU","7622202","C","D","CTO BO","N","APL-Z171000UU","7622202",0]
["APL-MKQ42AM/A","7618960","C","D","MAC ACC 3","N","APL-MKQ42AM/A","7618960",23]
["APL-Z1740017J-DENTSU","7611064","C","D","STOCKED CTO","N","APL-Z1740017J-DENTSU","7611064",0]
["APLX-MQD83AM/A-DE","7538610","C","D","IPHONE ACC 2","N","APLX-MQD83AM/A-DE","7538610",0]
["APLX-MNXP3LL/A-DE","7538591","C","D","IPAD","N","APLX-MNXP3LL/A-DE","7538591",1099]
["APLX-MK1E3LL/A-DE","7538579","C","D","MACBOOK","N","APLX-MK1E3LL/A-DE","7538579"]
["APL-RESTOCK-FEE","7534933","B","A","Services","Y","APL-RESTOCK-FEE","7534933",0]
["APL-MQTQ3LL/A","7532178","B","A","LEG BEATS","Y","APL-MQTQ3LL/A","7532178",349]
["APL-Z0W32002211240","7531538","C","D","CTO BO","N","APL-Z0W32002211240","7531538",0]
["APL-Z1600070K","7517397","C","D","CTO BO","N","APL-Z1600070K","7517397",1519]
["APL-Z16000754","7517381","C","D","CTO BO","N","APL-Z16000754","7517381",1599]
["APL-Z1600071Z","7517366","C","D","CTO BO","N","APL-Z1600071Z","7517366",1719]
["APL-Z15Y004QQ","7517350","C","D","CTO BO","N","APL-Z15Y004QQ","7517350",1519]
["APL-Z15Y004QG","7517344","C","D","CTO BO","N","APL-Z15Y004QG","7517344",1319]
["APL-Z15W0045B","7517336","C","D","CTO BO","N","APL-Z15W0045B","7517336",1799]
["APL-Z15W00455","7517324","C","D","CTO BO","N","APL-Z15W00455","7517324",1719]
["APL-Z15W00475","7517332","C","D","CTO BO","N","APL-Z15W00475","7517332",1419]
["APL-Z16000720","7517378","C","D","CTO BO","N","APL-Z16000720","7517378",1719]
["APL-Z15S004V1","7517310","C","D","CTO BO","N","APL-Z15S004V1","7517310",1799]
["APL-Z15W0046Z","7517320","C","D","CTO BO","N","APL-Z15W0046Z","7517320",1719]
["APL-Z1600071X","7517372","C","D","CTO BO","N","APL-Z1600071X","7517372",1419]
["APL-Z15S004VZ","7517305","C","D","CTO BO","N","APL-Z15S004VZ","7517305",1219]
["APL-Z15Y004QP","7517346","C","D","CTO BO","N","APL-Z15Y004QP","7517346",1319]
["APL-Z15Y004SX","7517360","C","D","CTO BO","N","APL-Z15Y004SX","7517360",1999]
["APL-Z15W00474","7517330","C","D","CTO BO","N","APL-Z15W00474","7517330",1219]
["APL-Z15W0044X","7517314","C","D","CTO BO","N","APL-Z15W0044X","7517314",1319]
["APL-Z15W0044K","7517323","C","D","CTO BO","N","APL-Z15W0044K","7517323",1519]
["APL-Z15S004UM","7517307","C","D","CTO BO","N","APL-Z15S004UM","7517307",1419]
["APL-MP603LL/A-GENZYME","7521535","C","D","IPAD","N","APL-MP603LL/A-GENZYME","7521535",0]
["APL-Z180000D3","7523078","C","D","CTO BO","N","APL-Z180000D3","7523078"]
["APL-Z0YZ2002209553","7522954","C","D","CTO BO","N","APL-Z0YZ2002209553","7522954",0]
["APL-Z0YZ2002209827","7521501","C","D","CTO BO","N","APL-Z0YZ2002209827","7521501",0]
["APL-Z16R0005U-DENTSU","7513604","C","D","STOCKED CTO","N","APL-Z16R0005U-DENTSU","7513604",0]
["APL-Z174000F6","7518195","C","D","CTO BO","N","APL-Z174000F6","7518195",0]
["APL-Z0YZ003FF","7516958","C","D","CTO BO","N","APL-Z0YZ003FF","7516958",0]
["APL-Z172000TF","7513857","C","D","CTO BO","N","APL-Z172000TF","7513857",11099]
["APL-Z172000TW","7513852","C","D","CTO BO","N","APL-Z172000TW","7513852",8899]
["APL-Z172000MR","7513851","C","D","CTO BO","N","APL-Z172000MR","7513851",8499]
["APL-Z172000TS","7513844","C","D","CTO BO","N","APL-Z172000TS","7513844",9299]
["APL-Z172000M2","7513838","C","D","CTO BO","N","APL-Z172000M2","7513838",7499]
["APL-Z171000QP","7513831","C","D","CTO BO","N","APL-Z171000QP","7513831",9799]
["APL-Z171000QM","7513827","C","D","CTO BO","N","APL-Z171000QM","7513827",9999]
["APL-Z171000XF","7513825","C","D","CTO BO","N","APL-Z171000XF","7513825",9599]
["APL-Z171000XE","7513821","C","D","CTO BO","N","APL-Z171000XE","7513821",8799]
["APL-Z171000Q5","7513819","C","D","CTO BO","N","APL-Z171000Q5","7513819",9599]
["APL-Z171000W8","7513813","C","D","CTO BO","N","APL-Z171000W8","7513813",9999]
["APL-Z171000X3","7513804","C","D","CTO BO","N","APL-Z171000X3","7513804",9399]
["APL-Z171000NU","7513799","C","D","CTO BO","N","APL-Z171000NU","7513799",7799]
["APL-Z171000UY","7513792","C","D","CTO BO","N","APL-Z171000UY","7513792",8199]
["APL-Z171000X0","7513788","C","D","CTO BO","N","APL-Z171000X0","7513788",8999]
["APL-Z17Z000UM","7513783","C","D","CTO BO","N","APL-Z17Z000UM","7513783"]
["APL-Z17Z000Q5","7513779","C","D","CTO BO","N","APL-Z17Z000Q5","7513779"]
["APL-Z17Z000QB","7513773","C","D","CTO BO","N","APL-Z17Z000QB","7513773"]
["APL-Z17Z000JZ","7513766","C","D","CTO BO","N","APL-Z17Z000JZ","7513766"]
["APL-Z17Z000UL","7513768","C","D","CTO BO","N","APL-Z17Z000UL","7513768"]
["APL-Z17Z0006Y","7513759","C","D","CTO BO","N","APL-Z17Z0006Y","7513759"]
["APL-Z17Z000UH","7513754","C","D","CTO BO","N","APL-Z17Z000UH","7513754"]
["APL-Z17Z000JX","7513753","C","D","STOCKED CTO","N","APL-Z17Z000JX","7513753"]
["APL-Z18T000SM","7513747","C","D","CTO BO","N","APL-Z18T000SM","7513747",2099]
["APL-Z17Z000MN","7513742","C","D","CTO BO","N","APL-Z17Z000MN","7513742"]
["APL-Z17Z0006V","7513736","C","D","STOCKED CTO","N","APL-Z17Z0006V","7513736"]
["APL-Z18T000PN","7513730","C","D","CTO BO","N","APL-Z18T000PN","7513730",2299]
["APL-Z18R000SY","7513725","C","D","CTO BO","N","APL-Z18R000SY","7513725",1899]
["APL-Z18T000WZ","7513718","C","D","CTO BO","N","APL-Z18T000WZ","7513718",1699]
["APL-Z18T000ST","7513712","C","D","CTO BO","N","APL-Z18T000ST","7513712",1699]
["APL-Z18R000U3","7513711","C","D","CTO BO","N","APL-Z18R000U3","7513711",1699]
["APL-Z18P000PX","7513703","C","D","CTO BO","N","APL-Z18P000PX","7513703",2499]
["APL-Z18R000T1","7513698","C","D","CTO BO","N","APL-Z18R000T1","7513698",1899]
["APL-Z18P000PZ","7513697","C","D","CTO BO","N","APL-Z18P000PZ","7513697",2099]
["APL-Z18P000PB","7513691","C","D","CTO BO","N","APL-Z18P000PB","7513691",1699]
["APL-Z18P000P9","7513686","C","D","CTO BO","N","APL-Z18P000P9","7513686",2099]
["APL-Z18P000PV","7513685","C","D","CTO BO","N","APL-Z18P000PV","7513685",1699]
["APL-Z18L000PQ","7513677","C","D","CTO BO","N","APL-Z18L000PQ","7513677",2299]
["APL-Z18L000ST","7513671","C","D","CTO BO","N","APL-Z18L000ST","7513671",2099]
["APL-Z18L000P6","7513666","C","D","CTO BO","N","APL-Z18L000P6","7513666",1699]
["APL-Z18L000PR","7513660","C","D","STOCKED CTO","N","APL-Z18L000PR","7513660",1699]
["APL-Z18L000PW","7513656","C","D","CTO BO","N","APL-Z18L000PW","7513656",1299]
["APL-MR3A3AM/A","7512592","B","A","ACC NBU","Y","APL-MR3A3AM/A","7512592",1600]
["APL-3L619LL/A","7512599","C","D","MACBOOK","N","APL-3L619LL/A","7512599",0]
["APL-MQKW3LL/A","7512591","C","D","MACBOOK","N","APL-MQKW3LL/A","7512591",1299]
["APL-MQLN3AM/A","7512590","C","D","MAC ACC 2","N","APL-MQLN3AM/A","7512590",59]
["APL-Z0W300B5A","7510769","C","D","CTO BO","N","APL-Z0W300B5A","7510769",0]
["APL-Z0W300C6B","7506844","C","D","CTO BO","N","APL-Z0W300C6B","7506844",0]
["APL-Z0YZ2002205909","7506773","C","D","CTO BO","N","APL-Z0YZ2002205909","7506773",0]
["APL-Z0W300CF6","7497803","C","D","CTO BO","N","APL-Z0W300CF6","7497803",0]
["APL-Z17G0031F","7495863","C","D","CTO BO","N","APL-Z17G0031F","7495863",0]
["APL-MW742LL/A-MCKESSON","7495829","C","D","MACBOOK","N","APL-MW742LL/A-MCKESSON","7495829",329]
["APL-Z14W00105-MCKESSON","7495825","C","D","CTO BO","N","APL-Z14W00105-MCKESSON","7495825",3099]
["APL-Z16R2002177846","7493714","C","D","CTO BO","N","APL-Z16R2002177846","7493714",0]
["APL-Z0YZ0011P","7489889","C","D","CTO BO","N","APL-Z0YZ0011P","7489889",0]
["APL-Z0W32002203547","7480696","C","D","CTO BO","N","APL-Z0W32002203547","7480696",0]
["APL-Z17G2002203314","7478899","C","D","CTO BO","N","APL-Z17G2002203314","7478899",0]
["APL-Z0W32002202938","7474497","C","D","CTO BO","N","APL-Z0W32002202938","7474497",0]
["APL-Z17G002KT","7473044","C","D","CTO BO","N","APL-Z17G002KT","7473044",0]
["APL-Z177001EE","7469484","C","D","CTO BO","N","APL-Z177001EE","7469484",0]
["APL-Z12Q001KK","7456610","C","D","CTO BO","N","APL-Z12Q001KK","7456610",0]
["APL-Z0YZ2002201631","7455462","C","D","CTO BO","N","APL-Z0YZ2002201631","7455462",0]
["APL-Z0W300FPX","7451351","C","D","CTO BO","N","APL-Z0W300FPX","7451351",0]
["APL-Z13K002HF","7448910","C","D","CTO BO","N","APL-Z13K002HF","7448910",0]
["APL-MQLK3LL/A","7440148","A","A","MOD BEATS","Y","APL-MQLK3LL/A","7440148","169.99"]
["APL-Z0W32002198745","7321839","C","D","CTO BO","N","APL-Z0W32002198745","7321839",0]
["APL-Z12Q0016T","7316002","C","D","CTO BO","N","APL-Z12Q0016T","7316002",0]
["APL-Z17G002NM","7309100","C","D","CTO BO","N","APL-Z17G002NM","7309100",0]
["APL-Z0W32002197031","7305561","C","D","CTO BO","N","APL-Z0W32002197031","7305561",0]
["APLX-MJ4X3LLA-DE","7297411","C","D","MOD BEATS","N","APLX-MJ4X3LLA-DE","7297411",0]
["APL-Z174001BM","7295459","C","D","CTO BO","N","APL-Z174001BM","7295459",0]
["APL-Z12W000SM","7294169","C","D","CTO BO","N","APL-Z12W000SM","7294169",0]
["APL-Z0W300C5B","7292346","C","D","CTO BO","N","APL-Z0W300C5B","7292346",0]
["APL-D6702Z/A-STAPLES","7291392","B","A","VPP Credits","Y","APL-D6702Z/A-STAPLES","7291392","237.5"]
["APL-Z0W3008LJ","7290246","C","D","CTO BO","N","APL-Z0W3008LJ","7290246",0]
["APLX-MK2J3LL/A-DE","7288036","C","D","MOD BEATS","N","APLX-MK2J3LL/A-DE","7288036",0]
["APL-Z0W32002193377","7284732","C","D","CTO BO","N","APL-Z0W32002193377","7284732",0]
["APL-MR3J3LL/A","7284410","C","D","IPHONE","N","APL-MR3J3LL/A","7284410",829]
["APL-MR5W3LL/A","7284415","C","D","IPHONE","N","APL-MR5W3LL/A","7284415",1229]
["APL-Z174001RJ","7278490","C","D","CTO BO","N","APL-Z174001RJ","7278490",0]
["APL-Z0W32002192252","7276892","C","D","CTO BO","N","APL-Z0W32002192252","7276892",0]
["APL-Z0W32002191763","7274616","E","I","CTO BO","N","APL-Z0W32002191763","7274616",0]
["APL-Z15W002M0","7270487","C","D","CTO BO","N","APL-Z15W002M0","7270487",0]
["APL-Z0W3006B3","7255581","C","D","CTO BO","N","APL-Z0W3006B3","7255581",0]
["APL-Z0W300C1A","7248304","C","D","CTO BO","N","APL-Z0W300C1A","7248304",0]
["APL-MGCF3LL/A","7236500","C","D","IPHONE","N","APL-MGCF3LL/A","7236500",0]
["APL-Z1742002187662","7235915","C","D","CTO BO","N","APL-Z1742002187662","7235915",0]
["APL-Z17G2002186523","7235601","C","D","CTO BO","N","APL-Z17G2002186523","7235601",0]
["APL-Z174001K4","7230851","C","D","CTO BO","N","APL-Z174001K4","7230851",0]
["APL-Z160002SV","7230046","C","D","CTO BO","N","APL-Z160002SV","7230046",0]
["APL-Z160004WX","7228617","C","D","CTO BO","N","APL-Z160004WX","7228617",0]
["APL-Z0W300DVA","7223509","C","D","CTO BO","N","APL-Z0W300DVA","7223509",0]
["APL-Z0W300843","7219495","C","D","CTO BO","N","APL-Z0W300843","7219495",0]
["APL-MPLL3LL/A","7216997","C","D","MOD BEATS","N","APL-MPLL3LL/A","7216997",0]
["APL-MK2C3FC/A","7215014","C","D","IPAD ACC 1","N","APL-MK2C3FC/A","7215014",0]
["APL-MQ052AC/A","7213963","C","D","IPAD ACC 1","N","APL-MQ052AC/A","7213963",0]
["APLX-MJ4X3LL/A-DE","7209721","E","D","MOD BEATS","N","APLX-MJ4X3LL/A-DE","7209721"]
["APL-Z170000GB","7139246","C","D","CTO BO","N","APL-Z170000GB","7139246",3199]
["APL-Z16K000RC","7139233","C","D","CTO BO","N","APL-Z16K000RC","7139233",1099]
["APL-Z16K000RL","7139238","C","D","CTO BO","N","APL-Z16K000RL","7139238",1799]
["APL-Z16K000RM","7139239","C","D","CTO BO","N","APL-Z16K000RM","7139239",1899]
["APL-Z16K000QZ","7139226","C","D","CTO BO","N","APL-Z16K000QZ","7139226",699]
["APL-Z16K000RB","7139231","C","D","CTO BO","N","APL-Z16K000RB","7139231",1299]
["APL-Z170000FK","7139141","C","D","CTO BO","N","APL-Z170000FK","7139141",3699]
["APL-Z170000FP","7139146","C","D","CTO BO","N","APL-Z170000FP","7139146",1699]
["APL-Z170000GA","7139152","C","D","CTO BO","N","APL-Z170000GA","7139152",2899]
["APL-Z16K000R9","7139121","C","D","CTO BO","N","APL-Z16K000R9","7139121",1099]
["APL-Z170000FF","7139126","C","D","CTO BO","N","APL-Z170000FF","7139126",1399]
["APL-Z170000FU","7139132","C","D","CTO BO","N","APL-Z170000FU","7139132",1999]
["APL-Z1770018X","7139099","C","D","CTO BO","N","APL-Z1770018X","7139099",4099]
["APL-Z1770017W","7139105","C","D","CTO BO","N","APL-Z1770017W","7139105",3699]
["APL-Z1770019N","7139110","C","D","CTO BO","N","APL-Z1770019N","7139110",4299]
["APL-Z177000EH","7139115","C","D","CTO BO","N","APL-Z177000EH","7139115",5699]
["APL-Z1770019R","7139116","C","D","CTO BO","N","APL-Z1770019R","7139116",6099]
["APL-Z1740017K","7139075","C","D","STOCKED CTO","N","APL-Z1740017K","7139075",3899]
["APL-Z174000EK","7139080","C","D","CTO BO","N","APL-Z174000EK","7139080",4499]
["APL-Z177000E7","7139086","C","D","STOCKED CTO","N","APL-Z177000E7","7139086",2899]
["APL-Z177000E5","7139090","C","D","CTO BO","N","APL-Z177000E5","7139090",3699]
["APL-Z177000EA","7139096","C","D","CTO BO","N","APL-Z177000EA","7139096",3299]
["APL-Z174000EB","7139054","C","D","STOCKED CTO","N","APL-Z174000EB","7139054",2899]
["APL-Z1740017R","7139059","C","D","CTO BO","N","APL-Z1740017R","7139059",4099]
["APL-Z1740017X","7139065","C","D","STOCKED CTO","N","APL-Z1740017X","7139065",3699]
["APL-Z174000EL","7139070","C","D","CTO BO","N","APL-Z174000EL","7139070",5499]
["APL-Z17K002HY","7139023","C","D","CTO BO","N","APL-Z17K002HY","7139023",2899]
["APL-Z17K002M7","7139029","C","D","CTO BO","N","APL-Z17K002M7","7139029",5099]
["APL-Z17K002M8","7139034","C","D","CTO BO","N","APL-Z17K002M8","7139034",3899]
["APL-Z17K000NZ","7139035","C","D","CTO BO","N","APL-Z17K000NZ","7139035",4099]
["APL-Z17K002MA","7139040","C","D","CTO BO","N","APL-Z17K002MA","7139040",3499]
["APL-Z17K002LE","7139044","C","D","CTO BO","N","APL-Z17K002LE","7139044",4099]
["APL-Z17K002MC","7139050","C","D","CTO BO","N","APL-Z17K002MC","7139050",5099]
["APL-Z17G000QJ","7138999","C","D","CTO BO","N","APL-Z17G000QJ","7138999",5499]
["APL-Z17K000N8","7139005","C","D","CTO BO","N","APL-Z17K000N8","7139005",2199]
["APL-Z17K002J3","7139010","C","D","CTO BO","N","APL-Z17K002J3","7139010",2619]
["APL-Z17K002LV","7139015","C","D","CTO BO","N","APL-Z17K002LV","7139015",3599]
["APL-Z17K000NU","7139021","C","D","CTO BO","N","APL-Z17K000NU","7139021",2299]
["APL-Z17G002NR","7138975","C","D","CTO BO","N","APL-Z17G002NR","7138975",3899]
["APL-Z17G002J7","7138980","C","D","STOCKED CTO","N","APL-Z17G002J7","7138980",3499]
["APL-Z17G002QU","7138986","C","D","CTO BO","N","APL-Z17G002QU","7138986",5699]
["APL-Z17G000QC","7138990","C","D","CTO BO","N","APL-Z17G000QC","7138990",3299]
["APL-Z17G002KP","7138991","C","D","STOCKED CTO","N","APL-Z17G002KP","7138991",3699]
["APL-Z17G000NV","7138951","C","D","STOCKED CTO","N","APL-Z17G000NV","7138951",2399]
["APL-Z17G002JK","7138956","C","D","STOCKED CTO","N","APL-Z17G002JK","7138956",2619]
["APL-Z17G002MH","7138962","C","D","CTO BO","N","APL-Z17G002MH","7138962",3219]
["APL-Z17G002TL","7138967","C","D","CTO BO","N","APL-Z17G002TL","7138967",4799]
["APL-MNW83LL/A","7137301","C","D","MACBOOK","N","APL-MNW83LL/A","7137301",2499]
["APL-MPHF3LL/A","7137307","C","D","MACBOOK","N","APL-MPHF3LL/A","7137307",2499]
["APL-MMFJ3LL/A","7137298","C","D","MACBOOK","N","APL-MMFJ3LL/A","7137298",599]
["APL-INDUSTRYSOLUTION#8","7126996","C","D","IPAD","N","APL-INDUSTRYSOLUTION#8","7126996","678.97"]
["APL-INDUSTRYSOLUTION#13","7127001","C","D","IPAD","N","APL-INDUSTRYSOLUTION#13","7127001","4809.34"]
["APL-INDUSTRYSOLUTION#17","7127005","C","D","IPHONE","N","APL-INDUSTRYSOLUTION#17","7127005","4676.75"]
["APL-INDUSTRYSOLUTION#5","7126993","C","D","IPAD","N","APL-INDUSTRYSOLUTION#5","7126993","1088.95"]
["APL-Z16R2002172855","13457017","C","D","CTO BO","N","APL-Z16R2002172855","13457017"]
["APL-Z14V2002172854","13466297","C","D","TBD","N","APL-Z14V2002172854","13466297"]
["APL-MUXN2VC/A","13466296","C","D","TBD","N","APL-MUXN2VC/A","13466296"]
["APL-MP613LL/A","6799488","C","D","IPAD","N","APL-MP613LL/A","6799488",1399]
["APL-MNXN3LL/A","6799474","C","D","IPAD","N","APL-MNXN3LL/A","6799474",1899]
["APL-MNXU3LL/A","6799479","C","D","IPAD","N","APL-MNXU3LL/A","6799479",1399]
["APL-MP5H3LL/A","6799484","C","D","IPAD","N","APL-MP5H3LL/A","6799484",2099]
["APL-3K873LL/A","6799458","C","D","IPAD","N","APL-3K873LL/A","6799458"]
["APL-3K912LL/A","6799461","C","D","IPAD","N","APL-3K912LL/A","6799461"]
["APL-MP563LL/A","6799410","C","D","IPAD","N",{"$f":"TRIM(A7362)","v":"APL-MP563LL/A"},{"$f":"TRIM(B7362)","v":"6799410"},999]
["APL-MP5E3LL/A","6799415","C","D","IPAD","N","APL-MP5E3LL/A","6799415",1699]
["APL-MQ6V3LL/A","6799385","C","D","IPAD - LTE/CELL","N","APL-MQ6V3LL/A","6799385"]
["APL-3L203LL/A","6799391","C","D","IPAD","N","APL-3L203LL/A","6799391"]
["APL-3L296LL/A","6799396","C","D","IPAD","N","APL-3L296LL/A","6799396"]
["APL-3L297LL/A","6799397","C","D","IPAD","N","APL-3L297LL/A","6799397"]
["APL-MNXG3LL/A","6799402","C","D","IPAD","N","APL-MNXG3LL/A","6799402",899]
["APL-MNXM3LL/A","6799407","C","D","IPAD","N","APL-MNXM3LL/A","6799407",1899]
["APL-MQDW3ZM/A","6799370","C","D","IPAD ACC 2","N","APL-MQDW3ZM/A","6799370"]
["APL-MPQ33LL/A","6799375","C","D","IPAD","N","APL-MPQ33LL/A","6799375"]
["APL-MQ6M3LL/A","6799382","C","D","IPAD - LTE/CELL","N","APL-MQ6M3LL/A","6799382"]
["APL-Z15G2002166119","13466287","C","D","TBD","N","APL-Z15G2002166119","13466287"]
["APL-MPPM3ZM/A","6766337","C","D","IPHONE ACC 2","N","APL-MPPM3ZM/A","6766337",0]
["APL-MPTP3ZM/A","6766343","C","D","IPHONE ACC 2","N",{"$f":"TRIM(A7426)","v":"APL-MPTP3ZM/A"},{"$f":"TRIM(B7426)","v":"6766343"},0]
["APL-Z14Y2002163619","13466285","C","D","TBD","N","APL-Z14Y2002163619","13466285"]
["APL-MQ8P3LL/A","6764113","C","D","IPHONE","N","APL-MQ8P3LL/A","6764113",0]
["APL-MQ8W3LL/A","6764119","C","D","IPHONE","N","APL-MQ8W3LL/A","6764119",0]
["APL-MQ923LL/A","6764124","C","D","IPHONE","N","APL-MQ923LL/A","6764124",0]
["APL-MQ3Y3LL/A","6764087","C","D","IPHONE","N","APL-MQ3Y3LL/A","6764087",0]
["APL-MQ403LL/A","6764088","C","D","IPHONE","N","APL-MQ403LL/A","6764088",0]
["APL-MQ463LL/A","6764093","C","D","IPHONE","N","APL-MQ463LL/A","6764093",0]
["APL-MQ0N3LL/A","6764100","C","D","IPHONE","N","APL-MQ0N3LL/A","6764100",0]
["APL-MQ1D3LL/A","6764103","C","D","IPHONE","N","APL-MQ1D3LL/A","6764103",0]
["APL-MQ2E3LL/A","6764108","C","D","IPHONE","N","APL-MQ2E3LL/A","6764108",0]
["APL-MPVH3LL/A","6764070","C","D","IPHONE","N","APL-MPVH3LL/A","6764070",629]
["APL-MPWM3LL/A","6764075","C","D","IPHONE","N","APL-MPWM3LL/A","6764075",729]
["APL-MQ3R3LL/A","6764081","C","D","IPHONE","N",{"$f":"TRIM(A7490)","v":"APL-MQ3R3LL/A"},{"$f":"TRIM(B7490)","v":"6764081"},0]
["APL-MNUP3LL/A","6764032","C","D","WATCH","N","APL-MNUP3LL/A","6764032",429]
["APL-MNUW3LL/A","6764037","C","D","WATCH","N","APL-MNUW3LL/A","6764037",499]
["APL-MQEU3LL/A","6763818","E","D","WATCH","N","APL-MQEU3LL/A","6763818",799]
["APL-MQF03LL/A","6763823","C","D","WATCH","N","APL-MQF03LL/A","6763823",799]
["APL-MQF53LL/A","6763828","C","D","WATCH","N","APL-MQF53LL/A","6763828",799]
["APL-MNVU3LL/A","6763796","E","D","WATCH","N","APL-MNVU3LL/A","6763796",529]
["APL-MNVX3LL/A","6763799","C","D","WATCH","N","APL-MNVX3LL/A","6763799",749]
["APL-MP4Q3LL/A","6763805","C","D","WATCH","N","APL-MP4Q3LL/A","6763805",529]
["APL-MP6Q3LL/A","6763810","C","D","WATCH","N","APL-MP6Q3LL/A","6763810",429]
["APL-MNHD3LL/A","6763815","C","D","WATCH","N","APL-MNHD3LL/A","6763815",799]
["APL-MNU83LL/A","6763776","C","D","WATCH","N","APL-MNU83LL/A","6763776",399]
["APL-MNUJ3LL/A","6763781","C","D","WATCH","N","APL-MNUJ3LL/A","6763781",429]
["APL-MNV93LL/A","6763787","C","D","WATCH","N",{"$f":"TRIM(A7554)","v":"APL-MNV93LL/A"},{"$f":"TRIM(B7554)","v":"6763787"},699]
["APL-MNVL3LL/A","6763792","C","D","WATCH","N","APL-MNVL3LL/A","6763792",529]
["APL-MNTG3LL/A","6763754","C","D","WATCH","N","APL-MNTG3LL/A","6763754",279]
["APL-MNTN3LL/A","6763760","C","D","WATCH","N","APL-MNTN3LL/A","6763760",299]
["APL-MNTP3LL/A","6763761","C","D","WATCH","N","APL-MNTP3LL/A","6763761",299]
["APL-MNJ73LL/A","6763769","C","D","WATCH","N","APL-MNJ73LL/A","6763769",749]
["APL-MNJE3LL/A","6763770","C","D","WATCH","N","APL-MNJE3LL/A","6763770",749]
["APL-MNT73LL/A","6763747","C","D","WATCH","N","APL-MNT73LL/A","6763747",249]
["APL-3L363AM/A","13466280","C","D","TBD","N","APL-3L363AM/A","13466280"]
["APL-KOHLSBEATSSHIPQ422","6759495","E","I","MOD BEATS","N","APL-KOHLSBEATSSHIPQ422","6759495","4939.8"]
["APL-MYMP2LL/A","13466274","C","D","TBD","N","APL-MYMP2LL/A","13466274"]
["APL-Z14V2002156505","13466270","C","D","TBD","N","APL-Z14V2002156505","13466270"]
["APL-Z1610005N","6698236","C","D","CTO BO","N","APL-Z1610005N","6698236",1499]
["APL-Z161000SP","6698241","C","D","CTO BO","N","APL-Z161000SP","6698241",2299]
["APL-Z15X000QT","6698210","C","D","CTO BO","N","APL-Z15X000QT","6698210",2499]
["APL-Z15Z0005J","6698215","C","D","CTO BO","N","APL-Z15Z0005J","6698215",2199]
["APL-Z15Z000LP","6698221","C","D","CTO BO","N","APL-Z15Z000LP","6698221",2099]
["APL-Z15Z000RE","6698226","C","D","CTO BO","N","APL-Z15Z000RE","6698226",2099]
["APL-Z1610005H","6698231","C","D","CTO BO","N","APL-Z1610005H","6698231",1799]
["APL-Z1610005K","6698232","C","D","CTO BO","N","APL-Z1610005K","6698232",2199]
["APL-Z15T000Q6","6698189","C","D","CTO BO","N","APL-Z15T000Q6","6698189",1899]
["APL-Z15X00058","6698195","C","D","CTO BO","N","APL-Z15X00058","6698195",1999]
["APL-Z15X0005K","6698200","C","D","CTO BO","N","APL-Z15X0005K","6698200",1999]
["APL-Z15X000PL","6698205","C","D","CTO BO","N","APL-Z15X000PL","6698205",1699]
["APL-Z160001FL","6698164","C","D","CTO BO","N","APL-Z160001FL","6698164",1519]
["APL-Z160000AY","6698168","C","D","CTO BO","N","APL-Z160000AY","6698168",1199]
["APL-Z160001CM","6698173","C","D","CTO BO","N","APL-Z160001CM","6698173",1719]
["APL-Z15T0005G","6698179","C","D","STOCKED CTO","N","APL-Z15T0005G","6698179",1599]
["APL-Z15T0005N","6698184","C","D","CTO BO","N","APL-Z15T0005N","6698184",2399]
["APL-Z160000BC","6698143","C","D","CTO BO","N","APL-Z160000BC","6698143",2299]
["APL-Z160001CK","6698148","C","D","CTO BO","N","APL-Z160001CK","6698148",1419]
["APL-Z160001C1","6698153","C","D","CTO BO","N","APL-Z160001C1","6698153",1819]
["APL-Z160001DJ","6698154","C","D","CTO BO","N","APL-Z160001DJ","6698154",2019]
["APL-Z16000140","6698159","C","D","CTO BO","N","APL-Z16000140","6698159",1919]
["APL-Z15Y001C3","6698118","C","D","CTO BO","N","APL-Z15Y001C3","6698118",1719]
["APL-Z15Y000AY","6698124","C","D","CTO BO","N","APL-Z15Y000AY","6698124",1199]
["APL-Z15Y001D1","6698128","C","D","CTO BO","N","APL-Z15Y001D1","6698128",1519]
["APL-Z160000AL","6698134","C","D","CTO BO","N","APL-Z160000AL","6698134",1499]
["APL-Z15Y000B4","6698095","C","D","CTO BO","N","APL-Z15Y000B4","6698095",2099]
["APL-Z15Y000BJ","6698100","C","D","CTO BO","N","APL-Z15Y000BJ","6698100",1219]
["APL-Z15Y001CK","6698106","C","D","CTO BO","N","APL-Z15Y001CK","6698106",1819]
["APL-Z15Y001S5","6698111","C","D","CTO BO","N","APL-Z15Y001S5","6698111",2419]
["APL-Z15W001BD","6698073","C","D","CTO BO","N","APL-Z15W001BD","6698073",1519]
["APL-Z15W001EH","6698078","C","D","CTO BO","N","APL-Z15W001EH","6698078",1919]
["APL-Z15W001GR","6698083","C","D","CTO BO","N","APL-Z15W001GR","6698083",1319]
["APL-Z15W001H9","6698084","C","D","CTO BO","N","APL-Z15W001H9","6698084",1519]
["APL-Z15Y000AK","6698089","C","D","CTO BO","N","APL-Z15Y000AK","6698089",1299]
["APL-Z15W000B6","6698053","C","D","CTO BO","N","APL-Z15W000B6","6698053",1699]
["APL-Z15W000BG","6698055","C","D","CTO BO","N","APL-Z15W000BG","6698055",2299]
["APL-Z15W001BK","6698060","C","D","CTO BO","N","APL-Z15W001BK","6698060",1419]
["APL-Z15W001LF","6698066","C","D","STOCKED CTO","N","APL-Z15W001LF","6698066",2019]
["APL-Z15W001KT","6698071","C","D","CTO BO","N","APL-Z15W001KT","6698071",1919]
["APL-Z15S001EY","6698030","C","D","CTO BO","N","APL-Z15S001EY","6698030",1719]
["APL-Z15S000CX","6698036","C","D","CTO BO","N","APL-Z15S000CX","6698036",1199]
["APL-Z15S001JH","6698041","C","D","CTO BO","N","APL-Z15S001JH","6698041",1719]
["APL-Z15W000AP","6698047","C","D","CTO BO","N","APL-Z15W000AP","6698047",1899]
["APL-Z15S000CT","6698004","C","D","STOCKED CTO","N","APL-Z15S000CT","6698004",1299]
["APL-Z15S000D9","6698009","C","D","STOCKED CTO","N","APL-Z15S000D9","6698009",1699]
["APL-Z15S000DH","6698012","C","D","CTO BO","N","APL-Z15S000DH","6698012",1219]
["APL-Z15S001GD","6698014","C","D","CTO BO","N","APL-Z15S001GD","6698014",1619]
["APL-Z15S001S3","6698019","C","D","STOCKED CTO","N","APL-Z15S001S3","6698019",2119]
["APL-Z15S001EE","6698025","C","D","CTO BO","N","APL-Z15S001EE","6698025",1319]
["APL-MNWP3AM/A","6682133","C","D","ACC NBU","N","APL-MNWP3AM/A","6682133",59]
["APL-Z16T00063","6682103","C","D","CTO BO","N","APL-Z16T00063","6682103",2099]
["APL-Z16R0005Z","6682099","C","D","CTO BO","N","APL-Z16R0005Z","6682099",2499]
["APL-Z16T0006Q","6682107","C","D","CTO BO","N","APL-Z16T0006Q","6682107",1899]
["APL-MLY03LL/A","6682113","C","D","MACBOOK","N","APL-MLY03LL/A","6682113",1399]
["APL-Z16R0005K","6682093","C","D","CTO BO","N","APL-Z16R0005K","6682093",2099]
["APL-Z16R0005V","6682095","C","D","STOCKED CTO","N","APL-Z16R0005V","6682095",1899]
["APL-FSHPWATCH1","6677964","B","A","WATCH","Y","APL-FSHPWATCH1","6677964",1]
["APL-Z14V2002140915","13466263","C","D","TBD","N","APL-Z14V2002140915","13466263"]
["APL-Z14V2002140914","13466264","C","D","TBD","N","APL-Z14V2002140914","13466264"]
["APL-Z11B2002136590","13466259","C","D","TBD","N","APL-Z11B2002136590","13466259"]
["APL-MJMW3LL/A","6593634","C","D","MACBOOK","N","APL-MJMW3LL/A","6593634",3999]
["APL-MNG73LL/A","6593627","C","D","IPHONE","N","APL-MNG73LL/A","6593627"]
["APL-MNDT3LL/A","6593610","C","D","IPHONE","N","APL-MNDT3LL/A","6593610"]
["APL-MNEY3LL/A","6593614","C","D","IPHONE","N","APL-MNEY3LL/A","6593614"]
["APL-MNF43LL/A","6593619","C","D","IPHONE","N","APL-MNF43LL/A","6593619"]
["APL-MNG43LL/A","6593624","C","D","IPHONE","N","APL-MNG43LL/A","6593624"]
["APL-MNCJ3LL/A","6593597","C","D","IPHONE","N","APL-MNCJ3LL/A","6593597"]
["APL-MNCD3LL/A","6593593","C","D","IPHONE","N","APL-MNCD3LL/A","6593593"]
["APL-MNAV3LL/A","6593588","C","D","WATCH","N","APL-MNAV3LL/A","6593588",0]
["APL-MNAM3LL/A","6593585","C","D","IPHONE","N","APL-MNAM3LL/A","6593585",0]
["APL-MN9L3LL/A","6593578","C","D","WATCH","N","APL-MN9L3LL/A","6593578",0]
["APL-MN9J3LL/A","6593577","C","D","WATCH","N","APL-MN9J3LL/A","6593577",0]
["APL-MMX53LL/A","6593559","C","D","IPHONE","N","APL-MMX53LL/A","6593559",429]
["APL-MMXE3LL/A","6593567","C","D","IPHONE","N","APL-MMXE3LL/A","6593567",0]
["APL-MN6F3ZM/A","6593573","B","A","IPHONE ACC 3","Y","APL-MN6F3ZM/A","6593573",35]
["APL-MNAA3LL/A","6593580","C","D","IPHONE","N","APL-MNAA3LL/A","6593580",0]
["APL-MM6V3LL/A","6593539","C","D","IPAD","N","APL-MM6V3LL/A","6593539"]
["APL-MM9D3LL/A","6593545","C","D","IPAD","N","APL-MM9D3LL/A","6593545"]
["APL-MM9M3LL/A","6593549","C","D","IPAD","N","APL-MM9M3LL/A","6593549"]
["APL-MMED3LL/A","6593555","C","D","IPAD","N","APL-MMED3LL/A","6593555"]
["APL-3M9F3LL/A","6593517","C","D","IPAD","N","APL-3M9F3LL/A","6593517",0]
["APL-3K545LL/A","6593522","C","D","IPHONE","N","APL-3K545LL/A","6593522"]
["APL-3K561LL/A","6593528","E","D","IPHONE","N","APL-3K561LL/A","6593528"]
["APL-MK0Q3LL/A","6593533","C","D","ACC NBU","N","APL-MK0Q3LL/A","6593533",1999]
["APL-MK0U3LL/A","6593534","C","D","ACC NBU","N","APL-MK0U3LL/A","6593534",1599]
["APL-3K103LL/A","6593512","C","D","IPAD","N","APL-3K103LL/A","6593512",0]
["APL-MUY42LL/A","13466250","C","D","TBD","N","APL-MUY42LL/A","13466250"]
["APL-Z14K0008B","6590373","C","D","STOCKED CTO","N","APL-Z14K0008B","6590373",5199]
["APL-Z14K0007E","6590370","C","D","CTO BO","N","APL-Z14K0007E","6590370",4999]
["APL-Z14K000AX","6590378","C","D","CTO BO","N","APL-Z14K000AX","6590378",5999]
["APL-Z14J000HA","6590363","C","D","CTO BO","N","APL-Z14J000HA","6590363",3599]
["APL-Z14J0008F","6590353","C","D","CTO BO","N","APL-Z14J0008F","6590353",2199]
["APL-Z14J000RH","6590360","C","D","CTO BO","N","APL-Z14J000RH","6590360",4599]
["APL-Z14V2002127129","13466248","C","D","TBD","N","APL-Z14V2002127129","13466248"]
["APL-Z14V001DU","13466241","C","D","TBD","N","APL-Z14V001DU","13466241"]
["APL-MM2Q3ZM/A","6511054","C","D","IPHONE ACC 2","N","APL-MM2Q3ZM/A","6511054",0]
["APL-MM2U3ZM/A","6511048","C","D","IPHONE ACC 2","N","APL-MM2U3ZM/A","6511048",49]
["APL-MM0M3ZM/A","6511049","E","D","IPHONE ACC 2","N","APL-MM0M3ZM/A","6511049",59]
["APL-MK0V3ZM/A","6511039","C","D","IPHONE ACC 2","N","APL-MK0V3ZM/A","6511039",0]
["APL-MHLF3ZM/A","6511023","C","D","IPHONE ACC 2","N","APL-MHLF3ZM/A","6511023",0]
["APL-MHLG3ZM/A","6511024","C","D","IPHONE ACC 2","N","APL-MHLG3ZM/A","6511024",49]
["APL-MHKL3ZM/A","6511030","E","D","IPHONE ACC 2","N","APL-MHKL3ZM/A","6511030",0]
["APL-MX542AM/A","6511038","C","D","IPHONE ACC 2","N","APL-MX542AM/A","6511038",99]
["APL-MWYV2ZM/A","6511007","C","D","IPHONE ACC 2","N","APL-MWYV2ZM/A","6511007",0]
["APL-MX0H2ZM/A","6511001","C","D","IPHONE ACC 2","N","APL-MX0H2ZM/A","6511001",39]
["APL-MX002ZM/A","6510998","C","D","IPHONE ACC 2","N","APL-MX002ZM/A","6510998",39]
["APL-MXYM2ZM/A","6511010","B","A","IPHONE ACC 2","Y","APL-MXYM2ZM/A","6511010",45]
["APL-MHKA3ZM/A","6511015","E","D","IPHONE ACC 2","N","APL-MHKA3ZM/A","6511015",0]
["APL-MRWT2ZM/A","6510988","C","D","IPHONE ACC 2","N","APL-MRWT2ZM/A","6510988",0]
["APL-MQGW2ZM/A","6510983","C","D","IPHONE ACC 2","N","APL-MQGW2ZM/A","6510983",39]
["APL-MJMC3ZM/A","6510969","C","D","IPAD ACC 2","N","APL-MJMC3ZM/A","6510969",0]
["APL-MJMA3ZM/A","6510968","C","D","IPAD ACC 2","N","APL-MJMA3ZM/A","6510968",79]
["APL-MM6G3ZM/A","6510976","C","D","IPAD ACC 2","N","APL-MM6G3ZM/A","6510976",59]
["APL-MRW62ZM/A","6510989","C","D","IPHONE ACC 2","N","APL-MRW62ZM/A","6510989",39]
["APL-MXTE2ZM/A","6510960","C","D","IPAD ACC 2","N","APL-MXTE2ZM/A","6510960",0]
["APL-MA591G/C","6510951","C","D","IPOD ACC","N","APL-MA591G/C","6510951",19]
["APL-MPUD2ZM/A","6510957","C","D","IPAD ACC 2","N","APL-MPUD2ZM/A","6510957",69]
["APL-MY9A2AM/A","6510574","C","D","WATCH ACC 1","N","APL-MY9A2AM/A","6510574",0]
["APL-MYMG2LL/A","6510564","B","A","MOD BEATS","Y","APL-MYMG2LL/A","6510564","69.99"]
["APL-MK2G3LL/A","6510569","C","D","MOD BEATS","N","APL-MK2G3LL/A","6510569","199.99"]
["APL-ML763AM/A","6510575","E","A","WATCH ACC 1","N","APL-ML763AM/A","6510575",99]
["APL-MX3Y2LL/A","6510552","C","D","LEG BEATS","N","APL-MX3Y2LL/A","6510552","349.95"]
["APL-ML992LL/A","6510543","C","D","LEG BEATS","N","APL-ML992LL/A","6510543","129.95"]
["APL-ML923LL/A","6510539","C","D","IPHONE","N","APL-ML923LL/A","6510539"]
["APL-ML943LL/A","6510540","C","D","IPHONE","N","APL-ML943LL/A","6510540"]
["APL-MX3X2LL/A","6510551","C","D","LEG BEATS","N","APL-MX3X2LL/A","6510551","349.95"]
["APL-MLEF3LL/A","6510532","C","D","IPHONE","N","APL-MLEF3LL/A","6510532"]
["APL-MLF13LL/A","6510527","C","D","IPHONE","N","APL-MLF13LL/A","6510527"]
["APL-MLEW3LL/A","6510522","C","D","IPHONE","N","APL-MLEW3LL/A","6510522"]
["APL-MLF83LL/A","6510516","C","D","IPHONE","N","APL-MLF83LL/A","6510516"]
["APL-MLFJ3LL/A","6510511","C","D","IPHONE","N","APL-MLFJ3LL/A","6510511"]
["APL-MLFF3LL/A","6510508","C","D","IPHONE","N",{"$f":"TRIM(A8258)","v":"APL-MLFF3LL/A"},{"$f":"TRIM(B8258)","v":"6510508"}]
["APL-MLQJ3LL/A","6510501","C","D","IPHONE","N","APL-MLQJ3LL/A","6510501"]
["APL-MLQY3LL/A","6510496","C","D","IPHONE","N","APL-MLQY3LL/A","6510496"]
["APL-MLQT3LL/A","6510490","C","D","IPHONE","N","APL-MLQT3LL/A","6510490"]
["APL-MLR73LL/A","6510485","C","D","IPHONE","N","APL-MLR73LL/A","6510485"]
["APL-MLRJ3LL/A","6510480","C","D","IPHONE","N","APL-MLRJ3LL/A","6510480"]
["APL-MLRH3LL/A","6510479","C","D","IPHONE","N","APL-MLRH3LL/A","6510479"]
["APL-ML9E3LL/A","6510474","C","D","IPHONE","N","APL-ML9E3LL/A","6510474"]
["APL-ML933LL/A","6510468","C","D","IPHONE","N","APL-ML933LL/A","6510468"]
["APL-ML9W3LL/A","6510463","C","D","IPHONE","N","APL-ML9W3LL/A","6510463"]
["APL-MLC33LL/A","6510458","C","D","IPHONE","N","APL-MLC33LL/A","6510458"]
["APL-MLA73LL/A","6510451","C","D","IPHONE","N","APL-MLA73LL/A","6510451"]
["APL-MLC93LL/A","6510448","C","D","IPHONE","N","APL-MLC93LL/A","6510448"]
["APL-ML983LL/A","6510437","C","D","IPHONE","N","APL-ML983LL/A","6510437"]
["APL-ML9M3LL/A","6510443","C","D","IPHONE","N","APL-ML9M3LL/A","6510443"]
["APL-MJN03LL/A","6510417","C","D","IPHONE","N","APL-MJN03LL/A","6510417"]
["APL-MLC03LL/A","6510423","C","D","IPHONE","N","APL-MLC03LL/A","6510423"]
["APL-ML9T3LL/A","6510428","C","D","IPHONE","N","APL-ML9T3LL/A","6510428"]
["APL-MLA63LL/A","6510433","C","D","IPHONE","N","APL-MLA63LL/A","6510433"]
["APL-MLA93LL/A","6510434","C","D","IPHONE","N","APL-MLA93LL/A","6510434"]
["APL-MJNR3LL/A","6510402","C","D","IPHONE","N","APL-MJNR3LL/A","6510402",0]
["APL-MJQ43LL/A","6510393","C","D","IPHONE","N","APL-MJQ43LL/A","6510393",0]
["APL-MJNF3LL/A","6510398","C","D","IPHONE","N","APL-MJNF3LL/A","6510398"]
["APL-MJN33LL/A","6510408","C","D","IPHONE","N","APL-MJN33LL/A","6510408"]
["APL-MJN93LL/A","6510414","C","D","IPHONE","N","APL-MJN93LL/A","6510414"]
["APL-MH973LL/A","6510375","C","D","IPHONE","N","APL-MH973LL/A","6510375",0]
["APL-MHHF3LL/A","6510370","C","D","IPHONE","N","APL-MHHF3LL/A","6510370",0]
["APL-MHG83LL/A","6510364","C","D","IPHONE","N","APL-MHG83LL/A","6510364",0]
["APL-MGF23LL/A","6510382","C","D","IPHONE","N","APL-MGF23LL/A","6510382"]
["APL-MHG63LL/A","6510362","C","D","IPHONE","N","APL-MHG63LL/A","6510362",0]
["APL-MH9M3LL/A","6510357","C","D","IPHONE","N","APL-MH9M3LL/A","6510357",0]
["APL-MG7R3LL/A","6510352","C","D","IPHONE","N","APL-MG7R3LL/A","6510352",0]
["APL-MG7Q3LL/A","6510351","C","D","IPHONE","N","APL-MG7Q3LL/A","6510351",0]
["APL-MG7J3LL/A","6510345","C","D","IPHONE","N","APL-MG7J3LL/A","6510345",0]
["APL-MG6V3LL/A","6510342","C","D","IPHONE","N","APL-MG6V3LL/A","6510342",0]
["APL-MG6M3LL/A","6510336","C","D","IPHONE","N","APL-MG6M3LL/A","6510336",0]
["APL-MHCE3LL/A","6510326","C","D","IPHONE","N","APL-MHCE3LL/A","6510326",0]
["APL-MHC73LL/A","6510320","C","D","IPHONE","N","APL-MHC73LL/A","6510320",0]
["APL-MH933LL/A","6510315","C","D","IPHONE","N","APL-MH933LL/A","6510315",0]
["APL-MGGH3LL/A","6510330","C","D","IPHONE","N","APL-MGGH3LL/A","6510330"]
["APL-MH8F3LL/A","6510309","C","D","IPHONE","N","APL-MH8F3LL/A","6510309",0]
["APL-MG7V3LL/A","6510304","C","D","IPHONE","N","APL-MG7V3LL/A","6510304",0]
["APL-MG6E3LL/A","6510288","C","D","IPHONE","N","APL-MG6E3LL/A","6510288",0]
["APL-MGFK3LL/A","6510294","C","D","IPHONE","N","APL-MGFK3LL/A","6510294"]
["APL-MGFQ3LL/A","6510299","C","D","IPHONE","N","APL-MGFQ3LL/A","6510299"]
["APL-MGFR3LL/A","6510300","C","D","IPHONE","N","APL-MGFR3LL/A","6510300"]
["APL-MG683LL/A","6510283","C","D","IPHONE","N","APL-MG683LL/A","6510283",0]
["APL-MG633LL/A","6510278","C","D","IPHONE","N","APL-MG633LL/A","6510278",0]
["APL-MG7E3LL/A","6510263","C","D","IPHONE","N","APL-MG7E3LL/A","6510263",0]
["APL-MGG73LL/A","6510266","C","D","IPHONE","N","APL-MGG73LL/A","6510266"]
["APL-MGGE3LL/A","6510272","C","D","IPHONE","N","APL-MGGE3LL/A","6510272"]
["APL-MH8Q3LL/A","6510256","C","D","IPHONE","N","APL-MH8Q3LL/A","6510256",0]
["APL-MH8K3LL/A","6510251","C","D","IPHONE","N","APL-MH8K3LL/A","6510251",0]
["APL-MHF93LL/A","6510245","C","D","IPHONE","N","APL-MHF93LL/A","6510245",0]
["APL-MG743LL/A","6510241","C","D","IPHONE","N","APL-MG743LL/A","6510241",0]
["APL-MG6X3LL/A","6510235","C","D","IPHONE","N","APL-MG6X3LL/A","6510235",0]
["APL-MHFV3LL/A","6510230","C","D","IPHONE","N","APL-MHFV3LL/A","6510230",0]
["APL-MHFL3LL/A","6510216","C","D","IPHONE","N","APL-MHFL3LL/A","6510216",0]
["APL-MHFK3LL/A","6510215","C","D","IPHONE","N","APL-MHFK3LL/A","6510215",0]
["APL-MGFF3LL/A","6510210","C","D","IPHONE","N","APL-MGFF3LL/A","6510210"]
["APL-MGEK3LL/A","6510222","C","D","IPHONE","N","APL-MGEK3LL/A","6510222"]
["APL-MGEW3LL/A","6510228","C","D","IPHONE","N","APL-MGEW3LL/A","6510228"]
["APL-MH9R3LL/A","6510199","C","D","IPHONE","N","APL-MH9R3LL/A","6510199",0]
["APL-MKHC3LL/A","6510182","C","D","WATCH","N","APL-MKHC3LL/A","6510182",0]
["APL-MGG03LL/A","6510191","C","D","IPHONE","N","APL-MGG03LL/A","6510191"]
["APL-MGG43LL/A","6510195","C","D","IPHONE","N",{"$f":"TRIM(A8578)","v":"APL-MGG43LL/A"},{"$f":"TRIM(B8578)","v":"6510195"}]
["APL-MGFC3LL/A","6510207","C","D","IPHONE","N","APL-MGFC3LL/A","6510207"]
["APL-MKJ73LL/A","6510176","C","D","WATCH","N","APL-MKJ73LL/A","6510176",0]
["APL-MKJA3LL/A","6510170","C","D","WATCH","N","APL-MKJA3LL/A","6510170",0]
["APL-MKHJ3LL/A","6510159","C","D","WATCH","N","APL-MKHJ3LL/A","6510159",0]
["APL-MKJE3LL/A","6510162","C","D","WATCH","N","APL-MKJE3LL/A","6510162",0]
["APL-MKN03LL/A","6510165","C","D","WATCH","N","APL-MKN03LL/A","6510165",0]
["APL-MKQ43LL/A","6510155","C","D","WATCH","N","APL-MKQ43LL/A","6510155",309]
["APL-MKQM3LL/A","6510146","C","D","WATCH","N","APL-MKQM3LL/A","6510146",329]
["APL-MTF32LL/A","6510137","C","D","WATCH","N","APL-MTF32LL/A","6510137",309]
["APL-MKQ63LL/A","6510143","C","D","WATCH","N","APL-MKQ63LL/A","6510143",309]
["APL-MKQ03LL/A","6510153","C","D","WATCH","N","APL-MKQ03LL/A","6510153",279]
["APL-MY5H2LL/A","6510052","A","A","HOMEPOD","Y","APL-MY5H2LL/A","6510052"]
["APL-MKQ83LL/A","6510059","C","D","WATCH","N",{"$f":"TRIM(A8642)","v":"APL-MKQ83LL/A"},{"$f":"TRIM(B8642)","v":"6510059"},0]
["APL-MKN33LL/A","6510065","C","D","WATCH","N","APL-MKN33LL/A","6510065",0]
["APL-MVHX2LL/A","6510033","C","D","IPOD","N","APL-MVHX2LL/A","6510033",199]
["APL-MVJE2LL/A","6510028","C","D","IPOD","N","APL-MVJE2LL/A","6510028",399]
["APL-MVJ72LL/A","6510023","C","D","IPOD","N","APL-MVJ72LL/A","6510023",299]
["APL-MVHY2LL/A","6510018","C","D","IPOD","N","APL-MVHY2LL/A","6510018",299]
["APL-MVHU2LL/A","6510017","C","D","IPOD","N","APL-MVHU2LL/A","6510017",199]
["APL-MXYK2ZM/A","6510005","C","D","IPHONE ACC 3","N","APL-MXYK2ZM/A","6510005",0]
["APL-MNHF2AM/A","6510002","C","D","IPHONE ACC 3","N","APL-MNHF2AM/A","6510002",19]
["APL-MJM63ZM/A","6509998","C","D","IPAD ACC 3","N","APL-MJM63ZM/A","6509998",0]
["APL-MJM83ZM/A","6509996","C","D","IPAD ACC 3","N","APL-MJM83ZM/A","6509996",0]
["APL-MK893LL/A","6509976","C","D","IPAD","N","APL-MK893LL/A","6509976",649]
["APL-MK663LL/A","6509981","C","D","IPAD","N","APL-MK663LL/A","6509981",459]
["APL-MMTN2AM/A","6509986","C","D","IPAD ACC 3","N",{"$f":"TRIM(A8706)","v":"APL-MMTN2AM/A"},{"$f":"TRIM(B8706)","v":"6509986"},29]
["APL-MJM43ZM/A","6509999","C","D","IPAD ACC 3","N","APL-MJM43ZM/A","6509999",39]
["APL-MHMW3LL/A","6509953","C","D","IPAD","N","APL-MHMW3LL/A","6509953"]
["APL-MK8C3LL/A","6509959","C","D","IPAD","N","APL-MK8C3LL/A","6509959",649]
["APL-MLWL3LL/A","6509965","C","D","IPAD","N","APL-MLWL3LL/A","6509965",499]
["APL-MK7M3LL/A","6509970","C","D","IPAD","N","APL-MK7M3LL/A","6509970",499]
["APL-MK7R3LL/A","6509972","C","D","IPAD","N","APL-MK7R3LL/A","6509972",499]
["APL-MHNJ3LL/A","6509948","C","D","IPAD","N","APL-MHNJ3LL/A","6509948"]
["APL-MHNP3LL/A","6509935","C","D","IPAD","N","APL-MHNP3LL/A","6509935"]
["APL-MHP43LL/A","6509927","C","D","IPAD","N","APL-MHP43LL/A","6509927"]
["APL-MHNR3LL/A","6509937","C","D","IPAD","N","APL-MHNR3LL/A","6509937"]
["APL-MHN33LL/A","6509944","C","D","IPAD","N","APL-MHN33LL/A","6509944"]
["APL-MHR23LL/A","6509921","C","D","IPAD","N","APL-MHR23LL/A","6509921"]
["APL-MYJ62LL/A","6509914","C","D","IPAD","N",{"$f":"TRIM(A8770)","v":"APL-MYJ62LL/A"},{"$f":"TRIM(B8770)","v":"6509914"},0]
["APL-MYFX2LL/A","6509908","C","D","IPAD","N","APL-MYFX2LL/A","6509908",0]
["APL-MYFN2LL/A","6509903","C","D","IPAD","N","APL-MYFN2LL/A","6509903",0]
["APL-MHNY3LL/A","6509923","C","D","IPAD","N","APL-MHNY3LL/A","6509923"]
["APL-MYFT2LL/A","6509899","C","D","IPAD","N","APL-MYFT2LL/A","6509899",0]
["APL-MPAL2LL/A","6509890","C","D","IPAD","N","APL-MPAL2LL/A","6509890",0]
["APL-S4357Z/A","6509879","B","A","HDUL","Y","APL-S4357Z/A","6509879",0]
["APL-MV1U2LL/A","6509895","C","D","IPAD","N","APL-MV1U2LL/A","6509895",0]
["APL-Z15H0010H","6509870","C","D","CTO BO","N","APL-Z15H0010H","6509870",4499]
["APL-Z15J001WP","6509864","C","D","CTO BO","N","APL-Z15J001WP","6509864",2599]
["APL-Z14W0010F","6509859","C","D","CTO BO","N","APL-Z14W0010F","6509859",4699]
["APL-Z15K0010M","6509854","C","D","CTO BO","N","APL-Z15K0010M","6509854",4299]
["APL-Z150000H6","6509849","C","D","CTO BO","N","APL-Z150000H6","6509849",4499]
["APL-Z15K0010K","6509844","C","D","CTO BO","N",{"$f":"TRIM(A8834)","v":"APL-Z15K0010K"},{"$f":"TRIM(B8834)","v":"6509844"},3699]
["APL-Z15G001WG","6509838","C","D","CTO BO","N","APL-Z15G001WG","6509838",2399]
["APL-Z15G0024Z","6509833","C","D","CTO BO","N","APL-Z15G0024Z","6509833",3219]
["APL-Z15G001XB","6509829","C","D","CTO BO","N","APL-Z15G001XB","6509829",5099]
["APL-Z15J001WU","6509823","C","D","CTO BO","N","APL-Z15J001WU","6509823",2799]
["APL-Z15J001W9","6509818","C","D","CTO BO","N","APL-Z15J001W9","6509818",2399]
["APL-Z14Z00106","6509813","C","D","CTO BO","N","APL-Z14Z00106","6509813",3299]
["APL-Z15J001XN","6509812","C","D","CTO BO","N","APL-Z15J001XN","6509812",2019]
["APL-Z14Z000ZN","6509807","C","D","CTO BO","N","APL-Z14Z000ZN","6509807",3699]
["APL-Z150000H7","6509801","C","D","CTO BO","N","APL-Z150000H7","6509801",5699]
["APL-Z15K00109","6509796","C","D","CTO BO","N","APL-Z15K00109","6509796",3899]
["APL-Z15K0010P","6509791","C","D","CTO BO","N","APL-Z15K0010P","6509791",5499]
["APL-Z15G003B2","6509784","C","D","CTO BO","N","APL-Z15G003B2","6509784",4819]
["APL-Z14Z00105","6509779","C","D","CTO BO","N",{"$f":"TRIM(A8898)","v":"APL-Z14Z00105"},{"$f":"TRIM(B8898)","v":"6509779"},3099]
["APL-Z15K0010G","6509773","C","D","CTO BO","N","APL-Z15K0010G","6509773",5299]
["APL-Z15J002H8","6509768","C","D","CTO BO","N","APL-Z15J002H8","6509768",3219]
["APL-Z14Z0010H","6509765","C","D","CTO BO","N","APL-Z14Z0010H","6509765",5899]
["APL-Z15J001WQ","6509759","C","D","CTO BO","N","APL-Z15J001WQ","6509759",2799]
["APL-Z14Z000ZM","6509754","C","D","CTO BO","N","APL-Z14Z000ZM","6509754",3099]
["APL-Z15J001WD","6509749","C","D","CTO BO","N","APL-Z15J001WD","6509749",2899]
["APL-Z15J0022W","6509748","C","D","CTO BO","N","APL-Z15J0022W","6509748",2619]
["APL-Z14W0010A","6509743","C","D","CTO BO","N","APL-Z14W0010A","6509743",5299]
["APL-Z15K0010J","6509737","C","D","CTO BO","N","APL-Z15K0010J","6509737",3699]
["APL-Z15G0023S","6509732","C","D","CTO BO","N","APL-Z15G0023S","6509732",2619]
["APL-Z12U000U6","6509721","C","D","CTO BO","N","APL-Z12U000U6","6509721",0]
["APL-Z11D000JR","6509711","C","D","CTO BO","N","APL-Z11D000JR","6509711",0]
["APL-Z0ZX00TRA","6509713","C","D","CTO BO","N","APL-Z0ZX00TRA","6509713",0]
["APL-Z0ZX00P6R","6509724","C","D","CTO BO","N","APL-Z0ZX00P6R","6509724",0]
["APL-Z11B001DN","6509701","C","D","CTO BO","N","APL-Z11B001DN","6509701",0]
["APL-Z12W000TJ","6509688","C","D","CTO BO","N","APL-Z12W000TJ","6509688",0]
["APL-Z0YZ001PG","6509685","C","D","CTO BO","N","APL-Z0YZ001PG","6509685",0]
["APL-Z0W3009HK","6509692","C","D","CTO BO","N","APL-Z0W3009HK","6509692",0]
["APL-Z0YZ001V6","6509700","C","D","CTO BO","N","APL-Z0YZ001V6","6509700",0]
["APL-Z0W3009U4","6509702","C","D","CTO BO","N","APL-Z0W3009U4","6509702",0]
["APL-Z0ZV0018B","6509678","C","D","CTO BO","N","APL-Z0ZV0018B","6509678",0]
["APL-Z12U0010E","6509671","C","D","CTO BO","N","APL-Z12U0010E","6509671",0]
["APL-Z12W000ST","6509660","C","D","CTO BO","N","APL-Z12W000ST","6509660",0]
["APL-Z0ZV000PY","6509652","C","D","CTO BO","N","APL-Z0ZV000PY","6509652",0]
["APL-Z0W300712","6509665","C","D","CTO BO","N","APL-Z0W300712","6509665",0]
["APL-Z0W3007QY","6509673","C","D","CTO BO","N","APL-Z0W3007QY","6509673",0]
["APL-Z13A00072","6509648","C","D","CTO BO","N","APL-Z13A00072","6509648",0]
["APL-Z11B001DV","6509641","C","D","CTO BO","N","APL-Z11B001DV","6509641",0]
["APL-Z12Q000NX","6509629","C","D","CTO BO","N","APL-Z12Q000NX","6509629",1529]
["APL-Z12Q000VB","6509635","C","D","CTO BO","N","APL-Z12Q000VB","6509635",2129]
["APL-Z0YZ00274","6509640","C","D","CTO BO","N","APL-Z0YZ00274","6509640"]
["APL-Z12U000NA","6509620","C","D","CTO BO","N","APL-Z12U000NA","6509620",1899]
["APL-Z12U000RR","6509611","C","D","CTO BO","N","APL-Z12U000RR","6509611",2351]
["APL-Z12Y000NX","6509599","C","D","CTO BO","N","APL-Z12Y000NX","6509599",1529]
["APL-Z12W000RP","6509605","C","D","CTO BO","N","APL-Z12W000RP","6509605",1729]
["APL-Z12U000RU","6509614","C","D","CTO BO","N","APL-Z12U000RU","6509614",2551]
["APL-Z12U000NU","6509622","C","D","CTO BO","N","APL-Z12U000NU","6509622",1899]
["APL-Z12Y000NR","6509593","C","D","CTO BO","N","APL-Z12Y000NR","6509593",1699]
["APL-Z12Y000QS","6509585","C","D","CTO BO","N","APL-Z12Y000QS","6509585",2351]
["APL-Z12S000RR","6509580","C","D","CTO BO","N","APL-Z12S000RR","6509580",1729]
["APL-Z130000N9","6509571","C","D","CTO BO","N","APL-Z130000N9","6509571",1699]
["APL-Z12Y000QV","6509588","C","D","CTO BO","N","APL-Z12Y000QV","6509588",2551]
["APL-Z12Y000NV","6509597","C","D","CTO BO","N","APL-Z12Y000NV","6509597",2099]
["APL-Z130000QD","6509562","C","D","CTO BO","N","APL-Z130000QD","6509562",1729]
["APL-Z132000NB","6509554","C","D","CTO BO","N","APL-Z132000NB","6509554",2321]
["APL-Z132000NA","6509553","C","D","CTO BO","N","APL-Z132000NA","6509553",1899]
["APL-Z132000QN","6509546","C","D","CTO BO","N","APL-Z132000QN","6509546",1929]
["APL-Z132000NR","6509551","C","D","CTO BO","N","APL-Z132000NR","6509551",1699]
["APL-Z132000NX","6509541","C","D","CTO BO","N","APL-Z132000NX","6509541",1529]
["APL-Z13K0017E","6509523","C","D","CTO BO","N","APL-Z13K0017E","6509523",1729]
["APL-Z13K0016X","6509516","C","D","CTO BO","N","APL-Z13K0016X","6509516",1749]
["APL-Z132000QQ","6509531","C","D","CTO BO","N","APL-Z132000QQ","6509531",2551]
["APL-Z13K000UT","6509536","C","D","CTO BO","N","APL-Z13K000UT","6509536",1329]
["APL-Z132000NV","6509539","C","D","CTO BO","N","APL-Z132000NV","6509539",2099]
["APL-Z13K0017A","6509512","C","D","CTO BO","N","APL-Z13K0017A","6509512",1979]
["APL-Z14L000Z1","6509504","C","D","CTO BO","N","APL-Z14L000Z1","6509504",1729]
["APL-Z14L000UR","6509499","C","D","CTO BO","N","APL-Z14L000UR","6509499",1699]
["APL-Z14L000Z6","6509493","C","D","CTO BO","N","APL-Z14L000Z6","6509493",1549]
["APL-Z14L000Z5","6509492","C","D","CTO BO","N","APL-Z14L000Z5","6509492",1579]
["APL-Z14L000Z2","6509487","C","D","CTO BO","N","APL-Z14L000Z2","6509487",1729]
["APL-Z14L000ZD","6509482","C","D","CTO BO","N","APL-Z14L000ZD","6509482",1979]
["APL-Z14L000ZQ","6509475","C","D","CTO BO","N","APL-Z14L000ZQ","6509475",1979]
["APL-Z14L000ZM","6509472","C","D","CTO BO","N","APL-Z14L000ZM","6509472",1809]
["APL-Z14M000UT","6509464","C","D","CTO BO","N","APL-Z14M000UT","6509464",1329]
["APL-Z14M000XP","6509456","C","D","CTO BO","N",{"$f":"TRIM(A9218)","v":"APL-Z14M000XP"},{"$f":"TRIM(B9218)","v":"6509456"},1549]
["APL-Z14M000UV","6509453","C","D","CTO BO","N","APL-Z14M000UV","6509453",1379]
["APL-Z14M000XG","6509465","C","D","CTO BO","N","APL-Z14M000XG","6509465",1529]
["APL-Z14M000XX","6509446","C","D","CTO BO","N","APL-Z14M000XX","6509446",1379]
["APL-Z14M000XF","6509439","C","D","CTO BO","N","APL-Z14M000XF","6509439",2009]
["APL-Z14M000X9","6509433","C","D","CTO BO","N","APL-Z14M000X9","6509433",1609]
["APL-Z14P000ZK","6509428","C","D","CTO BO","N","APL-Z14P000ZK","6509428",1529]
["APL-Z14M000XB","6509435","C","D","CTO BO","N","APL-Z14M000XB","6509435",1809]
["APL-Z14P000Z7","6509423","C","D","CTO BO","N","APL-Z14P000Z7","6509423",1749]
["APL-Z14P000Z2","6509418","C","D","CTO BO","N","APL-Z14P000Z2","6509418",1579]
["APL-Z14P000ZE","6509412","C","D","CTO BO","N","APL-Z14P000ZE","6509412",1609]
["APL-Z14P000Z8","6509406","C","D","CTO BO","N","APL-Z14P000Z8","6509406",1779]
["APL-Z14P000YZ","6509401","C","D","CTO BO","N","APL-Z14P000YZ","6509401",1979]
["APL-Z12A000WB","6509394","C","D","CTO BO","N","APL-Z12A000WB","6509394"]
["APL-Z0YZ000X2","6509385","C","D","CTO BO","N","APL-Z0YZ000X2","6509385"]
["APL-Z12N000G9","6509392","C","D","CTO BO","N","APL-Z12N000G9","6509392",1599]
["APL-Z12N000G1","6509404","C","D","CTO BO","N","APL-Z12N000G1","6509404",999]
["APL-Z0ZX00DBB","6509371","C","D","CTO BO","N","APL-Z0ZX00DBB","6509371"]
["APL-Z0W3006T3","6509361","C","D","CTO BO","N","APL-Z0W3006T3","6509361"]
["APL-Z0ZX0068S","6509368","C","D","CTO BO","N","APL-Z0ZX0068S","6509368"]
["APL-Z0ZX006FL","6509369","C","D","CTO BO","N","APL-Z0ZX006FL","6509369"]
["APL-Z0W300B6C","6509378","C","D","CTO BO","N","APL-Z0W300B6C","6509378"]
["APL-Z11C000Q2","6509355","C","D","CTO BO","N","APL-Z11C000Q2","6509355"]
["APL-Z11F0019B","6509344","C","D","CTO BO","N","APL-Z11F0019B","6509344"]
["APL-Z0YZ000YS","6509336","C","D","CTO BO","N","APL-Z0YZ000YS","6509336"]
["APL-Z0YZ001ET","6509348","C","D","CTO BO","N","APL-Z0YZ001ET","6509348"]
["APL-Z11F000GR","6509334","C","D","CTO BO","N","APL-Z11F000GR","6509334"]
["APL-Z14B003A8","6509317","C","D","CTO BO","N","APL-Z14B003A8","6509317"]
["APL-Z0ZX00FRV","6509316","C","D","CTO BO","N","APL-Z0ZX00FRV","6509316"]
["APL-Z0W3006TS","6509322","C","D","CTO BO","N","APL-Z0W3006TS","6509322"]
["APL-Z0W3006E1","6509327","C","D","CTO BO","N","APL-Z0W3006E1","6509327"]
["APL-Z11C000EC","6509304","C","D","CTO BO","N","APL-Z11C000EC","6509304"]
["APL-Z0ZV000P9","6509300","C","D","CTO BO","N","APL-Z0ZV000P9","6509300"]
["APL-Z0ZV001VB","6509299","C","D","CTO BO","N","APL-Z0ZV001VB","6509299"]
["APL-Z0ZX003H3","6509290","C","D","CTO BO","N","APL-Z0ZX003H3","6509290"]
["APL-Z0YZ0006K","6509293","C","D","CTO BO","N","APL-Z0YZ0006K","6509293"]
["APL-Z0W3000CU","6509310","C","D","CTO BO","N","APL-Z0W3000CU","6509310"]
["APL-Z11F000SH","6509277","C","D","CTO BO","N","APL-Z11F000SH","6509277"]
["APL-Z12B000D4","6509270","C","D","CTO BO","N","APL-Z12B000D4","6509270",1449]
["APL-Z124000F4","6509263","C","D","CTO BO","N","APL-Z124000F4","6509263",1799]
["APL-Z0W3006BV","6509278","C","D","CTO BO","N","APL-Z0W3006BV","6509278"]
["APL-Z128000DL","6509259","C","D","CTO BO","N","APL-Z128000DL","6509259",1449]
["APL-Z12A000F4","6509253","C","D","CTO BO","N","APL-Z12A000F4","6509253",1799]
["APL-Z127000F4","6509247","C","D","CTO BO","N","APL-Z127000F4","6509247",1799]
["APL-Z0ZT00050","6509239","C","D","CTO BO","N","APL-Z0ZT00050","6509239",2099]
["APL-Z12N000FZ","6509250","C","D","CTO BO","N","APL-Z12N000FZ","6509250",1499]
["APL-Z12A000FL","6509254","C","D","CTO BO","N","APL-Z12A000FL","6509254",1399]
["APL-Z0ZT0002U","6509233","C","D","CTO BO","N","APL-Z0ZT0002U","6509233",1799]
["APL-Z0ZT0005M","6509228","C","D","CTO BO","N","APL-Z0ZT0005M","6509228",2899]
["APL-Z0ZT00078","6509221","C","D","CTO BO","N","APL-Z0ZT00078","6509221",2399]
["APL-Z11D000FU","6509216","C","D","CTO BO","N","APL-Z11D000FU","6509216",2099]
["APL-Z11B000DW","6509212","C","D","CTO BO","N","APL-Z11B000DW","6509212",1699]
["APL-Z0ZW00166","6509195","C","D","CTO BO","N","APL-Z0ZW00166","6509195"]
["APL-Z0YZ00136","6509197","C","D","CTO BO","N","APL-Z0YZ00136","6509197"]
["APL-Z0ZX00LVF","6509204","C","D","CTO BO","N","APL-Z0ZX00LVF","6509204"]
["APL-Z0W3006MY","6509210","C","D","CTO BO","N","APL-Z0W3006MY","6509210"]
["APL-Z0ZW001XC","6509176","C","D","CTO BO","N","APL-Z0ZW001XC","6509176"]
["APL-Z0W3006K9","6509172","C","D","CTO BO","N","APL-Z0W3006K9","6509172"]
["APL-Z0ZW001AS","6509178","C","D","CTO BO","N","APL-Z0ZW001AS","6509178"]
["APL-Z10B0039A","6509179","C","D","CTO BO","N","APL-Z10B0039A","6509179"]
["APL-Z0W3002B8","6509187","C","D","CTO BO","N","APL-Z0W3002B8","6509187"]
["APL-Z0ZW0016V","6509159","C","D","CTO BO","N","APL-Z0ZW0016V","6509159"]
["APL-Z0W3006NL","6509143","C","D","CTO BO","N","APL-Z0W3006NL","6509143"]
["APL-Z0W3006Z6","6509149","C","D","CTO BO","N","APL-Z0W3006Z6","6509149"]
["APL-Z0ZX00E15","6509157","C","D","CTO BO","N","APL-Z0ZX00E15","6509157"]
["APL-Z10B0034X","6509163","C","D","CTO BO","N","APL-Z10B0034X","6509163"]
["APL-Z0ZW002QS","6509134","C","D","CTO BO","N","APL-Z0ZW002QS","6509134",4629]
["APL-Z0ZX006XE","6509120","C","D","CTO BO","N","APL-Z0ZX006XE","6509120",5999]
["APL-Z0ZX007K7","6509125","C","D","CTO BO","N","APL-Z0ZX007K7","6509125",7999]
["APL-Z0ZW001EK","6509136","C","D","CTO BO","N","APL-Z0ZW001EK","6509136",3129]
["APL-Z0ZX002EH","6509105","C","D","CTO BO","N","APL-Z0ZX002EH","6509105",2599]
["APL-Z0ZX002HG","6509101","C","D","CTO BO","N","APL-Z0ZX002HG","6509101",6899]
["APL-Z0ZX002SX","6509110","C","D","CTO BO","N","APL-Z0ZX002SX","6509110",4129]
["APL-Z0ZX004JV","6509111","C","D","CTO BO","N","APL-Z0ZX004JV","6509111",4329]
["APL-Z0ZX008R8","6509116","C","D","CTO BO","N","APL-Z0ZX008R8","6509116",6329]
["APL-Z0ZX00850","6509086","C","D","CTO BO","N","APL-Z0ZX00850","6509086",3599]
["APL-Z0ZX0068M","6509081","C","D","CTO BO","N","APL-Z0ZX0068M","6509081",3199]
["APL-Z0ZX0085E","6509075","C","D","CTO BO","N","APL-Z0ZX0085E","6509075",4199]
["APL-Z0ZX0084M","6509091","C","D","CTO BO","N","APL-Z0ZX0084M","6509091",6099]
["APL-Z0ZX0084P","6509096","C","D","CTO BO","N","APL-Z0ZX0084P","6509096",5899]
["APL-Z0ZX0081N","6509060","C","D","CTO BO","N","APL-Z0ZX0081N","6509060",6699]
["APL-Z0ZX004PL","6509052","C","D","CTO BO","N","APL-Z0ZX004PL","6509052",5729]
["APL-Z0ZX0041B","6509063","C","D","CTO BO","N","APL-Z0ZX0041B","6509063",3499]
["APL-Z0ZX0081S","6509069","C","D","CTO BO","N","APL-Z0ZX0081S","6509069",5699]
["APL-Z0ZX007G3","6509029","C","D","CTO BO","N","APL-Z0ZX007G3","6509029",4029]
["APL-Z0ZX008S1","6509035","C","D","CTO BO","N","APL-Z0ZX008S1","6509035",5629]
["APL-Z0ZX003H9","6509037","C","D","CTO BO","N","APL-Z0ZX003H9","6509037",4229]
["APL-Z0ZX007D2","6509040","C","D","CTO BO","N","APL-Z0ZX007D2","6509040",5999]
["APL-Z0ZX002R0","6509046","C","D","CTO BO","N","APL-Z0ZX002R0","6509046",5199]
["APL-Z0ZX00880","6509024","C","D","CTO BO","N","APL-Z0ZX00880","6509024",7629]
["APL-Z0ZV00163","6509019","C","D","CTO BO","N","APL-Z0ZV00163","6509019",2529]
["APL-Z0ZV000SZ","6509013","C","D","CTO BO","N","APL-Z0ZV000SZ","6509013",2029]
["APL-Z0ZV0015H","6509008","C","D","CTO BO","N","APL-Z0ZV0015H","6509008",2429]
["APL-Z0ZV00149","6509004","C","D","CTO BO","N","APL-Z0ZV00149","6509004",2729]
["APL-Z0ZW00185","6508999","C","D","CTO BO","N","APL-Z0ZW00185","6508999",3199]
["APL-Z0ZW000Z8","6508992","C","D","CTO BO","N","APL-Z0ZW000Z8","6508992",2599]
["APL-Z0ZW0019J","6508987","C","D","CTO BO","N","APL-Z0ZW0019J","6508987",2699]
["APL-Z0ZW0011L","6508988","C","D","CTO BO","N","APL-Z0ZW0011L","6508988",3099]
["APL-Z0ZX007KR","6508974","C","D","CTO BO","N","APL-Z0ZX007KR","6508974",3699]
["APL-Z0ZX003JG","6508971","C","D","CTO BO","N","APL-Z0ZX003JG","6508971",5329]
["APL-Z0ZX008Q4","6508966","C","D","CTO BO","N","APL-Z0ZX008Q4","6508966",3329]
["APL-Z0ZX008QN","6508960","C","D","CTO BO","N","APL-Z0ZX008QN","6508960",4529]
["APL-Z0ZX007KV","6508980","C","D","CTO BO","N","APL-Z0ZX007KV","6508980",3699]
["APL-Z0ZX008QL","6508957","C","D","CTO BO","N","APL-Z0ZX008QL","6508957",3929]
["APL-Z0ZX006GD","6508951","C","D","CTO BO","N","APL-Z0ZX006GD","6508951",6199]
["APL-Z0ZX0038F","6508946","C","D","CTO BO","N","APL-Z0ZX0038F","6508946",4199]
["APL-Z0ZX003B5","6508937","C","D","CTO BO","N","APL-Z0ZX003B5","6508937",3799]
["APL-Z0ZX008T1","6508932","C","D","CTO BO","N","APL-Z0ZX008T1","6508932",3729]
["APL-Z0ZX004QH","6508921","C","D","CTO BO","N","APL-Z0ZX004QH","6508921",3099]
["APL-Z0ZX002H8","6508918","C","D","CTO BO","N","APL-Z0ZX002H8","6508918",3099]
["APL-Z0ZX003K1","6508927","C","D","CTO BO","N","APL-Z0ZX003K1","6508927",4729]
["APL-Z0ZX002PL","6508936","C","D","CTO BO","N","APL-Z0ZX002PL","6508936",3599]
["APL-Z0ZX0041G","6508914","C","D","CTO BO","N","APL-Z0ZX0041G","6508914",3129]
["APL-Z0ZX004EC","6508901","C","D","CTO BO","N","APL-Z0ZX004EC","6508901",4129]
["APL-Z0ZX00846","6508895","C","D","CTO BO","N","APL-Z0ZX00846","6508895",4329]
["APL-Z0ZX008SP","6508909","C","D","CTO BO","N","APL-Z0ZX008SP","6508909",4129]
["APL-Z0ZX008UX","6508874","C","D","CTO BO","N","APL-Z0ZX008UX","6508874",5729]
["APL-Z0ZX003BS","6508876","C","D","CTO BO","N","APL-Z0ZX003BS","6508876",4729]
["APL-Z0ZX007MP","6508881","C","D","CTO BO","N","APL-Z0ZX007MP","6508881",4729]
["APL-Z0ZX008TW","6508886","C","D","CTO BO","N","APL-Z0ZX008TW","6508886",3929]
["APL-Z0ZX008TZ","6508891","C","D","CTO BO","N","APL-Z0ZX008TZ","6508891",5929]
["APL-Z0ZX0071S","6508867","C","D","CTO BO","N","APL-Z0ZX0071S","6508867",3129]
["APL-Z0ZV000NY","6508859","C","D","CTO BO","N","APL-Z0ZV000NY","6508859",1899]
["APL-Z0ZW0010C","6508854","C","D","CTO BO","N","APL-Z0ZW0010C","6508854",2299]
["APL-Z0ZW001TV","6508851","C","D","CTO BO","N","APL-Z0ZW001TV","6508851",3199]
["APL-Z0ZW002PM","6508852","C","D","CTO BO","N","APL-Z0ZW002PM","6508852",3599]
["APL-Z0ZX008V3","6508834","C","D","CTO BO","N","APL-Z0ZX008V3","6508834",7729]
["APL-Z0ZX003JB","6508829","C","D","CTO BO","N","APL-Z0ZX003JB","6508829",4929]
["APL-Z0ZX00844","6508822","C","D","CTO BO","N","APL-Z0ZX00844","6508822",4099]
["APL-Z0ZX008X6","6508838","C","D","CTO BO","N","APL-Z0ZX008X6","6508838",4229]
["APL-Z0ZX008XA","6508843","C","D","CTO BO","N","APL-Z0ZX008XA","6508843",6229]
["APL-Z0ZX003ZU","6508817","C","D","CTO BO","N","APL-Z0ZX003ZU","6508817",3299]
["APL-Z0ZX003TQ","6508810","C","D","CTO BO","N","APL-Z0ZX003TQ","6508810",3699]
["APL-Z0ZX003H1","6508802","C","D","CTO BO","N","APL-Z0ZX003H1","6508802",3599]
["APL-Z0ZX003XP","6508815","C","D","CTO BO","N","APL-Z0ZX003XP","6508815",3499]
["APL-Z0ZX00663","6508797","C","D","CTO BO","N","APL-Z0ZX00663","6508797",5199]
["APL-Z0ZV000SW","6508783","C","D","CTO BO","N","APL-Z0ZV000SW","6508783",2199]
["APL-Z0ZX0081V","6508777","C","D","CTO BO","N","APL-Z0ZX0081V","6508777",6299]
["APL-Z0ZX007LC","6508778","C","D","CTO BO","N","APL-Z0ZX007LC","6508778",4299]
["APL-Z0ZX003VU","6508792","C","D","CTO BO","N","APL-Z0ZX003VU","6508792",7029]
["APL-Z0ZX003PH","6508755","C","D","CTO BO","N","APL-Z0ZX003PH","6508755",3599]
["APL-Z0ZX002WV","6508759","C","D","CTO BO","N","APL-Z0ZX002WV","6508759",4499]
["APL-Z0ZX0081X","6508764","C","D","CTO BO","N","APL-Z0ZX0081X","6508764",6499]
["APL-Z0ZX003AV","6508770","C","D","CTO BO","N","APL-Z0ZX003AV","6508770",3899]
["APL-Z0ZX002X6","6508775","C","D","CTO BO","N","APL-Z0ZX002X6","6508775",5099]
["APL-Z0ZX007KD","6508750","C","D","CTO BO","N","APL-Z0ZX007KD","6508750",4999]
["APL-Z0ZX005DR","6508744","C","D","CTO BO","N","APL-Z0ZX005DR","6508744",3629]
["APL-Z0ZX0087E","6508731","C","D","CTO BO","N","APL-Z0ZX0087E","6508731",5029]
["APL-Z0ZX003C6","6508736","C","D","CTO BO","N","APL-Z0ZX003C6","6508736",3829]
["APL-Z0ZX002H1","6508722","C","D","CTO BO","N","APL-Z0ZX002H1","6508722",5299]
["APL-Z0ZX003HL","6508709","C","D","CTO BO","N","APL-Z0ZX003HL","6508709",4029]
["APL-Z0ZX008RP","6508705","C","D","CTO BO","N","APL-Z0ZX008RP","6508705",4229]
["APL-Z0ZW00140","6508713","C","D","CTO BO","N","APL-Z0ZW00140","6508713",2899]
["APL-Z0ZW00180","6508718","C","D","CTO BO","N","APL-Z0ZW00180","6508718",4099]
["APL-Z0ZX002GS","6508726","C","D","CTO BO","N","APL-Z0ZX002GS","6508726",3899]
["APL-Z0ZX0083J","6508700","C","D","CTO BO","N","APL-Z0ZX0083J","6508700",5699]
["APL-Z0ZX004JP","6508694","C","D","CTO BO","N","APL-Z0ZX004JP","6508694",4499]
["APL-Z0ZX005CV","6508685","C","D","CTO BO","N","APL-Z0ZX005CV","6508685",6399]
["APL-Z0ZX003AC","6508690","C","D","CTO BO","N","APL-Z0ZX003AC","6508690",3599]
["APL-Z0ZX002VL","6508680","C","D","CTO BO","N","APL-Z0ZX002VL","6508680",4129]
["APL-Z0ZX002N4","6508675","C","D","CTO BO","N","APL-Z0ZX002N4","6508675",3129]
["APL-Z0ZX00816","6508661","C","D","CTO BO","N","APL-Z0ZX00816","6508661",5299]
["APL-Z0ZX00813","6508658","C","D","CTO BO","N","APL-Z0ZX00813","6508658",3699]
["APL-Z0ZX002R3","6508672","C","D","CTO BO","N","APL-Z0ZX002R3","6508672",3499]
["APL-Z0ZX002NQ","6508673","C","D","CTO BO","N","APL-Z0ZX002NQ","6508673",3929]
["APL-Z0ZX0058Q","6508654","C","D","CTO BO","N","APL-Z0ZX0058Q","6508654",6499]
["APL-Z0ZX0081H","6508649","C","D","CTO BO","N","APL-Z0ZX0081H","6508649",6299]
["APL-Z0ZX008PV","6508643","C","D","CTO BO","N","APL-Z0ZX008PV","6508643",3729]
["APL-Z0ZX008PR","6508636","C","D","CTO BO","N","APL-Z0ZX008PR","6508636",2929]
["APL-Z0ZX002EL","6508624","C","D","CTO BO","N","APL-Z0ZX002EL","6508624",2799]
["APL-Z0ZX008SF","6508612","C","D","CTO BO","N","APL-Z0ZX008SF","6508612",3729]
["APL-Z0ZX002TB","6508617","C","D","CTO BO","N","APL-Z0ZX002TB","6508617",4899]
["APL-Z0ZX002GD","6508625","C","D","CTO BO","N","APL-Z0ZX002GD","6508625",2999]
["APL-Z0ZW002J2","6508627","C","D","CTO BO","N","APL-Z0ZW002J2","6508627",4029]
["APL-Z0ZW002SN","6508604","C","D","CTO BO","N","APL-Z0ZW002SN","6508604",5229]
["APL-Z0ZW002SH","6508598","C","D","CTO BO","N","APL-Z0ZW002SH","6508598",2829]
["APL-Z0ZW002S8","6508587","C","D","CTO BO","N","APL-Z0ZW002S8","6508587",3029]
["APL-Z0ZX00370","6508586","C","D","CTO BO","N","APL-Z0ZX00370","6508586",2899]
["APL-Z0ZW001SU","6508596","C","D","CTO BO","N","APL-Z0ZW001SU","6508596",3129]
["APL-Z0ZX00840","6508584","C","D","CTO BO","N","APL-Z0ZX00840","6508584",2699]
["APL-Z0ZX005HX","6508566","C","D","CTO BO","N","APL-Z0ZX005HX","6508566",4099]
["APL-Z0ZX003F9","6508572","C","D","CTO BO","N","APL-Z0ZX003F9","6508572",3699]
["APL-Z0ZX007N3","6508578","C","D","CTO BO","N","APL-Z0ZX007N3","6508578",6499]
["APL-Z0ZX003BQ","6508583","C","D","CTO BO","N","APL-Z0ZX003BQ","6508583",8499]
["APL-Z0ZX00838","6508557","C","D","CTO BO","N","APL-Z0ZX00838","6508557",5699]
["APL-Z0ZX008W9","6508543","C","D","CTO BO","N","APL-Z0ZX008W9","6508543",3629]
["APL-Z0ZX008W7","6508540","C","D","CTO BO","N","APL-Z0ZX008W7","6508540",5829]
["APL-Z0ZX007K3","6508550","C","D","CTO BO","N","APL-Z0ZX007K3","6508550",5799]
["APL-Z0ZX0042A","6508556","C","D","CTO BO","N","APL-Z0ZX0042A","6508556",4999]
["APL-Z0ZX002PT","6508532","C","D","CTO BO","N","APL-Z0ZX002PT","6508532",2829]
["APL-Z0ZW002D8","6508518","C","D","CTO BO","N","APL-Z0ZW002D8","6508518",2929]
["APL-Z0ZW002R5","6508514","C","D","CTO BO","N","APL-Z0ZW002R5","6508514",2829]
["APL-Z0ZX003JX","6508522","C","D","CTO BO","N","APL-Z0ZX003JX","6508522",5529]
["APL-Z0ZX003B1","6508528","C","D","CTO BO","N","APL-Z0ZX003B1","6508528",6529]
["APL-Z0ZX007JU","6508507","C","D","CTO BO","N","APL-Z0ZX007JU","6508507",5599]
["APL-Z0ZX002Q5","6508503","C","D","CTO BO","N","APL-Z0ZX002Q5","6508503",3799]
["APL-Z0ZX002EN","6508497","C","D","CTO BO","N",{"$f":"TRIM(A10178)","v":"APL-Z0ZX002EN"},{"$f":"TRIM(B10178)","v":"6508497"},2899]
["APL-Z0ZX003AR","6508488","C","D","CTO BO","N","APL-Z0ZX003AR","6508488",2629]
["APL-Z0ZW002R3","6508510","C","D","CTO BO","N","APL-Z0ZW002R3","6508510",3629]
["APL-Z0ZX007TY","6508471","C","D","CTO BO","N","APL-Z0ZX007TY","6508471",3829]
["APL-Z0ZX0080Q","6508468","C","D","CTO BO","N","APL-Z0ZX0080Q","6508468",5229]
["APL-Z0ZX006A0","6508477","C","D","CTO BO","N","APL-Z0ZX006A0","6508477",4729]
["APL-Z0ZX006HF","6508485","C","D","CTO BO","N","APL-Z0ZX006HF","6508485",3429]
["APL-Z0ZX008P3","6508486","C","D","CTO BO","N","APL-Z0ZX008P3","6508486",3829]
["APL-Z0ZX0085J","6508461","C","D","CTO BO","N","APL-Z0ZX0085J","6508461",3399]
["APL-Z0ZX003VK","6508446","C","D","CTO BO","N","APL-Z0ZX003VK","6508446",3999]
["APL-Z0ZX003BY","6508451","C","D","CTO BO","N","APL-Z0ZX003BY","6508451",5999]
["APL-Z0ZX002LG","6508456","C","D","CTO BO","N","APL-Z0ZX002LG","6508456",4199]
["APL-Z0ZX002PW","6508465","C","D","CTO BO","N","APL-Z0ZX002PW","6508465",3029]
["APL-Z0ZX00327","6508427","C","D","CTO BO","N",{"$f":"TRIM(A10242)","v":"APL-Z0ZX00327"},{"$f":"TRIM(B10242)","v":"6508427"},2599]
["APL-Z0ZX008TQ","6508421","C","D","CTO BO","N","APL-Z0ZX008TQ","6508421",6329]
["APL-Z0ZX003JC","6508433","C","D","CTO BO","N","APL-Z0ZX003JC","6508433",3799]
["APL-Z0ZX008RF","6508439","C","D","CTO BO","N","APL-Z0ZX008RF","6508439",8329]
["APL-Z0ZX0087P","6508415","C","D","CTO BO","N","APL-Z0ZX0087P","6508415",3829]
["APL-Z0ZX002YC","6508409","C","D","CTO BO","N","APL-Z0ZX002YC","6508409",3829]
["APL-Z0ZW001XZ","6508398","C","D","CTO BO","N","APL-Z0ZW001XZ","6508398",3229]
["APL-Z0ZW00149","6508402","C","D","CTO BO","N","APL-Z0ZW00149","6508402",2929]
["APL-Z0ZW0017N","6508403","C","D","CTO BO","N","APL-Z0ZW0017N","6508403",3329]
["APL-Z0ZX0065Y","6508394","C","D","CTO BO","N","APL-Z0ZX0065Y","6508394",5699]
["APL-Z0ZX002MN","6508388","C","D","CTO BO","N","APL-Z0ZX002MN","6508388",3499]
["APL-Z0ZX008UE","6508381","C","D","CTO BO","N","APL-Z0ZX008UE","6508381",2729]
["APL-Z0ZX002GN","6508374","C","D","CTO BO","N","APL-Z0ZX002GN","6508374",3299]
["APL-Z0ZX008UF","6508382","C","D","CTO BO","N",{"$f":"TRIM(A10306)","v":"APL-Z0ZX008UF"},{"$f":"TRIM(B10306)","v":"6508382"},3129]
["APL-Z0ZX002R2","6508366","C","D","CTO BO","N","APL-Z0ZX002R2","6508366",3399]
["APL-Z0ZX0085Q","6508356","C","D","CTO BO","N","APL-Z0ZX0085Q","6508356",3799]
["APL-Z0ZX0085L","6508351","C","D","CTO BO","N","APL-Z0ZX0085L","6508351",3999]
["APL-Z0ZX002G5","6508360","C","D","CTO BO","N","APL-Z0ZX002G5","6508360",4199]
["APL-Z0ZX007KW","6508370","C","D","CTO BO","N","APL-Z0ZX007KW","6508370",5699]
["APL-Z0ZX004DE","6508335","C","D","CTO BO","N","APL-Z0ZX004DE","6508335",2829]
["APL-Z0ZW002RD","6508327","C","D","CTO BO","N","APL-Z0ZW002RD","6508327",3429]
["APL-Z0ZW002RE","6508328","C","D","CTO BO","N","APL-Z0ZW002RE","6508328",3429]
["APL-Z0ZX00873","6508333","C","D","CTO BO","N","APL-Z0ZX00873","6508333",7729]
["APL-Z0ZW001XJ","6508346","C","D","CTO BO","N","APL-Z0ZW001XJ","6508346",3799]
["APL-Z0ZX003MH","6508319","C","D","CTO BO","N","APL-Z0ZX003MH","6508319",3199]
["APL-Z0ZX005DH","6508310","C","D","CTO BO","N","APL-Z0ZX005DH","6508310",3499]
["APL-Z0ZX0082Y","6508305","C","D","CTO BO","N",{"$f":"TRIM(A10370)","v":"APL-Z0ZX0082Y"},{"$f":"TRIM(B10370)","v":"6508305"},4499]
["APL-Z0ZX002GW","6508316","C","D","CTO BO","N","APL-Z0ZX002GW","6508316",3999]
["APL-Z0ZX008P9","6508297","C","D","CTO BO","N","APL-Z0ZX008P9","6508297",3629]
["APL-Z0ZX0063W","6508294","C","D","CTO BO","N","APL-Z0ZX0063W","6508294",3629]
["APL-Z0ZX008TG","6508288","C","D","CTO BO","N","APL-Z0ZX008TG","6508288",4729]
["APL-Z0ZX0082A","6508281","C","D","CTO BO","N","APL-Z0ZX0082A","6508281",7599]
["APL-Z0ZX00826","6508277","C","D","CTO BO","N","APL-Z0ZX00826","6508277",5999]
["APL-Z0ZX008PH","6508265","C","D","CTO BO","N","APL-Z0ZX008PH","6508265",7429]
["APL-Z0ZX008PD","6508264","C","D","CTO BO","N","APL-Z0ZX008PD","6508264",6229]
["APL-Z0ZX00825","6508259","C","D","CTO BO","N","APL-Z0ZX00825","6508259",5199]
["APL-Z0ZX008PJ","6508268","C","D","CTO BO","N","APL-Z0ZX008PJ","6508268",4229]
["APL-Z0ZX0087Y","6508252","C","D","CTO BO","N","APL-Z0ZX0087Y","6508252",6029]
["APL-Z0ZX0087U","6508247","C","D","CTO BO","N","APL-Z0ZX0087U","6508247",6029]
["APL-Z0ZX008W2","6508237","C","D","CTO BO","N","APL-Z0ZX008W2","6508237",4429]
["APL-Z0ZX00672","6508234","C","D","CTO BO","N","APL-Z0ZX00672","6508234",3629]
["APL-Z0ZX003KX","6508253","C","D","CTO BO","N","APL-Z0ZX003KX","6508253",3599]
["APL-Z0ZW0015U","6508227","C","D","CTO BO","N","APL-Z0ZW0015U","6508227",2629]
["APL-Z0ZX004TD","6508218","C","D","CTO BO","N","APL-Z0ZX004TD","6508218",2929]
["APL-Z0ZX008UM","6508215","C","D","CTO BO","N","APL-Z0ZX008UM","6508215",3729]
["APL-Z0ZW002QT","6508224","C","D","CTO BO","N","APL-Z0ZW002QT","6508224",3529]
["APL-Z0ZW002EN","6508199","C","D","CTO BO","N","APL-Z0ZW002EN","6508199",3299]
["APL-Z0ZW001T1","6508198","C","D","CTO BO","N","APL-Z0ZW001T1","6508198",2899]
["APL-Z0ZW001GC","6508192","C","D","CTO BO","N","APL-Z0ZW001GC","6508192",3299]
["APL-Z0ZW001FM","6508196","C","D","CTO BO","N","APL-Z0ZW001FM","6508196",2799]
["APL-Z0ZX008XC","6508206","C","D","CTO BO","N","APL-Z0ZX008XC","6508206",4629]
["APL-Z0ZX005AT","6508209","C","D","CTO BO","N","APL-Z0ZX005AT","6508209",5429]
["APL-Z0ZX005FL","6508174","C","D","CTO BO","N","APL-Z0ZX005FL","6508174",4799]
["APL-Z0ZX0085V","6508169","C","D","CTO BO","N","APL-Z0ZX0085V","6508169",5999]
["APL-Z0ZX008VU","6508177","C","D","CTO BO","N","APL-Z0ZX008VU","6508177",3829]
["APL-Z0ZX008W0","6508183","C","D","CTO BO","N","APL-Z0ZX008W0","6508183",6229]
["APL-Z0ZX002QA","6508147","C","D","CTO BO","N","APL-Z0ZX002QA","6508147",3899]
["APL-Z0ZX002YU","6508153","C","D","CTO BO","N","APL-Z0ZX002YU","6508153",3929]
["APL-Z0ZX005J0","6508158","C","D","CTO BO","N","APL-Z0ZX005J0","6508158",5829]
["APL-Z0ZX008PM","6508163","C","D","CTO BO","N","APL-Z0ZX008PM","6508163",5629]
["APL-Z0ZX008PN","6508164","C","D","CTO BO","N","APL-Z0ZX008PN","6508164",6029]
["APL-Z0ZX00311","6508124","C","D","CTO BO","N","APL-Z0ZX00311","6508124",3699]
["APL-Z0ZX0082B","6508128","C","D","CTO BO","N","APL-Z0ZX0082B","6508128",3799]
["APL-Z0ZX003SR","6508133","C","D","CTO BO","N","APL-Z0ZX003SR","6508133",4799]
["APL-Z0ZX002SR","6508139","C","D","CTO BO","N","APL-Z0ZX002SR","6508139",3099]
["APL-Z0ZX008S9","6508117","C","D","CTO BO","N","APL-Z0ZX008S9","6508117",3129]
["APL-Z0ZX008XP","6508107","C","D","CTO BO","N","APL-Z0ZX008XP","6508107",8629]
["APL-Z0ZX008S6","6508112","C","D","CTO BO","N","APL-Z0ZX008S6","6508112",5829]
["APL-Z0ZW002FD","6508100","C","D","CTO BO","N","APL-Z0ZW002FD","6508100",3599]
["APL-Z0ZW002QD","6508093","C","D","CTO BO","N","APL-Z0ZW002QD","6508093",2599]
["APL-Z0ZX00602","6508085","C","D","CTO BO","N","APL-Z0ZX00602","6508085",3529]
["APL-Z0ZX008VA","6508080","C","D","CTO BO","N","APL-Z0ZX008VA","6508080",4929]
["APL-Z0ZX008VB","6508081","C","D","CTO BO","N","APL-Z0ZX008VB","6508081",6129]
["APL-Z0ZX002ZS","6508092","C","D","CTO BO","N","APL-Z0ZX002ZS","6508092",3729]
["APL-Z0ZW0021H","6508072","C","D","CTO BO","N","APL-Z0ZW0021H","6508072",2929]
["APL-Z0ZX008RV","6508053","C","D","CTO BO","N","APL-Z0ZX008RV","6508053",5429]
["APL-Z0ZX0065G","6508061","C","D","CTO BO","N","APL-Z0ZX0065G","6508061",5229]
["APL-Z0ZW002KL","6508066","C","D","CTO BO","N","APL-Z0ZW002KL","6508066",4229]
["APL-Z0ZX008RU","6508052","C","D","CTO BO","N","APL-Z0ZX008RU","6508052",6029]
["APL-Z0ZX00771","6508047","C","D","CTO BO","N","APL-Z0ZX00771","6508047",4429]
["APL-Z0ZX002PD","6508042","C","D","CTO BO","N","APL-Z0ZX002PD","6508042",4299]
["APL-Z0ZX0081D","6508036","C","D","CTO BO","N","APL-Z0ZX0081D","6508036",4299]
["APL-Z0ZX005FD","6508031","C","D","CTO BO","N","APL-Z0ZX005FD","6508031",4699]
["APL-Z0ZX008U5","6508009","C","D","CTO BO","N","APL-Z0ZX008U5","6508009",6729]
["APL-Z0ZX008UA","6508014","C","D","CTO BO","N","APL-Z0ZX008UA","6508014",6729]
["APL-Z0ZX0083U","6508019","C","D","CTO BO","N","APL-Z0ZX0083U","6508019",6099]
["APL-Z0ZX002XW","6508020","C","D","CTO BO","N","APL-Z0ZX002XW","6508020",4099]
["APL-Z0ZX002QD","6508025","C","D","CTO BO","N","APL-Z0ZX002QD","6508025",5299]
["APL-MLKL3LL/A","6508004","C","D","IPHONE","N","APL-MLKL3LL/A","6508004"]
["APL-MLKW3LL/A","6507998","C","D","IPHONE","N","APL-MLKW3LL/A","6507998"]
["APL-MLL53LL/A","6507993","C","D","IPHONE","N","APL-MLL53LL/A","6507993"]
["APL-MLU43LL/A","6507986","C","D","IPHONE","N","APL-MLU43LL/A","6507986"]
["APL-MLU73LL/A","6507982","C","D","IPHONE","N","APL-MLU73LL/A","6507982"]
["APL-MLUD3LL/A","6507978","C","D","IPHONE","N","APL-MLUD3LL/A","6507978"]
["APL-MLN13LL/A","6507968","C","D","IPHONE","N","APL-MLN13LL/A","6507968"]
["APL-MLN33LL/A","6507963","C","D","IPHONE","N","APL-MLN33LL/A","6507963"]
["APL-MLMQ3LL/A","6507971","C","D","IPHONE","N","APL-MLMQ3LL/A","6507971"]
["APL-MG8U3LL/A","6507934","C","D","IPHONE","N","APL-MG8U3LL/A","6507934",0]
["APL-MGHG3LL/A","6507940","C","D","IPHONE","N","APL-MGHG3LL/A","6507940"]
["APL-MGHH3LL/A","6507941","C","D","IPHONE","N","APL-MGHH3LL/A","6507941"]
["APL-MLHM3LL/A","6507946","C","D","IPHONE","N","APL-MLHM3LL/A","6507946"]
["APL-MLHT3LL/A","6507951","C","D","IPHONE","N","APL-MLHT3LL/A","6507951"]
["APL-MLJ03LL/A","6507957","C","D","IPHONE","N","APL-MLJ03LL/A","6507957"]
["APL-MG8N3LL/A","6507929","C","D","IPHONE","N","APL-MG8N3LL/A","6507929",0]
["APL-MHD23LL/A","6507919","C","D","IPHONE","N","APL-MHD23LL/A","6507919",0]
["APL-MHCV3LL/A","6507913","C","D","IPHONE","N","APL-MHCV3LL/A","6507913",0]
["APL-MG8J3LL/A","6507907","C","D","IPHONE","N","APL-MG8J3LL/A","6507907",0]
["APL-MGHA3LL/A","6507925","C","D","IPHONE","N","APL-MGHA3LL/A","6507925"]
["APL-MHGK3LL/A","6507903","C","D","IPHONE","N","APL-MHGK3LL/A","6507903",0]
["APL-MHGE3LL/A","6507898","C","D","IPHONE","N","APL-MHGE3LL/A","6507898",0]
["APL-Z0ZX008QV","6507886","C","D","CTO BO","N","APL-Z0ZX008QV","6507886",5929]
["APL-Z0ZX0084A","6507881","C","D","CTO BO","N","APL-Z0ZX0084A","6507881",4099]
["APL-Z0ZX00849","6507880","C","D","CTO BO","N","APL-Z0ZX00849","6507880",3499]
["APL-Z0ZW002RV","6507869","C","D","CTO BO","N","APL-Z0ZW002RV","6507869",3929]
["APL-Z0ZW002RZ","6507873","C","D","CTO BO","N","APL-Z0ZW002RZ","6507873",3629]
["APL-Z0ZX005FJ","6507862","C","D","CTO BO","N","APL-Z0ZX005FJ","6507862",3799]
["APL-Z0ZX002S9","6507860","C","D","CTO BO","N","APL-Z0ZX002S9","6507860",2799]
["APL-Z0ZX003JK","6507840","C","D","CTO BO","N","APL-Z0ZX003JK","6507840",2729]
["APL-Z0ZX0086E","6507849","C","D","CTO BO","N","APL-Z0ZX0086E","6507849",5399]
["APL-Z0ZX0042D","6507854","C","D","CTO BO","N","APL-Z0ZX0042D","6507854",4999]
["APL-Z0ZX002ER","6507839","C","D","CTO BO","N","APL-Z0ZX002ER","6507839",2329]
["APL-Z0ZW001ZK","6507822","C","D","CTO BO","N","APL-Z0ZW001ZK","6507822",3099]
["APL-Z0ZX004JK","6507813","C","D","CTO BO","N","APL-Z0ZX004JK","6507813",5699]
["APL-Z0ZX0047K","6507827","C","D","CTO BO","N","APL-Z0ZX0047K","6507827",4599]
["APL-Z0ZX002K0","6507832","C","D","CTO BO","N","APL-Z0ZX002K0","6507832",6199]
["APL-Z0ZX007KL","6507833","C","D","CTO BO","N","APL-Z0ZX007KL","6507833",5599]
["APL-Z0ZX008VG","6507804","C","D","CTO BO","N","APL-Z0ZX008VG","6507804",3029]
["APL-Z0ZX008WU","6507796","C","D","CTO BO","N","APL-Z0ZX008WU","6507796",5429]
["APL-Z0ZX008WN","6507790","C","D","CTO BO","N","APL-Z0ZX008WN","6507790",6229]
["APL-Z0ZX008NQ","6507788","C","D","CTO BO","N","APL-Z0ZX008NQ","6507788",6029]
["APL-Z0ZX008VE","6507802","C","D","CTO BO","N","APL-Z0ZX008VE","6507802",6929]
["APL-Z0ZX006QE","6507810","C","D","CTO BO","N","APL-Z0ZX006QE","6507810",4899]
["APL-Z0ZX002RB","6507773","C","D","CTO BO","N","APL-Z0ZX002RB","6507773",2529]
["APL-Z0ZX008NX","6507762","C","D","CTO BO","N","APL-Z0ZX008NX","6507762",6829]
["APL-Z0ZX002YF","6507769","C","D","CTO BO","N","APL-Z0ZX002YF","6507769",2929]
["APL-Z0ZX002NA","6507778","C","D","CTO BO","N","APL-Z0ZX002NA","6507778",3329]
["APL-Z0ZX002RW","6507784","C","D","CTO BO","N","APL-Z0ZX002RW","6507784",4229]
["APL-Z0ZX00854","6507750","C","D","CTO BO","N","APL-Z0ZX00854","6507750",5599]
["APL-Z0ZX008WJ","6507747","C","D","CTO BO","N","APL-Z0ZX008WJ","6507747",4429]
["APL-Z0ZX008WE","6507742","C","D","CTO BO","N","APL-Z0ZX008WE","6507742",5629]
["APL-Z0ZW002ST","6507736","C","D","CTO BO","N","APL-Z0ZW002ST","6507736",4129]
["APL-Z0ZX00857","6507753","C","D","CTO BO","N","APL-Z0ZX00857","6507753",3799]
["APL-Z0ZX0085C","6507758","C","D","CTO BO","N","APL-Z0ZX0085C","6507758",5999]
["APL-Z0ZW001SA","6507718","C","D","CTO BO","N","APL-Z0ZW001SA","6507718",2529]
["APL-Z0ZX008VM","6507707","C","D","CTO BO","N","APL-Z0ZX008VM","6507707",3629]
["APL-Z0ZW002RR","6507717","C","D","CTO BO","N","APL-Z0ZW002RR","6507717",5429]
["APL-Z0ZX008Q1","6507728","C","D","CTO BO","N","APL-Z0ZX008Q1","6507728",3929]
["APL-Z0ZX008VL","6507706","C","D","CTO BO","N","APL-Z0ZX008VL","6507706",3429]
["APL-Z0ZX008QG","6507703","C","D","CTO BO","N","APL-Z0ZX008QG","6507703",4529]
["APL-Z0ZX008QB","6507695","C","D","CTO BO","N","APL-Z0ZX008QB","6507695",4129]
["APL-Z0ZX002MS","6507690","C","D","CTO BO","N","APL-Z0ZX002MS","6507690",3099]
["APL-Z0ZX005LA","6507681","C","D","CTO BO","N","APL-Z0ZX005LA","6507681",3229]
["APL-Z0ZX003KY","6507680","C","D","CTO BO","N","APL-Z0ZX003KY","6507680",2829]
["APL-Z0ZX007J2","6507704","C","D","CTO BO","N","APL-Z0ZX007J2","6507704",3629]
["APL-Z0ZX00866","6507670","C","D","CTO BO","N","APL-Z0ZX00866","6507670",6399]
["APL-Z0ZX00861","6507665","C","D","CTO BO","N","APL-Z0ZX00861","6507665",6399]
["APL-Z0ZX00875","6507655","C","D","CTO BO","N","APL-Z0ZX00875","6507655",3429]
["APL-Z0ZX007Z8","6507662","C","D","CTO BO","N","APL-Z0ZX007Z8","6507662",3629]
["APL-Z0ZX008RL","6507678","C","D","CTO BO","N","APL-Z0ZX008RL","6507678",4029]
["APL-Z0ZX0066D","6507641","C","D","CTO BO","N","APL-Z0ZX0066D","6507641",3599]
["APL-Z0ZX008X3","6507635","C","D","CTO BO","N","APL-Z0ZX008X3","6507635",8229]
["APL-Z0ZX008WY","6507630","C","D","CTO BO","N","APL-Z0ZX008WY","6507630",6229]
["APL-Z0ZX002GE","6507636","C","D","CTO BO","N","APL-Z0ZX002GE","6507636",3199]
["APL-Z0ZX004XU","6507649","C","D","CTO BO","N","APL-Z0ZX004XU","6507649",6999]
["APL-Z0ZW002Q7","6507620","C","D","CTO BO","N","APL-Z0ZW002Q7","6507620",2999]
["APL-Z0ZW001X0","6507619","C","D","CTO BO","N","APL-Z0ZW001X0","6507619",2599]
["APL-Z0ZX002G2","6507609","C","D","CTO BO","N","APL-Z0ZX002G2","6507609",3799]
["APL-Z0ZX005K3","6507603","C","D","CTO BO","N","APL-Z0ZX005K3","6507603",3899]
["APL-Z0ZX00834","6507598","C","D","CTO BO","N","APL-Z0ZX00834","6507598",5699]
["APL-Z0ZX002G1","6507616","C","D","CTO BO","N","APL-Z0ZX002G1","6507616",3799]
["APL-Z0ZW002R1","6507594","C","D","CTO BO","N","APL-Z0ZW002R1","6507594",3129]
["APL-Z0ZX0084H","6507580","C","D","CTO BO","N","APL-Z0ZX0084H","6507580",6499]
["APL-Z0ZX002YB","6507571","C","D","CTO BO","N","APL-Z0ZX002YB","6507571",3929]
["APL-Z0ZX005V3","6507582","C","D","CTO BO","N","APL-Z0ZX005V3","6507582",3499]
["APL-Z0ZX006KJ","6507587","C","D","CTO BO","N","APL-Z0ZX006KJ","6507587",4299]
["APL-Z0ZW002PZ","6507560","C","D","CTO BO","N","APL-Z0ZW002PZ","6507560",5099]
["APL-Z0ZX002RK","6507544","C","D","CTO BO","N","APL-Z0ZX002RK","6507544",2729]
["APL-Z10B0034W","6507549","C","D","CTO BO","N","APL-Z10B0034W","6507549",0]
["APL-Z0ZW001M8","6507553","C","D","CTO BO","N","APL-Z0ZW001M8","6507553",3299]
["APL-Z0ZW002DK","6507558","C","D","CTO BO","N","APL-Z0ZW002DK","6507558",4499]
["APL-Z0ZW001VB","6507565","C","D","CTO BO","N","APL-Z0ZW001VB","6507565",3999]
["APL-Z145000M7","6507541","C","D","CTO BO","N","APL-Z145000M7","6507541",1329]
["APL-Z145000M4","6507536","C","D","CTO BO","N","APL-Z145000M4","6507536",1299]
["APL-Z0W3006H7","6507519","C","D","CTO BO","N","APL-Z0W3006H7","6507519",0]
["APL-Z0W3006C8","6507525","C","D","CTO BO","N","APL-Z0W3006C8","6507525",0]
["APL-Z0W3006DP","6507530","C","D","CTO BO","N","APL-Z0W3006DP","6507530",0]
["APL-Z0ZX005GH","6507542","C","D","CTO BO","N","APL-Z0ZX005GH","6507542",0]
["APL-Z0W3007KP","6507488","C","D","CTO BO","N","APL-Z0W3007KP","6507488",0]
["APL-Z0W3006DL","6507495","C","D","CTO BO","N","APL-Z0W3006DL","6507495",0]
["APL-Z0W3006CQ","6507500","C","D","CTO BO","N","APL-Z0W3006CQ","6507500",0]
["APL-Z0YZ001CS","6507505","C","D","CTO BO","N","APL-Z0YZ001CS","6507505",0]
["APL-Z0W3006SA","6507511","C","D","CTO BO","N","APL-Z0W3006SA","6507511",0]
["APL-Z0YZ000B2","6507512","C","D","CTO BO","N","APL-Z0YZ000B2","6507512",0]
["APL-Z0ZT000EK","6507471","C","D","CTO BO","N","APL-Z0ZT000EK","6507471",1799]
["APL-Z0ZT00076","6507466","C","D","CTO BO","N","APL-Z0ZT00076","6507466",1199]
["APL-Z0ZT0006Y","6507461","C","D","CTO BO","N","APL-Z0ZT0006Y","6507461",1999]
["APL-Z0YZ000S2","6507479","C","D","CTO BO","N","APL-Z0YZ000S2","6507479",0]
["APL-Z0YZ000ZM","6507484","C","D","CTO BO","N","APL-Z0YZ000ZM","6507484",0]
["APL-Z0ZT0006L","6507457","C","D","CTO BO","N","APL-Z0ZT0006L","6507457",1899]
["APL-Z0W00008N","6507444","C","D","CTO BO","N","APL-Z0W00008N","6507444",0]
["APL-Z0YZ000A0","6507431","C","D","CTO BO","N","APL-Z0YZ000A0","6507431",0]
["APL-Z0YZ000AJ","6507440","C","D","CTO BO","N","APL-Z0YZ000AJ","6507440",0]
["APL-Z0W3000E2","6507445","C","D","CTO BO","N","APL-Z0W3000E2","6507445",0]
["APL-Z0YZ0006M","6507451","C","D","CTO BO","N","APL-Z0YZ0006M","6507451",0]
["APL-Z0VV0004L","6507425","C","D","CTO BO","N","APL-Z0VV0004L","6507425",0]
["APL-Z0W300241","6507405","C","D","CTO BO","N","APL-Z0W300241","6507405",13599]
["APL-Z0W30029K","6507411","C","D","CTO BO","N","APL-Z0W30029K","6507411",8599]
["APL-Z0W300394","6507417","C","D","CTO BO","N","APL-Z0W300394","6507417",0]
["APL-Z0W3000VT","6507422","C","D","CTO BO","N","APL-Z0W3000VT","6507422",0]
["APL-Z0W30043K","6507429","C","D","CTO BO","N","APL-Z0W30043K","6507429",0]
["APL-Z0W30054P","6507377","C","D","CTO BO","N","APL-Z0W30054P","6507377",12899]
["APL-Z0W300549","6507382","C","D","CTO BO","N","APL-Z0W300549","6507382",16599]
["APL-Z0W30054C","6507385","C","D","CTO BO","N","APL-Z0W30054C","6507385",11599]
["APL-Z0W300507","6507392","C","D","CTO BO","N","APL-Z0W300507","6507392",14599]
["APL-Z0W300454","6507398","C","D","CTO BO","N","APL-Z0W300454","6507398",15599]
["APL-Z0W30054X","6507347","C","D","CTO BO","N","APL-Z0W30054X","6507347",19599]
["APL-Z0W300551","6507352","C","D","CTO BO","N","APL-Z0W300551","6507352",41599]
["APL-Z0W300552","6507353","C","D","CTO BO","N","APL-Z0W300552","6507353",17899]
["APL-Z0W30055S","6507358","C","D","CTO BO","N","APL-Z0W30055S","6507358",31599]
["APL-Z0W30050K","6507363","C","D","CTO BO","N","APL-Z0W30050K","6507363",28599]
["APL-Z0W30050Q","6507369","C","D","CTO BO","N","APL-Z0W30050Q","6507369",25599]
["APL-Z0W3004B3","6507317","C","D","CTO BO","N","APL-Z0W3004B3","6507317",23399]
["APL-Z0W3003Y7","6507323","C","D","CTO BO","N","APL-Z0W3003Y7","6507323",20999]
["APL-Z0W3000BG","6507329","C","D","CTO BO","N","APL-Z0W3000BG","6507329",14699]
["APL-Z0W3004BN","6507332","C","D","CTO BO","N","APL-Z0W3004BN","6507332",15399]
["APL-Z0W30015L","6507338","C","D","CTO BO","N","APL-Z0W30015L","6507338",0]
["APL-Z0W30054T","6507343","C","D","CTO BO","N","APL-Z0W30054T","6507343",22599]
["APL-Z0W3004AH","6507293","C","D","CTO BO","N","APL-Z0W3004AH","6507293",12399]
["APL-Z0W3004AN","6507298","C","D","CTO BO","N","APL-Z0W3004AN","6507298",18799]
["APL-Z0W30009A","6507303","C","D","CTO BO","N","APL-Z0W30009A","6507303",40399]
["APL-Z0W30048F","6507304","C","D","CTO BO","N","APL-Z0W30048F","6507304",15699]
["APL-Z0W3004C8","6507309","C","D","CTO BO","N","APL-Z0W3004C8","6507309",17399]
["APL-Z0W3004B0","6507314","C","D","CTO BO","N","APL-Z0W3004B0","6507314",19399]
["APL-Z0W3003XS","6507263","C","D","CTO BO","N","APL-Z0W3003XS","6507263",10999]
["APL-Z0W3000N7","6507269","C","D","CTO BO","N","APL-Z0W3000N7","6507269",14999]
["APL-Z0W3003XH","6507273","C","D","CTO BO","N","APL-Z0W3003XH","6507273",13999]
["APL-Z0W3004BF","6507278","C","D","CTO BO","N","APL-Z0W3004BF","6507278",20399]
["APL-Z0W3004BL","6507283","C","D","CTO BO","N","APL-Z0W3004BL","6507283",25399]
["APL-Z0W3000K6","6507289","C","D","CTO BO","N","APL-Z0W3000K6","6507289",12399]
["APL-Z0W300159","6507236","C","D","CTO BO","N","APL-Z0W300159","6507236",9799]
["APL-Z0W3004CJ","6507241","C","D","CTO BO","N","APL-Z0W3004CJ","6507241",30399]
["APL-Z0W3003XW","6507247","C","D","CTO BO","N","APL-Z0W3003XW","6507247",23999]
["APL-Z0W3003Y1","6507252","C","D","CTO BO","N","APL-Z0W3003Y1","6507252",23999]
["APL-Z0W3003Y2","6507253","C","D","CTO BO","N","APL-Z0W3003Y2","6507253",27999]
["APL-Z0W3003XM","6507258","C","D","CTO BO","N","APL-Z0W3003XM","6507258",11999]
["APL-Z0W3004C3","6507210","C","D","CTO BO","N","APL-Z0W3004C3","6507210",39399]
["APL-Z0W3004CC","6507214","C","D","CTO BO","N","APL-Z0W3004CC","6507214",21799]
["APL-Z0W3002TP","6507219","C","D","CTO BO","N","APL-Z0W3002TP","6507219",29399]
["APL-Z0W3003YD","6507225","C","D","CTO BO","N","APL-Z0W3003YD","6507225",11399]
["APL-Z0W3003YJ","6507230","C","D","CTO BO","N","APL-Z0W3003YJ","6507230",15799]
["APL-Z0W30001C","6507185","C","D","CTO BO","N","APL-Z0W30001C","6507185",15799]
["APL-Z0W3004AS","6507191","C","D","CTO BO","N","APL-Z0W3004AS","6507191",23399]
["APL-Z0W3000LR","6507196","C","D","CTO BO","N","APL-Z0W3000LR","6507196",10799]
["APL-Z0W3004BU","6507201","C","D","CTO BO","N","APL-Z0W3004BU","6507201",20399]
["APL-Z0W3000CG","6507155","C","D","CTO BO","N","APL-Z0W3000CG","6507155",13799]
["APL-Z0W30008B","6507160","C","D","CTO BO","N","APL-Z0W30008B","6507160",7399]
["APL-Z0W3001DC","6507161","C","D","CTO BO","N","APL-Z0W3001DC","6507161",14399]
["APL-Z0W3002RY","6507165","C","D","CTO BO","N","APL-Z0W3002RY","6507165",26399]
["APL-Z0W3002S3","6507170","C","D","CTO BO","N","APL-Z0W3002S3","6507170",38399]
["APL-Z0W3002RQ","6507176","C","D","CTO BO","N","APL-Z0W3002RQ","6507176",22799]
["APL-Z0W3000CM","6507181","C","D","CTO BO","N","APL-Z0W3000CM","6507181",13399]
["APL-Z0W30008K","6507129","C","D","CTO BO","N","APL-Z0W30008K","6507129",7699]
["APL-Z0W3000S1","6507134","C","D","CTO BO","N","APL-Z0W3000S1","6507134",10999]
["APL-Z0W3002QX","6507139","C","D","CTO BO","N","APL-Z0W3002QX","6507139",12999]
["APL-Z0W300044","6507145","C","D","CTO BO","N","APL-Z0W300044","6507145",19999]
["APL-Z0W3002QR","6507150","C","D","CTO BO","N","APL-Z0W3002QR","6507150",16999]
["APL-Z0W3002S5","6507098","C","D","CTO BO","N","APL-Z0W3002S5","6507098",23399]
["APL-Z0W3000D6","6507104","C","D","CTO BO","N","APL-Z0W3000D6","6507104",11799]
["APL-Z0W3000H8","6507109","C","D","CTO BO","N","APL-Z0W3000H8","6507109",14399]
["APL-Z0W3000MR","6507110","C","D","CTO BO","N","APL-Z0W3000MR","6507110",14799]
["APL-Z0W3002RJ","6507115","C","D","CTO BO","N","APL-Z0W3002RJ","6507115",21799]
["APL-Z0W3000GW","6507120","C","D","CTO BO","N","APL-Z0W3000GW","6507120",9399]
["APL-Z0W30008E","6507070","C","D","CTO BO","N","APL-Z0W30008E","6507070",7799]
["APL-Z0W3002R5","6507075","C","D","CTO BO","N","APL-Z0W3002R5","6507075",12399]
["APL-Z0W3000P8","6507080","C","D","CTO BO","N",{"$f":"TRIM(A11586)","v":"APL-Z0W3000P8"},{"$f":"TRIM(B11586)","v":"6507080"},7399]
["APL-Z0W3000DS","6507086","C","D","CTO BO","N","APL-Z0W3000DS","6507086",9399]
["APL-Z0W3002DH","6507091","C","D","CTO BO","N","APL-Z0W3002DH","6507091",39399]
["APL-Z0W30015Q","6507095","C","D","CTO BO","N","APL-Z0W30015Q","6507095",19399]
["APL-Z0W30007W","6507046","C","D","CTO BO","N","APL-Z0W30007W","6507046",6299]
["APL-Z0W3002R2","6507051","C","D","CTO BO","N","APL-Z0W3002R2","6507051",13299]
["APL-Z0W30008L","6507057","C","D","CTO BO","N","APL-Z0W30008L","6507057",8399]
["APL-Z0W3000RU","6507062","C","D","CTO BO","N","APL-Z0W3000RU","6507062",11399]
["APL-Z0W3002RC","6507063","C","D","CTO BO","N","APL-Z0W3002RC","6507063",13399]
["APL-Z0W3000PF","6507068","C","D","CTO BO","N","APL-Z0W3000PF","6507068",12799]
["APL-Z0VU0002E","6507036","C","D","CTO BO","N","APL-Z0VU0002E","6507036",0]
["APL-Z0VZ00064","6507030","C","D","CTO BO","N","APL-Z0VZ00064","6507030",0]
["APL-Z0WR000K1","6507024","C","D","CTO BO","N","APL-Z0WR000K1","6507024",0]
["APL-Z0VZ0000N","6507018","C","D","CTO BO","N",{"$f":"TRIM(A11650)","v":"APL-Z0VZ0000N"},{"$f":"TRIM(B11650)","v":"6507018"},0]
["APL-Z0VW000DV","6507022","C","D","CTO BO","N","APL-Z0VW000DV","6507022",0]
["APL-Z0VZ0004L","6507011","C","D","CTO BO","N","APL-Z0VZ0004L","6507011",0]
["APL-Z0TQ004Q6","6507005","C","D","CTO BO","N","APL-Z0TQ004Q6","6507005",2699]
["APL-Z0TQ003XK","6507000","C","D","CTO BO","N","APL-Z0TQ003XK","6507000",2299]
["APL-Z0TQ0005E","6506995","C","D","CTO BO","N","APL-Z0TQ0005E","6506995",2799]
["APL-Z0TQ0004V","6506989","C","D","CTO BO","N","APL-Z0TQ0004V","6506989",2029]
["APL-Z0TQ000YC","6506984","C","D","CTO BO","N","APL-Z0TQ000YC","6506984",3899]
["APL-Z0TQ0043B","6506983","C","D","CTO BO","N","APL-Z0TQ0043B","6506983",3599]
["APL-Z0TQ000L8","6506978","C","D","CTO BO","N","APL-Z0TQ000L8","6506978",2329]
["APL-Z0TQ000Y1","6506973","C","D","CTO BO","N","APL-Z0TQ000Y1","6506973",3429]
["APL-Z0TQ00055","6506967","C","D","CTO BO","N","APL-Z0TQ00055","6506967",2429]
["APL-Z0TQ00868","6506960","C","D","CTO BO","N","APL-Z0TQ00868","6506960",3729]
["APL-Z0TQ001SC","6506958","C","D","CTO BO","N","APL-Z0TQ001SC","6506958",3729]
["APL-Z0TQ0009V","6506952","C","D","CTO BO","N","APL-Z0TQ0009V","6506952",2829]
["APL-Z0TQ000CD","6506947","C","D","CTO BO","N","APL-Z0TQ000CD","6506947",3129]
["APL-Z0TQ0058T","6506941","C","D","CTO BO","N","APL-Z0TQ0058T","6506941",4129]
["APL-Z0TQ003XD","6506936","C","D","CTO BO","N","APL-Z0TQ003XD","6506936",4429]
["APL-Z0TQ003XH","6506931","C","D","CTO BO","N","APL-Z0TQ003XH","6506931",3629]
["APL-Z0TR0077P","6506925","C","D","CTO BO","N","APL-Z0TR0077P","6506925",2499]
["APL-Z0TR0089L","6506920","C","D","CTO BO","N","APL-Z0TR0089L","6506920",5099]
["APL-Z0TR00774","6506915","C","D","CTO BO","N","APL-Z0TR00774","6506915",3499]
["APL-Z0TR0076D","6506914","C","D","CTO BO","N","APL-Z0TR0076D","6506914",3099]
["APL-Z0TR00007","6506907","C","D","CTO BO","N","APL-Z0TR00007","6506907",3999]
["APL-Z0TR00047","6506904","C","D","CTO BO","N","APL-Z0TR00047","6506904",3199]
["APL-Z0TR0004V","6506899","C","D","CTO BO","N","APL-Z0TR0004V","6506899",2429]
["APL-Z0TR00006","6506894","C","D","CTO BO","N","APL-Z0TR00006","6506894",2929]
["APL-Z0TR006US","6506888","C","D","CTO BO","N","APL-Z0TR006US","6506888",3129]
["APL-Z0TR006TT","6506883","C","D","CTO BO","N","APL-Z0TR006TT","6506883",2729]
["APL-Z0TR009QQ","6506877","C","D","CTO BO","N","APL-Z0TR009QQ","6506877",5129]
["APL-Z0TR006VB","6506872","C","D","CTO BO","N","APL-Z0TR006VB","6506872",3529]
["APL-Z0TR00024","6506867","C","D","CTO BO","N","APL-Z0TR00024","6506867",4029]
["APL-Z0TQ0004G","6506861","C","D","CTO BO","N","APL-Z0TQ0004G","6506861",2399]
["APL-Z0TQ0004A","6506856","C","D","CTO BO","N","APL-Z0TQ0004A","6506856",2499]
["APL-Z0TQ003X5","6506855","C","D","CTO BO","N","APL-Z0TQ003X5","6506855",2699]
["APL-Z0TQ003X4","6506854","C","D","CTO BO","N","APL-Z0TQ003X4","6506854",2299]
["APL-Z0TK0003J","6506853","C","D","CTO BO","N","APL-Z0TK0003J","6506853",1399]
["APL-Z0TK0001H","6506852","C","D","CTO BO","N","APL-Z0TK0001H","6506852",1799]
["APL-Z0TK000C4","6506851","C","D","CTO BO","N","APL-Z0TK000C4","6506851",1599]
["APL-Z0TK002A9","6506850","C","D","CTO BO","N","APL-Z0TK002A9","6506850",2199]
["APL-Z0TK002DX","6506849","C","D","CTO BO","N","APL-Z0TK002DX","6506849",1999]
["APL-Z0TK0005J","6506848","C","D","CTO BO","N","APL-Z0TK0005J","6506848",1899]
["APL-Z0TK002LM","6506847","C","D","CTO BO","N","APL-Z0TK002LM","6506847",1999]
["APL-Z0TK002FH","6506846","C","D","CTO BO","N","APL-Z0TK002FH","6506846",1799]
["APL-Z0TK0006N","6506845","C","D","CTO BO","N","APL-Z0TK0006N","6506845",1699]
["APL-Z0TK0029Z","6506844","C","D","CTO BO","N","APL-Z0TK0029Z","6506844",1499]
["APL-Z0TK002XR","6506843","C","D","CTO BO","N","APL-Z0TK002XR","6506843",2029]
["APL-Z0TK002Z5","6506842","C","D","CTO BO","N","APL-Z0TK002Z5","6506842",1829]
["APL-Z0TK0008K","6506841","C","D","CTO BO","N","APL-Z0TK0008K","6506841",1729]
["APL-Z0TK002A5","6506840","C","D","CTO BO","N","APL-Z0TK002A5","6506840",1729]
["APL-Z0TK0029V","6506839","C","D","CTO BO","N","APL-Z0TK0029V","6506839",1529]
["APL-Z0TK0003K","6506838","C","D","CTO BO","N","APL-Z0TK0003K","6506838",1429]
["APL-Z0TK000GM","6506837","C","D","CTO BO","N","APL-Z0TK000GM","6506837",1829]
["APL-Z0TK0004L","6506836","C","D","CTO BO","N","APL-Z0TK0004L","6506836",1529]
["APL-Z0TK00055","6506835","C","D","CTO BO","N","APL-Z0TK00055","6506835",1629]
["APL-Z0TK0005M","6506834","C","D","CTO BO","N","APL-Z0TK0005M","6506834",1329]
["APL-Z0TL0001R","6506833","C","D","CTO BO","N","APL-Z0TL0001R","6506833",1899]
["APL-Z0TL0007L","6506832","C","D","CTO BO","N","APL-Z0TL0007L","6506832",2099]
["APL-Z0TL0003E","6506831","C","D","CTO BO","N","APL-Z0TL0003E","6506831",1699]
["APL-Z0TL00020","6506830","C","D","CTO BO","N","APL-Z0TL00020","6506830",1699]
["APL-Z0TK002A4","6506829","C","D","CTO BO","N",{"$f":"TRIM(A11842)","v":"APL-Z0TK002A4"},{"$f":"TRIM(B11842)","v":"6506829"},2229]
["APL-Z0TK002A1","6506828","C","D","CTO BO","N","APL-Z0TK002A1","6506828",2029]
["APL-Z0TK00064","6506827","C","D","CTO BO","N","APL-Z0TK00064","6506827",1929]
["APL-Z0TK0029X","6506826","C","D","CTO BO","N","APL-Z0TK0029X","6506826",1729]
["APL-Z0TK0005L","6506825","C","D","CTO BO","N","APL-Z0TK0005L","6506825",1629]
["APL-Z0TL003PZ","6506824","C","D","CTO BO","N","APL-Z0TL003PZ","6506824",2399]
["APL-Z0TL003G9","6506823","C","D","CTO BO","N","APL-Z0TL003G9","6506823",1999]
["APL-Z0TL003JJ","6506822","C","D","CTO BO","N","APL-Z0TL003JJ","6506822",1799]
["APL-Z0TL003TV","6506821","C","D","CTO BO","N","APL-Z0TL003TV","6506821",2399]
["APL-Z0TL003V7","6506820","C","D","CTO BO","N","APL-Z0TL003V7","6506820",1999]
["APL-Z0TL003RJ","6506819","C","D","CTO BO","N","APL-Z0TL003RJ","6506819",1799]
["APL-Z0TL003VF","6506818","C","D","CTO BO","N","APL-Z0TL003VF","6506818",2199]
["APL-Z0TL003P8","6506817","C","D","CTO BO","N","APL-Z0TL003P8","6506817",1799]
["APL-Z0TL003JF","6506816","C","D","CTO BO","N","APL-Z0TL003JF","6506816",1599]
["APL-Z0TL0007P","6506815","C","D","CTO BO","N","APL-Z0TL0007P","6506815",2299]
["APL-Z0TL0000B","6506814","C","D","CTO BO","N","APL-Z0TL0000B","6506814",1529]
["APL-Z0TL003HL","6506813","C","D","CTO BO","N","APL-Z0TL003HL","6506813",2999]
["APL-Z0TL003PF","6506812","C","D","CTO BO","N","APL-Z0TL003PF","6506812",2599]
["APL-Z0TL003SW","6506811","C","D","CTO BO","N","APL-Z0TL003SW","6506811",2399]
["APL-Z0TL003RC","6506810","C","D","CTO BO","N","APL-Z0TL003RC","6506810",2599]
["APL-Z0TL003JN","6506809","C","D","CTO BO","N","APL-Z0TL003JN","6506809",2199]
["APL-Z0TL003J3","6506808","C","D","CTO BO","N","APL-Z0TL003J3","6506808",1999]
["APL-Z0TL003Q1","6506807","C","D","CTO BO","N","APL-Z0TL003Q1","6506807",2399]
["APL-Z0TL003W7","6506806","C","D","CTO BO","N","APL-Z0TL003W7","6506806",2199]
["APL-Z0TL0047R","6506805","C","D","CTO BO","N","APL-Z0TL0047R","6506805",2029]
["APL-Z0TL003PL","6506804","C","D","CTO BO","N","APL-Z0TL003PL","6506804",1829]
["APL-Z0TL003J9","6506803","C","D","CTO BO","N","APL-Z0TL003J9","6506803",2229]
["APL-Z0TL003J5","6506802","C","D","CTO BO","N","APL-Z0TL003J5","6506802",1829]
["APL-Z0TL003HR","6506801","C","D","CTO BO","N","APL-Z0TL003HR","6506801",1629]
["APL-Z0TL0009W","6506800","C","D","CTO BO","N","APL-Z0TL0009W","6506800",2329]
["APL-Z0TL0007R","6506799","C","D","CTO BO","N","APL-Z0TL0007R","6506799",1929]
["APL-Z0TL000HT","6506798","C","D","CTO BO","N","APL-Z0TL000HT","6506798",2129]
["APL-Z0TL0006N","6506797","C","D","CTO BO","N","APL-Z0TL0006N","6506797",1729]
["APL-Z0TL0008F","6506796","C","D","CTO BO","N","APL-Z0TL0008F","6506796",1729]
["APL-Z0TL003HP","6506795","C","D","CTO BO","N","APL-Z0TL003HP","6506795",2629]
["APL-Z0TL003HQ","6506794","C","D","CTO BO","N","APL-Z0TL003HQ","6506794",2229]
["APL-Z0TL003HW","6506793","C","D","CTO BO","N","APL-Z0TL003HW","6506793",2029]
["APL-Z0TL003JA","6506792","C","D","CTO BO","N","APL-Z0TL003JA","6506792",2829]
["APL-Z0TL0048C","6506791","C","D","CTO BO","N","APL-Z0TL0048C","6506791",2429]
["APL-Z0TL0040J","6506790","C","D","CTO BO","N","APL-Z0TL0040J","6506790",2229]
["APL-Z0TL003HN","6506789","C","D","CTO BO","N","APL-Z0TL003HN","6506789",2429]
["APL-Z0TL003J1","6506788","C","D","CTO BO","N","APL-Z0TL003J1","6506788",2029]
["APL-Z0TL003J0","6506787","C","D","CTO BO","N","APL-Z0TL003J0","6506787",1829]
["APL-Z0TL003Z2","6506786","C","D","CTO BO","N","APL-Z0TL003Z2","6506786",2429]
["APL-Z0TP002SD","6506785","C","D","CTO BO","N","APL-Z0TP002SD","6506785",2099]
["APL-Z0TP0001Q","6506784","C","D","CTO BO","N","APL-Z0TP0001Q","6506784",2199]
["APL-Z0TP002QE","6506783","C","D","CTO BO","N","APL-Z0TP002QE","6506783",2499]
["APL-Z0TP002QC","6506782","C","D","CTO BO","N","APL-Z0TP002QC","6506782",1899]
["APL-Z0TP0006Q","6506781","C","D","CTO BO","N","APL-Z0TP0006Q","6506781",1999]
["APL-Z0TP0001X","6506780","C","D","CTO BO","N","APL-Z0TP0001X","6506780",2399]
["APL-Z0TL003J7","6506779","C","D","CTO BO","N","APL-Z0TL003J7","6506779",3029]
["APL-Z0TL003PJ","6506778","C","D","CTO BO","N","APL-Z0TL003PJ","6506778",2629]
["APL-Z0TL003J2","6506777","C","D","CTO BO","N","APL-Z0TL003J2","6506777",2429]
["APL-Z0TP002RR","6506776","C","D","CTO BO","N","APL-Z0TP002RR","6506776",1929]
["APL-Z0TP0006B","6506775","C","D","CTO BO","N","APL-Z0TP0006B","6506775",2029]
["APL-Z0TP00087","6506774","C","D","CTO BO","N","APL-Z0TP00087","6506774",2429]
["APL-Z0TP0005T","6506773","C","D","CTO BO","N","APL-Z0TP0005T","6506773",2029]
["APL-Z0TP0005V","6506772","C","D","CTO BO","N","APL-Z0TP0005V","6506772",1829]
["APL-Z0TP002Y1","6506771","C","D","CTO BO","N","APL-Z0TP002Y1","6506771",3099]
["APL-Z0TP002WF","6506770","C","D","CTO BO","N","APL-Z0TP002WF","6506770",2699]
["APL-Z0TP0031P","6506769","C","D","CTO BO","N","APL-Z0TP0031P","6506769",2499]
["APL-Z0TP0005S","6506768","C","D","CTO BO","N","APL-Z0TP0005S","6506768",2599]
["APL-Z0TP002RZ","6506767","C","D","CTO BO","N","APL-Z0TP002RZ","6506767",2699]
["APL-Z0TP002W9","6506766","C","D","CTO BO","N","APL-Z0TP002W9","6506766",3129]
["APL-Z0TP002WA","6506765","C","D","CTO BO","N",{"$f":"TRIM(A11906)","v":"APL-Z0TP002WA"},{"$f":"TRIM(B11906)","v":"6506765"},2729]
["APL-Z0TP002Y0","6506764","C","D","CTO BO","N","APL-Z0TP002Y0","6506764",2529]
["APL-Z0TP000G3","6506763","C","D","CTO BO","N","APL-Z0TP000G3","6506763",2629]
["APL-Z0TP002RQ","6506762","C","D","CTO BO","N","APL-Z0TP002RQ","6506762",2729]
["APL-Z0TP002RU","6506761","C","D","CTO BO","N","APL-Z0TP002RU","6506761",2329]
["APL-Z0TP002RS","6506760","C","D","CTO BO","N","APL-Z0TP002RS","6506760",2129]
["APL-Z0TP00072","6506759","C","D","CTO BO","N","APL-Z0TP00072","6506759",2229]
["APL-Z0TP002RW","6506758","C","D","CTO BO","N","APL-Z0TP002RW","6506758",2529]
["APL-Z0TP002RP","6506757","C","D","CTO BO","N","APL-Z0TP002RP","6506757",2129]
["APL-Z0TQ003X3","6506756","C","D","CTO BO","N","APL-Z0TQ003X3","6506756",2099]
["APL-Z0TQ0003V","6506755","C","D","CTO BO","N","APL-Z0TQ0003V","6506755",2299]
["APL-Z0TQ0003K","6506754","C","D","CTO BO","N","APL-Z0TQ0003K","6506754",2199]
["APL-Z0TQ0008L","6506753","C","D","CTO BO","N","APL-Z0TQ0008L","6506753",3699]
["APL-Z0TQ0003E","6506752","C","D","CTO BO","N","APL-Z0TQ0003E","6506752",2899]
["APL-Z0TQ0004E","6506751","C","D","CTO BO","N","APL-Z0TQ0004E","6506751",2499]
["APL-Z0TQ0013V","6506750","C","D","CTO BO","N","APL-Z0TQ0013V","6506750",3399]
["APL-Z0TQ000AC","6506749","C","D","CTO BO","N","APL-Z0TQ000AC","6506749",2599]
["APL-Z0TQ0003Y","6506748","C","D","CTO BO","N","APL-Z0TQ0003Y","6506748",2199]
["APL-Z0TQ0001Y","6506747","C","D","CTO BO","N","APL-Z0TQ0001Y","6506747",2299]
["APL-Z0SW3LL/A","6506746","C","D","CTO BO","N","APL-Z0SW3LL/A","6506746",0]
["APL-Z0SY1LL/A","6506745","C","D","CTO BO","N","APL-Z0SY1LL/A","6506745",0]
["APL-Z0MT002B6","6506743","C","D","CTO BO","N","APL-Z0MT002B6","6506743",0]
["APL-Z0MT002AE","6506742","C","D","CTO BO","N","APL-Z0MT002AE","6506742",0]
["APL-Z0MT0029E","6506741","C","D","CTO BO","N","APL-Z0MT0029E","6506741",0]
["APL-Z0MT0003D","6506740","C","D","CTO BO","N","APL-Z0MT0003D","6506740",0]
["APL-Z0SH00050","6506739","C","D","CTO BO","N","APL-Z0SH00050","6506739",0]
["APL-Z0SH0004U","6506738","C","D","CTO BO","N","APL-Z0SH0004U","6506738",0]
["APL-Z0SG0006J","6506737","C","D","CTO BO","N","APL-Z0SG0006J","6506737",0]
["APL-Z0TW00069","6506736","C","D","CTO BO","N","APL-Z0TW00069","6506736",0]
["APL-Z0TW0005V","6506735","C","D","CTO BO","N","APL-Z0TW0005V","6506735",0]
["APL-Z0TW00050","6506734","C","D","CTO BO","N","APL-Z0TW00050","6506734",0]
["APL-Z0TV0005L","6506733","C","D","CTO BO","N","APL-Z0TV0005L","6506733",0]
["APL-Z0PK0005G","6506744","C","D","CTO BO","N","APL-Z0PK0005G","6506744",0]
["APL-Z0MT00037","6506732","C","D","CTO BO","N","APL-Z0MT00037","6506732",0]
["APL-Z0MT00008","6506731","C","D","CTO BO","N","APL-Z0MT00008","6506731",0]
["APL-Z0XZ5LL/A","6506730","C","D","CTO BO","N","APL-Z0XZ5LL/A","6506730",0]
["APL-Z15G001X2","6506728","C","D","STOCKED CTO","N","APL-Z15G001X2","6506728",2599]
["APL-Z14W00105","6506726","C","D","CTO BO","N","APL-Z14W00105","6506726",3099]
["APL-Z15G001WQ","6506725","C","D","CTO BO","N","APL-Z15G001WQ","6506725",3099]
["APL-Z15H00107","6506721","C","D","CTO BO","N","APL-Z15H00107","6506721",3299]
["APL-Z14W00106","6506720","C","D","CTO BO","N","APL-Z14W00106","6506720",3299]
["APL-Z15G001WD","6506719","C","D","CTO BO","N","APL-Z15G001WD","6506719",2299]
["APL-Z15G001WE","6506715","C","D","CTO BO","N","APL-Z15G001WE","6506715",2899]
["APL-Z15H00109","6506713","C","D","CTO BO","N","APL-Z15H00109","6506713",3699]
["APL-Z15J00227","6506711","C","D","CTO BO","N","APL-Z15J00227","6506711",2219]
["APL-Z15G001WC","6506708","C","D","CTO BO","N","APL-Z15G001WC","6506708",2199]
["APL-Z130000N7","6506706","C","D","CTO BO","N","APL-Z130000N7","6506706",1499]
["APL-Z14V0016F","6506707","C","D","CTO BO","N","APL-Z14V0016F","6506707",3099]
["APL-Z14X000HR","6506709","C","D","CTO BO","N","APL-Z14X000HR","6506709",4899]
["APL-Z14X000HQ","6506710","C","D","STOCKED CTO","N","APL-Z14X000HQ","6506710",4299]
["APL-Z15J0021W","6506712","C","D","STOCKED CTO","N","APL-Z15J0021W","6506712",2419]
["APL-Z14V0016E","6506714","C","D","CTO BO","N","APL-Z14V0016E","6506714",2899]
["APL-Z15G0022J","6506716","C","D","CTO BO","N","APL-Z15G0022J","6506716",2219]
["APL-Z14Z0010B","6506717","C","D","STOCKED CTO","N","APL-Z14Z0010B","6506717",3699]
["APL-Z14X000GD","6506718","C","D","CTO BO","N","APL-Z14X000GD","6506718",3899]
["APL-Z15G001WY","6506722","C","D","CTO BO","N","APL-Z15G001WY","6506722",2599]
["APL-Z15G001VR","6506723","C","D","STOCKED CTO","N","APL-Z15G001VR","6506723",2199]
["APL-Z15G001X8","6506724","C","D","STOCKED CTO","N","APL-Z15G001X8","6506724",2899]
["APL-Z15G001WA","6506727","C","D","CTO BO","N","APL-Z15G001WA","6506727",2399]
["APL-Z14W0010B","6506729","C","D","STOCKED CTO","N","APL-Z14W0010B","6506729",3699]
["APL-Z132000N7","6506705","C","D","CTO BO","N","APL-Z132000N7","6506705",1499]
["APL-Z125000DM","6506702","C","D","CTO BO","N","APL-Z125000DM","6506702",1649]
["APL-Z125000DL","6506701","C","D","CTO BO","N","APL-Z125000DL","6506701",1449]
["APL-Z11D000GJ","6506693","C","D","CTO BO","N","APL-Z11D000GJ","6506693",1699]
["APL-Z11B000EP","6506691","C","D","CTO BO","N",{"$f":"TRIM(A11970)","v":"APL-Z11B000EP"},{"$f":"TRIM(B11970)","v":"6506691"},2299]
["APL-Z11B000EN","6506690","C","D","CTO BO","N","APL-Z11B000EN","6506690",1899]
["APL-Z11B000E3","6506688","C","D","CTO BO","N","APL-Z11B000E3","6506688",1499]
["APL-Z0ZW00104","6506687","C","D","CTO BO","N","APL-Z0ZW00104","6506687",2199]
["APL-Z0ZX002EM","6506685","C","D","CTO BO","N","APL-Z0ZX002EM","6506685",2499]
["APL-Z0ZX002FL","6506683","C","D","CTO BO","N","APL-Z0ZX002FL","6506683",2499]
["APL-Z0ZT0002Z","6506682","C","D","STOCKED CTO","N","APL-Z0ZT0002Z","6506682",1299]
["APL-Z0ZW0014N","6506684","C","D","CTO BO","N","APL-Z0ZW0014N","6506684",3799]
["APL-Z0ZW0010G","6506686","C","D","CTO BO","N","APL-Z0ZW0010G","6506686",2499]
["APL-Z11B000EM","6506689","C","D","CTO BO","N","APL-Z11B000EM","6506689",1699]
["APL-Z0ZT0004H","6506692","C","D","STOCKED CTO","N","APL-Z0ZT0004H","6506692",1499]
["APL-Z12N000G2","6506694","C","D","STOCKED CTO","N","APL-Z12N000G2","6506694",1099]
["APL-Z12N000G5","6506695","C","D","CTO BO","N","APL-Z12N000G5","6506695",1299]
["APL-Z12N000G8","6506696","C","D","STOCKED CTO","N","APL-Z12N000G8","6506696",1699]
["APL-Z124000FK","6506697","C","D","STOCKED CTO","N","APL-Z124000FK","6506697",1199]
["APL-Z124000F2","6506698","C","D","CTO BO","N","APL-Z124000F2","6506698",1199]
["APL-Z124000FL","6506699","C","D","STOCKED CTO","N","APL-Z124000FL","6506699",1399]
["APL-Z124000FM","6506700","C","D","CTO BO","N","APL-Z124000FM","6506700",1599]
["APL-Z13K000UU","6506703","C","D","CTO BO","N","APL-Z13K000UU","6506703",1379]
["APL-Z13K000US","6506704","C","D","CTO BO","N","APL-Z13K000US","6506704",1899]
["APL-MUQQ2G/A","6506681","C","D","ACC NBU","N","APL-MUQQ2G/A","6506681",1200]
["APL-MJ103AM/A","6506679","C","D","ACC NBU","N","APL-MJ103AM/A","6506679",6000]
["APL-MW732AM/A","6506675","C","D","ACC NBU","N","APL-MW732AM/A","6506675",0]
["APL-MXNR2AM/A","6506676","C","D","ACC NBU","N","APL-MXNR2AM/A","6506676",2800]
["APL-MXNQ2AM/A","6506677","C","D","ACC NBU","N","APL-MXNQ2AM/A","6506677",1600]
["APL-MJ073AM/A","6506678","C","D","ACC NBU","N","APL-MJ073AM/A","6506678",2800]
["APL-MJ093AM/A","6506680","C","D","ACC NBU","N","APL-MJ093AM/A","6506680",5000]
["APL-MX1K2G/A","6506671","C","D","ACC NBU","N","APL-MX1K2G/A","6506671",2800]
["APL-MX8G2G/A","6506670","C","D","ACC NBU","N","APL-MX8G2G/A","6506670",6000]
["APL-MGPJ3LL/A","6506663","C","D","IMAC","N","APL-MGPJ3LL/A","6506663",1699]
["APL-MJV83LL/A","6506664","C","D","IMAC","N","APL-MJV83LL/A","6506664",1299]
["APL-MGPF3LL/A","6506665","C","D","IMAC","N","APL-MGPF3LL/A","6506665",0]
["APL-MGPP3LL/A","6506666","C","D","IMAC","N","APL-MGPP3LL/A","6506666",0]
["APL-MGPR3LL/A","6506667","C","D","IMAC","N","APL-MGPR3LL/A","6506667",0]
["APL-MWPF2LL/A","6506668","C","D","ACC NBU","N","APL-MWPF2LL/A","6506668",5999]
["APL-MWPE2LL/A","6506669","C","D","ACC NBU","N","APL-MWPE2LL/A","6506669",4999]
["APL-MX1J2G/A","6506672","C","D","ACC NBU","N","APL-MX1J2G/A","6506672",1200]
["APL-MW672AM/A","6506673","C","D","ACC NBU","N","APL-MW672AM/A","6506673",2200]
["APL-MW682AM/A","6506674","C","D","ACC NBU","N","APL-MW682AM/A","6506674",2000]
["APL-MHK03LL/A","6506650","C","D","IMAC","N","APL-MHK03LL/A","6506650",0]
["APL-Z0TK0LL/A","6506647","C","D","IMAC","N","APL-Z0TK0LL/A","6506647",0]
["APL-MK1E3LL/A","6506643","C","D","MACBOOK","N","APL-MK1E3LL/A","6506643"]
["APL-MKGR3LL/A","6506644","C","D","MACBOOK","N","APL-MKGR3LL/A","6506644"]
["APL-MKGP3LL/A","6506645","C","D","MACBOOK","N","APL-MKGP3LL/A","6506645",1999]
["APL-MK193LL/A","6506646","C","D","MACBOOK","N","APL-MK193LL/A","6506646"]
["APL-MXNG2LL/A","6506648","C","D","IMAC","N","APL-MXNG2LL/A","6506648",1099]
["APL-MXWU2LL/A","6506649","C","D","No Online Visibility","N","APL-MXWU2LL/A","6506649",1999]
["APL-MXWT2LL/A","6506651","C","D","IMAC","N","APL-MXWT2LL/A","6506651",1799]
["APL-MXWV2LL/A","6506652","C","D","IMAC","N","APL-MXWV2LL/A","6506652",2299]
["APL-MGPL3LL/A","6506653","C","D","IMAC","N","APL-MGPL3LL/A","6506653",1699]
["APL-MGPM3LL/A","6506654","C","D","IMAC","N","APL-MGPM3LL/A","6506654",1499]
["APL-MGPN3LL/A","6506655","C","D","IMAC","N","APL-MGPN3LL/A","6506655",1699]
["APL-MGPD3LL/A","6506656","C","D","IMAC","N","APL-MGPD3LL/A","6506656",1699]
["APL-MGPH3LL/A","6506657","C","D","IMAC","N","APL-MGPH3LL/A","6506657",1499]
["APL-MGPK3LL/A","6506658","C","D","IMAC","N","APL-MGPK3LL/A","6506658",1499]
["APL-MJV93LL/A","6506659","C","D","IMAC","N","APL-MJV93LL/A","6506659",1299]
["APL-MJVA3LL/A","6506660","C","D","IMAC","N","APL-MJVA3LL/A","6506660",1299]
["APL-MGTF3LL/A","6506661","C","D","IMAC","N","APL-MGTF3LL/A","6506661",1299]
["APL-MGPC3LL/A","6506662","C","D","IMAC","N","APL-MGPC3LL/A","6506662",1499]
["APL-MGNE3LL/A","6506636","C","D","MACBOOK","N","APL-MGNE3LL/A","6506636",0]
["APL-MYDA2LL/A","6506635","C","D","MACBOOK","N","APL-MYDA2LL/A","6506635",0]
["APL-MYD82LL/A","6506633","C","D","MACBOOK","N","APL-MYD82LL/A","6506633",0]
["APL-MGNA3LL/A","6506631","C","D","MACBOOK","N","APL-MGNA3LL/A","6506631",0]
["APL-MGN73LL/A","6506630","C","D","MACBOOK","N","APL-MGN73LL/A","6506630",0]
["APL-MLH52LL/A","6506629","C","D","MACBOOK","N",{"$f":"TRIM(A12034)","v":"APL-MLH52LL/A"},{"$f":"TRIM(B12034)","v":"6506629"},0]
["APL-MLW92LL/A","6506628","C","D","MACBOOK","N","APL-MLW92LL/A","6506628",0]
["APL-Z0XZ8LL/A","6506627","C","D","MACBOOK","N","APL-Z0XZ8LL/A","6506627",0]
["APL-K0ZW6LL/A","6506626","C","D","GOV ONLY","N","APL-K0ZW6LL/A","6506626",0]
["APL-K0ZV6LL/A","6506625","C","D","GOV ONLY","N","APL-K0ZV6LL/A","6506625",0]
["APL-K0ZW8LL/A","6506624","C","D","GOV ONLY","N","APL-K0ZW8LL/A","6506624",0]
["APL-K0ZXALL/A","6506622","C","D","GOV ONLY","N","APL-K0ZXALL/A","6506622",0]
["APL-K0ZX9LL/A","6506621","C","D","GOV ONLY","N","APL-K0ZX9LL/A","6506621",0]
["APL-K0ZX8LL/A","6506620","C","D","GOV ONLY","N","APL-K0ZX8LL/A","6506620",0]
["APL-K0ZX7LL/A","6506619","C","D","GOV ONLY","N","APL-K0ZX7LL/A","6506619",0]
["APL-K0ZV7LL/A","6506618","C","D","GOV ONLY","N","APL-K0ZV7LL/A","6506618",0]
["APL-K0ZW7LL/A","6506623","C","D","GOV ONLY","N","APL-K0ZW7LL/A","6506623",0]
["APL-MYDC2LL/A","6506632","C","D","MACBOOK","N","APL-MYDC2LL/A","6506632",0]
["APL-MYD92LL/A","6506634","C","D","MACBOOK","N","APL-MYD92LL/A","6506634",0]
["APL-MKGQ3LL/A","6506637","C","D","MACBOOK","N","APL-MKGQ3LL/A","6506637"]
["APL-MKGT3LL/A","6506638","C","D","MACBOOK","N","APL-MKGT3LL/A","6506638"]
["APL-MK1A3LL/A","6506639","C","D","MACBOOK","N","APL-MK1A3LL/A","6506639"]
["APL-MK1F3LL/A","6506640","C","D","MACBOOK","N","APL-MK1F3LL/A","6506640"]
["APL-MK1H3LL/A","6506641","C","D","MACBOOK","N","APL-MK1H3LL/A","6506641"]
["APL-MK183LL/A","6506642","C","D","MACBOOK","N","APL-MK183LL/A","6506642"]
["APL-Z0W10004P","6506616","C","D","CTO BO","N","APL-Z0W10004P","6506616",999]
["APL-D6702Z/A","6506615","C","D","VPP Credits","N","APL-D6702Z/A","6506615",1]
["APL-Z0M90000B","6506613","C","D","CTO BO","N","APL-Z0M90000B","6506613",0]
["APL-MWYH2ZM/A","6506602","C","D","ACC NBU","N","APL-MWYH2ZM/A","6506602",0]
["APL-MR8U2AM/A","6506601","C","D","ACC NBU","N","APL-MR8U2AM/A","6506601",79]
["APL-MWUG2LL/A","6506603","C","D","ACC NBU","N","APL-MWUG2LL/A","6506603",999]
["APL-MXNN2AM/A","6506604","C","D","ACC NBU","N","APL-MXNN2AM/A","6506604",600]
["APL-MXNP2AM/A","6506605","C","D","ACC NBU","N","APL-MXNP2AM/A","6506605",1000]
["APL-MW662AM/A","6506606","C","D","ACC NBU","N","APL-MW662AM/A","6506606",1000]
["APL-MGYH3AM/A","6506607","C","D","ACC NBU","N","APL-MGYH3AM/A","6506607",0]
["APL-MGYJ3AM/A","6506608","C","D","ACC NBU","N","APL-MGYJ3AM/A","6506608",0]
["APL-MGYL3AM/A","6506609","C","D","ACC NBU","N","APL-MGYL3AM/A","6506609",0]
["APL-MGYN3AM/A","6506610","C","D","ACC NBU","N","APL-MGYN3AM/A","6506610",0]
["APL-MGYM3AM/A","6506611","C","D","ACC NBU","N","APL-MGYM3AM/A","6506611",549]
["APL-MUQN2G/A","6506612","C","D","ACC NBU","N","APL-MUQN2G/A","6506612",400]
["APL-Z12N000G0","6506614","C","D","STOCKED CTO","N","APL-Z12N000G0","6506614",899]
["APL-MTFD2ZM/A","6506600","C","D","ACC NBU","N","APL-MTFD2ZM/A","6506600",39]
["APL-MKUH3AM/A","6506596","C","D","WATCH ACC 2","N","APL-MKUH3AM/A","6506596",0]
["APL-MRMG2AM/A","6506591","C","D","WATCH ACC 2","N","APL-MRMG2AM/A","6506591",0]
["APL-ML8E3AM/A","6506585","C","D","MAC ACC 1","N","APL-ML8E3AM/A","6506585",0]
["APL-MLWK3AM/A","6506579","C","D","IPHONE ACC 1","N","APL-MLWK3AM/A","6506579",249]
["APL-MHYE3ZM/A","6506577","C","D","IPHONE ACC 1","N","APL-MHYE3ZM/A","6506577",0]
["APL-MHYG3ZM/A","6506576","C","D","IPHONE ACC 1","N","APL-MHYG3ZM/A","6506576",0]
["APL-MME73AM/A","6506578","C","D","IPHONE ACC 1","N","APL-MME73AM/A","6506578",0]
["APL-MQ052LL/A","6506580","C","D","MAC ACC 1","N","APL-MQ052LL/A","6506580",129]
["APL-MWUF2LL/A","6506581","C","D","MAC ACC 1","N","APL-MWUF2LL/A","6506581",199]
["APL-MX1G2G/A","6506582","C","D","MAC ACC 1","N","APL-MX1G2G/A","6506582",400]
["APL-MX1H2G/A","6506583","C","D","MAC ACC 1","N","APL-MX1H2G/A","6506583",800]
["APL-MXM52AM/A","6506584","C","D","MAC ACC 1","N","APL-MXM52AM/A","6506584",600]
["APL-MK2C3LL/A","6506586","C","D","MAC ACC 1","N","APL-MK2C3LL/A","6506586",179]
["APL-MK2D3AM/A","6506587","C","D","ACC NBU","N","APL-MK2D3AM/A","6506587",129]
["APL-MK293LL/A","6506588","C","D","MAC ACC 1","N","APL-MK293LL/A","6506588",149]
["APL-MQ052E/A","6506589","C","D","MAC ACC 1","N","APL-MQ052E/A","6506589",129]
["APL-MK293D/A","6506590","C","D","MAC ACC 1","N","APL-MK293D/A","6506590",149]
["APL-MX2E2AM/A","6506592","C","D","WATCH ACC 2","N","APL-MX2E2AM/A","6506592",29]
["APL-MJ4W3AM/A","6506593","E","D","WATCH ACC 2","N","APL-MJ4W3AM/A","6506593",49]
["APL-MJ4V3AM/A","6506594","E","D","WATCH ACC 2","N","APL-MJ4V3AM/A","6506594",49]
["APL-MLWJ3AM/A","6506595","C","D","WATCH ACC 2","N","APL-MLWJ3AM/A","6506595",29]
["APL-ML833AM/A","6506597","C","D","WATCH ACC 2","N","APL-ML833AM/A","6506597",49]
["APL-MK0C2AM/A","6506598","C","D","ACC NBU","N","APL-MK0C2AM/A","6506598",99]
["APL-MU8F2AM/A","6506599","C","D","ACC NBU","N","APL-MU8F2AM/A","6506599",129]
["APL-MHYJ3ZM/A","6506575","C","D","IPHONE ACC 1","N","APL-MHYJ3ZM/A","6506575",0]
["APL-MHYC3ZM/A","6506573","C","D","IPHONE ACC 1","N","APL-MHYC3ZM/A","6506573",0]
["APL-MHMR3ZM/A","6506572","C","D","IPHONE ACC 1","N","APL-MHMR3ZM/A","6506572",0]
["APL-MHMP3ZM/A","6506571","C","D","IPHONE ACC 1","N",{"$f":"TRIM(A12098)","v":"APL-MHMP3ZM/A"},{"$f":"TRIM(B12098)","v":"6506571"},0]
["APL-MWVQ2LL/A","6506570","C","D","IPHONE ACC 1","N","APL-MWVQ2LL/A","6506570",0]
["APL-MWVP2LL/A","6506569","C","D","IPHONE ACC 1","N","APL-MWVP2LL/A","6506569",0]
["APL-MWVN2LL/A","6506568","C","D","IPHONE ACC 1","N","APL-MWVN2LL/A","6506568",0]
["APL-MWVL2LL/A","6506567","C","D","IPHONE ACC 1","N","APL-MWVL2LL/A","6506567",0]
["APL-MWVJ2LL/A","6506566","C","D","IPHONE ACC 1","N","APL-MWVJ2LL/A","6506566",0]
["APL-MWVH2LL/A","6506565","C","D","IPHONE ACC 1","N","APL-MWVH2LL/A","6506565",0]
["APL-MGN93LL/A","6506551","C","D","MACBOOK","N","APL-MGN93LL/A","6506551",999]
["APL-MGND3LL/A","6506552","C","D","MACBOOK","N","APL-MGND3LL/A","6506552",999]
["APL-MXNL2LL/A","6506553","C","D","IPAD ACC 1","N","APL-MXNL2LL/A","6506553",199]
["APL-MXQT2LL/A","6506554","C","D","IPAD ACC 1","N","APL-MXQT2LL/A","6506554",299]
["APL-MX3L2LL/A","6506555","C","D","IPAD ACC 1","N","APL-MX3L2LL/A","6506555",159]
["APL-MXNK2LL/A","6506556","C","D","IPAD ACC 1","N","APL-MXNK2LL/A","6506556",179]
["APL-MXQT2E/A","6506557","C","D","IPAD ACC 1","N","APL-MXQT2E/A","6506557",299]
["APL-MJQK3LL/A","6506558","C","D","IPAD ACC 1","N","APL-MJQK3LL/A","6506558",349]
["APL-MJQJ3LL/A","6506559","C","D","IPAD ACC 1","N","APL-MJQJ3LL/A","6506559",299]
["APL-MJQK3LA/A","6506560","C","D","IPAD ACC 1","N","APL-MJQK3LA/A","6506560",349]
["APL-MJQL3LA/A","6506561","C","D","IPAD ACC 1","N","APL-MJQL3LA/A","6506561",349]
["APL-MGNR3LL/A","6506562","C","D","IMAC","N","APL-MGNR3LL/A","6506562"]
["APL-MGNT3LL/A","6506563","C","D","IMAC","N","APL-MGNT3LL/A","6506563"]
["APL-MV7N2AM/A","6506564","C","D","IPHONE ACC 1","N","APL-MV7N2AM/A","6506564",159]
["APL-MHXF3AM/A","6506574","C","D","IPHONE ACC 1","N","APL-MHXF3AM/A","6506574",129]
["APL-MJFM3LL/A","6506534","C","D","ACC NBU","N","APL-MJFM3LL/A","6506534",0]
["APL-MR3C2ZM/A","6506530","C","D","MAC ACC 2","N","APL-MR3C2ZM/A","6506530",79]
["APL-MD564LL/A","6506527","C","D","MAC ACC 2","N","APL-MD564LL/A","6506527",79]
["APL-MMEL2AM/A","6506528","C","D","MAC ACC 2","N","APL-MMEL2AM/A","6506528",49]
["APL-MQ4H2AM/A","6506529","C","D","MAC ACC 2","N","APL-MQ4H2AM/A","6506529",39]
["APL-MUF82AM/A","6506531","C","D","MAC ACC 2","N","APL-MUF82AM/A","6506531",69]
["APL-MX0J2AM/A","6506532","C","D","MAC ACC 2","N","APL-MX0J2AM/A","6506532",79]
["APL-MY1W2AM/A","6506533","C","D","MAC ACC 2","N","APL-MY1W2AM/A","6506533",49]
["APL-MQGH2AM/A","6506535","C","D","MAC ACC 3","N","APL-MQGH2AM/A","6506535",29]
["APL-MK2A3LL/A","6506536","C","D","MAC ACC 2","N","APL-MK2A3LL/A","6506536",99]
["APL-MK2E3AM/A","6506537","C","D","ACC NBU","N","APL-MK2E3AM/A","6506537",79]
["APL-MMFC3ZM/A","6506538","C","D","MAC ACC 2","N","APL-MMFC3ZM/A","6506538",35]
["APL-MMF93ZM/A","6506539","C","D","MAC ACC 2","N","APL-MMF93ZM/A","6506539",35]
["APL-MMFA3ZM/A","6506540","E","D","MAC ACC 2","N","APL-MMFA3ZM/A","6506540",0]
["APL-MM043ZM/A","6506541","C","D","MAC ACC 2","N","APL-MM043ZM/A","6506541",39]
["APL-MM023ZM/A","6506542","E","D","MAC ACC 2","N","APL-MM023ZM/A","6506542",39]
["APL-MM013ZM/A","6506543","C","D","MAC ACC 2","N","APL-MM013ZM/A","6506543",39]
["APL-MM083ZM/A","6506544","C","D","MAC ACC 2","N","APL-MM083ZM/A","6506544",35]
["APL-MM073ZM/A","6506545","E","D","MAC ACC 2","N","APL-MM073ZM/A","6506545",0]
["APL-MM063ZM/A","6506546","C","D","MAC ACC 2","N","APL-MM063ZM/A","6506546",39]
["APL-MKU63AM/A","6506547","C","D","MAC ACC 2","N","APL-MKU63AM/A","6506547",59]
["APL-MLYU3AM/A","6506548","C","D","MAC ACC 2","N","APL-MLYU3AM/A","6506548",99]
["APL-MLYV3AM/A","6506549","C","D","MAC ACC 2","N","APL-MLYV3AM/A","6506549",49]
["APL-MGN63LL/A","6506550","C","D","MACBOOK","N","APL-MGN63LL/A","6506550",999]
["APL-MF858AM/A","6506524","C","D","MAC ACC 2","N","APL-MF858AM/A","6506524",49]
["APL-MC747LL/A","6506520","C","D","MAC ACC 2","N","APL-MC747LL/A","6506520",79]
["APL-MK0W3ZM/A","6506515","C","D","MAC ACC 3","N","APL-MK0W3ZM/A","6506515",0]
["APL-MK0X3ZM/A","6506514","C","D","MAC ACC 3","N","APL-MK0X3ZM/A","6506514",0]
["APL-MM4T2AM/A","6506511","C","D","ACC NBU","N","APL-MM4T2AM/A","6506511",19]
["APL-MD862LL/A","6506504","C","D","MAC ACC 3","N","APL-MD862LL/A","6506504",29]
["APL-MD504LL/A","6506505","C","D","MAC ACC 3","N","APL-MD504LL/A","6506505",10]
["APL-MJ1M2AM/A","6506506","C","D","MAC ACC 3","N","APL-MJ1M2AM/A","6506506",19]
["APL-MK122LL/A","6506507","C","D","MAC ACC 3","N","APL-MK122LL/A","6506507",19]
["APL-MD464LL/A","6506508","C","D","MAC ACC 3","N","APL-MD464LL/A","6506508",29]
["APL-MD463LL/A","6506509","C","D","MAC ACC 3","N","APL-MD463LL/A","6506509",29]
["APL-MJYT2AM/A","6506510","C","D","MAC ACC 3","N","APL-MJYT2AM/A","6506510",29]
["APL-MLL82AM/A","6506512","C","D","MAC ACC 3","N","APL-MLL82AM/A","6506512",19]
["APL-MXLY2AM/A","6506513","C","D","ACC NBU","N","APL-MXLY2AM/A","6506513",19]
["APL-MM0A3AM/A","6506516","C","D","MAC ACC 3","N","APL-MM0A3AM/A","6506516",19]
["APL-MM6F3AM/A","6506517","C","D","MAC ACC 3","N","APL-MM6F3AM/A","6506517",19]
["APL-MC461LL/A","6506518","C","D","MAC ACC 2","N","APL-MC461LL/A","6506518",79]
["APL-MC556LL/B","6506519","C","D","MAC ACC 2","N","APL-MC556LL/B","6506519",79]
["APL-MD506LL/A","6506521","C","D","MAC ACC 2","N",{"$f":"TRIM(A12162)","v":"APL-MD506LL/A"},{"$f":"TRIM(B12162)","v":"6506521"},79]
["APL-MD592LL/A","6506522","C","D","MAC ACC 2","N","APL-MD592LL/A","6506522",79]
["APL-MD565LL/A","6506523","C","D","MAC ACC 2","N","APL-MD565LL/A","6506523",79]
["APL-MJ1L2AM/A","6506525","C","D","MAC ACC 2","N","APL-MJ1L2AM/A","6506525",69]
["APL-MD861LL/A","6506526","C","D","MAC ACC 2","N","APL-MD861LL/A","6506526",39]
["APL-MLED3LL/A","6503879","C","D","IPHONE","N","APL-MLED3LL/A","6503879"]
["APP-2SERVICE","6501885","C","D","Services","N","APP-2SERVICE","6501885",0]
["APL-Z15G002R4","13466233","C","D","TBD","N","APL-Z15G002R4","13466233"]
["APL-Z0ZX2002119022","13466234","C","D","TBD","N","APL-Z0ZX2002119022","13466234"]
["APL-Z0ZX2002118663","13466232","C","D","TBD","N","APL-Z0ZX2002118663","13466232"]
["APL-Z14X000NG","13466231","C","D","TBD","N","APL-Z14X000NG","13466231"]
["APL-Z14Y0025H","13466229","C","D","TBD","N","APL-Z14Y0025H","13466229"]
["APL-Z15G003W5","13466228","C","D","TBD","N","APL-Z15G003W5","13466228"]
["APL-Z0W32002115210","13466227","C","D","TBD","N","APL-Z0W32002115210","13466227"]
["APL-Z0YZ002HS","12695342","C","D","CTO BO","N","APL-Z0YZ002HS","12695342"]
["APL-Z0YZ2002114358","13466225","C","D","TBD","N","APL-Z0YZ2002114358","13466225"]
["APL-Z14V00207","13466223","C","D","TBD","N","APL-Z14V00207","13466223"]
["APL-Z14V001D5","13466224","C","D","TBD","N","APL-Z14V001D5","13466224"]
["APL-Z15G002UA","13466222","C","D","TBD","N","APL-Z15G002UA","13466222"]
["APL-Z14V002XQ","13466220","C","D","TBD","N","APL-Z14V002XQ","13466220"]
["APL-Z14V001F5","13466221","C","D","TBD","N","APL-Z14V001F5","13466221"]
["APL-MY222LL/A","13466218","C","D","TBD","N","APL-MY222LL/A","13466218"]
["APL-Z0W32002111066","13466219","C","D","TBD","N","APL-Z0W32002111066","13466219"]
["APL-Z14X000RH","13466217","C","D","TBD","N","APL-Z14X000RH","13466217"]
["APL-Z14V00165","13466216","C","D","TBD","N","APL-Z14V00165","13466216"]
["APL-Z134000NW","12695502","C","D","CTO BO","N","APL-Z134000NW","12695502"]
["APL-Z14Y00161","13466211","C","D","TBD","N","APL-Z14Y00161","13466211"]
["APL-Z15G004UQ","13466212","C","D","TBD","N","APL-Z15G004UQ","13466212"]
["APL-Z15G001VV","13466213","C","D","TBD","N","APL-Z15G001VV","13466213"]
["APL-Z15G003AN","13466210","C","D","TBD","N","APL-Z15G003AN","13466210"]
["APL-Z0XZ7LL/A","13466207","C","D","TBD","N","APL-Z0XZ7LL/A","13466207"]
["APL-Z0Y03LL/A","13466208","C","D","TBD","N","APL-Z0Y03LL/A","13466208"]
["APL-Z15H000ZW","13466209","C","D","TBD","N","APL-Z15H000ZW","13466209"]
["APL-Z14X000LW","13466205","C","D","TBD","N","APL-Z14X000LW","13466205"]
["APL-Z14X000HN","13466206","C","D","TBD","N","APL-Z14X000HN","13466206"]
["APL-Z0ZX2002094066","13466202","C","D","TBD","N","APL-Z0ZX2002094066","13466202"]
["APL-Z12W000V1","12695722","C","D","CTO BO","N","APL-Z12W000V1","12695722"]
["APL-3J556LL/A","13466200","C","D","TBD","N","APL-3J556LL/A","13466200"]
["APL-3J562LL/A","13466201","C","D","TBD","N","APL-3J562LL/A","13466201"]
["APL-3K2L3LL/A","13466194","C","D","TBD","N","APL-3K2L3LL/A","13466194"]
["APL-3J364LL/A","13466195","C","D","TBD","N","APL-3J364LL/A","13466195"]
["APL-3J366LL/A","13466196","C","D","IPAD","N","APL-3J366LL/A","13466196"]
["APL-3K2K3LL/A","13466197","C","D","IPAD","N","APL-3K2K3LL/A","13466197"]
["APL-Z0ZX2002080926","13466190","C","D","TBD","N","APL-Z0ZX2002080926","13466190"]
["APL-Z0YZ2002079186","13466187","C","D","TBD","N","APL-Z0YZ2002079186","13466187"]
["APL-Z125000Q9","13466186","C","D","TBD","N","APL-Z125000Q9","13466186"]
["APL-Z0W300CC8","12694905","C","D","CTO BO","N","APL-Z0W300CC8","12694905"]
["APL-Z0YZ2002065616","13466184","C","D","TBD","N","APL-Z0YZ2002065616","13466184"]
["APL-Z0W32002059557","13466114","C","D","TBD","N","APL-Z0W32002059557","13466114"]
["APL-Z0YZ2000782086","13466089","C","D","TBD","N","APL-Z0YZ2000782086","13466089"]
["APL-MHFF3LL/A","13466085","C","D","TBD","N","APL-MHFF3LL/A","13466085"]
["APL-MGCK3LL/A","13466086","C","D","TBD","N","APL-MGCK3LL/A","13466086"]
["APL-MYLF2LL/A","12966893","C","D","IPAD","N","APL-MYLF2LL/A","12966893"]
["APL-MYN72LL/A","13466062","C","D","IPAD","N","APL-MYN72LL/A","13466062",559]
["APL-MYN82LL/A","13466063","C","D","TBD","N","APL-MYN82LL/A","13466063"]
["APL-MYN92LL/A","13466064","C","D","IPAD","N","APL-MYN92LL/A","13466064"]
["APL-3H183LL/A","13466065","C","D","TBD","N","APL-3H183LL/A","13466065"]
["APL-MYN62LL/A","13466066","C","D","TBD","N","APL-MYN62LL/A","13466066"]
["APL-MYL92LL/A","13466067","C","D","TBD","N","APL-MYL92LL/A","13466067"]
["APL-MYLA2LL/A","13466068","C","D","TBD","N","APL-MYLA2LL/A","13466068"]
["APL-MYLC2LL/A","13466069","C","D","TBD","N","APL-MYLC2LL/A","13466069"]
["APL-MYLD2LL/A","13466070","C","D","TBD","N","APL-MYLD2LL/A","13466070"]
["APL-MYLE2LL/A","13466071","C","D","TBD","N","APL-MYLE2LL/A","13466071"]
["APL-MYN32LL/A","13466072","C","D","IPAD","N","APL-MYN32LL/A","13466072"]
["APL-M06L3LL/A","13466073","C","D","TBD","N",{"$f":"TRIM(A12226)","v":"APL-M06L3LL/A"},{"$f":"TRIM(B12226)","v":"13466073"}]
["APL-MYDT2LL/A","13466074","C","D","TBD","N","APL-MYDT2LL/A","13466074"]
["APL-MG063LL/A","13466075","C","D","TBD","N","APL-MG063LL/A","13466075",359]
["APL-3H207LL/A","13466076","C","D","TBD","N","APL-3H207LL/A","13466076"]
["APL-3YL92LL/A","13466077","C","D","TBD","N","APL-3YL92LL/A","13466077"]
["APL-M02T3LL/A","13466078","C","D","TBD","N","APL-M02T3LL/A","13466078"]
["APL-M00J3LL/A","13466079","C","D","TBD","N","APL-M00J3LL/A","13466079"]
["APL-MYED2LL/A","13466080","C","D","TBD","N","APL-MYED2LL/A","13466080"]
["APL-MYEC2LL/A","13466081","C","D","TBD","N","APL-MYEC2LL/A","13466081"]
["APL-Z0Y0005GJ","13466054","C","D","TBD","N","APL-Z0Y0005GJ","13466054",3199]
["APL-Z0XZ004S2","13466055","C","D","TBD","N","APL-Z0XZ004S2","13466055",2699]
["APL-Z0XZ004S5","13466056","C","D","TBD","N","APL-Z0XZ004S5","13466056",3299]
["APL-Z0XZ004SP","13466057","C","D","TBD","N","APL-Z0XZ004SP","13466057",2799]
["APL-Z0Y80004N","13466047","C","D","TBD","N","APL-Z0Y80004N","13466047",2799]
["APL-Z0Y80000T","13466048","C","D","TBD","N","APL-Z0Y80000T","13466048",2599]
["APL-Z0Y60002G","13466049","C","D","TBD","N","APL-Z0Y60002G","13466049",1999]
["APL-Z0Y60003N","13466050","C","D","TBD","N","APL-Z0Y60003N","13466050",2399]
["APL-Z0Y60003P","13466051","C","D","TBD","N","APL-Z0Y60003P","13466051",2199]
["APL-Z0Y60000V","13466052","C","D","TBD","N","APL-Z0Y60000V","13466052",2599]
["APL-Z0Y80004Y","13466053","C","D","TBD","N","APL-Z0Y80004Y","13466053",2199]
["APL-MWP72LL/A","13466042","C","D","TBD","N","APL-MWP72LL/A","13466042",1799]
["APL-MWP42LL/A","13466043","C","D","TBD","N","APL-MWP42LL/A","13466043",1799]
["APL-MXK52LL/A","13466044","C","D","TBD","N","APL-MXK52LL/A","13466044",1499]
["APL-MXK62LL/A","13466045","C","D","TBD","N",{"$f":"TRIM(A12249)","v":"APL-MXK62LL/A"},{"$f":"TRIM(B12249)","v":"13466045"},1299]
["APL-MXK72LL/A","13466046","C","D","TBD","N","APL-MXK72LL/A","13466046",1499]
["APL-MXAX2LL/A","13465805","C","D","TBD","N","APL-MXAX2LL/A","13465805",1499]
["APL-MXAY2LL/A","13465806","C","D","TBD","N","APL-MXAY2LL/A","13465806",1499]
["APL-MXDC2LL/A","13465807","C","D","TBD","N","APL-MXDC2LL/A","13465807",899]
["APL-MXDD2LL/A","13465808","C","D","TBD","N","APL-MXDD2LL/A","13465808",899]
["APL-MXDE2LL/A","13465809","C","D","TBD","N","APL-MXDE2LL/A","13465809",1099]
["APL-MXDF2LL/A","13465810","C","D","TBD","N","APL-MXDF2LL/A","13465810",1099]
["APL-MXDG2LL/A","13465811","C","D","TBD","N","APL-MXDG2LL/A","13465811",1299]
["APL-MXEX2LL/A","13465812","C","D","TBD","N","APL-MXEX2LL/A","13465812",1049]
["APL-MXQU2LL/A","13465813","C","D","TBD","N","APL-MXQU2LL/A","13465813",349]
["APL-MXAU2LL/A","13465814","C","D","TBD","N","APL-MXAU2LL/A","13465814",1099]
["APL-MXAV2LL/A","13465815","C","D","TBD","N","APL-MXAV2LL/A","13465815",1299]
["APL-MXAW2LL/A","13465816","C","D","TBD","N","APL-MXAW2LL/A","13465816",1299]
["APL-MXEY2LL/A","13465817","C","D","TBD","N","APL-MXEY2LL/A","13465817",1249]
["APL-MXF02LL/A","13465818","C","D","TBD","N","APL-MXF02LL/A","13465818",1249]
["APL-MXF12LL/A","13465819","C","D","TBD","N","APL-MXF12LL/A","13465819",1449]
["APL-MXF22LL/A","13465820","C","D","TBD","N","APL-MXF22LL/A","13465820",1449]
["APL-MXFY2LL/A","13465821","C","D","TBD","N","APL-MXFY2LL/A","13465821",1249]
["APL-MXG02LL/A","13465822","C","D","IPAD","N","APL-MXG02LL/A","13465822",1449]
["APL-MXG12LL/A","13465823","C","D","TBD","N","APL-MXG12LL/A","13465823",1449]
["APL-MXG22LL/A","13465824","C","D","TBD","N","APL-MXG22LL/A","13465824",1649]
["APL-MXG32LL/A","13465825","C","D","TBD","N","APL-MXG32LL/A","13465825",1649]
["APL-MY232LL/A","13465826","C","D","TBD","N","APL-MY232LL/A","13465826",799]
["APL-MY252LL/A","13465827","C","D","TBD","N","APL-MY252LL/A","13465827",799]
["APL-MY2H2LL/A","13465828","C","D","TBD","N","APL-MY2H2LL/A","13465828",999]
["APL-MY2J2LL/A","13465829","C","D","TBD","N","APL-MY2J2LL/A","13465829",999]
["APL-MY332LL/A","13465830","C","D","TBD","N","APL-MY332LL/A","13465830",949]
["APL-MY342LL/A","13465831","C","D","TBD","N","APL-MY342LL/A","13465831",949]
["APL-MY3J2LL/A","13465832","C","D","TBD","N","APL-MY3J2LL/A","13465832",1149]
["APL-MY3K2LL/A","13465833","C","D","TBD","N","APL-MY3K2LL/A","13465833",1149]
["APL-MWNV2LL/A","13465804","C","D","TBD","N","APL-MWNV2LL/A","13465804","149.95"]
["APL-MVVN2LL/A","13465803","C","D","TBD","N","APL-MVVN2LL/A","13465803"]
["APL-Z0YZ0006L","13465793","C","D","TBD","N","APL-Z0YZ0006L","13465793"]
["APL-Z0Y3002T1","13465787","C","D","TBD","N","APL-Z0Y3002T1","13465787",3599]
["APL-Z0XZ004RK","13465788","C","D","TBD","N","APL-Z0XZ004RK","13465788",3199]
["APL-MVVJ2LL/A","13465782","C","D","TBD","N","APL-MVVJ2LL/A","13465782",2399]
["APL-MVVK2LL/A","13465783","C","D","TBD","N","APL-MVVK2LL/A","13465783",2799]
["APL-MVVM2LL/A","13465784","C","D","TBD","N","APL-MVVM2LL/A","13465784",2799]
["APL-MX0K2AM/A","13465785","C","D","TBD","N","APL-MX0K2AM/A","13465785",19]
["APL-MVVL2LL/A","13465786","C","D","TBD","N","APL-MVVL2LL/A","13465786",2399]
["APL-MWP22AM/A","13465781","C","D","TBD","N","APL-MWP22AM/A","13465781",249]
["APL-MWW22LL/A","13465776","C","D","TBD","N","APL-MWW22LL/A","13465776",749]
["APL-MW742LL/A","13465777","C","D","TBD","N","APL-MW742LL/A","13465777",329]
["APL-MWL92LL/A","13465778","C","D","TBD","N","APL-MWL92LL/A","13465778"]
["APL-MWFA2LL/A","13465779","C","D","TBD","N","APL-MWFA2LL/A","13465779"]
["APL-Z0VY00129","13465758","C","D","TBD","N","APL-Z0VY00129","13465758",2579]
["APL-MRXJ2AM/A","13465756","C","D","TBD","N","APL-MRXJ2AM/A","13465756",199]
["APL-MUQX2LL/A","13465745","C","D","TBD","N","APL-MUQX2LL/A","13465745",399]
["APL-MUQY2LL/A","13465746","C","D","TBD","N","APL-MUQY2LL/A","13465746",399]
["APL-MUU32LL/A","13465747","C","D","TBD","N","APL-MUU32LL/A","13465747",549]
["APL-MUU52LL/A","13465748","C","D","TBD","N","APL-MUU52LL/A","13465748",549]
["APL-MUU62LL/A","13465749","C","D","TBD","N","APL-MUU62LL/A","13465749",549]
["APL-MUXF2LL/A","13465750","C","D","TBD","N","APL-MUXF2LL/A","13465750",529]
["APL-MUXG2LL/A","13465751","C","D","TBD","N","APL-MUXG2LL/A","13465751",529]
["APL-MUXH2LL/A","13465752","C","D","TBD","N","APL-MUXH2LL/A","13465752",529]
["APL-MUXM2LL/A","13465753","C","D","TBD","N","APL-MUXM2LL/A","13465753",679]
["APL-MUXN2LL/A","13465754","C","D","TBD","N","APL-MUXN2LL/A","13465754",679]
["APL-MUXP2LL/A","13465755","C","D","TBD","N","APL-MUXP2LL/A","13465755",679]
["APL-MU8H2LL/A","13465733","C","D","TBD","N","APL-MU8H2LL/A","13465733"]
["APL-MT8U2LL/A","13465731","C","D","TBD","N","APL-MT8U2LL/A","13465731"]
["APL-MRMH2LL/A","13465720","C","D","TBD","N","APL-MRMH2LL/A","13465720",149]
["APL-MLYF2LL/A","13465662","C","D","TBD","N","APL-MLYF2LL/A","13465662","149.95"]
["APL-MLA02LL/A","13465634","C","D","TBD","N","APL-MLA02LL/A","13465634",79]
["APL-APLFSHP-4","12288014","B","A","TBD","N",{"$f":"TRIM(A12313)","v":"APL-APLFSHP-4"},{"$f":"TRIM(B12313)","v":"12288014"}]
["APL-APLFSHP-5","12288608","B","A","TBD","N","APL-APLFSHP-5","12288608"]
["APL-APLFSHP-1","12288986","B","A","TBD","N","APL-APLFSHP-1","12288986"]